{"text_format":"1","workbook":"xlsx","n_sheets":4,"sheets":["Instructions","Inventory","Activity","Tablas"],"not_rendered":{"charts":0,"images":2,"macros":1,"external_links":0,"defined_names":12,"comments":0,"pivot_tables":0},"unopened":[],"bounds":{"document_bytes":16777216,"sheet_cells":100000,"rows_first":2000,"rows_last":500,"rows_between":2000,"halvings":0,"cell_chars":16384,"cell_head_chars":4096},"cells_cut":0,"cells_raw":0,"read":"whole","date_system":"1900"}

{"sheet":"Instructions","index":0,"n_rows":119,"n_cols":95,"rows_kept":119,"cut":false,"hidden":false,"merged":[[53,38,53,51],[41,38,41,55],[53,52,53,55],[42,38,42,51],[43,38,43,51],[44,38,44,51],[45,38,45,51],[46,38,46,51],[47,38,47,51],[48,38,48,51],[49,38,49,51],[50,38,50,51],[51,38,51,51],[1,94,1,103],[1,9,1,93],[49,63,49,67],[51,52,51,55],[52,52,52,55],[52,38,52,51],[26,3,26,42],[41,3,41,12],[41,58,41,67],[44,58,44,62],[44,63,44,67],[45,3,45,7],[45,8,45,12],[45,32,45,35],[45,52,45,55],[45,58,45,62],[45,63,45,67],[44,3,44,7],[44,8,44,12],[44,32,44,35],[44,52,44,55],[45,15,45,31],[44,15,44,31],[46,58,46,62],[3,3,3,102],[5,57,5,61],[14,52,14,72],[41,15,41,35],[39,3,39,60],[42,58,42,62],[42,63,42,67],[43,3,43,7],[43,8,43,12],[43,32,43,35],[43,52,43,55],[43,58,43,62],[43,63,43,67],[42,3,42,7],[42,8,42,12],[42,32,42,35],[42,52,42,55],[43,15,43,31],[42,15,42,31],[47,8,47,12],[47,32,47,35],[47,52,47,55],[47,58,47,62],[47,63,47,67],[46,3,46,7],[46,8,46,12],[46,32,46,35],[46,52,46,55],[47,15,47,31],[46,15,46,31],[46,63,46,67],[47,3,47,7],[56,3,56,46],[56,47,56,61],[57,3,57,46],[57,47,57,61],[61,3,61,40],[61,42,61,68],[48,58,48,62],[48,63,48,67],[50,3,50,7],[50,8,50,12],[50,52,50,55],[50,58,50,62],[50,63,50,67],[48,3,48,7],[48,8,48,12],[48,32,48,35],[48,52,48,55],[48,15,48,31],[49,3,49,7],[49,8,49,12],[49,15,49,31],[49,32,49,35],[49,52,49,55],[49,58,49,62],[61,70,61,101],[62,3,62,17],[62,18,62,33],[62,34,62,40],[62,42,62,52],[62,53,62,63],[62,64,62,68],[62,70,62,78],[62,79,62,89],[62,90,62,101],[107,48,107,93],[107,3,107,47],[63,70,63,78],[63,79,63,89],[70,3,70,9],[70,10,70,20],[70,21,70,27],[71,3,71,9],[71,10,71,20],[63,3,63,17],[63,18,63,33],[63,34,63,40],[63,42,63,52],[63,53,63,63],[63,64,63,68],[105,3,105,47],[106,3,106,47],[74,3,74,15],[74,16,74,23],[74,24,74,30],[75,3,75,15],[75,16,75,23],[106,48,106,93],[105,48,105,93]]}
[]
[null,null,null,null,null,null,null,null,null,"INTER-AMERICAN TROPICAL TUNA COMMISSION",null,null,null,null,null,null,null,null,null,null,null,null,null,null,null,null,null,null,null,null,null,null,null,null,null,null,null,null,null,null,null,null,null,null,null,null,null,null,null,null,null,null,null,null,null,null,null,null,null,null,null,null,null,null,null,null,null,null,null,null,null,null,null,null,null,null,null,null,null,null,null,null,null,null,null,null,null,null,null,null,null,null,null,null,"Ver. 2018-09 v4"]
[]
[null,null,null,"FAD RECORDS"]
[]
[null,null,null,"These forms (FAD inventory and information and Activity on FADs) are based on IATTC Resolution",null,null,null,null,null,null,null,null,null,null,null,null,null,null,null,null,null,null,null,null,null,null,null,null,null,null,null,null,null,null,null,null,null,null,null,null,null,null,null,null,null,null,null,null,null,null,null,null,null,null,null,null,null,"C-18-05",null,null,null,null,"on the collection of data on fish-aggregating devices (FADs)."]
[null,null,null," They are designed to enable monitoring of FADs throughout a fishing trip."]
[]
[null,null,null,"GENERAL INSTRUCTIONS"]
[]
[null,null,null,"It is the responsibility of the person in charge of fishing operations to ensure that the forms are properly filled out, and that the data recorded on the forms are correct, accurate, and complete,"]
[null,null,null,"although the task of filling out the forms may be delegated to any vessel officer. Do not write in the shaded spaces."]
[null,null,null,"You can fill the form out electronically, as an Excel workbook, or on paper, as you prefer."]
[]
[null,null,null,"Electronic forms: The MS Excel version of this form can be downloaded from the IATTC website",null,null,null,null,null,null,null,null,null,null,null,null,null,null,null,null,null,null,null,null,null,null,null,null,null,null,null,null,null,null,null,null,null,null,null,null,null,null,null,null,null,null,null,null,null,null,null,null," https://www.iattc.org/Downloads.htm",null,null,null,null,null,null,null,null,null,null,null,null,null,null,null,null,null,null,null,null,"Save it in xlsm (Excel Macro-Enabled Workbook)"]
[null,null,null,"format, with the filename ‘Vessel-Year-Trip.xslm’, where ‘Vessel’ is the name of the vessel, ‘Year’ is the year the trip started, and ‘Trip’ is a consecutive number of the trip in that year."]
[null,null,null,"For example, for the second trip in 2018 by the vessel Guadalcanal, it would be ‘Guadalcanal-2018-02.xlsm’."]
[]
[null,null,null,"Paper forms: Use as many forms as necessary to record all the required data during the trip."]
[null,null,null,"a.    Page numbering: In the corresponding space at the foot of each form, enter the sequential number of the form and, at the end of the trip, the total number of pages."]
[null,null,null,"b.   Electronic copies: If you scan the completed forms, save the file, in PDF format if possible, with the name as for the electronic forms."]
[]
[null,null,null,"1.    FAD INVENTORY AND INFORMATION"]
[null,null,null,"a.      Header"]
[null,null,null,"Vessel name: Enter the name of the vessel"]
[null,null,null,"IATTC vessel no.: Enter the number allocated by the IATTC on the Regional Vessel Register, available on the IATTC website:"]
[null,null,null,"https://www.iattc.org/VesselRegister/VesselList.aspx?List=AcPS&Lang=ENG"]
[null,null,null,"Trip start date: In the spaces provided, enter the date the trip started, in DDMMYY format; for example, May 10, 2018, would be entered as ‘100518’."]
[null,null,null,"b.      FAD details"]
[null,null,null,"FAD ID: The ID to enter depends on the system that you use for identifying your FADs."]
[null,null,null,"•    If you use the number of the satellite beacon, enter the manufacturer’s make and model code from Table 1 and the beacon’s unique serial number. If you use a make or model"]
[null,null,null,"      not included in the table, enter it in the table and provide as much information as possible under Comments/Observations."]
[null,null,null,"•     For other types of beacon, enter a unique identifier that your vessel assigns to the FAD or locating beacon, and that can be used as a reference for future encounters with that FAD."]
[null,null,null,"•     If you use the alphanumeric code provided by the IATTC, enter the code that you assigned to this particular FAD. Enter the letters in the first column and the sequential number"]
[null,null,null,null,null," in the second column."]
[null,null,null,"•     For cases not covered here, describe under Comments/Observations. "]
[null,null,null,"•     If you use the satellite beacon’s number as the FAD ID and you change the beacon on a FAD, it is important that you record the ID of both beacons, the original and the replacement,"]
[null,null,null,"       on separate lines.  Under Comments/Observations, make a note that the beacon was changed on the FAD. "]
[]
[null,null,null,"Table 1. Manufacturer and model codes"]
[]
[null,null,null,"NAUTICAL",null,null,null,null,null,null,null,null,null,null,null,"SATLINK",null,null,null,null,null,null,null,null,null,null,null,null,null,null,null,null,null,null,null,null,null,null,"ZUNIBAL",null,null,null,null,null,null,null,null,null,null,null,null,null,null,null,null,null,null,null,"Other make _____"]
[null,null,null,"Model",null,null,null,null,"Code ",null,null,null,null,null,null,"Model",null,null,null,null,null,null,null,null,null,null,null,null,null,null,null,null,"Code",null,null,null,null,null,"Model",null,null,null,null,null,null,null,null,null,null,null,null,null,"Code",null,null,null,null,null,"Model",null,null,null,null,"Code",null,null,null,null,null,null,null,null,null,null,null,null,null,null,null,"Dimensions"]
[null,null,null,"MDP",null,null,null,null,"MDP",null,null,null,null,null,null,"D+ battery",null,null,null,null,null,null,null,null,null,null,null,null,null,null,null,null,"D+",null,null,null,null,null,"Tunabal-7",null,null,null,null,null,null,null,null,null,null,null,null,null,"T07"]
[null,null,null,"MDS",null,null,null,null,"MDS",null,null,null,null,null,null,"D+ battery with echosounder",null,null,null,null,null,null,null,null,null,null,null,null,null,null,null,null,"DS+",null,null,null,null,null,"Tunabal-e7",null,null,null,null,null,null,null,null,null,null,null,null,null,"Te7"]
[null,null,null,"M2D",null,null,null,null,"M2D",null,null,null,null,null,null,"D+ solar",null,null,null,null,null,null,null,null,null,null,null,null,null,null,null,null,"DL+",null,null,null,null,null,"Tunabal-e7+",null,null,null,null,null,null,null,null,null,null,null,null,null,"T7+"]
[null,null,null,"MSI",null,null,null,null,"MSI",null,null,null,null,null,null,"D+ solar with echosounder",null,null,null,null,null,null,null,null,null,null,null,null,null,null,null,null,"DSL+",null,null,null,null,null,"Tuna8 Explorer",null,null,null,null,null,null,null,null,null,null,null,null,null,"T8E"]
[null,null,null,"M3i",null,null,null,null,"M3I",null,null,null,null,null,null,"IDP solar with echosounder",null,null,null,null,null,null,null,null,null,null,null,null,null,null,null,null,"ISL+",null,null,null,null,null,"Tuna8 Xtreme",null,null,null,null,null,null,null,null,null,null,null,null,null,"T8X"]
[null,null,null,"M3i+",null,null,null,null,"M3+",null,null,null,null,null,null,"IDP solar disc. with echosounder",null,null,null,null,null,null,null,null,null,null,null,null,null,null,null,null,"ISD+",null,null,null,null,null,"Tunabal-7 (F series)",null,null,null,null,null,null,null,null,null,null,null,null,null,"F07"]
[null,null,null,"M4I",null,null,null,null,"M4I",null,null,null,null,null,null,"SLX solar \"ECO\"",null,null,null,null,null,null,null,null,null,null,null,null,null,null,null,null,"SLX+",null,null,null,null,null,"Tunabal-e7 (F series)",null,null,null,null,null,null,null,null,null,null,null,null,null,"Fe7"]
[null,null,null,"M4i+",null,null,null,null,"M4+",null,null,null,null,null,null,null,null,null,null,null,null,null,null,null,null,null,null,null,null,null,null,null,null,null,null,null,null,null,"Tunabal-e7+ (F-series)",null,null,null,null,null,null,null,null,null,null,null,null,null,"F7+"]
[null,null,null,null,null,null,null,null,null,null,null,null,null,null,null,null,null,null,null,null,null,null,null,null,null,null,null,null,null,null,null,null,null,null,null,null,null,null,"Tuna8 Explorer (F-series)",null,null,null,null,null,null,null,null,null,null,null,null,null,"F8E"]
[null,null,null,null,null,null,null,null,null,null,null,null,null,null,null,null,null,null,null,null,null,null,null,null,null,null,null,null,null,null,null,null,null,null,null,null,null,null,"Zuni without sounder",null,null,null,null,null,null,null,null,null,null,null,null,null,"Z07"]
[null,null,null,null,null,null,null,null,null,null,null,null,null,null,null,null,null,null,null,null,null,null,null,null,null,null,null,null,null,null,null,null,null,null,null,null,null,null,"Zuni without sounder",null,null,null,null,null,null,null,null,null,null,null,null,null,"Ze7"]
[]
[null,null,null,"DESCRIPTION: Enter the numeric code (only one) that best describes the type of FAD:"]
[null,null,null,"1.       Natural (tree trunk, ropes, pallet, fronds), dead animal",null,null,null,null,null,null,null,null,null,null,null,null,null,null,null,null,null,null,null,null,null,null,null,null,null,null,null,null,null,null,null,null,null,null,null,null,null,null,null,null,null,null,null,"2.       Own FAD"]
[null,null,null,"3.       FAD not owned (by your vessel)",null,null,null,null,null,null,null,null,null,null,null,null,null,null,null,null,null,null,null,null,null,null,null,null,null,null,null,null,null,null,null,null,null,null,null,null,null,null,null,null,null,null,null,"4.       Anchored FAD"]
[]
[null,null,null,"SURFACE COMPONENT: In the corresponding column, enter the numeric code that best describes the main materials used to make that component of the FAD. If the covering is mainly"]
[null,null,null,"made of webbing, write under Mesh the mesh size (in cm) of the majority of the mesh. If no webbing is used, leave blank."]
[null,null,null,"Raft",null,null,null,null,null,null,null,null,null,null,null,null,null,null,null,null,null,null,null,null,null,null,null,null,null,null,null,null,null,null,null,null,null,null,null,null,null,null,"Covering",null,null,null,null,null,null,null,null,null,null,null,null,null,null,null,null,null,null,null,null,null,null,null,null,null,null,null,"Floats"]
[null,null,null,"1. Canes (bamboo), latticed",null,null,null,null,null,null,null,null,null,null,null,null,null,null,"2. Canes (bamboo), bundled",null,null,null,null,null,null,null,null,null,null,null,null,null,null,null,"3. Metal",null,null,null,null,null,null,null,"1. Webbing ",null,null,null,null,null,null,null,null,null,null,"2. Plastic",null,null,null,null,null,null,null,null,null,null,"3. Cloth",null,null,null,null,null,"1. Net corks",null,null,null,null,null,null,null,null,"2. Plastic buoys",null,null,null,null,null,null,null,null,null,null,"3. Plastic drums"]
[null,null,null,"4. PVC or plastic",null,null,null,null,null,null,null,null,null,null,null,null,null,null,"5. No raft",null,null,null,null,null,null,null,null,null,null,null,null,null,null,null,"6. Other",null,null,null,null,null,null,null,"4. Palm leaves",null,null,null,null,null,null,null,null,null,null,"5. No covering",null,null,null,null,null,null,null,null,null,null,"6. Other",null,null,null,null,null,"4. No floats",null,null,null,null,null,null,null,null,"5. Other"]
[]
[null,null,null,"DIMENSIONS (meters):  Width (W), Length (L), Depth (D): In the corresponding spaces, enter the dimensions of the FAD (without the tail, if present)."]
[]
[null,null,null,"UNDERWATER COMPONENT (“TAIL”):"]
[null,null,null,"Mat. 1 and Mat. 2: In the corresponding columns, enter the numeric codes for the two main materials of the tail of the FAD. If there is only one, leave the second column blank."]
[]
[null,null,null,"1.  Nylon",null,null,null,null,null,null,"2.  Palm leaves",null,null,null,null,null,null,null,null,null,null,"3.  Bamboo"]
[null,null,null,"4.  No tail",null,null,null,null,null,null,"5.  Other"]
[]
[null,null,null,"Config. (Configuration): Enter the numeric code of the configuration that best describes the tail:"]
[null,null,null,"1.       Bundled webbing",null,null,null,null,null,null,null,null,null,null,null,null,"2.       Ropes",null,null,null,null,null,null,null,"3.       Cloth"]
[null,null,null,"4.       Open webbing",null,null,null,null,null,null,null,null,null,null,null,null,"5.       Other"]
[]
[null,null,null,"Mesh size: If the tail is made of net webbing, enter the mesh size, in centimeters (1.25\" ≈ 3 cm / 4.5\" ≈ 11 cm). Otherwise, leave blank."]
[]
[null,null,null,"Depth (m): Record the maximum depth of the underwater component (tail), in meters."]
[]
[null,null,null,"Comments/Observations: Use this space to record any additional information you consider relevant."]
[]
[]
[null,null,null,"2.  ACTIVITY ON FADs"]
[null,null,null,"This form complements the Inventory form, and is used to record each activity involving the FADs recorded on that form, including deploying, checking, recovering,"]
[null,null,null,"and setting on the FAD, or changing its beacon."]
[]
[null,null,null,"Details of the activities"]
[null,null,null,"FAD ID: Enter the same code that you entered under FAD ID on the Inventory to identify the FAD. In the Code column, enter the same manufacturer code that you entered on the\n"]
[null,null,null,"Inventory, and under Serial No, the beacon’s serial number. If the FAD does not have a beacon, leave blank."]
[]
[null,null,null,"If you replace the beacon that is used as the FAD ID, enter in this column the ID of the original beacon that you removed, and in the following column (Replacement ID) "]
[null,null,null,"the identification of the replacement beacon."]
[]
[null,null,null,"Replacement ID: Fill out this column only if you replace the beacon used as the FAD ID (Activity 5, Beacon change). Enter the ID of the new beacon in this column. For every subsequent"]
[null,null,null,"activity on this FAD, enter this ID in the first column. For cases not covered by these instructions, describe under Comments/Observations."]
[]
[null,null,null,"Date: The date of the activity, in DDMMYY (day-month-year) format"]
[null,null,null,"Time: The local time at which the activity occurred, in 24-hour format (1 pm = 13:00)."]
[null,null,null,"Act. (Activity): Enter the numeric code that best describes the activity recorded. Record each activity, with its respective code, on a separate line, even if they happen consecutively. "]
[null,null,null,"For example, if the FAD is recovered at the end of a set, enter '3’, with its corresponding information (ID, date, time, position, catch), on one line, and ‘4’ on the following line, "]
[null,null,null,"with its corresponding information (ID, date, time, position). If you check a FAD and change its beacon, enter each activity (‘1’ and ‘5’) on a separate line; in that case, the ID would change, "]
[null,null,null,"but all the other information would be the same."]
[]
[null,null,null,"1.  Check: The FAD is checked to see whether it has fish, but no set is made",null,null,null,null,null,null,null,null,null,null,null,null,null,null,null,null,null,null,null,null,null,null,null,null,null,null,null,null,null,null,null,null,null,null,null,null,null,null,null,null,null,null,null,null,"2.  Deployment: A new or recovered FAD is deployed"]
[null,null,null,"3.  Set: A set is made on the FAD",null,null,null,null,null,null,null,null,null,null,null,null,null,null,null,null,null,null,null,null,null,null,null,null,null,null,null,null,null,null,null,null,null,null,null,null,null,null,null,null,null,null,null,null,"4.  Recovery: The FAD is recovered and kept on board"]
[null,null,null,"5.  Beacon change: The beacon used to identify the FAD is changed",null,null,null,null,null,null,null,null,null,null,null,null,null,null,null,null,null,null,null,null,null,null,null,null,null,null,null,null,null,null,null,null,null,null,null,null,null,null,null,null,null,null,null,null,"6. Other: Describe any activity not covered by codes 1-5 under Comments/Observations"]
[]
[null,null,null,"Position: Record the geographic position of the activity (latitude and longitude) in degrees and minutes, with four and five digits, respectively. Do not write down the symbols for degrees (°),"]
[null,null,null," minutes (') or hemisphere (N/S, E/W).  If the latitude is south of the equator, record it as negative: 08°27 ' S would be recorded as -0827.  For longitudes west  of the 180°W record it as a negative."]
[]
[null,null,null,"Tuna catch: If the activity is a set (‘3’), enter the catch of yellowfin (YFT), bigeye (BET), and skipjack (SKJ) tuna, in tons. If the catch includes tunas of other species (OTR), enter the quantity "]
[null,null,null,"and species, if possible, under Comments/Observations. If the activity is not a set, leave blank."]
[]
[null,null,null,"Bycatch: If sharks (SHK), turtles (TURT), billfishes (BIL), rays (RAY), or other fish (OTR)) are caught in the set, enter the number of individuals (N) or tonnage (t) caught, "]
[null,null,null,"and on the following line, the number or tonnage released alive.  You may also key '1' for 'N', and '2' for 't'.  If there is no catch, leave blank."]
[]
[null,null,null,"Comments/Observations: Use this space as indicated in the instructions, or to make any notes or observations you consider important."]

{"sheet":"Inventory","index":1,"n_rows":1010,"n_cols":59,"rows_kept":1010,"cut":false,"hidden":false,"merged":[[1009,49,1009,66],[1008,49,1008,66],[1009,2,1009,8],[1009,9,1009,17],[1009,18,1009,21],[1009,22,1009,23],[1009,24,1009,26],[1009,27,1009,28],[1009,29,1009,30],[1009,31,1009,32],[1009,33,1009,34],[1009,35,1009,36],[1009,37,1009,38],[1009,39,1009,40],[1009,41,1009,42],[1009,43,1009,45],[1009,46,1009,48],[1007,49,1007,66],[1008,2,1008,8],[1008,9,1008,17],[1008,18,1008,21],[1008,22,1008,23],[1008,24,1008,26],[1008,27,1008,28],[1008,29,1008,30],[1008,31,1008,32],[1008,33,1008,34],[1008,35,1008,36],[1008,37,1008,38],[1008,39,1008,40],[1008,41,1008,42],[1008,43,1008,45],[1008,46,1008,48],[1006,49,1006,66],[1007,2,1007,8],[1007,9,1007,17],[1007,18,1007,21],[1007,22,1007,23],[1007,24,1007,26],[1007,27,1007,28],[1007,29,1007,30],[1007,31,1007,32],[1007,33,1007,34],[1007,35,1007,36],[1007,37,1007,38],[1007,39,1007,40],[1007,41,1007,42],[1007,43,1007,45],[1007,46,1007,48],[1005,49,1005,66],[1006,2,1006,8],[1006,9,1006,17],[1006,18,1006,21],[1006,22,1006,23],[1006,24,1006,26],[1006,27,1006,28],[1006,29,1006,30],[1006,31,1006,32],[1006,33,1006,34],[1006,35,1006,36],[1006,37,1006,38],[1006,39,1006,40],[1006,41,1006,42],[1006,43,1006,45],[1006,46,1006,48],[1004,49,1004,66],[1005,2,1005,8],[1005,9,1005,17],[1005,18,1005,21],[1005,22,1005,23],[1005,24,1005,26],[1005,27,1005,28],[1005,29,1005,30],[1005,31,1005,32],[1005,33,1005,34],[1005,35,1005,36],[1005,37,1005,38],[1005,39,1005,40],[1005,41,1005,42],[1005,43,1005,45],[1005,46,1005,48],[1003,49,1003,66],[1004,2,1004,8],[1004,9,1004,17],[1004,18,1004,21],[1004,22,1004,23],[1004,24,1004,26],[1004,27,1004,28],[1004,29,1004,30],[1004,31,1004,32],[1004,33,1004,34],[1004,35,1004,36],[1004,37,1004,38],[1004,39,1004,40],[1004,41,1004,42],[1004,43,1004,45],[1004,46,1004,48],[1002,49,1002,66],[1003,2,1003,8],[1003,9,1003,17],[1003,18,1003,21],[1003,22,1003,23],[1003,24,1003,26],[1003,27,1003,28],[1003,29,1003,30],[1003,31,1003,32],[1003,33,1003,34],[1003,35,1003,36],[1003,37,1003,38],[1003,39,1003,40],[1003,41,1003,42],[1003,43,1003,45],[1003,46,1003,48],[1001,49,1001,66],[1002,2,1002,8],[1002,9,1002,17],[1002,18,1002,21],[1002,22,1002,23],[1002,24,1002,26],[1002,27,1002,28],[1002,29,1002,30],[1002,31,1002,32],[1002,33,1002,34],[1002,35,1002,36],[1002,37,1002,38],[1002,39,1002,40],[1002,41,1002,42],[1002,43,1002,45],[1002,46,1002,48],[1000,49,1000,66],[1001,2,1001,8],[1001,9,1001,17],[1001,18,1001,21],[1001,22,1001,23],[1001,24,1001,26],[1001,27,1001,28],[1001,29,1001,30],[1001,31,1001,32],[1001,33,1001,34],[1001,35,1001,36],[1001,37,1001,38],[1001,39,1001,40],[1001,41,1001,42],[1001,43,1001,45],[1001,46,1001,48],[999,49,999,66],[1000,2,1000,8],[1000,9,1000,17],[1000,18,1000,21],[1000,22,1000,23],[1000,24,1000,26],[1000,27,1000,28],[1000,29,1000,30],[1000,31,1000,32],[1000,33,1000,34],[1000,35,1000,36],[1000,37,1000,38],[1000,39,1000,40],[1000,41,1000,42],[1000,43,1000,45],[1000,46,1000,48],[998,49,998,66],[999,2,999,8],[999,9,999,17],[999,18,999,21],[999,22,999,23],[999,24,999,26],[999,27,999,28],[999,29,999,30],[999,31,999,32],[999,33,999,34],[999,35,999,36],[999,37,999,38],[999,39,999,40],[999,41,999,42],[999,43,999,45],[999,46,999,48],[997,49,997,66],[998,2,998,8],[998,9,998,17],[998,18,998,21],[998,22,998,23],[998,24,998,26],[998,27,998,28],[998,29,998,30],[998,31,998,32],[998,33,998,34],[998,35,998,36],[998,37,998,38],[998,39,998,40],[998,41,998,42],[998,43,998,45],[998,46,998,48],[996,49,996,66],[997,2,997,8],[997,9,997,17],[997,18,997,21],[997,22,997,23],[997,24,997,26],[997,27,997,28],[997,29,997,30],[997,31,997,32],[997,33,997,34],[997,35,997,36],[997,37,997,38],[997,39,997,40],[997,41,997,42],[997,43,997,45],[997,46,997,48],[995,49,995,66],[996,2,996,8],[996,9,996,17],[996,18,996,21],[996,22,996,23],[996,24,996,26],[996,27,996,28],[996,29,996,30],[996,31,996,32],[996,33,996,34],[996,35,996,36],[996,37,996,38],[996,39,996,40],[996,41,996,42],[996,43,996,45],[996,46,996,48],[994,49,994,66],[995,2,995,8],[995,9,995,17],[995,18,995,21],[995,22,995,23],[995,24,995,26],[995,27,995,28],[995,29,995,30],[995,31,995,32],[995,33,995,34],[995,35,995,36],[995,37,995,38],[995,39,995,40],[995,41,995,42],[995,43,995,45],[995,46,995,48],[993,49,993,66],[994,2,994,8],[994,9,994,17],[994,18,994,21],[994,22,994,23],[994,24,994,26],[994,27,994,28],[994,29,994,30],[994,31,994,32],[994,33,994,34],[994,35,994,36],[994,37,994,38],[994,39,994,40],[994,41,994,42],[994,43,994,45],[994,46,994,48],[992,49,992,66],[993,2,993,8],[993,9,993,17],[993,18,993,21],[993,22,993,23],[993,24,993,26],[993,27,993,28],[993,29,993,30],[993,31,993,32],[993,33,993,34],[993,35,993,36],[993,37,993,38],[993,39,993,40],[993,41,993,42],[993,43,993,45],[993,46,993,48],[991,49,991,66],[992,2,992,8],[992,9,992,17],[992,18,992,21],[992,22,992,23],[992,24,992,26],[992,27,992,28],[992,29,992,30],[992,31,992,32],[992,33,992,34],[992,35,992,36],[992,37,992,38],[992,39,992,40],[992,41,992,42],[992,43,992,45],[992,46,992,48],[990,49,990,66],[991,2,991,8],[991,9,991,17],[991,18,991,21],[991,22,991,23],[991,24,991,26],[991,27,991,28],[991,29,991,30],[991,31,991,32],[991,33,991,34],[991,35,991,36],[991,37,991,38],[991,39,991,40],[991,41,991,42],[991,43,991,45],[991,46,991,48],[989,49,989,66],[990,2,990,8],[990,9,990,17],[990,18,990,21],[990,22,990,23],[990,24,990,26],[990,27,990,28],[990,29,990,30],[990,31,990,32],[990,33,990,34],[990,35,990,36],[990,37,990,38],[990,39,990,40],[990,41,990,42],[990,43,990,45],[990,46,990,48],[988,49,988,66],[989,2,989,8],[989,9,989,17],[989,18,989,21],[989,22,989,23],[989,24,989,26],[989,27,989,28],[989,29,989,30],[989,31,989,32],[989,33,989,34],[989,35,989,36],[989,37,989,38],[989,39,989,40],[989,41,989,42],[989,43,989,45],[989,46,989,48],[987,49,987,66],[988,2,988,8],[988,9,988,17],[988,18,988,21],[988,22,988,23],[988,24,988,26],[988,27,988,28],[988,29,988,30],[988,31,988,32],[988,33,988,34],[988,35,988,36],[988,37,988,38],[988,39,988,40],[988,41,988,42],[988,43,988,45],[988,46,988,48],[986,49,986,66],[987,2,987,8],[987,9,987,17],[987,18,987,21],[987,22,987,23],[987,24,987,26],[987,27,987,28],[987,29,987,30],[987,31,987,32],[987,33,987,34],[987,35,987,36],[987,37,987,38],[987,39,987,40],[987,41,987,42],[987,43,987,45],[987,46,987,48],[985,49,985,66],[986,2,986,8],[986,9,986,17],[986,18,986,21],[986,22,986,23],[986,24,986,26],[986,27,986,28],[986,29,986,30],[986,31,986,32],[986,33,986,34],[986,35,986,36],[986,37,986,38],[986,39,986,40],[986,41,986,42],[986,43,986,45],[986,46,986,48],[984,49,984,66],[985,2,985,8],[985,9,985,17],[985,18,985,21],[985,22,985,23],[985,24,985,26],[985,27,985,28],[985,29,985,30],[985,31,985,32],[985,33,985,34],[985,35,985,36],[985,37,985,38],[985,39,985,40],[985,41,985,42],[985,43,985,45],[985,46,985,48],[983,49,983,66],[984,2,984,8],[984,9,984,17],[984,18,984,21],[984,22,984,23],[984,24,984,26],[984,27,984,28],[984,29,984,30],[984,31,984,32],[984,33,984,34],[984,35,984,36],[984,37,984,38],[984,39,984,40],[984,41,984,42],[984,43,984,45],[984,46,984,48],[982,49,982,66],[983,2,983,8],[983,9,983,17],[983,18,983,21],[983,22,983,23],[983,24,983,26],[983,27,983,28],[983,29,983,30],[983,31,983,32],[983,33,983,34],[983,35,983,36],[983,37,983,38],[983,39,983,40],[983,41,983,42],[983,43,983,45],[983,46,983,48],[981,49,981,66],[982,2,982,8],[982,9,982,17],[982,18,982,21],[982,22,982,23],[982,24,982,26],[982,27,982,28],[982,29,982,30],[982,31,982,32],[982,33,982,34],[982,35,982,36],[982,37,982,38],[982,39,982,40],[982,41,982,42],[982,43,982,45],[982,46,982,48],[980,49,980,66],[981,2,981,8],[981,9,981,17],[981,18,981,21],[981,22,981,23],[981,24,981,26],[981,27,981,28],[981,29,981,30],[981,31,981,32],[981,33,981,34],[981,35,981,36],[981,37,981,38],[981,39,981,40],[981,41,981,42],[981,43,981,45],[981,46,981,48],[979,49,979,66],[980,2,980,8],[980,9,980,17],[980,18,980,21],[980,22,980,23],[980,24,980,26],[980,27,980,28],[980,29,980,30],[980,31,980,32],[980,33,980,34],[980,35,980,36],[980,37,980,38],[980,39,980,40],[980,41,980,42],[980,43,980,45],[980,46,980,48],[978,49,978,66],[979,2,979,8],[979,9,979,17],[979,18,979,21],[979,22,979,23],[979,24,979,26],[979,27,979,28],[979,29,979,30],[979,31,979,32],[979,33,979,34],[979,35,979,36],[979,37,979,38],[979,39,979,40],[979,41,979,42],[979,43,979,45],[979,46,979,48],[977,49,977,66],[978,2,978,8],[978,9,978,17],[978,18,978,21],[978,22,978,23],[978,24,978,26],[978,27,978,28],[978,29,978,30],[978,31,978,32],[978,33,978,34],[978,35,978,36],[978,37,978,38],[978,39,978,40],[978,41,978,42],[978,43,978,45],[978,46,978,48],[976,49,976,66],[977,2,977,8],[977,9,977,17],[977,18,977,21],[977,22,977,23],[977,24,977,26],[977,27,977,28],[977,29,977,30],[977,31,977,32],[977,33,977,34],[977,35,977,36],[977,37,977,38],[977,39,977,40],[977,41,977,42],[977,43,977,45],[977,46,977,48],[975,49,975,66],[976,2,976,8],[976,9,976,17],[976,18,976,21],[976,22,976,23],[976,24,976,26],[976,27,976,28],[976,29,976,30],[976,31,976,32],[976,33,976,34],[976,35,976,36],[976,37,976,38],[976,39,976,40],[976,41,976,42],[976,43,976,45],[976,46,976,48],[974,49,974,66],[975,2,975,8],[975,9,975,17],[975,18,975,21],[975,22,975,23],[975,24,975,26],[975,27,975,28],[975,29,975,30],[975,31,975,32],[975,33,975,34],[975,35,975,36],[975,37,975,38],[975,39,975,40],[975,41,975,42],[975,43,975,45],[975,46,975,48],[973,49,973,66],[974,2,974,8],[974,9,974,17],[974,18,974,21],[974,22,974,23],[974,24,974,26],[974,27,974,28],[974,29,974,30],[974,31,974,32],[974,33,974,34],[974,35,974,36],[974,37,974,38],[974,39,974,40],[974,41,974,42],[974,43,974,45],[974,46,974,48],[972,49,972,66],[973,2,973,8],[973,9,973,17],[973,18,973,21],[973,22,973,23],[973,24,973,26],[973,27,973,28],[973,29,973,30],[973,31,973,32],[973,33,973,34],[973,35,973,36],[973,37,973,38],[973,39,973,40],[973,41,973,42],[973,43,973,45],[973,46,973,48],[971,49,971,66],[972,2,972,8],[972,9,972,17],[972,18,972,21],[972,22,972,23],[972,24,972,26],[972,27,972,28],[972,29,972,30],[972,31,972,32],[972,33,972,34],[972,35,972,36],[972,37,972,38],[972,39,972,40],[972,41,972,42],[972,43,972,45],[972,46,972,48],[970,49,970,66],[971,2,971,8],[971,9,971,17],[971,18,971,21],[971,22,971,23],[971,24,971,26],[971,27,971,28],[971,29,971,30],[971,31,971,32],[971,33,971,34],[971,35,971,36],[971,37,971,38],[971,39,971,40],[971,41,971,42],[971,43,971,45],[971,46,971,48],[969,49,969,66],[970,2,970,8],[970,9,970,17],[970,18,970,21],[970,22,970,23],[970,24,970,26],[970,27,970,28],[970,29,970,30],[970,31,970,32],[970,33,970,34],[970,35,970,36],[970,37,970,38],[970,39,970,40],[970,41,970,42],[970,43,970,45],[970,46,970,48],[968,49,968,66],[969,2,969,8],[969,9,969,17],[969,18,969,21],[969,22,969,23],[969,24,969,26],[969,27,969,28],[969,29,969,30],[969,31,969,32],[969,33,969,34],[969,35,969,36],[969,37,969,38],[969,39,969,40],[969,41,969,42],[969,43,969,45],[969,46,969,48],[967,49,967,66],[968,2,968,8],[968,9,968,17],[968,18,968,21],[968,22,968,23],[968,24,968,26],[968,27,968,28],[968,29,968,30],[968,31,968,32],[968,33,968,34],[968,35,968,36],[968,37,968,38],[968,39,968,40],[968,41,968,42],[968,43,968,45],[968,46,968,48],[966,49,966,66],[967,2,967,8],[967,9,967,17],[967,18,967,21],[967,22,967,23],[967,24,967,26],[967,27,967,28],[967,29,967,30],[967,31,967,32],[967,33,967,34],[967,35,967,36],[967,37,967,38],[967,39,967,40],[967,41,967,42],[967,43,967,45],[967,46,967,48],[965,49,965,66],[966,2,966,8],[966,9,966,17],[966,18,966,21],[966,22,966,23],[966,24,966,26],[966,27,966,28],[966,29,966,30],[966,31,966,32],[966,33,966,34],[966,35,966,36],[966,37,966,38],[966,39,966,40],[966,41,966,42],[966,43,966,45],[966,46,966,48],[964,49,964,66],[965,2,965,8],[965,9,965,17],[965,18,965,21],[965,22,965,23],[965,24,965,26],[965,27,965,28],[965,29,965,30],[965,31,965,32],[965,33,965,34],[965,35,965,36],[965,37,965,38],[965,39,965,40],[965,41,965,42],[965,43,965,45],[965,46,965,48],[963,49,963,66],[964,2,964,8],[964,9,964,17],[964,18,964,21],[964,22,964,23],[964,24,964,26],[964,27,964,28],[964,29,964,30],[964,31,964,32],[964,33,964,34],[964,35,964,36],[964,37,964,38],[964,39,964,40],[964,41,964,42],[964,43,964,45],[964,46,964,48],[962,49,962,66],[963,2,963,8],[963,9,963,17],[963,18,963,21],[963,22,963,23],[963,24,963,26],[963,27,963,28],[963,29,963,30],[963,31,963,32],[963,33,963,34],[963,35,963,36],[963,37,963,38],[963,39,963,40],[963,41,963,42],[963,43,963,45],[963,46,963,48],[961,49,961,66],[962,2,962,8],[962,9,962,17],[962,18,962,21],[962,22,962,23],[962,24,962,26],[962,27,962,28],[962,29,962,30],[962,31,962,32],[962,33,962,34],[962,35,962,36],[962,37,962,38],[962,39,962,40],[962,41,962,42],[962,43,962,45],[962,46,962,48],[960,49,960,66],[961,2,961,8],[961,9,961,17],[961,18,961,21],[961,22,961,23],[961,24,961,26],[961,27,961,28],[961,29,961,30],[961,31,961,32],[961,33,961,34],[961,35,961,36],[961,37,961,38],[961,39,961,40],[961,41,961,42],[961,43,961,45],[961,46,961,48],[959,49,959,66],[960,2,960,8],[960,9,960,17],[960,18,960,21],[960,22,960,23],[960,24,960,26],[960,27,960,28],[960,29,960,30],[960,31,960,32],[960,33,960,34],[960,35,960,36],[960,37,960,38],[960,39,960,40],[960,41,960,42],[960,43,960,45],[960,46,960,48],[958,49,958,66],[959,2,959,8],[959,9,959,17],[959,18,959,21],[959,22,959,23],[959,24,959,26],[959,27,959,28],[959,29,959,30],[959,31,959,32],[959,33,959,34],[959,35,959,36],[959,37,959,38],[959,39,959,40],[959,41,959,42],[959,43,959,45],[959,46,959,48],[957,49,957,66],[958,2,958,8],[958,9,958,17],[958,18,958,21],[958,22,958,23],[958,24,958,26],[958,27,958,28],[958,29,958,30],[958,31,958,32],[958,33,958,34],[958,35,958,36],[958,37,958,38],[958,39,958,40],[958,41,958,42],[958,43,958,45],[958,46,958,48],[956,49,956,66],[957,2,957,8],[957,9,957,17],[957,18,957,21],[957,22,957,23],[957,24,957,26],[957,27,957,28],[957,29,957,30],[957,31,957,32],[957,33,957,34],[957,35,957,36],[957,37,957,38],[957,39,957,40],[957,41,957,42],[957,43,957,45],[957,46,957,48],[955,49,955,66],[956,2,956,8],[956,9,956,17],[956,18,956,21],[956,22,956,23],[956,24,956,26],[956,27,956,28],[956,29,956,30],[956,31,956,32],[956,33,956,34],[956,35,956,36],[956,37,956,38],[956,39,956,40],[956,41,956,42],[956,43,956,45],[956,46,956,48],[954,49,954,66],[955,2,955,8],[955,9,955,17],[955,18,955,21],[955,22,955,23],[955,24,955,26],[955,27,955,28],[955,29,955,30],[955,31,955,32],[955,33,955,34],[955,35,955,36],[955,37,955,38],[955,39,955,40],[955,41,955,42],[955,43,955,45],[955,46,955,48],[953,49,953,66],[954,2,954,8],[954,9,954,17],[954,18,954,21],[954,22,954,23],[954,24,954,26],[954,27,954,28],[954,29,954,30],[954,31,954,32],[954,33,954,34],[954,35,954,36],[954,37,954,38],[954,39,954,40],[954,41,954,42],[954,43,954,45],[954,46,954,48],[952,49,952,66],[953,2,953,8],[953,9,953,17],[953,18,953,21],[953,22,953,23],[953,24,953,26],[953,27,953,28],[953,29,953,30],[953,31,953,32],[953,33,953,34],[953,35,953,36],[953,37,953,38],[953,39,953,40],[953,41,953,42],[953,43,953,45],[953,46,953,48],[951,49,951,66],[952,2,952,8],[952,9,952,17],[952,18,952,21],[952,22,952,23],[952,24,952,26],[952,27,952,28],[952,29,952,30],[952,31,952,32],[952,33,952,34],[952,35,952,36],[952,37,952,38],[952,39,952,40],[952,41,952,42],[952,43,952,45],[952,46,952,48],[950,49,950,66],[951,2,951,8],[951,9,951,17],[951,18,951,21],[951,22,951,23],[951,24,951,26],[951,27,951,28],[951,29,951,30],[951,31,951,32],[951,33,951,34],[951,35,951,36],[951,37,951,38],[951,39,951,40],[951,41,951,42],[951,43,951,45],[951,46,951,48],[949,49,949,66],[950,2,950,8],[950,9,950,17],[950,18,950,21],[950,22,950,23],[950,24,950,26],[950,27,950,28],[950,29,950,30],[950,31,950,32],[950,33,950,34],[950,35,950,36],[950,37,950,38],[950,39,950,40],[950,41,950,42],[950,43,950,45],[950,46,950,48],[948,49,948,66],[949,2,949,8],[949,9,949,17],[949,18,949,21],[949,22,949,23],[949,24,949,26],[949,27,949,28],[949,29,949,30],[949,31,949,32],[949,33,949,34],[949,35,949,36],[949,37,949,38],[949,39,949,40],[949,41,949,42],[949,43,949,45],[949,46,949,48],[947,49,947,66],[948,2,948,8],[948,9,948,17],[948,18,948,21],[948,22,948,23],[948,24,948,26],[948,27,948,28],[948,29,948,30],[948,31,948,32],[948,33,948,34],[948,35,948,36],[948,37,948,38],[948,39,948,40],[948,41,948,42],[948,43,948,45],[948,46,948,48],[946,49,946,66],[947,2,947,8],[947,9,947,17],[947,18,947,21],[947,22,947,23],[947,24,947,26],[947,27,947,28]],"merged_total":16029,"flags":["merged_cut"]}
[]
[null,null,null,null,null,null,null,null,null,null,null,null,null,null,null,null,null,null,null,null,null,null,null,null,null,null,"INTER-AMERICAN TROPICAL TUNA COMMISSION",null,null,null,null,null,null,null,null,null,null,null,null,null,null,null,null,null,null,null,null,null,null,null,null,null,null,null,null,null,null,null,{"$f":"Instructions!CQ2","v":"Ver. 2018-09 v4"}]
[]
[null,null,"FAD INVENTORY AND INFORMATION"]
[]
[null,null,"Vessel name",null,null,null,null,null,null,null,null,null,null,null,null,null,null,null,null,null,null,null,null,null,null,null,null,null,null," IATTC number",null,null,null,null,null,null,null,null,null,null,null,null,null,null,"Trip start date"]
[]
[null,null,"FAD ID",null,null,null,null,null,null,null,null,null,null,null,null,null,null,null,"Description",null,null,null,"Surface component",null,null,null,null,null,null,null,null,null,null,null,null,null,null,"Underwater component (tail)"]
[null,null,"Manufacturer code (Table 1)",null,null,null,null,null,null,"Beacon serial no. or \nIATTC code",null,null,null,null,null,null,null,null,null,null,null,null,"Raft",null,"Covering",null,null,"Mesh\n(cm)",null,"Floats",null,"Dimentions (m)",null,null,null,null,null,"Mat. 1",null,"Mat. 2",null,"Config.",null,"Mesh size (cm)",null,null,"Depth \n(m)",null,null,"Comments / Observations"]
[null,null,null,null,null,null,null,null,null,null,null,null,null,null,null,null,null,null,null,null,null,null,null,null,null,null,null,null,null,null,null,"W",null,"L",null,"P"]
[null,1]
[null,2]
[null,3]
[null,4]
[null,5]
[null,6]
[null,7]
[null,8]
[null,9]
[null,10]
[null,11]
[null,12]
[null,13]
[null,14]
[null,15]
[null,16]
[null,17]
[null,18]
[null,19]
[null,20]
[null,21]
[null,22]
[null,23]
[null,24]
[null,25]
[null,26]
[null,27]
[null,28]
[null,29]
[null,30]
[null,31]
[null,32]
[null,33]
[null,34]
[null,35]
[null,36]
[null,37]
[null,38]
[null,39]
[null,40]
[null,41]
[null,42]
[null,43]
[null,44]
[null,45]
[null,46]
[null,47]
[null,48]
[null,49]
[null,50]
[null,51]
[null,52]
[null,53]
[null,54]
[null,55]
[null,56]
[null,57]
[null,58]
[null,59]
[null,60]
[null,61]
[null,62]
[null,63]
[null,64]
[null,65]
[null,66]
[null,67]
[null,68]
[null,69]
[null,70]
[null,71]
[null,72]
[null,73]
[null,74]
[null,75]
[null,76]
[null,77]
[null,78]
[null,79]
[null,80]
[null,81]
[null,82]
[null,83]
[null,84]
[null,85]
[null,86]
[null,87]
[null,88]
[null,89]
[null,90]
[null,91]
[null,92]
[null,93]
[null,94]
[null,95]
[null,96]
[null,97]
[null,98]
[null,99]
[null,100]
[null,101]
[null,102]
[null,103]
[null,104]
[null,105]
[null,106]
[null,107]
[null,108]
[null,109]
[null,110]
[null,111]
[null,112]
[null,113]
[null,114]
[null,115]
[null,116]
[null,117]
[null,118]
[null,119]
[null,120]
[null,121]
[null,122]
[null,123]
[null,124]
[null,125]
[null,126]
[null,127]
[null,128]
[null,129]
[null,130]
[null,131]
[null,132]
[null,133]
[null,134]
[null,135]
[null,136]
[null,137]
[null,138]
[null,139]
[null,140]
[null,141]
[null,142]
[null,143]
[null,144]
[null,145]
[null,146]
[null,147]
[null,148]
[null,149]
[null,150]
[null,151]
[null,152]
[null,153]
[null,154]
[null,155]
[null,156]
[null,157]
[null,158]
[null,159]
[null,160]
[null,161]
[null,162]
[null,163]
[null,164]
[null,165]
[null,166]
[null,167]
[null,168]
[null,169]
[null,170]
[null,171]
[null,172]
[null,173]
[null,174]
[null,175]
[null,176]
[null,177]
[null,178]
[null,179]
[null,180]
[null,181]
[null,182]
[null,183]
[null,184]
[null,185]
[null,186]
[null,187]
[null,188]
[null,189]
[null,190]
[null,191]
[null,192]
[null,193]
[null,194]
[null,195]
[null,196]
[null,197]
[null,198]
[null,199]
[null,200]
[null,201]
[null,202]
[null,203]
[null,204]
[null,205]
[null,206]
[null,207]
[null,208]
[null,209]
[null,210]
[null,211]
[null,212]
[null,213]
[null,214]
[null,215]
[null,216]
[null,217]
[null,218]
[null,219]
[null,220]
[null,221]
[null,222]
[null,223]
[null,224]
[null,225]
[null,226]
[null,227]
[null,228]
[null,229]
[null,230]
[null,231]
[null,232]
[null,233]
[null,234]
[null,235]
[null,236]
[null,237]
[null,238]
[null,239]
[null,240]
[null,241]
[null,242]
[null,243]
[null,244]
[null,245]
[null,246]
[null,247]
[null,248]
[null,249]
[null,250]
[null,251]
[null,252]
[null,253]
[null,254]
[null,255]
[null,256]
[null,257]
[null,258]
[null,259]
[null,260]
[null,261]
[null,262]
[null,263]
[null,264]
[null,265]
[null,266]
[null,267]
[null,268]
[null,269]
[null,270]
[null,271]
[null,272]
[null,273]
[null,274]
[null,275]
[null,276]
[null,277]
[null,278]
[null,279]
[null,280]
[null,281]
[null,282]
[null,283]
[null,284]
[null,285]
[null,286]
[null,287]
[null,288]
[null,289]
[null,290]
[null,291]
[null,292]
[null,293]
[null,294]
[null,295]
[null,296]
[null,297]
[null,298]
[null,299]
[null,300]
[null,301]
[null,302]
[null,303]
[null,304]
[null,305]
[null,306]
[null,307]
[null,308]
[null,309]
[null,310]
[null,311]
[null,312]
[null,313]
[null,314]
[null,315]
[null,316]
[null,317]
[null,318]
[null,319]
[null,320]
[null,321]
[null,322]
[null,323]
[null,324]
[null,325]
[null,326]
[null,327]
[null,328]
[null,329]
[null,330]
[null,331]
[null,332]
[null,333]
[null,334]
[null,335]
[null,336]
[null,337]
[null,338]
[null,339]
[null,340]
[null,341]
[null,342]
[null,343]
[null,344]
[null,345]
[null,346]
[null,347]
[null,348]
[null,349]
[null,350]
[null,351]
[null,352]
[null,353]
[null,354]
[null,355]
[null,356]
[null,357]
[null,358]
[null,359]
[null,360]
[null,361]
[null,362]
[null,363]
[null,364]
[null,365]
[null,366]
[null,367]
[null,368]
[null,369]
[null,370]
[null,371]
[null,372]
[null,373]
[null,374]
[null,375]
[null,376]
[null,377]
[null,378]
[null,379]
[null,380]
[null,381]
[null,382]
[null,383]
[null,384]
[null,385]
[null,386]
[null,387]
[null,388]
[null,389]
[null,390]
[null,391]
[null,392]
[null,393]
[null,394]
[null,395]
[null,396]
[null,397]
[null,398]
[null,399]
[null,400]
[null,401]
[null,402]
[null,403]
[null,404]
[null,405]
[null,406]
[null,407]
[null,408]
[null,409]
[null,410]
[null,411]
[null,412]
[null,413]
[null,414]
[null,415]
[null,416]
[null,417]
[null,418]
[null,419]
[null,420]
[null,421]
[null,422]
[null,423]
[null,424]
[null,425]
[null,426]
[null,427]
[null,428]
[null,429]
[null,430]
[null,431]
[null,432]
[null,433]
[null,434]
[null,435]
[null,436]
[null,437]
[null,438]
[null,439]
[null,440]
[null,441]
[null,442]
[null,443]
[null,444]
[null,445]
[null,446]
[null,447]
[null,448]
[null,449]
[null,450]
[null,451]
[null,452]
[null,453]
[null,454]
[null,455]
[null,456]
[null,457]
[null,458]
[null,459]
[null,460]
[null,461]
[null,462]
[null,463]
[null,464]
[null,465]
[null,466]
[null,467]
[null,468]
[null,469]
[null,470]
[null,471]
[null,472]
[null,473]
[null,474]
[null,475]
[null,476]
[null,477]
[null,478]
[null,479]
[null,480]
[null,481]
[null,482]
[null,483]
[null,484]
[null,485]
[null,486]
[null,487]
[null,488]
[null,489]
[null,490]
[null,491]
[null,492]
[null,493]
[null,494]
[null,495]
[null,496]
[null,497]
[null,498]
[null,499]
[null,500]
[null,501]
[null,502]
[null,503]
[null,504]
[null,505]
[null,506]
[null,507]
[null,508]
[null,509]
[null,510]
[null,511]
[null,512]
[null,513]
[null,514]
[null,515]
[null,516]
[null,517]
[null,518]
[null,519]
[null,520]
[null,521]
[null,522]
[null,523]
[null,524]
[null,525]
[null,526]
[null,527]
[null,528]
[null,529]
[null,530]
[null,531]
[null,532]
[null,533]
[null,534]
[null,535]
[null,536]
[null,537]
[null,538]
[null,539]
[null,540]
[null,541]
[null,542]
[null,543]
[null,544]
[null,545]
[null,546]
[null,547]
[null,548]
[null,549]
[null,550]
[null,551]
[null,552]
[null,553]
[null,554]
[null,555]
[null,556]
[null,557]
[null,558]
[null,559]
[null,560]
[null,561]
[null,562]
[null,563]
[null,564]
[null,565]
[null,566]
[null,567]
[null,568]
[null,569]
[null,570]
[null,571]
[null,572]
[null,573]
[null,574]
[null,575]
[null,576]
[null,577]
[null,578]
[null,579]
[null,580]
[null,581]
[null,582]
[null,583]
[null,584]
[null,585]
[null,586]
[null,587]
[null,588]
[null,589]
[null,590]
[null,591]
[null,592]
[null,593]
[null,594]
[null,595]
[null,596]
[null,597]
[null,598]
[null,599]
[null,600]
[null,601]
[null,602]
[null,603]
[null,604]
[null,605]
[null,606]
[null,607]
[null,608]
[null,609]
[null,610]
[null,611]
[null,612]
[null,613]
[null,614]
[null,615]
[null,616]
[null,617]
[null,618]
[null,619]
[null,620]
[null,621]
[null,622]
[null,623]
[null,624]
[null,625]
[null,626]
[null,627]
[null,628]
[null,629]
[null,630]
[null,631]
[null,632]
[null,633]
[null,634]
[null,635]
[null,636]
[null,637]
[null,638]
[null,639]
[null,640]
[null,641]
[null,642]
[null,643]
[null,644]
[null,645]
[null,646]
[null,647]
[null,648]
[null,649]
[null,650]
[null,651]
[null,652]
[null,653]
[null,654]
[null,655]
[null,656]
[null,657]
[null,658]
[null,659]
[null,660]
[null,661]
[null,662]
[null,663]
[null,664]
[null,665]
[null,666]
[null,667]
[null,668]
[null,669]
[null,670]
[null,671]
[null,672]
[null,673]
[null,674]
[null,675]
[null,676]
[null,677]
[null,678]
[null,679]
[null,680]
[null,681]
[null,682]
[null,683]
[null,684]
[null,685]
[null,686]
[null,687]
[null,688]
[null,689]
[null,690]
[null,691]
[null,692]
[null,693]
[null,694]
[null,695]
[null,696]
[null,697]
[null,698]
[null,699]
[null,700]
[null,701]
[null,702]
[null,703]
[null,704]
[null,705]
[null,706]
[null,707]
[null,708]
[null,709]
[null,710]
[null,711]
[null,712]
[null,713]
[null,714]
[null,715]
[null,716]
[null,717]
[null,718]
[null,719]
[null,720]
[null,721]
[null,722]
[null,723]
[null,724]
[null,725]
[null,726]
[null,727]
[null,728]
[null,729]
[null,730]
[null,731]
[null,732]
[null,733]
[null,734]
[null,735]
[null,736]
[null,737]
[null,738]
[null,739]
[null,740]
[null,741]
[null,742]
[null,743]
[null,744]
[null,745]
[null,746]
[null,747]
[null,748]
[null,749]
[null,750]
[null,751]
[null,752]
[null,753]
[null,754]
[null,755]
[null,756]
[null,757]
[null,758]
[null,759]
[null,760]
[null,761]
[null,762]
[null,763]
[null,764]
[null,765]
[null,766]
[null,767]
[null,768]
[null,769]
[null,770]
[null,771]
[null,772]
[null,773]
[null,774]
[null,775]
[null,776]
[null,777]
[null,778]
[null,779]
[null,780]
[null,781]
[null,782]
[null,783]
[null,784]
[null,785]
[null,786]
[null,787]
[null,788]
[null,789]
[null,790]
[null,791]
[null,792]
[null,793]
[null,794]
[null,795]
[null,796]
[null,797]
[null,798]
[null,799]
[null,800]
[null,801]
[null,802]
[null,803]
[null,804]
[null,805]
[null,806]
[null,807]
[null,808]
[null,809]
[null,810]
[null,811]
[null,812]
[null,813]
[null,814]
[null,815]
[null,816]
[null,817]
[null,818]
[null,819]
[null,820]
[null,821]
[null,822]
[null,823]
[null,824]
[null,825]
[null,826]
[null,827]
[null,828]
[null,829]
[null,830]
[null,831]
[null,832]
[null,833]
[null,834]
[null,835]
[null,836]
[null,837]
[null,838]
[null,839]
[null,840]
[null,841]
[null,842]
[null,843]
[null,844]
[null,845]
[null,846]
[null,847]
[null,848]
[null,849]
[null,850]
[null,851]
[null,852]
[null,853]
[null,854]
[null,855]
[null,856]
[null,857]
[null,858]
[null,859]
[null,860]
[null,861]
[null,862]
[null,863]
[null,864]
[null,865]
[null,866]
[null,867]
[null,868]
[null,869]
[null,870]
[null,871]
[null,872]
[null,873]
[null,874]
[null,875]
[null,876]
[null,877]
[null,878]
[null,879]
[null,880]
[null,881]
[null,882]
[null,883]
[null,884]
[null,885]
[null,886]
[null,887]
[null,888]
[null,889]
[null,890]
[null,891]
[null,892]
[null,893]
[null,894]
[null,895]
[null,896]
[null,897]
[null,898]
[null,899]
[null,900]
[null,901]
[null,902]
[null,903]
[null,904]
[null,905]
[null,906]
[null,907]
[null,908]
[null,909]
[null,910]
[null,911]
[null,912]
[null,913]
[null,914]
[null,915]
[null,916]
[null,917]
[null,918]
[null,919]
[null,920]
[null,921]
[null,922]
[null,923]
[null,924]
[null,925]
[null,926]
[null,927]
[null,928]
[null,929]
[null,930]
[null,931]
[null,932]
[null,933]
[null,934]
[null,935]
[null,936]
[null,937]
[null,938]
[null,939]
[null,940]
[null,941]
[null,942]
[null,943]
[null,944]
[null,945]
[null,946]
[null,947]
[null,948]
[null,949]
[null,950]
[null,951]
[null,952]
[null,953]
[null,954]
[null,955]
[null,956]
[null,957]
[null,958]
[null,959]
[null,960]
[null,961]
[null,962]
[null,963]
[null,964]
[null,965]
[null,966]
[null,967]
[null,968]
[null,969]
[null,970]
[null,971]
[null,972]
[null,973]
[null,974]
[null,975]
[null,976]
[null,977]
[null,978]
[null,979]
[null,980]
[null,981]
[null,982]
[null,983]
[null,984]
[null,985]
[null,986]
[null,987]
[null,988]
[null,989]
[null,990]
[null,991]
[null,992]
[null,993]
[null,994]
[null,995]
[null,996]
[null,997]
[null,998]
[null,999]
[null,1000]

{"sheet":"Activity","index":2,"n_rows":2010,"n_cols":70,"rows_kept":2010,"cut":false,"hidden":false,"merged":[[2008,59,2008,60],[2008,61,2008,62],[2008,63,2008,64],[2008,65,2008,77],[2009,2,2009,44],[2009,45,2009,46],[2009,47,2009,48],[2009,49,2009,50],[2009,51,2009,52],[2009,53,2009,54],[2009,55,2009,56],[2009,57,2009,58],[2009,59,2009,60],[2009,61,2009,62],[2009,63,2009,64],[2009,65,2009,77],[2008,41,2008,42],[2008,43,2008,44],[2008,45,2008,46],[2008,47,2008,48],[2008,49,2008,50],[2008,51,2008,52],[2008,53,2008,54],[2008,55,2008,56],[2008,57,2008,58],[2008,2,2008,10],[2008,11,2008,20],[2008,21,2008,24],[2008,25,2008,27],[2008,28,2008,29],[2008,30,2008,32],[2008,33,2008,36],[2008,37,2008,38],[2008,39,2008,40],[2006,59,2006,60],[2006,61,2006,62],[2006,63,2006,64],[2006,65,2006,77],[2007,2,2007,44],[2007,45,2007,46],[2007,47,2007,48],[2007,49,2007,50],[2007,51,2007,52],[2007,53,2007,54],[2007,55,2007,56],[2007,57,2007,58],[2007,59,2007,60],[2007,61,2007,62],[2007,63,2007,64],[2007,65,2007,77],[2006,41,2006,42],[2006,43,2006,44],[2006,45,2006,46],[2006,47,2006,48],[2006,49,2006,50],[2006,51,2006,52],[2006,53,2006,54],[2006,55,2006,56],[2006,57,2006,58],[2006,2,2006,10],[2006,11,2006,20],[2006,21,2006,24],[2006,25,2006,27],[2006,28,2006,29],[2006,30,2006,32],[2006,33,2006,36],[2006,37,2006,38],[2006,39,2006,40],[2004,59,2004,60],[2004,61,2004,62],[2004,63,2004,64],[2004,65,2004,77],[2005,2,2005,44],[2005,45,2005,46],[2005,47,2005,48],[2005,49,2005,50],[2005,51,2005,52],[2005,53,2005,54],[2005,55,2005,56],[2005,57,2005,58],[2005,59,2005,60],[2005,61,2005,62],[2005,63,2005,64],[2005,65,2005,77],[2004,41,2004,42],[2004,43,2004,44],[2004,45,2004,46],[2004,47,2004,48],[2004,49,2004,50],[2004,51,2004,52],[2004,53,2004,54],[2004,55,2004,56],[2004,57,2004,58],[2004,2,2004,10],[2004,11,2004,20],[2004,21,2004,24],[2004,25,2004,27],[2004,28,2004,29],[2004,30,2004,32],[2004,33,2004,36],[2004,37,2004,38],[2004,39,2004,40],[2002,59,2002,60],[2002,61,2002,62],[2002,63,2002,64],[2002,65,2002,77],[2003,2,2003,44],[2003,45,2003,46],[2003,47,2003,48],[2003,49,2003,50],[2003,51,2003,52],[2003,53,2003,54],[2003,55,2003,56],[2003,57,2003,58],[2003,59,2003,60],[2003,61,2003,62],[2003,63,2003,64],[2003,65,2003,77],[2002,41,2002,42],[2002,43,2002,44],[2002,45,2002,46],[2002,47,2002,48],[2002,49,2002,50],[2002,51,2002,52],[2002,53,2002,54],[2002,55,2002,56],[2002,57,2002,58],[2002,2,2002,10],[2002,11,2002,20],[2002,21,2002,24],[2002,25,2002,27],[2002,28,2002,29],[2002,30,2002,32],[2002,33,2002,36],[2002,37,2002,38],[2002,39,2002,40],[2000,59,2000,60],[2000,61,2000,62],[2000,63,2000,64],[2000,65,2000,77],[2001,2,2001,44],[2001,45,2001,46],[2001,47,2001,48],[2001,49,2001,50],[2001,51,2001,52],[2001,53,2001,54],[2001,55,2001,56],[2001,57,2001,58],[2001,59,2001,60],[2001,61,2001,62],[2001,63,2001,64],[2001,65,2001,77],[2000,41,2000,42],[2000,43,2000,44],[2000,45,2000,46],[2000,47,2000,48],[2000,49,2000,50],[2000,51,2000,52],[2000,53,2000,54],[2000,55,2000,56],[2000,57,2000,58],[2000,2,2000,10],[2000,11,2000,20],[2000,21,2000,24],[2000,25,2000,27],[2000,28,2000,29],[2000,30,2000,32],[2000,33,2000,36],[2000,37,2000,38],[2000,39,2000,40],[1998,59,1998,60],[1998,61,1998,62],[1998,63,1998,64],[1998,65,1998,77],[1999,2,1999,44],[1999,45,1999,46],[1999,47,1999,48],[1999,49,1999,50],[1999,51,1999,52],[1999,53,1999,54],[1999,55,1999,56],[1999,57,1999,58],[1999,59,1999,60],[1999,61,1999,62],[1999,63,1999,64],[1999,65,1999,77],[1998,41,1998,42],[1998,43,1998,44],[1998,45,1998,46],[1998,47,1998,48],[1998,49,1998,50],[1998,51,1998,52],[1998,53,1998,54],[1998,55,1998,56],[1998,57,1998,58],[1998,2,1998,10],[1998,11,1998,20],[1998,21,1998,24],[1998,25,1998,27],[1998,28,1998,29],[1998,30,1998,32],[1998,33,1998,36],[1998,37,1998,38],[1998,39,1998,40],[1996,59,1996,60],[1996,61,1996,62],[1996,63,1996,64],[1996,65,1996,77],[1997,2,1997,44],[1997,45,1997,46],[1997,47,1997,48],[1997,49,1997,50],[1997,51,1997,52],[1997,53,1997,54],[1997,55,1997,56],[1997,57,1997,58],[1997,59,1997,60],[1997,61,1997,62],[1997,63,1997,64],[1997,65,1997,77],[1996,41,1996,42],[1996,43,1996,44],[1996,45,1996,46],[1996,47,1996,48],[1996,49,1996,50],[1996,51,1996,52],[1996,53,1996,54],[1996,55,1996,56],[1996,57,1996,58],[1996,2,1996,10],[1996,11,1996,20],[1996,21,1996,24],[1996,25,1996,27],[1996,28,1996,29],[1996,30,1996,32],[1996,33,1996,36],[1996,37,1996,38],[1996,39,1996,40],[1994,59,1994,60],[1994,61,1994,62],[1994,63,1994,64],[1994,65,1994,77],[1995,2,1995,44],[1995,45,1995,46],[1995,47,1995,48],[1995,49,1995,50],[1995,51,1995,52],[1995,53,1995,54],[1995,55,1995,56],[1995,57,1995,58],[1995,59,1995,60],[1995,61,1995,62],[1995,63,1995,64],[1995,65,1995,77],[1994,41,1994,42],[1994,43,1994,44],[1994,45,1994,46],[1994,47,1994,48],[1994,49,1994,50],[1994,51,1994,52],[1994,53,1994,54],[1994,55,1994,56],[1994,57,1994,58],[1994,2,1994,10],[1994,11,1994,20],[1994,21,1994,24],[1994,25,1994,27],[1994,28,1994,29],[1994,30,1994,32],[1994,33,1994,36],[1994,37,1994,38],[1994,39,1994,40],[1992,59,1992,60],[1992,61,1992,62],[1992,63,1992,64],[1992,65,1992,77],[1993,2,1993,44],[1993,45,1993,46],[1993,47,1993,48],[1993,49,1993,50],[1993,51,1993,52],[1993,53,1993,54],[1993,55,1993,56],[1993,57,1993,58],[1993,59,1993,60],[1993,61,1993,62],[1993,63,1993,64],[1993,65,1993,77],[1992,41,1992,42],[1992,43,1992,44],[1992,45,1992,46],[1992,47,1992,48],[1992,49,1992,50],[1992,51,1992,52],[1992,53,1992,54],[1992,55,1992,56],[1992,57,1992,58],[1992,2,1992,10],[1992,11,1992,20],[1992,21,1992,24],[1992,25,1992,27],[1992,28,1992,29],[1992,30,1992,32],[1992,33,1992,36],[1992,37,1992,38],[1992,39,1992,40],[1990,59,1990,60],[1990,61,1990,62],[1990,63,1990,64],[1990,65,1990,77],[1991,2,1991,44],[1991,45,1991,46],[1991,47,1991,48],[1991,49,1991,50],[1991,51,1991,52],[1991,53,1991,54],[1991,55,1991,56],[1991,57,1991,58],[1991,59,1991,60],[1991,61,1991,62],[1991,63,1991,64],[1991,65,1991,77],[1990,41,1990,42],[1990,43,1990,44],[1990,45,1990,46],[1990,47,1990,48],[1990,49,1990,50],[1990,51,1990,52],[1990,53,1990,54],[1990,55,1990,56],[1990,57,1990,58],[1990,2,1990,10],[1990,11,1990,20],[1990,21,1990,24],[1990,25,1990,27],[1990,28,1990,29],[1990,30,1990,32],[1990,33,1990,36],[1990,37,1990,38],[1990,39,1990,40],[1988,59,1988,60],[1988,61,1988,62],[1988,63,1988,64],[1988,65,1988,77],[1989,2,1989,44],[1989,45,1989,46],[1989,47,1989,48],[1989,49,1989,50],[1989,51,1989,52],[1989,53,1989,54],[1989,55,1989,56],[1989,57,1989,58],[1989,59,1989,60],[1989,61,1989,62],[1989,63,1989,64],[1989,65,1989,77],[1988,41,1988,42],[1988,43,1988,44],[1988,45,1988,46],[1988,47,1988,48],[1988,49,1988,50],[1988,51,1988,52],[1988,53,1988,54],[1988,55,1988,56],[1988,57,1988,58],[1988,2,1988,10],[1988,11,1988,20],[1988,21,1988,24],[1988,25,1988,27],[1988,28,1988,29],[1988,30,1988,32],[1988,33,1988,36],[1988,37,1988,38],[1988,39,1988,40],[1986,59,1986,60],[1986,61,1986,62],[1986,63,1986,64],[1986,65,1986,77],[1987,2,1987,44],[1987,45,1987,46],[1987,47,1987,48],[1987,49,1987,50],[1987,51,1987,52],[1987,53,1987,54],[1987,55,1987,56],[1987,57,1987,58],[1987,59,1987,60],[1987,61,1987,62],[1987,63,1987,64],[1987,65,1987,77],[1986,41,1986,42],[1986,43,1986,44],[1986,45,1986,46],[1986,47,1986,48],[1986,49,1986,50],[1986,51,1986,52],[1986,53,1986,54],[1986,55,1986,56],[1986,57,1986,58],[1986,2,1986,10],[1986,11,1986,20],[1986,21,1986,24],[1986,25,1986,27],[1986,28,1986,29],[1986,30,1986,32],[1986,33,1986,36],[1986,37,1986,38],[1986,39,1986,40],[1984,59,1984,60],[1984,61,1984,62],[1984,63,1984,64],[1984,65,1984,77],[1985,2,1985,44],[1985,45,1985,46],[1985,47,1985,48],[1985,49,1985,50],[1985,51,1985,52],[1985,53,1985,54],[1985,55,1985,56],[1985,57,1985,58],[1985,59,1985,60],[1985,61,1985,62],[1985,63,1985,64],[1985,65,1985,77],[1984,41,1984,42],[1984,43,1984,44],[1984,45,1984,46],[1984,47,1984,48],[1984,49,1984,50],[1984,51,1984,52],[1984,53,1984,54],[1984,55,1984,56],[1984,57,1984,58],[1984,2,1984,10],[1984,11,1984,20],[1984,21,1984,24],[1984,25,1984,27],[1984,28,1984,29],[1984,30,1984,32],[1984,33,1984,36],[1984,37,1984,38],[1984,39,1984,40],[1982,59,1982,60],[1982,61,1982,62],[1982,63,1982,64],[1982,65,1982,77],[1983,2,1983,44],[1983,45,1983,46],[1983,47,1983,48],[1983,49,1983,50],[1983,51,1983,52],[1983,53,1983,54],[1983,55,1983,56],[1983,57,1983,58],[1983,59,1983,60],[1983,61,1983,62],[1983,63,1983,64],[1983,65,1983,77],[1982,41,1982,42],[1982,43,1982,44],[1982,45,1982,46],[1982,47,1982,48],[1982,49,1982,50],[1982,51,1982,52],[1982,53,1982,54],[1982,55,1982,56],[1982,57,1982,58],[1982,2,1982,10],[1982,11,1982,20],[1982,21,1982,24],[1982,25,1982,27],[1982,28,1982,29],[1982,30,1982,32],[1982,33,1982,36],[1982,37,1982,38],[1982,39,1982,40],[1980,59,1980,60],[1980,61,1980,62],[1980,63,1980,64],[1980,65,1980,77],[1981,2,1981,44],[1981,45,1981,46],[1981,47,1981,48],[1981,49,1981,50],[1981,51,1981,52],[1981,53,1981,54],[1981,55,1981,56],[1981,57,1981,58],[1981,59,1981,60],[1981,61,1981,62],[1981,63,1981,64],[1981,65,1981,77],[1980,41,1980,42],[1980,43,1980,44],[1980,45,1980,46],[1980,47,1980,48],[1980,49,1980,50],[1980,51,1980,52],[1980,53,1980,54],[1980,55,1980,56],[1980,57,1980,58],[1980,2,1980,10],[1980,11,1980,20],[1980,21,1980,24],[1980,25,1980,27],[1980,28,1980,29],[1980,30,1980,32],[1980,33,1980,36],[1980,37,1980,38],[1980,39,1980,40],[1978,59,1978,60],[1978,61,1978,62],[1978,63,1978,64],[1978,65,1978,77],[1979,2,1979,44],[1979,45,1979,46],[1979,47,1979,48],[1979,49,1979,50],[1979,51,1979,52],[1979,53,1979,54],[1979,55,1979,56],[1979,57,1979,58],[1979,59,1979,60],[1979,61,1979,62],[1979,63,1979,64],[1979,65,1979,77],[1978,41,1978,42],[1978,43,1978,44],[1978,45,1978,46],[1978,47,1978,48],[1978,49,1978,50],[1978,51,1978,52],[1978,53,1978,54],[1978,55,1978,56],[1978,57,1978,58],[1978,2,1978,10],[1978,11,1978,20],[1978,21,1978,24],[1978,25,1978,27],[1978,28,1978,29],[1978,30,1978,32],[1978,33,1978,36],[1978,37,1978,38],[1978,39,1978,40],[1976,59,1976,60],[1976,61,1976,62],[1976,63,1976,64],[1976,65,1976,77],[1977,2,1977,44],[1977,45,1977,46],[1977,47,1977,48],[1977,49,1977,50],[1977,51,1977,52],[1977,53,1977,54],[1977,55,1977,56],[1977,57,1977,58],[1977,59,1977,60],[1977,61,1977,62],[1977,63,1977,64],[1977,65,1977,77],[1976,41,1976,42],[1976,43,1976,44],[1976,45,1976,46],[1976,47,1976,48],[1976,49,1976,50],[1976,51,1976,52],[1976,53,1976,54],[1976,55,1976,56],[1976,57,1976,58],[1976,2,1976,10],[1976,11,1976,20],[1976,21,1976,24],[1976,25,1976,27],[1976,28,1976,29],[1976,30,1976,32],[1976,33,1976,36],[1976,37,1976,38],[1976,39,1976,40],[1974,59,1974,60],[1974,61,1974,62],[1974,63,1974,64],[1974,65,1974,77],[1975,2,1975,44],[1975,45,1975,46],[1975,47,1975,48],[1975,49,1975,50],[1975,51,1975,52],[1975,53,1975,54],[1975,55,1975,56],[1975,57,1975,58],[1975,59,1975,60],[1975,61,1975,62],[1975,63,1975,64],[1975,65,1975,77],[1974,41,1974,42],[1974,43,1974,44],[1974,45,1974,46],[1974,47,1974,48],[1974,49,1974,50],[1974,51,1974,52],[1974,53,1974,54],[1974,55,1974,56],[1974,57,1974,58],[1974,2,1974,10],[1974,11,1974,20],[1974,21,1974,24],[1974,25,1974,27],[1974,28,1974,29],[1974,30,1974,32],[1974,33,1974,36],[1974,37,1974,38],[1974,39,1974,40],[1972,59,1972,60],[1972,61,1972,62],[1972,63,1972,64],[1972,65,1972,77],[1973,2,1973,44],[1973,45,1973,46],[1973,47,1973,48],[1973,49,1973,50],[1973,51,1973,52],[1973,53,1973,54],[1973,55,1973,56],[1973,57,1973,58],[1973,59,1973,60],[1973,61,1973,62],[1973,63,1973,64],[1973,65,1973,77],[1972,41,1972,42],[1972,43,1972,44],[1972,45,1972,46],[1972,47,1972,48],[1972,49,1972,50],[1972,51,1972,52],[1972,53,1972,54],[1972,55,1972,56],[1972,57,1972,58],[1972,2,1972,10],[1972,11,1972,20],[1972,21,1972,24],[1972,25,1972,27],[1972,28,1972,29],[1972,30,1972,32],[1972,33,1972,36],[1972,37,1972,38],[1972,39,1972,40],[1970,59,1970,60],[1970,61,1970,62],[1970,63,1970,64],[1970,65,1970,77],[1971,2,1971,44],[1971,45,1971,46],[1971,47,1971,48],[1971,49,1971,50],[1971,51,1971,52],[1971,53,1971,54],[1971,55,1971,56],[1971,57,1971,58],[1971,59,1971,60],[1971,61,1971,62],[1971,63,1971,64],[1971,65,1971,77],[1970,41,1970,42],[1970,43,1970,44],[1970,45,1970,46],[1970,47,1970,48],[1970,49,1970,50],[1970,51,1970,52],[1970,53,1970,54],[1970,55,1970,56],[1970,57,1970,58],[1970,2,1970,10],[1970,11,1970,20],[1970,21,1970,24],[1970,25,1970,27],[1970,28,1970,29],[1970,30,1970,32],[1970,33,1970,36],[1970,37,1970,38],[1970,39,1970,40],[1968,59,1968,60],[1968,61,1968,62],[1968,63,1968,64],[1968,65,1968,77],[1969,2,1969,44],[1969,45,1969,46],[1969,47,1969,48],[1969,49,1969,50],[1969,51,1969,52],[1969,53,1969,54],[1969,55,1969,56],[1969,57,1969,58],[1969,59,1969,60],[1969,61,1969,62],[1969,63,1969,64],[1969,65,1969,77],[1968,41,1968,42],[1968,43,1968,44],[1968,45,1968,46],[1968,47,1968,48],[1968,49,1968,50],[1968,51,1968,52],[1968,53,1968,54],[1968,55,1968,56],[1968,57,1968,58],[1968,2,1968,10],[1968,11,1968,20],[1968,21,1968,24],[1968,25,1968,27],[1968,28,1968,29],[1968,30,1968,32],[1968,33,1968,36],[1968,37,1968,38],[1968,39,1968,40],[1966,59,1966,60],[1966,61,1966,62],[1966,63,1966,64],[1966,65,1966,77],[1967,2,1967,44],[1967,45,1967,46],[1967,47,1967,48],[1967,49,1967,50],[1967,51,1967,52],[1967,53,1967,54],[1967,55,1967,56],[1967,57,1967,58],[1967,59,1967,60],[1967,61,1967,62],[1967,63,1967,64],[1967,65,1967,77],[1966,41,1966,42],[1966,43,1966,44],[1966,45,1966,46],[1966,47,1966,48],[1966,49,1966,50],[1966,51,1966,52],[1966,53,1966,54],[1966,55,1966,56],[1966,57,1966,58],[1966,2,1966,10],[1966,11,1966,20],[1966,21,1966,24],[1966,25,1966,27],[1966,28,1966,29],[1966,30,1966,32],[1966,33,1966,36],[1966,37,1966,38],[1966,39,1966,40],[1964,59,1964,60],[1964,61,1964,62],[1964,63,1964,64],[1964,65,1964,77],[1965,2,1965,44],[1965,45,1965,46],[1965,47,1965,48],[1965,49,1965,50],[1965,51,1965,52],[1965,53,1965,54],[1965,55,1965,56],[1965,57,1965,58],[1965,59,1965,60],[1965,61,1965,62],[1965,63,1965,64],[1965,65,1965,77],[1964,41,1964,42],[1964,43,1964,44],[1964,45,1964,46],[1964,47,1964,48],[1964,49,1964,50],[1964,51,1964,52],[1964,53,1964,54],[1964,55,1964,56],[1964,57,1964,58],[1964,2,1964,10],[1964,11,1964,20],[1964,21,1964,24],[1964,25,1964,27],[1964,28,1964,29],[1964,30,1964,32],[1964,33,1964,36],[1964,37,1964,38],[1964,39,1964,40],[1962,59,1962,60],[1962,61,1962,62],[1962,63,1962,64],[1962,65,1962,77],[1963,2,1963,44],[1963,45,1963,46],[1963,47,1963,48],[1963,49,1963,50],[1963,51,1963,52],[1963,53,1963,54],[1963,55,1963,56],[1963,57,1963,58],[1963,59,1963,60],[1963,61,1963,62],[1963,63,1963,64],[1963,65,1963,77],[1962,41,1962,42],[1962,43,1962,44],[1962,45,1962,46],[1962,47,1962,48],[1962,49,1962,50],[1962,51,1962,52],[1962,53,1962,54],[1962,55,1962,56],[1962,57,1962,58],[1962,2,1962,10],[1962,11,1962,20],[1962,21,1962,24],[1962,25,1962,27],[1962,28,1962,29],[1962,30,1962,32],[1962,33,1962,36],[1962,37,1962,38],[1962,39,1962,40],[1960,59,1960,60],[1960,61,1960,62],[1960,63,1960,64],[1960,65,1960,77],[1961,2,1961,44],[1961,45,1961,46],[1961,47,1961,48],[1961,49,1961,50],[1961,51,1961,52],[1961,53,1961,54],[1961,55,1961,56],[1961,57,1961,58],[1961,59,1961,60],[1961,61,1961,62],[1961,63,1961,64],[1961,65,1961,77],[1960,41,1960,42],[1960,43,1960,44],[1960,45,1960,46],[1960,47,1960,48],[1960,49,1960,50],[1960,51,1960,52],[1960,53,1960,54],[1960,55,1960,56],[1960,57,1960,58],[1960,2,1960,10],[1960,11,1960,20],[1960,21,1960,24],[1960,25,1960,27],[1960,28,1960,29],[1960,30,1960,32],[1960,33,1960,36],[1960,37,1960,38],[1960,39,1960,40],[1958,59,1958,60],[1958,61,1958,62],[1958,63,1958,64],[1958,65,1958,77],[1959,2,1959,44],[1959,45,1959,46],[1959,47,1959,48],[1959,49,1959,50],[1959,51,1959,52],[1959,53,1959,54],[1959,55,1959,56],[1959,57,1959,58],[1959,59,1959,60],[1959,61,1959,62],[1959,63,1959,64],[1959,65,1959,77],[1958,41,1958,42],[1958,43,1958,44],[1958,45,1958,46],[1958,47,1958,48],[1958,49,1958,50],[1958,51,1958,52],[1958,53,1958,54],[1958,55,1958,56],[1958,57,1958,58],[1958,2,1958,10],[1958,11,1958,20],[1958,21,1958,24],[1958,25,1958,27],[1958,28,1958,29],[1958,30,1958,32],[1958,33,1958,36],[1958,37,1958,38],[1958,39,1958,40],[1956,59,1956,60],[1956,61,1956,62],[1956,63,1956,64],[1956,65,1956,77],[1957,2,1957,44],[1957,45,1957,46],[1957,47,1957,48],[1957,49,1957,50],[1957,51,1957,52],[1957,53,1957,54],[1957,55,1957,56],[1957,57,1957,58],[1957,59,1957,60],[1957,61,1957,62],[1957,63,1957,64],[1957,65,1957,77],[1956,41,1956,42],[1956,43,1956,44],[1956,45,1956,46],[1956,47,1956,48],[1956,49,1956,50],[1956,51,1956,52],[1956,53,1956,54],[1956,55,1956,56],[1956,57,1956,58],[1956,2,1956,10],[1956,11,1956,20],[1956,21,1956,24],[1956,25,1956,27],[1956,28,1956,29],[1956,30,1956,32],[1956,33,1956,36],[1956,37,1956,38],[1956,39,1956,40],[1954,59,1954,60],[1954,61,1954,62],[1954,63,1954,64],[1954,65,1954,77],[1955,2,1955,44],[1955,45,1955,46],[1955,47,1955,48],[1955,49,1955,50],[1955,51,1955,52],[1955,53,1955,54],[1955,55,1955,56],[1955,57,1955,58],[1955,59,1955,60],[1955,61,1955,62],[1955,63,1955,64],[1955,65,1955,77],[1954,41,1954,42],[1954,43,1954,44],[1954,45,1954,46],[1954,47,1954,48],[1954,49,1954,50],[1954,51,1954,52],[1954,53,1954,54],[1954,55,1954,56],[1954,57,1954,58],[1954,2,1954,10],[1954,11,1954,20],[1954,21,1954,24],[1954,25,1954,27],[1954,28,1954,29],[1954,30,1954,32],[1954,33,1954,36],[1954,37,1954,38],[1954,39,1954,40],[1952,59,1952,60],[1952,61,1952,62],[1952,63,1952,64],[1952,65,1952,77],[1953,2,1953,44],[1953,45,1953,46],[1953,47,1953,48],[1953,49,1953,50],[1953,51,1953,52],[1953,53,1953,54],[1953,55,1953,56],[1953,57,1953,58],[1953,59,1953,60],[1953,61,1953,62],[1953,63,1953,64],[1953,65,1953,77],[1952,41,1952,42],[1952,43,1952,44],[1952,45,1952,46],[1952,47,1952,48],[1952,49,1952,50],[1952,51,1952,52],[1952,53,1952,54],[1952,55,1952,56],[1952,57,1952,58],[1952,2,1952,10],[1952,11,1952,20],[1952,21,1952,24],[1952,25,1952,27],[1952,28,1952,29],[1952,30,1952,32],[1952,33,1952,36],[1952,37,1952,38],[1952,39,1952,40],[1950,59,1950,60],[1950,61,1950,62],[1950,63,1950,64],[1950,65,1950,77],[1951,2,1951,44],[1951,45,1951,46],[1951,47,1951,48],[1951,49,1951,50],[1951,51,1951,52],[1951,53,1951,54],[1951,55,1951,56],[1951,57,1951,58],[1951,59,1951,60],[1951,61,1951,62]],"merged_total":34036,"flags":["merged_cut"]}
[]
[null,null,null,null,null,null,null,null,null,null,null,null,null,null,null,null,null,null,null,null,null,null,null,null,null,null,null,null,"INTER-AMERICAN TROPICAL TUNA COMMISSION",null,null,null,null,null,null,null,null,null,null,null,null,null,null,null,null,null,null,null,null,null,null,null,null,null,null,null,null,null,null,null,null,null,null,null,null,null,null,null,null,{"$f":"Instructions!CQ2","v":"Ver. 2018-09 v4"}]
[]
[null,null,"ACTIVITY ON FADs"]
[]
[null,null,"Vessel name",null,null,null,null,null,null,{"$f":"IF(Inventory!J6=\"\",\"\",Inventory!J6)","v":""},null,null,null,null,null,null,null,null,null,null,null,null,null,null,null,null,null,null,null," IATTC vessel no.",null,null,null,null,null,null,null,null,{"$f":"IF(Inventory!AM6=\"\",\"\",Inventory!AM6)","v":""},null,null,null,null,null,"Trip start date",null,null,null,null,null,null,null,null,{"$f":"IF(Inventory!BB6=\"\",\"\",Inventory!BB6)","v":""}]
[]
[null,null,null,null,null,null,null,null,null,null,null,null,null,null,null,null,null,null,null,null,null,null,null,null,null,null,null,null,null,null,"Position",null,null,null,null,null,null,"Tuna catch (t)",null,null,null,null,null,null,null,"Bycatch: number [N] or tonnage [t]."]
[null,null,"FAD ID",null,null,null,null,null,null,null,null,"Replacement ID \n(only if beacon is changed)",null,null,null,null,null,null,null,null,null,"Date",null,null,null,"Time",null,null,"Act.",null,"Latitude",null,null,"Longitude",null,null,null,"YFT",null,"BET",null,"SKJ",null,"OTR",null,"SHK",null,"N/t",null,"TURT",null,"N/t",null,"BIL",null,"N/t",null,"RAY",null,"N/t",null,"OTR",null,"N/t",null,"Comments / Observations"]
[null,null,"Code + Serial No.",null,null,null,null,null,null,null,null,"Code + Serial No."]
[null,1]
[null,null,"BYCATCH RELEASED ALIVE:"]
[null,{"$f":"IF(B11=\"\",\"\",B11+1)","v":2}]
[null,{"$f":"IF(B12=\"\",\"\",B12+1)","v":""},"BYCATCH RELEASED ALIVE:"]
[null,3]
[null,"","BYCATCH RELEASED ALIVE:"]
[null,4]
[null,"","BYCATCH RELEASED ALIVE:"]
[null,5]
[null,"","BYCATCH RELEASED ALIVE:"]
[null,6]
[null,"","BYCATCH RELEASED ALIVE:"]
[null,7]
[null,"","BYCATCH RELEASED ALIVE:"]
[null,8]
[null,"","BYCATCH RELEASED ALIVE:"]
[null,9]
[null,"","BYCATCH RELEASED ALIVE:"]
[null,10]
[null,"","BYCATCH RELEASED ALIVE:"]
[null,11]
[null,"","BYCATCH RELEASED ALIVE:"]
[null,12]
[null,"","BYCATCH RELEASED ALIVE:"]
[null,13]
[null,"","BYCATCH RELEASED ALIVE:"]
[null,14]
[null,"","BYCATCH RELEASED ALIVE:"]
[null,15]
[null,"","BYCATCH RELEASED ALIVE:"]
[null,16]
[null,"","BYCATCH RELEASED ALIVE:"]
[null,17]
[null,"","BYCATCH RELEASED ALIVE:"]
[null,18]
[null,"","BYCATCH RELEASED ALIVE:"]
[null,19]
[null,"","BYCATCH RELEASED ALIVE:"]
[null,20]
[null,"","BYCATCH RELEASED ALIVE:"]
[null,21]
[null,"","BYCATCH RELEASED ALIVE:"]
[null,22]
[null,"","BYCATCH RELEASED ALIVE:"]
[null,23]
[null,"","BYCATCH RELEASED ALIVE:"]
[null,24]
[null,"","BYCATCH RELEASED ALIVE:"]
[null,25]
[null,"","BYCATCH RELEASED ALIVE:"]
[null,26]
[null,"","BYCATCH RELEASED ALIVE:"]
[null,27]
[null,"","BYCATCH RELEASED ALIVE:"]
[null,28]
[null,"","BYCATCH RELEASED ALIVE:"]
[null,29]
[null,"","BYCATCH RELEASED ALIVE:"]
[null,30]
[null,"","BYCATCH RELEASED ALIVE:"]
[null,31]
[null,"","BYCATCH RELEASED ALIVE:"]
[null,32]
[null,"","BYCATCH RELEASED ALIVE:"]
[null,33]
[null,"","BYCATCH RELEASED ALIVE:"]
[null,34]
[null,{"$f":"IF(B76=\"\",\"\",B76+1)","v":""},"BYCATCH RELEASED ALIVE:"]
[null,35]
[null,"","BYCATCH RELEASED ALIVE:"]
[null,36]
[null,"","BYCATCH RELEASED ALIVE:"]
[null,37]
[null,"","BYCATCH RELEASED ALIVE:"]
[null,38]
[null,"","BYCATCH RELEASED ALIVE:"]
[null,39]
[null,"","BYCATCH RELEASED ALIVE:"]
[null,40]
[null,"","BYCATCH RELEASED ALIVE:"]
[null,41]
[null,"","BYCATCH RELEASED ALIVE:"]
[null,42]
[null,"","BYCATCH RELEASED ALIVE:"]
[null,43]
[null,"","BYCATCH RELEASED ALIVE:"]
[null,44]
[null,"","BYCATCH RELEASED ALIVE:"]
[null,45]
[null,"","BYCATCH RELEASED ALIVE:"]
[null,46]
[null,"","BYCATCH RELEASED ALIVE:"]
[null,47]
[null,"","BYCATCH RELEASED ALIVE:"]
[null,48]
[null,"","BYCATCH RELEASED ALIVE:"]
[null,49]
[null,"","BYCATCH RELEASED ALIVE:"]
[null,50]
[null,"","BYCATCH RELEASED ALIVE:"]
[null,51]
[null,"","BYCATCH RELEASED ALIVE:"]
[null,52]
[null,"","BYCATCH RELEASED ALIVE:"]
[null,53]
[null,"","BYCATCH RELEASED ALIVE:"]
[null,54]
[null,"","BYCATCH RELEASED ALIVE:"]
[null,55]
[null,"","BYCATCH RELEASED ALIVE:"]
[null,56]
[null,"","BYCATCH RELEASED ALIVE:"]
[null,57]
[null,"","BYCATCH RELEASED ALIVE:"]
[null,58]
[null,"","BYCATCH RELEASED ALIVE:"]
[null,59]
[null,"","BYCATCH RELEASED ALIVE:"]
[null,60]
[null,"","BYCATCH RELEASED ALIVE:"]
[null,61]
[null,"","BYCATCH RELEASED ALIVE:"]
[null,62]
[null,"","BYCATCH RELEASED ALIVE:"]
[null,63]
[null,"","BYCATCH RELEASED ALIVE:"]
[null,64]
[null,"","BYCATCH RELEASED ALIVE:"]
[null,65]
[null,"","BYCATCH RELEASED ALIVE:"]
[null,66]
[null,{"$f":"IF(B140=\"\",\"\",B140+1)","v":""},"BYCATCH RELEASED ALIVE:"]
[null,67]
[null,"","BYCATCH RELEASED ALIVE:"]
[null,68]
[null,"","BYCATCH RELEASED ALIVE:"]
[null,69]
[null,"","BYCATCH RELEASED ALIVE:"]
[null,70]
[null,"","BYCATCH RELEASED ALIVE:"]
[null,71]
[null,"","BYCATCH RELEASED ALIVE:"]
[null,72]
[null,"","BYCATCH RELEASED ALIVE:"]
[null,73]
[null,"","BYCATCH RELEASED ALIVE:"]
[null,74]
[null,"","BYCATCH RELEASED ALIVE:"]
[null,75]
[null,"","BYCATCH RELEASED ALIVE:"]
[null,76]
[null,"","BYCATCH RELEASED ALIVE:"]
[null,77]
[null,"","BYCATCH RELEASED ALIVE:"]
[null,78]
[null,"","BYCATCH RELEASED ALIVE:"]
[null,79]
[null,"","BYCATCH RELEASED ALIVE:"]
[null,80]
[null,"","BYCATCH RELEASED ALIVE:"]
[null,81]
[null,"","BYCATCH RELEASED ALIVE:"]
[null,82]
[null,"","BYCATCH RELEASED ALIVE:"]
[null,83]
[null,"","BYCATCH RELEASED ALIVE:"]
[null,84]
[null,"","BYCATCH RELEASED ALIVE:"]
[null,85]
[null,"","BYCATCH RELEASED ALIVE:"]
[null,86]
[null,"","BYCATCH RELEASED ALIVE:"]
[null,87]
[null,"","BYCATCH RELEASED ALIVE:"]
[null,88]
[null,"","BYCATCH RELEASED ALIVE:"]
[null,89]
[null,"","BYCATCH RELEASED ALIVE:"]
[null,90]
[null,"","BYCATCH RELEASED ALIVE:"]
[null,91]
[null,"","BYCATCH RELEASED ALIVE:"]
[null,92]
[null,"","BYCATCH RELEASED ALIVE:"]
[null,93]
[null,"","BYCATCH RELEASED ALIVE:"]
[null,94]
[null,"","BYCATCH RELEASED ALIVE:"]
[null,95]
[null,"","BYCATCH RELEASED ALIVE:"]
[null,96]
[null,"","BYCATCH RELEASED ALIVE:"]
[null,97]
[null,"","BYCATCH RELEASED ALIVE:"]
[null,98]
[null,{"$f":"IF(B204=\"\",\"\",B204+1)","v":""},"BYCATCH RELEASED ALIVE:"]
[null,99]
[null,"","BYCATCH RELEASED ALIVE:"]
[null,100]
[null,"","BYCATCH RELEASED ALIVE:"]
[null,101]
[null,"","BYCATCH RELEASED ALIVE:"]
[null,102]
[null,"","BYCATCH RELEASED ALIVE:"]
[null,103]
[null,"","BYCATCH RELEASED ALIVE:"]
[null,104]
[null,"","BYCATCH RELEASED ALIVE:"]
[null,105]
[null,"","BYCATCH RELEASED ALIVE:"]
[null,106]
[null,"","BYCATCH RELEASED ALIVE:"]
[null,107]
[null,"","BYCATCH RELEASED ALIVE:"]
[null,108]
[null,"","BYCATCH RELEASED ALIVE:"]
[null,109]
[null,"","BYCATCH RELEASED ALIVE:"]
[null,110]
[null,"","BYCATCH RELEASED ALIVE:"]
[null,111]
[null,"","BYCATCH RELEASED ALIVE:"]
[null,112]
[null,"","BYCATCH RELEASED ALIVE:"]
[null,113]
[null,"","BYCATCH RELEASED ALIVE:"]
[null,114]
[null,"","BYCATCH RELEASED ALIVE:"]
[null,115]
[null,"","BYCATCH RELEASED ALIVE:"]
[null,116]
[null,"","BYCATCH RELEASED ALIVE:"]
[null,117]
[null,"","BYCATCH RELEASED ALIVE:"]
[null,118]
[null,"","BYCATCH RELEASED ALIVE:"]
[null,119]
[null,"","BYCATCH RELEASED ALIVE:"]
[null,120]
[null,"","BYCATCH RELEASED ALIVE:"]
[null,121]
[null,"","BYCATCH RELEASED ALIVE:"]
[null,122]
[null,"","BYCATCH RELEASED ALIVE:"]
[null,123]
[null,"","BYCATCH RELEASED ALIVE:"]
[null,124]
[null,"","BYCATCH RELEASED ALIVE:"]
[null,125]
[null,"","BYCATCH RELEASED ALIVE:"]
[null,126]
[null,"","BYCATCH RELEASED ALIVE:"]
[null,127]
[null,"","BYCATCH RELEASED ALIVE:"]
[null,128]
[null,"","BYCATCH RELEASED ALIVE:"]
[null,129]
[null,"","BYCATCH RELEASED ALIVE:"]
[null,130]
[null,{"$f":"IF(B268=\"\",\"\",B268+1)","v":""},"BYCATCH RELEASED ALIVE:"]
[null,131]
[null,"","BYCATCH RELEASED ALIVE:"]
[null,132]
[null,"","BYCATCH RELEASED ALIVE:"]
[null,133]
[null,"","BYCATCH RELEASED ALIVE:"]
[null,134]
[null,"","BYCATCH RELEASED ALIVE:"]
[null,135]
[null,"","BYCATCH RELEASED ALIVE:"]
[null,136]
[null,"","BYCATCH RELEASED ALIVE:"]
[null,137]
[null,"","BYCATCH RELEASED ALIVE:"]
[null,138]
[null,"","BYCATCH RELEASED ALIVE:"]
[null,139]
[null,"","BYCATCH RELEASED ALIVE:"]
[null,140]
[null,"","BYCATCH RELEASED ALIVE:"]
[null,141]
[null,"","BYCATCH RELEASED ALIVE:"]
[null,142]
[null,"","BYCATCH RELEASED ALIVE:"]
[null,143]
[null,"","BYCATCH RELEASED ALIVE:"]
[null,144]
[null,"","BYCATCH RELEASED ALIVE:"]
[null,145]
[null,"","BYCATCH RELEASED ALIVE:"]
[null,146]
[null,"","BYCATCH RELEASED ALIVE:"]
[null,147]
[null,"","BYCATCH RELEASED ALIVE:"]
[null,148]
[null,"","BYCATCH RELEASED ALIVE:"]
[null,149]
[null,"","BYCATCH RELEASED ALIVE:"]
[null,150]
[null,"","BYCATCH RELEASED ALIVE:"]
[null,151]
[null,"","BYCATCH RELEASED ALIVE:"]
[null,152]
[null,"","BYCATCH RELEASED ALIVE:"]
[null,153]
[null,"","BYCATCH RELEASED ALIVE:"]
[null,154]
[null,"","BYCATCH RELEASED ALIVE:"]
[null,155]
[null,"","BYCATCH RELEASED ALIVE:"]
[null,156]
[null,"","BYCATCH RELEASED ALIVE:"]
[null,157]
[null,"","BYCATCH RELEASED ALIVE:"]
[null,158]
[null,"","BYCATCH RELEASED ALIVE:"]
[null,159]
[null,"","BYCATCH RELEASED ALIVE:"]
[null,160]
[null,"","BYCATCH RELEASED ALIVE:"]
[null,161]
[null,"","BYCATCH RELEASED ALIVE:"]
[null,162]
[null,{"$f":"IF(B332=\"\",\"\",B332+1)","v":""},"BYCATCH RELEASED ALIVE:"]
[null,163]
[null,"","BYCATCH RELEASED ALIVE:"]
[null,164]
[null,"","BYCATCH RELEASED ALIVE:"]
[null,165]
[null,"","BYCATCH RELEASED ALIVE:"]
[null,166]
[null,"","BYCATCH RELEASED ALIVE:"]
[null,167]
[null,"","BYCATCH RELEASED ALIVE:"]
[null,168]
[null,"","BYCATCH RELEASED ALIVE:"]
[null,169]
[null,"","BYCATCH RELEASED ALIVE:"]
[null,170]
[null,"","BYCATCH RELEASED ALIVE:"]
[null,171]
[null,"","BYCATCH RELEASED ALIVE:"]
[null,172]
[null,"","BYCATCH RELEASED ALIVE:"]
[null,173]
[null,"","BYCATCH RELEASED ALIVE:"]
[null,174]
[null,"","BYCATCH RELEASED ALIVE:"]
[null,175]
[null,"","BYCATCH RELEASED ALIVE:"]
[null,176]
[null,"","BYCATCH RELEASED ALIVE:"]
[null,177]
[null,"","BYCATCH RELEASED ALIVE:"]
[null,178]
[null,"","BYCATCH RELEASED ALIVE:"]
[null,179]
[null,"","BYCATCH RELEASED ALIVE:"]
[null,180]
[null,"","BYCATCH RELEASED ALIVE:"]
[null,181]
[null,"","BYCATCH RELEASED ALIVE:"]
[null,182]
[null,"","BYCATCH RELEASED ALIVE:"]
[null,183]
[null,"","BYCATCH RELEASED ALIVE:"]
[null,184]
[null,"","BYCATCH RELEASED ALIVE:"]
[null,185]
[null,"","BYCATCH RELEASED ALIVE:"]
[null,186]
[null,"","BYCATCH RELEASED ALIVE:"]
[null,187]
[null,"","BYCATCH RELEASED ALIVE:"]
[null,188]
[null,"","BYCATCH RELEASED ALIVE:"]
[null,189]
[null,"","BYCATCH RELEASED ALIVE:"]
[null,190]
[null,"","BYCATCH RELEASED ALIVE:"]
[null,191]
[null,"","BYCATCH RELEASED ALIVE:"]
[null,192]
[null,"","BYCATCH RELEASED ALIVE:"]
[null,193]
[null,"","BYCATCH RELEASED ALIVE:"]
[null,194]
[null,{"$f":"IF(B396=\"\",\"\",B396+1)","v":""},"BYCATCH RELEASED ALIVE:"]
[null,195]
[null,"","BYCATCH RELEASED ALIVE:"]
[null,196]
[null,"","BYCATCH RELEASED ALIVE:"]
[null,197]
[null,"","BYCATCH RELEASED ALIVE:"]
[null,198]
[null,"","BYCATCH RELEASED ALIVE:"]
[null,199]
[null,"","BYCATCH RELEASED ALIVE:"]
[null,200]
[null,"","BYCATCH RELEASED ALIVE:"]
[null,201]
[null,"","BYCATCH RELEASED ALIVE:"]
[null,202]
[null,"","BYCATCH RELEASED ALIVE:"]
[null,203]
[null,"","BYCATCH RELEASED ALIVE:"]
[null,204]
[null,"","BYCATCH RELEASED ALIVE:"]
[null,205]
[null,"","BYCATCH RELEASED ALIVE:"]
[null,206]
[null,"","BYCATCH RELEASED ALIVE:"]
[null,207]
[null,"","BYCATCH RELEASED ALIVE:"]
[null,208]
[null,"","BYCATCH RELEASED ALIVE:"]
[null,209]
[null,"","BYCATCH RELEASED ALIVE:"]
[null,210]
[null,"","BYCATCH RELEASED ALIVE:"]
[null,211]
[null,"","BYCATCH RELEASED ALIVE:"]
[null,212]
[null,"","BYCATCH RELEASED ALIVE:"]
[null,213]
[null,"","BYCATCH RELEASED ALIVE:"]
[null,214]
[null,"","BYCATCH RELEASED ALIVE:"]
[null,215]
[null,"","BYCATCH RELEASED ALIVE:"]
[null,216]
[null,"","BYCATCH RELEASED ALIVE:"]
[null,217]
[null,"","BYCATCH RELEASED ALIVE:"]
[null,218]
[null,"","BYCATCH RELEASED ALIVE:"]
[null,219]
[null,"","BYCATCH RELEASED ALIVE:"]
[null,220]
[null,"","BYCATCH RELEASED ALIVE:"]
[null,221]
[null,"","BYCATCH RELEASED ALIVE:"]
[null,222]
[null,"","BYCATCH RELEASED ALIVE:"]
[null,223]
[null,"","BYCATCH RELEASED ALIVE:"]
[null,224]
[null,"","BYCATCH RELEASED ALIVE:"]
[null,225]
[null,"","BYCATCH RELEASED ALIVE:"]
[null,226]
[null,{"$f":"IF(B460=\"\",\"\",B460+1)","v":""},"BYCATCH RELEASED ALIVE:"]
[null,227]
[null,"","BYCATCH RELEASED ALIVE:"]
[null,228]
[null,"","BYCATCH RELEASED ALIVE:"]
[null,229]
[null,"","BYCATCH RELEASED ALIVE:"]
[null,230]
[null,"","BYCATCH RELEASED ALIVE:"]
[null,231]
[null,"","BYCATCH RELEASED ALIVE:"]
[null,232]
[null,"","BYCATCH RELEASED ALIVE:"]
[null,233]
[null,"","BYCATCH RELEASED ALIVE:"]
[null,234]
[null,"","BYCATCH RELEASED ALIVE:"]
[null,235]
[null,"","BYCATCH RELEASED ALIVE:"]
[null,236]
[null,"","BYCATCH RELEASED ALIVE:"]
[null,237]
[null,"","BYCATCH RELEASED ALIVE:"]
[null,238]
[null,"","BYCATCH RELEASED ALIVE:"]
[null,239]
[null,"","BYCATCH RELEASED ALIVE:"]
[null,240]
[null,"","BYCATCH RELEASED ALIVE:"]
[null,241]
[null,"","BYCATCH RELEASED ALIVE:"]
[null,242]
[null,"","BYCATCH RELEASED ALIVE:"]
[null,243]
[null,"","BYCATCH RELEASED ALIVE:"]
[null,244]
[null,"","BYCATCH RELEASED ALIVE:"]
[null,245]
[null,"","BYCATCH RELEASED ALIVE:"]
[null,246]
[null,"","BYCATCH RELEASED ALIVE:"]
[null,247]
[null,"","BYCATCH RELEASED ALIVE:"]
[null,248]
[null,"","BYCATCH RELEASED ALIVE:"]
[null,249]
[null,"","BYCATCH RELEASED ALIVE:"]
[null,250]
[null,"","BYCATCH RELEASED ALIVE:"]
[null,251]
[null,"","BYCATCH RELEASED ALIVE:"]
[null,252]
[null,"","BYCATCH RELEASED ALIVE:"]
[null,253]
[null,"","BYCATCH RELEASED ALIVE:"]
[null,254]
[null,"","BYCATCH RELEASED ALIVE:"]
[null,255]
[null,"","BYCATCH RELEASED ALIVE:"]
[null,256]
[null,"","BYCATCH RELEASED ALIVE:"]
[null,257]
[null,"","BYCATCH RELEASED ALIVE:"]
[null,258]
[null,{"$f":"IF(B524=\"\",\"\",B524+1)","v":""},"BYCATCH RELEASED ALIVE:"]
[null,259]
[null,"","BYCATCH RELEASED ALIVE:"]
[null,260]
[null,"","BYCATCH RELEASED ALIVE:"]
[null,261]
[null,"","BYCATCH RELEASED ALIVE:"]
[null,262]
[null,"","BYCATCH RELEASED ALIVE:"]
[null,263]
[null,"","BYCATCH RELEASED ALIVE:"]
[null,264]
[null,"","BYCATCH RELEASED ALIVE:"]
[null,265]
[null,"","BYCATCH RELEASED ALIVE:"]
[null,266]
[null,"","BYCATCH RELEASED ALIVE:"]
[null,267]
[null,"","BYCATCH RELEASED ALIVE:"]
[null,268]
[null,"","BYCATCH RELEASED ALIVE:"]
[null,269]
[null,"","BYCATCH RELEASED ALIVE:"]
[null,270]
[null,"","BYCATCH RELEASED ALIVE:"]
[null,271]
[null,"","BYCATCH RELEASED ALIVE:"]
[null,272]
[null,"","BYCATCH RELEASED ALIVE:"]
[null,273]
[null,"","BYCATCH RELEASED ALIVE:"]
[null,274]
[null,"","BYCATCH RELEASED ALIVE:"]
[null,275]
[null,"","BYCATCH RELEASED ALIVE:"]
[null,276]
[null,"","BYCATCH RELEASED ALIVE:"]
[null,277]
[null,"","BYCATCH RELEASED ALIVE:"]
[null,278]
[null,"","BYCATCH RELEASED ALIVE:"]
[null,279]
[null,"","BYCATCH RELEASED ALIVE:"]
[null,280]
[null,"","BYCATCH RELEASED ALIVE:"]
[null,281]
[null,"","BYCATCH RELEASED ALIVE:"]
[null,282]
[null,"","BYCATCH RELEASED ALIVE:"]
[null,283]
[null,"","BYCATCH RELEASED ALIVE:"]
[null,284]
[null,"","BYCATCH RELEASED ALIVE:"]
[null,285]
[null,"","BYCATCH RELEASED ALIVE:"]
[null,286]
[null,"","BYCATCH RELEASED ALIVE:"]
[null,287]
[null,"","BYCATCH RELEASED ALIVE:"]
[null,288]
[null,"","BYCATCH RELEASED ALIVE:"]
[null,289]
[null,"","BYCATCH RELEASED ALIVE:"]
[null,290]
[null,{"$f":"IF(B588=\"\",\"\",B588+1)","v":""},"BYCATCH RELEASED ALIVE:"]
[null,291]
[null,"","BYCATCH RELEASED ALIVE:"]
[null,292]
[null,"","BYCATCH RELEASED ALIVE:"]
[null,293]
[null,"","BYCATCH RELEASED ALIVE:"]
[null,294]
[null,"","BYCATCH RELEASED ALIVE:"]
[null,295]
[null,"","BYCATCH RELEASED ALIVE:"]
[null,296]
[null,"","BYCATCH RELEASED ALIVE:"]
[null,297]
[null,"","BYCATCH RELEASED ALIVE:"]
[null,298]
[null,"","BYCATCH RELEASED ALIVE:"]
[null,299]
[null,"","BYCATCH RELEASED ALIVE:"]
[null,300]
[null,"","BYCATCH RELEASED ALIVE:"]
[null,301]
[null,"","BYCATCH RELEASED ALIVE:"]
[null,302]
[null,"","BYCATCH RELEASED ALIVE:"]
[null,303]
[null,"","BYCATCH RELEASED ALIVE:"]
[null,304]
[null,"","BYCATCH RELEASED ALIVE:"]
[null,305]
[null,"","BYCATCH RELEASED ALIVE:"]
[null,306]
[null,"","BYCATCH RELEASED ALIVE:"]
[null,307]
[null,"","BYCATCH RELEASED ALIVE:"]
[null,308]
[null,"","BYCATCH RELEASED ALIVE:"]
[null,309]
[null,"","BYCATCH RELEASED ALIVE:"]
[null,310]
[null,"","BYCATCH RELEASED ALIVE:"]
[null,311]
[null,"","BYCATCH RELEASED ALIVE:"]
[null,312]
[null,"","BYCATCH RELEASED ALIVE:"]
[null,313]
[null,"","BYCATCH RELEASED ALIVE:"]
[null,314]
[null,"","BYCATCH RELEASED ALIVE:"]
[null,315]
[null,"","BYCATCH RELEASED ALIVE:"]
[null,316]
[null,"","BYCATCH RELEASED ALIVE:"]
[null,317]
[null,"","BYCATCH RELEASED ALIVE:"]
[null,318]
[null,"","BYCATCH RELEASED ALIVE:"]
[null,319]
[null,"","BYCATCH RELEASED ALIVE:"]
[null,320]
[null,"","BYCATCH RELEASED ALIVE:"]
[null,321]
[null,"","BYCATCH RELEASED ALIVE:"]
[null,322]
[null,{"$f":"IF(B652=\"\",\"\",B652+1)","v":""},"BYCATCH RELEASED ALIVE:"]
[null,323]
[null,"","BYCATCH RELEASED ALIVE:"]
[null,324]
[null,"","BYCATCH RELEASED ALIVE:"]
[null,325]
[null,"","BYCATCH RELEASED ALIVE:"]
[null,326]
[null,"","BYCATCH RELEASED ALIVE:"]
[null,327]
[null,"","BYCATCH RELEASED ALIVE:"]
[null,328]
[null,"","BYCATCH RELEASED ALIVE:"]
[null,329]
[null,"","BYCATCH RELEASED ALIVE:"]
[null,330]
[null,"","BYCATCH RELEASED ALIVE:"]
[null,331]
[null,"","BYCATCH RELEASED ALIVE:"]
[null,332]
[null,"","BYCATCH RELEASED ALIVE:"]
[null,333]
[null,"","BYCATCH RELEASED ALIVE:"]
[null,334]
[null,"","BYCATCH RELEASED ALIVE:"]
[null,335]
[null,"","BYCATCH RELEASED ALIVE:"]
[null,336]
[null,"","BYCATCH RELEASED ALIVE:"]
[null,337]
[null,"","BYCATCH RELEASED ALIVE:"]
[null,338]
[null,"","BYCATCH RELEASED ALIVE:"]
[null,339]
[null,"","BYCATCH RELEASED ALIVE:"]
[null,340]
[null,"","BYCATCH RELEASED ALIVE:"]
[null,341]
[null,"","BYCATCH RELEASED ALIVE:"]
[null,342]
[null,"","BYCATCH RELEASED ALIVE:"]
[null,343]
[null,"","BYCATCH RELEASED ALIVE:"]
[null,344]
[null,"","BYCATCH RELEASED ALIVE:"]
[null,345]
[null,"","BYCATCH RELEASED ALIVE:"]
[null,346]
[null,"","BYCATCH RELEASED ALIVE:"]
[null,347]
[null,"","BYCATCH RELEASED ALIVE:"]
[null,348]
[null,"","BYCATCH RELEASED ALIVE:"]
[null,349]
[null,"","BYCATCH RELEASED ALIVE:"]
[null,350]
[null,"","BYCATCH RELEASED ALIVE:"]
[null,351]
[null,"","BYCATCH RELEASED ALIVE:"]
[null,352]
[null,"","BYCATCH RELEASED ALIVE:"]
[null,353]
[null,"","BYCATCH RELEASED ALIVE:"]
[null,354]
[null,{"$f":"IF(B716=\"\",\"\",B716+1)","v":""},"BYCATCH RELEASED ALIVE:"]
[null,355]
[null,"","BYCATCH RELEASED ALIVE:"]
[null,356]
[null,"","BYCATCH RELEASED ALIVE:"]
[null,357]
[null,"","BYCATCH RELEASED ALIVE:"]
[null,358]
[null,"","BYCATCH RELEASED ALIVE:"]
[null,359]
[null,"","BYCATCH RELEASED ALIVE:"]
[null,360]
[null,"","BYCATCH RELEASED ALIVE:"]
[null,361]
[null,"","BYCATCH RELEASED ALIVE:"]
[null,362]
[null,"","BYCATCH RELEASED ALIVE:"]
[null,363]
[null,"","BYCATCH RELEASED ALIVE:"]
[null,364]
[null,"","BYCATCH RELEASED ALIVE:"]
[null,365]
[null,"","BYCATCH RELEASED ALIVE:"]
[null,366]
[null,"","BYCATCH RELEASED ALIVE:"]
[null,367]
[null,"","BYCATCH RELEASED ALIVE:"]
[null,368]
[null,"","BYCATCH RELEASED ALIVE:"]
[null,369]
[null,"","BYCATCH RELEASED ALIVE:"]
[null,370]
[null,"","BYCATCH RELEASED ALIVE:"]
[null,371]
[null,"","BYCATCH RELEASED ALIVE:"]
[null,372]
[null,"","BYCATCH RELEASED ALIVE:"]
[null,373]
[null,"","BYCATCH RELEASED ALIVE:"]
[null,374]
[null,"","BYCATCH RELEASED ALIVE:"]
[null,375]
[null,"","BYCATCH RELEASED ALIVE:"]
[null,376]
[null,"","BYCATCH RELEASED ALIVE:"]
[null,377]
[null,"","BYCATCH RELEASED ALIVE:"]
[null,378]
[null,"","BYCATCH RELEASED ALIVE:"]
[null,379]
[null,"","BYCATCH RELEASED ALIVE:"]
[null,380]
[null,"","BYCATCH RELEASED ALIVE:"]
[null,381]
[null,"","BYCATCH RELEASED ALIVE:"]
[null,382]
[null,"","BYCATCH RELEASED ALIVE:"]
[null,383]
[null,"","BYCATCH RELEASED ALIVE:"]
[null,384]
[null,"","BYCATCH RELEASED ALIVE:"]
[null,385]
[null,"","BYCATCH RELEASED ALIVE:"]
[null,386]
[null,{"$f":"IF(B780=\"\",\"\",B780+1)","v":""},"BYCATCH RELEASED ALIVE:"]
[null,387]
[null,"","BYCATCH RELEASED ALIVE:"]
[null,388]
[null,"","BYCATCH RELEASED ALIVE:"]
[null,389]
[null,"","BYCATCH RELEASED ALIVE:"]
[null,390]
[null,"","BYCATCH RELEASED ALIVE:"]
[null,391]
[null,"","BYCATCH RELEASED ALIVE:"]
[null,392]
[null,"","BYCATCH RELEASED ALIVE:"]
[null,393]
[null,"","BYCATCH RELEASED ALIVE:"]
[null,394]
[null,"","BYCATCH RELEASED ALIVE:"]
[null,395]
[null,"","BYCATCH RELEASED ALIVE:"]
[null,396]
[null,"","BYCATCH RELEASED ALIVE:"]
[null,397]
[null,"","BYCATCH RELEASED ALIVE:"]
[null,398]
[null,"","BYCATCH RELEASED ALIVE:"]
[null,399]
[null,"","BYCATCH RELEASED ALIVE:"]
[null,400]
[null,"","BYCATCH RELEASED ALIVE:"]
[null,401]
[null,"","BYCATCH RELEASED ALIVE:"]
[null,402]
[null,"","BYCATCH RELEASED ALIVE:"]
[null,403]
[null,"","BYCATCH RELEASED ALIVE:"]
[null,404]
[null,"","BYCATCH RELEASED ALIVE:"]
[null,405]
[null,"","BYCATCH RELEASED ALIVE:"]
[null,406]
[null,"","BYCATCH RELEASED ALIVE:"]
[null,407]
[null,"","BYCATCH RELEASED ALIVE:"]
[null,408]
[null,"","BYCATCH RELEASED ALIVE:"]
[null,409]
[null,"","BYCATCH RELEASED ALIVE:"]
[null,410]
[null,"","BYCATCH RELEASED ALIVE:"]
[null,411]
[null,"","BYCATCH RELEASED ALIVE:"]
[null,412]
[null,"","BYCATCH RELEASED ALIVE:"]
[null,413]
[null,"","BYCATCH RELEASED ALIVE:"]
[null,414]
[null,"","BYCATCH RELEASED ALIVE:"]
[null,415]
[null,"","BYCATCH RELEASED ALIVE:"]
[null,416]
[null,"","BYCATCH RELEASED ALIVE:"]
[null,417]
[null,"","BYCATCH RELEASED ALIVE:"]
[null,418]
[null,{"$f":"IF(B844=\"\",\"\",B844+1)","v":""},"BYCATCH RELEASED ALIVE:"]
[null,419]
[null,"","BYCATCH RELEASED ALIVE:"]
[null,420]
[null,"","BYCATCH RELEASED ALIVE:"]
[null,421]
[null,"","BYCATCH RELEASED ALIVE:"]
[null,422]
[null,"","BYCATCH RELEASED ALIVE:"]
[null,423]
[null,"","BYCATCH RELEASED ALIVE:"]
[null,424]
[null,"","BYCATCH RELEASED ALIVE:"]
[null,425]
[null,"","BYCATCH RELEASED ALIVE:"]
[null,426]
[null,"","BYCATCH RELEASED ALIVE:"]
[null,427]
[null,"","BYCATCH RELEASED ALIVE:"]
[null,428]
[null,"","BYCATCH RELEASED ALIVE:"]
[null,429]
[null,"","BYCATCH RELEASED ALIVE:"]
[null,430]
[null,"","BYCATCH RELEASED ALIVE:"]
[null,431]
[null,"","BYCATCH RELEASED ALIVE:"]
[null,432]
[null,"","BYCATCH RELEASED ALIVE:"]
[null,433]
[null,"","BYCATCH RELEASED ALIVE:"]
[null,434]
[null,"","BYCATCH RELEASED ALIVE:"]
[null,435]
[null,"","BYCATCH RELEASED ALIVE:"]
[null,436]
[null,"","BYCATCH RELEASED ALIVE:"]
[null,437]
[null,"","BYCATCH RELEASED ALIVE:"]
[null,438]
[null,"","BYCATCH RELEASED ALIVE:"]
[null,439]
[null,"","BYCATCH RELEASED ALIVE:"]
[null,440]
[null,"","BYCATCH RELEASED ALIVE:"]
[null,441]
[null,"","BYCATCH RELEASED ALIVE:"]
[null,442]
[null,"","BYCATCH RELEASED ALIVE:"]
[null,443]
[null,"","BYCATCH RELEASED ALIVE:"]
[null,444]
[null,"","BYCATCH RELEASED ALIVE:"]
[null,445]
[null,"","BYCATCH RELEASED ALIVE:"]
[null,446]
[null,"","BYCATCH RELEASED ALIVE:"]
[null,447]
[null,"","BYCATCH RELEASED ALIVE:"]
[null,448]
[null,"","BYCATCH RELEASED ALIVE:"]
[null,449]
[null,"","BYCATCH RELEASED ALIVE:"]
[null,450]
[null,{"$f":"IF(B908=\"\",\"\",B908+1)","v":""},"BYCATCH RELEASED ALIVE:"]
[null,451]
[null,"","BYCATCH RELEASED ALIVE:"]
[null,452]
[null,"","BYCATCH RELEASED ALIVE:"]
[null,453]
[null,"","BYCATCH RELEASED ALIVE:"]
[null,454]
[null,"","BYCATCH RELEASED ALIVE:"]
[null,455]
[null,"","BYCATCH RELEASED ALIVE:"]
[null,456]
[null,"","BYCATCH RELEASED ALIVE:"]
[null,457]
[null,"","BYCATCH RELEASED ALIVE:"]
[null,458]
[null,"","BYCATCH RELEASED ALIVE:"]
[null,459]
[null,"","BYCATCH RELEASED ALIVE:"]
[null,460]
[null,"","BYCATCH RELEASED ALIVE:"]
[null,461]
[null,"","BYCATCH RELEASED ALIVE:"]
[null,462]
[null,"","BYCATCH RELEASED ALIVE:"]
[null,463]
[null,"","BYCATCH RELEASED ALIVE:"]
[null,464]
[null,"","BYCATCH RELEASED ALIVE:"]
[null,465]
[null,"","BYCATCH RELEASED ALIVE:"]
[null,466]
[null,"","BYCATCH RELEASED ALIVE:"]
[null,467]
[null,"","BYCATCH RELEASED ALIVE:"]
[null,468]
[null,"","BYCATCH RELEASED ALIVE:"]
[null,469]
[null,"","BYCATCH RELEASED ALIVE:"]
[null,470]
[null,"","BYCATCH RELEASED ALIVE:"]
[null,471]
[null,"","BYCATCH RELEASED ALIVE:"]
[null,472]
[null,"","BYCATCH RELEASED ALIVE:"]
[null,473]
[null,"","BYCATCH RELEASED ALIVE:"]
[null,474]
[null,"","BYCATCH RELEASED ALIVE:"]
[null,475]
[null,"","BYCATCH RELEASED ALIVE:"]
[null,476]
[null,"","BYCATCH RELEASED ALIVE:"]
[null,477]
[null,"","BYCATCH RELEASED ALIVE:"]
[null,478]
[null,"","BYCATCH RELEASED ALIVE:"]
[null,479]
[null,"","BYCATCH RELEASED ALIVE:"]
[null,480]
[null,"","BYCATCH RELEASED ALIVE:"]
[null,481]
[null,"","BYCATCH RELEASED ALIVE:"]
[null,482]
[null,{"$f":"IF(B972=\"\",\"\",B972+1)","v":""},"BYCATCH RELEASED ALIVE:"]
[null,483]
[null,"","BYCATCH RELEASED ALIVE:"]
[null,484]
[null,"","BYCATCH RELEASED ALIVE:"]
[null,485]
[null,"","BYCATCH RELEASED ALIVE:"]
[null,486]
[null,"","BYCATCH RELEASED ALIVE:"]
[null,487]
[null,"","BYCATCH RELEASED ALIVE:"]
[null,488]
[null,"","BYCATCH RELEASED ALIVE:"]
[null,489]
[null,"","BYCATCH RELEASED ALIVE:"]
[null,490]
[null,"","BYCATCH RELEASED ALIVE:"]
[null,491]
[null,"","BYCATCH RELEASED ALIVE:"]
[null,492]
[null,"","BYCATCH RELEASED ALIVE:"]
[null,493]
[null,"","BYCATCH RELEASED ALIVE:"]
[null,494]
[null,"","BYCATCH RELEASED ALIVE:"]
[null,495]
[null,"","BYCATCH RELEASED ALIVE:"]
[null,496]
[null,"","BYCATCH RELEASED ALIVE:"]
[null,497]
[null,"","BYCATCH RELEASED ALIVE:"]
[null,498]
[null,"","BYCATCH RELEASED ALIVE:"]
[null,499]
[null,"","BYCATCH RELEASED ALIVE:"]
[null,500]
[null,"","BYCATCH RELEASED ALIVE:"]
[null,501]
[null,"","BYCATCH RELEASED ALIVE:"]
[null,502]
[null,"","BYCATCH RELEASED ALIVE:"]
[null,503]
[null,"","BYCATCH RELEASED ALIVE:"]
[null,504]
[null,"","BYCATCH RELEASED ALIVE:"]
[null,505]
[null,"","BYCATCH RELEASED ALIVE:"]
[null,506]
[null,"","BYCATCH RELEASED ALIVE:"]
[null,507]
[null,"","BYCATCH RELEASED ALIVE:"]
[null,508]
[null,"","BYCATCH RELEASED ALIVE:"]
[null,509]
[null,"","BYCATCH RELEASED ALIVE:"]
[null,510]
[null,"","BYCATCH RELEASED ALIVE:"]
[null,511]
[null,"","BYCATCH RELEASED ALIVE:"]
[null,512]
[null,"","BYCATCH RELEASED ALIVE:"]
[null,513]
[null,"","BYCATCH RELEASED ALIVE:"]
[null,514]
[null,{"$f":"IF(B1036=\"\",\"\",B1036+1)","v":""},"BYCATCH RELEASED ALIVE:"]
[null,515]
[null,"","BYCATCH RELEASED ALIVE:"]
[null,516]
[null,"","BYCATCH RELEASED ALIVE:"]
[null,517]
[null,"","BYCATCH RELEASED ALIVE:"]
[null,518]
[null,"","BYCATCH RELEASED ALIVE:"]
[null,519]
[null,"","BYCATCH RELEASED ALIVE:"]
[null,520]
[null,"","BYCATCH RELEASED ALIVE:"]
[null,521]
[null,"","BYCATCH RELEASED ALIVE:"]
[null,522]
[null,"","BYCATCH RELEASED ALIVE:"]
[null,523]
[null,"","BYCATCH RELEASED ALIVE:"]
[null,524]
[null,"","BYCATCH RELEASED ALIVE:"]
[null,525]
[null,"","BYCATCH RELEASED ALIVE:"]
[null,526]
[null,"","BYCATCH RELEASED ALIVE:"]
[null,527]
[null,"","BYCATCH RELEASED ALIVE:"]
[null,528]
[null,"","BYCATCH RELEASED ALIVE:"]
[null,529]
[null,"","BYCATCH RELEASED ALIVE:"]
[null,530]
[null,"","BYCATCH RELEASED ALIVE:"]
[null,531]
[null,"","BYCATCH RELEASED ALIVE:"]
[null,532]
[null,"","BYCATCH RELEASED ALIVE:"]
[null,533]
[null,"","BYCATCH RELEASED ALIVE:"]
[null,534]
[null,"","BYCATCH RELEASED ALIVE:"]
[null,535]
[null,"","BYCATCH RELEASED ALIVE:"]
[null,536]
[null,"","BYCATCH RELEASED ALIVE:"]
[null,537]
[null,"","BYCATCH RELEASED ALIVE:"]
[null,538]
[null,"","BYCATCH RELEASED ALIVE:"]
[null,539]
[null,"","BYCATCH RELEASED ALIVE:"]
[null,540]
[null,"","BYCATCH RELEASED ALIVE:"]
[null,541]
[null,"","BYCATCH RELEASED ALIVE:"]
[null,542]
[null,"","BYCATCH RELEASED ALIVE:"]
[null,543]
[null,"","BYCATCH RELEASED ALIVE:"]
[null,544]
[null,"","BYCATCH RELEASED ALIVE:"]
[null,545]
[null,"","BYCATCH RELEASED ALIVE:"]
[null,546]
[null,{"$f":"IF(B1100=\"\",\"\",B1100+1)","v":""},"BYCATCH RELEASED ALIVE:"]
[null,547]
[null,"","BYCATCH RELEASED ALIVE:"]
[null,548]
[null,"","BYCATCH RELEASED ALIVE:"]
[null,549]
[null,"","BYCATCH RELEASED ALIVE:"]
[null,550]
[null,"","BYCATCH RELEASED ALIVE:"]
[null,551]
[null,"","BYCATCH RELEASED ALIVE:"]
[null,552]
[null,"","BYCATCH RELEASED ALIVE:"]
[null,553]
[null,"","BYCATCH RELEASED ALIVE:"]
[null,554]
[null,"","BYCATCH RELEASED ALIVE:"]
[null,555]
[null,"","BYCATCH RELEASED ALIVE:"]
[null,556]
[null,"","BYCATCH RELEASED ALIVE:"]
[null,557]
[null,"","BYCATCH RELEASED ALIVE:"]
[null,558]
[null,"","BYCATCH RELEASED ALIVE:"]
[null,559]
[null,"","BYCATCH RELEASED ALIVE:"]
[null,560]
[null,"","BYCATCH RELEASED ALIVE:"]
[null,561]
[null,"","BYCATCH RELEASED ALIVE:"]
[null,562]
[null,"","BYCATCH RELEASED ALIVE:"]
[null,563]
[null,"","BYCATCH RELEASED ALIVE:"]
[null,564]
[null,"","BYCATCH RELEASED ALIVE:"]
[null,565]
[null,"","BYCATCH RELEASED ALIVE:"]
[null,566]
[null,"","BYCATCH RELEASED ALIVE:"]
[null,567]
[null,"","BYCATCH RELEASED ALIVE:"]
[null,568]
[null,"","BYCATCH RELEASED ALIVE:"]
[null,569]
[null,"","BYCATCH RELEASED ALIVE:"]
[null,570]
[null,"","BYCATCH RELEASED ALIVE:"]
[null,571]
[null,"","BYCATCH RELEASED ALIVE:"]
[null,572]
[null,"","BYCATCH RELEASED ALIVE:"]
[null,573]
[null,"","BYCATCH RELEASED ALIVE:"]
[null,574]
[null,"","BYCATCH RELEASED ALIVE:"]
[null,575]
[null,"","BYCATCH RELEASED ALIVE:"]
[null,576]
[null,"","BYCATCH RELEASED ALIVE:"]
[null,577]
[null,"","BYCATCH RELEASED ALIVE:"]
[null,578]
[null,{"$f":"IF(B1164=\"\",\"\",B1164+1)","v":""},"BYCATCH RELEASED ALIVE:"]
[null,579]
[null,"","BYCATCH RELEASED ALIVE:"]
[null,580]
[null,"","BYCATCH RELEASED ALIVE:"]
[null,581]
[null,"","BYCATCH RELEASED ALIVE:"]
[null,582]
[null,"","BYCATCH RELEASED ALIVE:"]
[null,583]
[null,"","BYCATCH RELEASED ALIVE:"]
[null,584]
[null,"","BYCATCH RELEASED ALIVE:"]
[null,585]
[null,"","BYCATCH RELEASED ALIVE:"]
[null,586]
[null,"","BYCATCH RELEASED ALIVE:"]
[null,587]
[null,"","BYCATCH RELEASED ALIVE:"]
[null,588]
[null,"","BYCATCH RELEASED ALIVE:"]
[null,589]
[null,"","BYCATCH RELEASED ALIVE:"]
[null,590]
[null,"","BYCATCH RELEASED ALIVE:"]
[null,591]
[null,"","BYCATCH RELEASED ALIVE:"]
[null,592]
[null,"","BYCATCH RELEASED ALIVE:"]
[null,593]
[null,"","BYCATCH RELEASED ALIVE:"]
[null,594]
[null,"","BYCATCH RELEASED ALIVE:"]
[null,595]
[null,"","BYCATCH RELEASED ALIVE:"]
[null,596]
[null,"","BYCATCH RELEASED ALIVE:"]
[null,597]
[null,"","BYCATCH RELEASED ALIVE:"]
[null,598]
[null,"","BYCATCH RELEASED ALIVE:"]
[null,599]
[null,"","BYCATCH RELEASED ALIVE:"]
[null,600]
[null,"","BYCATCH RELEASED ALIVE:"]
[null,601]
[null,"","BYCATCH RELEASED ALIVE:"]
[null,602]
[null,"","BYCATCH RELEASED ALIVE:"]
[null,603]
[null,"","BYCATCH RELEASED ALIVE:"]
[null,604]
[null,"","BYCATCH RELEASED ALIVE:"]
[null,605]
[null,"","BYCATCH RELEASED ALIVE:"]
[null,606]
[null,"","BYCATCH RELEASED ALIVE:"]
[null,607]
[null,"","BYCATCH RELEASED ALIVE:"]
[null,608]
[null,"","BYCATCH RELEASED ALIVE:"]
[null,609]
[null,"","BYCATCH RELEASED ALIVE:"]
[null,610]
[null,{"$f":"IF(B1228=\"\",\"\",B1228+1)","v":""},"BYCATCH RELEASED ALIVE:"]
[null,611]
[null,"","BYCATCH RELEASED ALIVE:"]
[null,612]
[null,"","BYCATCH RELEASED ALIVE:"]
[null,613]
[null,"","BYCATCH RELEASED ALIVE:"]
[null,614]
[null,"","BYCATCH RELEASED ALIVE:"]
[null,615]
[null,"","BYCATCH RELEASED ALIVE:"]
[null,616]
[null,"","BYCATCH RELEASED ALIVE:"]
[null,617]
[null,"","BYCATCH RELEASED ALIVE:"]
[null,618]
[null,"","BYCATCH RELEASED ALIVE:"]
[null,619]
[null,"","BYCATCH RELEASED ALIVE:"]
[null,620]
[null,"","BYCATCH RELEASED ALIVE:"]
[null,621]
[null,"","BYCATCH RELEASED ALIVE:"]
[null,622]
[null,"","BYCATCH RELEASED ALIVE:"]
[null,623]
[null,"","BYCATCH RELEASED ALIVE:"]
[null,624]
[null,"","BYCATCH RELEASED ALIVE:"]
[null,625]
[null,"","BYCATCH RELEASED ALIVE:"]
[null,626]
[null,"","BYCATCH RELEASED ALIVE:"]
[null,627]
[null,"","BYCATCH RELEASED ALIVE:"]
[null,628]
[null,"","BYCATCH RELEASED ALIVE:"]
[null,629]
[null,"","BYCATCH RELEASED ALIVE:"]
[null,630]
[null,"","BYCATCH RELEASED ALIVE:"]
[null,631]
[null,"","BYCATCH RELEASED ALIVE:"]
[null,632]
[null,"","BYCATCH RELEASED ALIVE:"]
[null,633]
[null,"","BYCATCH RELEASED ALIVE:"]
[null,634]
[null,"","BYCATCH RELEASED ALIVE:"]
[null,635]
[null,"","BYCATCH RELEASED ALIVE:"]
[null,636]
[null,"","BYCATCH RELEASED ALIVE:"]
[null,637]
[null,"","BYCATCH RELEASED ALIVE:"]
[null,638]
[null,"","BYCATCH RELEASED ALIVE:"]
[null,639]
[null,"","BYCATCH RELEASED ALIVE:"]
[null,640]
[null,"","BYCATCH RELEASED ALIVE:"]
[null,641]
[null,"","BYCATCH RELEASED ALIVE:"]
[null,642]
[null,{"$f":"IF(B1292=\"\",\"\",B1292+1)","v":""},"BYCATCH RELEASED ALIVE:"]
[null,643]
[null,"","BYCATCH RELEASED ALIVE:"]
[null,644]
[null,"","BYCATCH RELEASED ALIVE:"]
[null,645]
[null,"","BYCATCH RELEASED ALIVE:"]
[null,646]
[null,"","BYCATCH RELEASED ALIVE:"]
[null,647]
[null,"","BYCATCH RELEASED ALIVE:"]
[null,648]
[null,"","BYCATCH RELEASED ALIVE:"]
[null,649]
[null,"","BYCATCH RELEASED ALIVE:"]
[null,650]
[null,"","BYCATCH RELEASED ALIVE:"]
[null,651]
[null,"","BYCATCH RELEASED ALIVE:"]
[null,652]
[null,"","BYCATCH RELEASED ALIVE:"]
[null,653]
[null,"","BYCATCH RELEASED ALIVE:"]
[null,654]
[null,"","BYCATCH RELEASED ALIVE:"]
[null,655]
[null,"","BYCATCH RELEASED ALIVE:"]
[null,656]
[null,"","BYCATCH RELEASED ALIVE:"]
[null,657]
[null,"","BYCATCH RELEASED ALIVE:"]
[null,658]
[null,"","BYCATCH RELEASED ALIVE:"]
[null,659]
[null,"","BYCATCH RELEASED ALIVE:"]
[null,660]
[null,"","BYCATCH RELEASED ALIVE:"]
[null,661]
[null,"","BYCATCH RELEASED ALIVE:"]
[null,662]
[null,"","BYCATCH RELEASED ALIVE:"]
[null,663]
[null,"","BYCATCH RELEASED ALIVE:"]
[null,664]
[null,"","BYCATCH RELEASED ALIVE:"]
[null,665]
[null,"","BYCATCH RELEASED ALIVE:"]
[null,666]
[null,"","BYCATCH RELEASED ALIVE:"]
[null,667]
[null,"","BYCATCH RELEASED ALIVE:"]
[null,668]
[null,"","BYCATCH RELEASED ALIVE:"]
[null,669]
[null,"","BYCATCH RELEASED ALIVE:"]
[null,670]
[null,"","BYCATCH RELEASED ALIVE:"]
[null,671]
[null,"","BYCATCH RELEASED ALIVE:"]
[null,672]
[null,"","BYCATCH RELEASED ALIVE:"]
[null,673]
[null,"","BYCATCH RELEASED ALIVE:"]
[null,674]
[null,{"$f":"IF(B1356=\"\",\"\",B1356+1)","v":""},"BYCATCH RELEASED ALIVE:"]
[null,675]
[null,"","BYCATCH RELEASED ALIVE:"]
[null,676]
[null,"","BYCATCH RELEASED ALIVE:"]
[null,677]
[null,"","BYCATCH RELEASED ALIVE:"]
[null,678]
[null,"","BYCATCH RELEASED ALIVE:"]
[null,679]
[null,"","BYCATCH RELEASED ALIVE:"]
[null,680]
[null,"","BYCATCH RELEASED ALIVE:"]
[null,681]
[null,"","BYCATCH RELEASED ALIVE:"]
[null,682]
[null,"","BYCATCH RELEASED ALIVE:"]
[null,683]
[null,"","BYCATCH RELEASED ALIVE:"]
[null,684]
[null,"","BYCATCH RELEASED ALIVE:"]
[null,685]
[null,"","BYCATCH RELEASED ALIVE:"]
[null,686]
[null,"","BYCATCH RELEASED ALIVE:"]
[null,687]
[null,"","BYCATCH RELEASED ALIVE:"]
[null,688]
[null,"","BYCATCH RELEASED ALIVE:"]
[null,689]
[null,"","BYCATCH RELEASED ALIVE:"]
[null,690]
[null,"","BYCATCH RELEASED ALIVE:"]
[null,691]
[null,"","BYCATCH RELEASED ALIVE:"]
[null,692]
[null,"","BYCATCH RELEASED ALIVE:"]
[null,693]
[null,"","BYCATCH RELEASED ALIVE:"]
[null,694]
[null,"","BYCATCH RELEASED ALIVE:"]
[null,695]
[null,"","BYCATCH RELEASED ALIVE:"]
[null,696]
[null,"","BYCATCH RELEASED ALIVE:"]
[null,697]
[null,"","BYCATCH RELEASED ALIVE:"]
[null,698]
[null,"","BYCATCH RELEASED ALIVE:"]
[null,699]
[null,"","BYCATCH RELEASED ALIVE:"]
[null,700]
[null,"","BYCATCH RELEASED ALIVE:"]
[null,701]
[null,"","BYCATCH RELEASED ALIVE:"]
[null,702]
[null,"","BYCATCH RELEASED ALIVE:"]
[null,703]
[null,"","BYCATCH RELEASED ALIVE:"]
[null,704]
[null,"","BYCATCH RELEASED ALIVE:"]
[null,705]
[null,"","BYCATCH RELEASED ALIVE:"]
[null,706]
[null,{"$f":"IF(B1420=\"\",\"\",B1420+1)","v":""},"BYCATCH RELEASED ALIVE:"]
[null,707]
[null,"","BYCATCH RELEASED ALIVE:"]
[null,708]
[null,"","BYCATCH RELEASED ALIVE:"]
[null,709]
[null,"","BYCATCH RELEASED ALIVE:"]
[null,710]
[null,"","BYCATCH RELEASED ALIVE:"]
[null,711]
[null,"","BYCATCH RELEASED ALIVE:"]
[null,712]
[null,"","BYCATCH RELEASED ALIVE:"]
[null,713]
[null,"","BYCATCH RELEASED ALIVE:"]
[null,714]
[null,"","BYCATCH RELEASED ALIVE:"]
[null,715]
[null,"","BYCATCH RELEASED ALIVE:"]
[null,716]
[null,"","BYCATCH RELEASED ALIVE:"]
[null,717]
[null,"","BYCATCH RELEASED ALIVE:"]
[null,718]
[null,"","BYCATCH RELEASED ALIVE:"]
[null,719]
[null,"","BYCATCH RELEASED ALIVE:"]
[null,720]
[null,"","BYCATCH RELEASED ALIVE:"]
[null,721]
[null,"","BYCATCH RELEASED ALIVE:"]
[null,722]
[null,"","BYCATCH RELEASED ALIVE:"]
[null,723]
[null,"","BYCATCH RELEASED ALIVE:"]
[null,724]
[null,"","BYCATCH RELEASED ALIVE:"]
[null,725]
[null,"","BYCATCH RELEASED ALIVE:"]
[null,726]
[null,"","BYCATCH RELEASED ALIVE:"]
[null,727]
[null,"","BYCATCH RELEASED ALIVE:"]
[null,728]
[null,"","BYCATCH RELEASED ALIVE:"]
[null,729]
[null,"","BYCATCH RELEASED ALIVE:"]
[null,730]
[null,"","BYCATCH RELEASED ALIVE:"]
[null,731]
[null,"","BYCATCH RELEASED ALIVE:"]
[null,732]
[null,"","BYCATCH RELEASED ALIVE:"]
[null,733]
[null,"","BYCATCH RELEASED ALIVE:"]
[null,734]
[null,"","BYCATCH RELEASED ALIVE:"]
[null,735]
[null,"","BYCATCH RELEASED ALIVE:"]
[null,736]
[null,"","BYCATCH RELEASED ALIVE:"]
[null,737]
[null,"","BYCATCH RELEASED ALIVE:"]
[null,738]
[null,{"$f":"IF(B1484=\"\",\"\",B1484+1)","v":""},"BYCATCH RELEASED ALIVE:"]
[null,739]
[null,"","BYCATCH RELEASED ALIVE:"]
[null,740]
[null,"","BYCATCH RELEASED ALIVE:"]
[null,741]
[null,"","BYCATCH RELEASED ALIVE:"]
[null,742]
[null,"","BYCATCH RELEASED ALIVE:"]
[null,743]
[null,"","BYCATCH RELEASED ALIVE:"]
[null,744]
[null,"","BYCATCH RELEASED ALIVE:"]
[null,745]
[null,"","BYCATCH RELEASED ALIVE:"]
[null,746]
[null,"","BYCATCH RELEASED ALIVE:"]
[null,747]
[null,"","BYCATCH RELEASED ALIVE:"]
[null,748]
[null,"","BYCATCH RELEASED ALIVE:"]
[null,749]
[null,"","BYCATCH RELEASED ALIVE:"]
[null,750]
[null,"","BYCATCH RELEASED ALIVE:"]
[null,751]
[null,"","BYCATCH RELEASED ALIVE:"]
[null,752]
[null,"","BYCATCH RELEASED ALIVE:"]
[null,753]
[null,"","BYCATCH RELEASED ALIVE:"]
[null,754]
[null,"","BYCATCH RELEASED ALIVE:"]
[null,755]
[null,"","BYCATCH RELEASED ALIVE:"]
[null,756]
[null,"","BYCATCH RELEASED ALIVE:"]
[null,757]
[null,"","BYCATCH RELEASED ALIVE:"]
[null,758]
[null,"","BYCATCH RELEASED ALIVE:"]
[null,759]
[null,"","BYCATCH RELEASED ALIVE:"]
[null,760]
[null,"","BYCATCH RELEASED ALIVE:"]
[null,761]
[null,"","BYCATCH RELEASED ALIVE:"]
[null,762]
[null,"","BYCATCH RELEASED ALIVE:"]
[null,763]
[null,"","BYCATCH RELEASED ALIVE:"]
[null,764]
[null,"","BYCATCH RELEASED ALIVE:"]
[null,765]
[null,"","BYCATCH RELEASED ALIVE:"]
[null,766]
[null,"","BYCATCH RELEASED ALIVE:"]
[null,767]
[null,"","BYCATCH RELEASED ALIVE:"]
[null,768]
[null,"","BYCATCH RELEASED ALIVE:"]
[null,769]
[null,"","BYCATCH RELEASED ALIVE:"]
[null,770]
[null,{"$f":"IF(B1548=\"\",\"\",B1548+1)","v":""},"BYCATCH RELEASED ALIVE:"]
[null,771]
[null,"","BYCATCH RELEASED ALIVE:"]
[null,772]
[null,"","BYCATCH RELEASED ALIVE:"]
[null,773]
[null,"","BYCATCH RELEASED ALIVE:"]
[null,774]
[null,"","BYCATCH RELEASED ALIVE:"]
[null,775]
[null,"","BYCATCH RELEASED ALIVE:"]
[null,776]
[null,"","BYCATCH RELEASED ALIVE:"]
[null,777]
[null,"","BYCATCH RELEASED ALIVE:"]
[null,778]
[null,"","BYCATCH RELEASED ALIVE:"]
[null,779]
[null,"","BYCATCH RELEASED ALIVE:"]
[null,780]
[null,"","BYCATCH RELEASED ALIVE:"]
[null,781]
[null,"","BYCATCH RELEASED ALIVE:"]
[null,782]
[null,"","BYCATCH RELEASED ALIVE:"]
[null,783]
[null,"","BYCATCH RELEASED ALIVE:"]
[null,784]
[null,"","BYCATCH RELEASED ALIVE:"]
[null,785]
[null,"","BYCATCH RELEASED ALIVE:"]
[null,786]
[null,"","BYCATCH RELEASED ALIVE:"]
[null,787]
[null,"","BYCATCH RELEASED ALIVE:"]
[null,788]
[null,"","BYCATCH RELEASED ALIVE:"]
[null,789]
[null,"","BYCATCH RELEASED ALIVE:"]
[null,790]
[null,"","BYCATCH RELEASED ALIVE:"]
[null,791]
[null,"","BYCATCH RELEASED ALIVE:"]
[null,792]
[null,"","BYCATCH RELEASED ALIVE:"]
[null,793]
[null,"","BYCATCH RELEASED ALIVE:"]
[null,794]
[null,"","BYCATCH RELEASED ALIVE:"]
[null,795]
[null,"","BYCATCH RELEASED ALIVE:"]
[null,796]
[null,"","BYCATCH RELEASED ALIVE:"]
[null,797]
[null,"","BYCATCH RELEASED ALIVE:"]
[null,798]
[null,"","BYCATCH RELEASED ALIVE:"]
[null,799]
[null,"","BYCATCH RELEASED ALIVE:"]
[null,800]
[null,"","BYCATCH RELEASED ALIVE:"]
[null,801]
[null,"","BYCATCH RELEASED ALIVE:"]
[null,802]
[null,{"$f":"IF(B1612=\"\",\"\",B1612+1)","v":""},"BYCATCH RELEASED ALIVE:"]
[null,803]
[null,"","BYCATCH RELEASED ALIVE:"]
[null,804]
[null,"","BYCATCH RELEASED ALIVE:"]
[null,805]
[null,"","BYCATCH RELEASED ALIVE:"]
[null,806]
[null,"","BYCATCH RELEASED ALIVE:"]
[null,807]
[null,"","BYCATCH RELEASED ALIVE:"]
[null,808]
[null,"","BYCATCH RELEASED ALIVE:"]
[null,809]
[null,"","BYCATCH RELEASED ALIVE:"]
[null,810]
[null,"","BYCATCH RELEASED ALIVE:"]
[null,811]
[null,"","BYCATCH RELEASED ALIVE:"]
[null,812]
[null,"","BYCATCH RELEASED ALIVE:"]
[null,813]
[null,"","BYCATCH RELEASED ALIVE:"]
[null,814]
[null,"","BYCATCH RELEASED ALIVE:"]
[null,815]
[null,"","BYCATCH RELEASED ALIVE:"]
[null,816]
[null,"","BYCATCH RELEASED ALIVE:"]
[null,817]
[null,"","BYCATCH RELEASED ALIVE:"]
[null,818]
[null,"","BYCATCH RELEASED ALIVE:"]
[null,819]
[null,"","BYCATCH RELEASED ALIVE:"]
[null,820]
[null,"","BYCATCH RELEASED ALIVE:"]
[null,821]
[null,"","BYCATCH RELEASED ALIVE:"]
[null,822]
[null,"","BYCATCH RELEASED ALIVE:"]
[null,823]
[null,"","BYCATCH RELEASED ALIVE:"]
[null,824]
[null,"","BYCATCH RELEASED ALIVE:"]
[null,825]
[null,"","BYCATCH RELEASED ALIVE:"]
[null,826]
[null,"","BYCATCH RELEASED ALIVE:"]
[null,827]
[null,"","BYCATCH RELEASED ALIVE:"]
[null,828]
[null,"","BYCATCH RELEASED ALIVE:"]
[null,829]
[null,"","BYCATCH RELEASED ALIVE:"]
[null,830]
[null,"","BYCATCH RELEASED ALIVE:"]
[null,831]
[null,"","BYCATCH RELEASED ALIVE:"]
[null,832]
[null,"","BYCATCH RELEASED ALIVE:"]
[null,833]
[null,"","BYCATCH RELEASED ALIVE:"]
[null,834]
[null,{"$f":"IF(B1676=\"\",\"\",B1676+1)","v":""},"BYCATCH RELEASED ALIVE:"]
[null,835]
[null,"","BYCATCH RELEASED ALIVE:"]
[null,836]
[null,"","BYCATCH RELEASED ALIVE:"]
[null,837]
[null,"","BYCATCH RELEASED ALIVE:"]
[null,838]
[null,"","BYCATCH RELEASED ALIVE:"]
[null,839]
[null,"","BYCATCH RELEASED ALIVE:"]
[null,840]
[null,"","BYCATCH RELEASED ALIVE:"]
[null,841]
[null,"","BYCATCH RELEASED ALIVE:"]
[null,842]
[null,"","BYCATCH RELEASED ALIVE:"]
[null,843]
[null,"","BYCATCH RELEASED ALIVE:"]
[null,844]
[null,"","BYCATCH RELEASED ALIVE:"]
[null,845]
[null,"","BYCATCH RELEASED ALIVE:"]
[null,846]
[null,"","BYCATCH RELEASED ALIVE:"]
[null,847]
[null,"","BYCATCH RELEASED ALIVE:"]
[null,848]
[null,"","BYCATCH RELEASED ALIVE:"]
[null,849]
[null,"","BYCATCH RELEASED ALIVE:"]
[null,850]
[null,"","BYCATCH RELEASED ALIVE:"]
[null,851]
[null,"","BYCATCH RELEASED ALIVE:"]
[null,852]
[null,"","BYCATCH RELEASED ALIVE:"]
[null,853]
[null,"","BYCATCH RELEASED ALIVE:"]
[null,854]
[null,"","BYCATCH RELEASED ALIVE:"]
[null,855]
[null,"","BYCATCH RELEASED ALIVE:"]
[null,856]
[null,"","BYCATCH RELEASED ALIVE:"]
[null,857]
[null,"","BYCATCH RELEASED ALIVE:"]
[null,858]
[null,"","BYCATCH RELEASED ALIVE:"]
[null,859]
[null,"","BYCATCH RELEASED ALIVE:"]
[null,860]
[null,"","BYCATCH RELEASED ALIVE:"]
[null,861]
[null,"","BYCATCH RELEASED ALIVE:"]
[null,862]
[null,"","BYCATCH RELEASED ALIVE:"]
[null,863]
[null,"","BYCATCH RELEASED ALIVE:"]
[null,864]
[null,"","BYCATCH RELEASED ALIVE:"]
[null,865]
[null,"","BYCATCH RELEASED ALIVE:"]
[null,866]
[null,{"$f":"IF(B1740=\"\",\"\",B1740+1)","v":""},"BYCATCH RELEASED ALIVE:"]
[null,867]
[null,"","BYCATCH RELEASED ALIVE:"]
[null,868]
[null,"","BYCATCH RELEASED ALIVE:"]
[null,869]
[null,"","BYCATCH RELEASED ALIVE:"]
[null,870]
[null,"","BYCATCH RELEASED ALIVE:"]
[null,871]
[null,"","BYCATCH RELEASED ALIVE:"]
[null,872]
[null,"","BYCATCH RELEASED ALIVE:"]
[null,873]
[null,"","BYCATCH RELEASED ALIVE:"]
[null,874]
[null,"","BYCATCH RELEASED ALIVE:"]
[null,875]
[null,"","BYCATCH RELEASED ALIVE:"]
[null,876]
[null,"","BYCATCH RELEASED ALIVE:"]
[null,877]
[null,"","BYCATCH RELEASED ALIVE:"]
[null,878]
[null,"","BYCATCH RELEASED ALIVE:"]
[null,879]
[null,"","BYCATCH RELEASED ALIVE:"]
[null,880]
[null,"","BYCATCH RELEASED ALIVE:"]
[null,881]
[null,"","BYCATCH RELEASED ALIVE:"]
[null,882]
[null,"","BYCATCH RELEASED ALIVE:"]
[null,883]
[null,"","BYCATCH RELEASED ALIVE:"]
[null,884]
[null,"","BYCATCH RELEASED ALIVE:"]
[null,885]
[null,"","BYCATCH RELEASED ALIVE:"]
[null,886]
[null,"","BYCATCH RELEASED ALIVE:"]
[null,887]
[null,"","BYCATCH RELEASED ALIVE:"]
[null,888]
[null,"","BYCATCH RELEASED ALIVE:"]
[null,889]
[null,"","BYCATCH RELEASED ALIVE:"]
[null,890]
[null,"","BYCATCH RELEASED ALIVE:"]
[null,891]
[null,"","BYCATCH RELEASED ALIVE:"]
[null,892]
[null,"","BYCATCH RELEASED ALIVE:"]
[null,893]
[null,"","BYCATCH RELEASED ALIVE:"]
[null,894]
[null,"","BYCATCH RELEASED ALIVE:"]
[null,895]
[null,"","BYCATCH RELEASED ALIVE:"]
[null,896]
[null,"","BYCATCH RELEASED ALIVE:"]
[null,897]
[null,"","BYCATCH RELEASED ALIVE:"]
[null,898]
[null,{"$f":"IF(B1804=\"\",\"\",B1804+1)","v":""},"BYCATCH RELEASED ALIVE:"]
[null,899]
[null,"","BYCATCH RELEASED ALIVE:"]
[null,900]
[null,"","BYCATCH RELEASED ALIVE:"]
[null,901]
[null,"","BYCATCH RELEASED ALIVE:"]
[null,902]
[null,"","BYCATCH RELEASED ALIVE:"]
[null,903]
[null,"","BYCATCH RELEASED ALIVE:"]
[null,904]
[null,"","BYCATCH RELEASED ALIVE:"]
[null,905]
[null,"","BYCATCH RELEASED ALIVE:"]
[null,906]
[null,"","BYCATCH RELEASED ALIVE:"]
[null,907]
[null,"","BYCATCH RELEASED ALIVE:"]
[null,908]
[null,"","BYCATCH RELEASED ALIVE:"]
[null,909]
[null,"","BYCATCH RELEASED ALIVE:"]
[null,910]
[null,"","BYCATCH RELEASED ALIVE:"]
[null,911]
[null,"","BYCATCH RELEASED ALIVE:"]
[null,912]
[null,"","BYCATCH RELEASED ALIVE:"]
[null,913]
[null,"","BYCATCH RELEASED ALIVE:"]
[null,914]
[null,"","BYCATCH RELEASED ALIVE:"]
[null,915]
[null,"","BYCATCH RELEASED ALIVE:"]
[null,916]
[null,"","BYCATCH RELEASED ALIVE:"]
[null,917]
[null,"","BYCATCH RELEASED ALIVE:"]
[null,918]
[null,"","BYCATCH RELEASED ALIVE:"]
[null,919]
[null,"","BYCATCH RELEASED ALIVE:"]
[null,920]
[null,"","BYCATCH RELEASED ALIVE:"]
[null,921]
[null,"","BYCATCH RELEASED ALIVE:"]
[null,922]
[null,"","BYCATCH RELEASED ALIVE:"]
[null,923]
[null,"","BYCATCH RELEASED ALIVE:"]
[null,924]
[null,"","BYCATCH RELEASED ALIVE:"]
[null,925]
[null,"","BYCATCH RELEASED ALIVE:"]
[null,926]
[null,"","BYCATCH RELEASED ALIVE:"]
[null,927]
[null,"","BYCATCH RELEASED ALIVE:"]
[null,928]
[null,"","BYCATCH RELEASED ALIVE:"]
[null,929]
[null,"","BYCATCH RELEASED ALIVE:"]
[null,930]
[null,{"$f":"IF(B1868=\"\",\"\",B1868+1)","v":""},"BYCATCH RELEASED ALIVE:"]
[null,931]
[null,"","BYCATCH RELEASED ALIVE:"]
[null,932]
[null,"","BYCATCH RELEASED ALIVE:"]
[null,933]
[null,"","BYCATCH RELEASED ALIVE:"]
[null,934]
[null,"","BYCATCH RELEASED ALIVE:"]
[null,935]
[null,"","BYCATCH RELEASED ALIVE:"]
[null,936]
[null,"","BYCATCH RELEASED ALIVE:"]
[null,937]
[null,"","BYCATCH RELEASED ALIVE:"]
[null,938]
[null,"","BYCATCH RELEASED ALIVE:"]
[null,939]
[null,"","BYCATCH RELEASED ALIVE:"]
[null,940]
[null,"","BYCATCH RELEASED ALIVE:"]
[null,941]
[null,"","BYCATCH RELEASED ALIVE:"]
[null,942]
[null,"","BYCATCH RELEASED ALIVE:"]
[null,943]
[null,"","BYCATCH RELEASED ALIVE:"]
[null,944]
[null,"","BYCATCH RELEASED ALIVE:"]
[null,945]
[null,"","BYCATCH RELEASED ALIVE:"]
[null,946]
[null,"","BYCATCH RELEASED ALIVE:"]
[null,947]
[null,"","BYCATCH RELEASED ALIVE:"]
[null,948]
[null,"","BYCATCH RELEASED ALIVE:"]
[null,949]
[null,"","BYCATCH RELEASED ALIVE:"]
[null,950]
[null,"","BYCATCH RELEASED ALIVE:"]
[null,951]
[null,"","BYCATCH RELEASED ALIVE:"]
[null,952]
[null,"","BYCATCH RELEASED ALIVE:"]
[null,953]
[null,"","BYCATCH RELEASED ALIVE:"]
[null,954]
[null,"","BYCATCH RELEASED ALIVE:"]
[null,955]
[null,"","BYCATCH RELEASED ALIVE:"]
[null,956]
[null,"","BYCATCH RELEASED ALIVE:"]
[null,957]
[null,"","BYCATCH RELEASED ALIVE:"]
[null,958]
[null,"","BYCATCH RELEASED ALIVE:"]
[null,959]
[null,"","BYCATCH RELEASED ALIVE:"]
[null,960]
[null,"","BYCATCH RELEASED ALIVE:"]
[null,961]
[null,"","BYCATCH RELEASED ALIVE:"]
[null,962]
[null,{"$f":"IF(B1932=\"\",\"\",B1932+1)","v":""},"BYCATCH RELEASED ALIVE:"]
[null,963]
[null,"","BYCATCH RELEASED ALIVE:"]
[null,964]
[null,"","BYCATCH RELEASED ALIVE:"]
[null,965]
[null,"","BYCATCH RELEASED ALIVE:"]
[null,966]
[null,"","BYCATCH RELEASED ALIVE:"]
[null,967]
[null,"","BYCATCH RELEASED ALIVE:"]
[null,968]
[null,"","BYCATCH RELEASED ALIVE:"]
[null,969]
[null,"","BYCATCH RELEASED ALIVE:"]
[null,970]
[null,"","BYCATCH RELEASED ALIVE:"]
[null,971]
[null,"","BYCATCH RELEASED ALIVE:"]
[null,972]
[null,"","BYCATCH RELEASED ALIVE:"]
[null,973]
[null,"","BYCATCH RELEASED ALIVE:"]
[null,974]
[null,"","BYCATCH RELEASED ALIVE:"]
[null,975]
[null,"","BYCATCH RELEASED ALIVE:"]
[null,976]
[null,"","BYCATCH RELEASED ALIVE:"]
[null,977]
[null,"","BYCATCH RELEASED ALIVE:"]
[null,978]
[null,"","BYCATCH RELEASED ALIVE:"]
[null,979]
[null,"","BYCATCH RELEASED ALIVE:"]
[null,980]
[null,"","BYCATCH RELEASED ALIVE:"]
[null,981]
[null,"","BYCATCH RELEASED ALIVE:"]
[null,982]
[null,"","BYCATCH RELEASED ALIVE:"]
[null,983]
[null,"","BYCATCH RELEASED ALIVE:"]
[null,984]
[null,"","BYCATCH RELEASED ALIVE:"]
[null,985]
[null,"","BYCATCH RELEASED ALIVE:"]
[null,986]
[null,"","BYCATCH RELEASED ALIVE:"]
[null,987]
[null,"","BYCATCH RELEASED ALIVE:"]
[null,988]
[null,"","BYCATCH RELEASED ALIVE:"]
[null,989]
[null,"","BYCATCH RELEASED ALIVE:"]
[null,990]
[null,"","BYCATCH RELEASED ALIVE:"]
[null,991]
[null,"","BYCATCH RELEASED ALIVE:"]
[null,992]
[null,"","BYCATCH RELEASED ALIVE:"]
[null,993]
[null,"","BYCATCH RELEASED ALIVE:"]
[null,994]
[null,{"$f":"IF(B1996=\"\",\"\",B1996+1)","v":""},"BYCATCH RELEASED ALIVE:"]
[null,995]
[null,"","BYCATCH RELEASED ALIVE:"]
[null,996]
[null,"","BYCATCH RELEASED ALIVE:"]
[null,997]
[null,"","BYCATCH RELEASED ALIVE:"]
[null,998]
[null,"","BYCATCH RELEASED ALIVE:"]
[null,999]
[null,"","BYCATCH RELEASED ALIVE:"]
[null,1000]
[null,"","BYCATCH RELEASED ALIVE:"]

{"sheet":"Tablas","index":3,"n_rows":1005,"n_cols":29,"rows_kept":1005,"cut":false,"hidden":true,"merged":[[5,2,12,2],[13,2,19,2],[20,2,30,2]]}
[]
[]
[]
[]
[null,null,null,"Modelo","CodigoBaliza ",null,"Cuatro",null,"Cinco",null,"Seis",null,"Código Fabricante","No Orden","Copia Cod.","Reordenar","CodBal",null,"Código Fabricante","No Orden","Copia Cod.","Reordenar","IATTC",null,"Código Fabricante","No Orden","Copia Cod.","Reordenar","Reorde"]
[null,null,"NAUTICAL","MDP","MDP",null,1,null,1,null,1,null,{"$f":"IF(Inventory!C11<>\"\",Inventory!C11,0)","v":0},1,{"$f":"M6","v":0},{"$f":"IF(O6=0,MAX($N$6:$N$1005)+1,N6)","v":1001},{"$f":"IFERROR(VLOOKUP(SMALL($P$6:$P$1005,N6),$N$6:$O$1005,2,FALSE),\" \")","v":" "},null,{"$f":"IF(Inventory!J11<>\"\",Inventory!J11,0)","v":0},1,{"$f":"S6","v":0},{"$f":"IF(U6=0,MAX($T$6:$T$1005)+1,T6)","v":1001},{"$f":"IFERROR(VLOOKUP(SMALL($V$6:$V$1005,T6),$T$6:$U$1005,2,FALSE),\" \")","v":" "},null,{"$f":"IF(AND(M6=0,S6=0),0,IF(AND(M6<>0,S6=0),M6,IF(AND(M6=0,S6<>0),S6,IF(AND(M6<>0,S6<>0),(CONCATENATE(M6,S6))))))","v":0},1,{"$f":"Y6","v":0},{"$f":"IF(AA6=0,MAX($Z$6:$Z$1005)+1,Z6)","v":1001},{"$f":"IFERROR(VLOOKUP(SMALL($AB$6:$AB$1005,Z6),$Z$6:$AA$1005,2,FALSE),\" \")","v":" "}]
[null,null,null,"MDS","MDS",null,2,null,2,null,2,null,{"$f":"IF(Inventory!C12<>\"\",Inventory!C12,0)","v":0},2,{"$f":"M7","v":0},{"$f":"IF(O7=0,MAX($N$6:$N$1005)+1,N7)","v":1001}," ",null,{"$f":"IF(Inventory!J12<>\"\",Inventory!J12,0)","v":0},2,{"$f":"S7","v":0},{"$f":"IF(U7=0,MAX($T$6:$T$1005)+1,T7)","v":1001}," ",null,{"$f":"IF(AND(M7=0,S7=0),0,IF(AND(M7<>0,S7=0),M7,IF(AND(M7=0,S7<>0),S7,IF(AND(M7<>0,S7<>0),(CONCATENATE(M7,S7))))))","v":0},2,{"$f":"Y7","v":0},{"$f":"IF(AA7=0,MAX($Z$6:$Z$1005)+1,Z7)","v":1001}," "]
[null,null,null,"M2D","M2D",null,3,null,3,null,3,null,{"$f":"IF(Inventory!C13<>\"\",Inventory!C13,0)","v":0},3,0,1001," ",null,{"$f":"IF(Inventory!J13<>\"\",Inventory!J13,0)","v":0},3,0,1001," ",null,0,3,0,1001," "]
[null,null,null,"MSI","MSI",null,4,null,4,null,4,null,{"$f":"IF(Inventory!C14<>\"\",Inventory!C14,0)","v":0},4,0,1001," ",null,{"$f":"IF(Inventory!J14<>\"\",Inventory!J14,0)","v":0},4,0,1001," ",null,0,4,0,1001," "]
[null,null,null,"M3i","M3I",null,null,null,5,null,5,null,{"$f":"IF(Inventory!C15<>\"\",Inventory!C15,0)","v":0},5,0,1001," ",null,{"$f":"IF(Inventory!J15<>\"\",Inventory!J15,0)","v":0},5,0,1001," ",null,0,5,0,1001," "]
[null,null,null,"M3i+","M3+",null,null,null,null,null,6,null,{"$f":"IF(Inventory!C16<>\"\",Inventory!C16,0)","v":0},6,0,1001," ",null,{"$f":"IF(Inventory!J16<>\"\",Inventory!J16,0)","v":0},6,0,1001," ",null,0,6,0,1001," "]
[null,null,null,"M4I","M4I",null,null,null,null,null,null,null,{"$f":"IF(Inventory!C17<>\"\",Inventory!C17,0)","v":0},7,0,1001," ",null,{"$f":"IF(Inventory!J17<>\"\",Inventory!J17,0)","v":0},7,0,1001," ",null,0,7,0,1001," "]
[null,null,null,"M4i+","M4+",null,null,null,null,null,null,null,{"$f":"IF(Inventory!C18<>\"\",Inventory!C18,0)","v":0},8,0,1001," ",null,{"$f":"IF(Inventory!J18<>\"\",Inventory!J18,0)","v":0},8,0,1001," ",null,0,8,0,1001," "]
[null,null,"SATLINK","D+ pila","D+",null,null,null,null,null,null,null,{"$f":"IF(Inventory!C19<>\"\",Inventory!C19,0)","v":0},9,0,1001," ",null,{"$f":"IF(Inventory!J19<>\"\",Inventory!J19,0)","v":0},9,0,1001," ",null,0,9,0,1001," "]
[null,null,null,"D+ pila con sonda","DS+",null,null,null,null,null,null,null,{"$f":"IF(Inventory!C20<>\"\",Inventory!C20,0)","v":0},10,0,1001," ",null,{"$f":"IF(Inventory!J20<>\"\",Inventory!J20,0)","v":0},10,0,1001," ",null,0,10,0,1001," "]
[null,null,null,"D+ solar","DL+",null,null,null,null,null,null,null,{"$f":"IF(Inventory!C21<>\"\",Inventory!C21,0)","v":0},11,0,1001," ",null,{"$f":"IF(Inventory!J21<>\"\",Inventory!J21,0)","v":0},11,0,1001," ",null,0,11,0,1001," "]
[null,null,null,"D+ solar con sonda","DSL+",null,null,null,null,null,null,null,{"$f":"IF(Inventory!C22<>\"\",Inventory!C22,0)","v":0},12,0,1001," ",null,{"$f":"IF(Inventory!J22<>\"\",Inventory!J22,0)","v":0},12,0,1001," ",null,0,12,0,1001," "]
[null,null,null,"IDP solar con sonda","ISL+",null,null,null,null,null,null,null,{"$f":"IF(Inventory!C23<>\"\",Inventory!C23,0)","v":0},13,0,1001," ",null,{"$f":"IF(Inventory!J23<>\"\",Inventory!J23,0)","v":0},13,0,1001," ",null,0,13,0,1001," "]
[null,null,null,"IDP solar disc. con sonda","ISD+",null,null,null,null,null,null,null,{"$f":"IF(Inventory!C24<>\"\",Inventory!C24,0)","v":0},14,0,1001," ",null,{"$f":"IF(Inventory!J24<>\"\",Inventory!J24,0)","v":0},14,0,1001," ",null,0,14,0,1001," "]
[null,null,null,"SLX solar \"ECO\"","SLX+",null,null,null,null,null,null,null,{"$f":"IF(Inventory!C25<>\"\",Inventory!C25,0)","v":0},15,0,1001," ",null,{"$f":"IF(Inventory!J25<>\"\",Inventory!J25,0)","v":0},15,0,1001," ",null,0,15,0,1001," "]
[null,null,"ZUNIBAL","Tunabal-7","T07",null,null,null,null,null,null,null,{"$f":"IF(Inventory!C26<>\"\",Inventory!C26,0)","v":0},16,0,1001," ",null,{"$f":"IF(Inventory!J26<>\"\",Inventory!J26,0)","v":0},16,0,1001," ",null,0,16,0,1001," "]
[null,null,null,"Tunabal-e7","Te7",null,null,null,null,null,null,null,{"$f":"IF(Inventory!C27<>\"\",Inventory!C27,0)","v":0},17,0,1001," ",null,{"$f":"IF(Inventory!J27<>\"\",Inventory!J27,0)","v":0},17,0,1001," ",null,0,17,0,1001," "]
[null,null,null,"Tunabal-e7+","T7+",null,null,null,null,null,null,null,{"$f":"IF(Inventory!C28<>\"\",Inventory!C28,0)","v":0},18,0,1001," ",null,{"$f":"IF(Inventory!J28<>\"\",Inventory!J28,0)","v":0},18,0,1001," ",null,0,18,0,1001," "]
[null,null,null,"Tuna8 Explorer","T8E",null,null,null,null,null,null,null,{"$f":"IF(Inventory!C29<>\"\",Inventory!C29,0)","v":0},19,0,1001," ",null,{"$f":"IF(Inventory!J29<>\"\",Inventory!J29,0)","v":0},19,0,1001," ",null,0,19,0,1001," "]
[null,null,null,"Tuna8 Xtreme","T8X",null,null,null,null,null,null,null,{"$f":"IF(Inventory!C30<>\"\",Inventory!C30,0)","v":0},20,0,1001," ",null,{"$f":"IF(Inventory!J30<>\"\",Inventory!J30,0)","v":0},20,0,1001," ",null,0,20,0,1001," "]
[null,null,null,"Tunabal-7 (F series)","F07",null,null,null,null,null,null,null,{"$f":"IF(Inventory!C31<>\"\",Inventory!C31,0)","v":0},21,0,1001," ",null,{"$f":"IF(Inventory!J31<>\"\",Inventory!J31,0)","v":0},21,0,1001," ",null,0,21,0,1001," "]
[null,null,null,"Tunabal-e7 (F series)","Fe7",null,null,null,null,null,null,null,{"$f":"IF(Inventory!C32<>\"\",Inventory!C32,0)","v":0},22,0,1001," ",null,{"$f":"IF(Inventory!J32<>\"\",Inventory!J32,0)","v":0},22,0,1001," ",null,0,22,0,1001," "]
[null,null,null,"Tunabal-e7+ (F-series)","F7+",null,null,null,null,null,null,null,{"$f":"IF(Inventory!C33<>\"\",Inventory!C33,0)","v":0},23,0,1001," ",null,{"$f":"IF(Inventory!J33<>\"\",Inventory!J33,0)","v":0},23,0,1001," ",null,0,23,0,1001," "]
[null,null,null,"Tuna8 Explorer (F-series)","F8E",null,null,null,null,null,null,null,{"$f":"IF(Inventory!C34<>\"\",Inventory!C34,0)","v":0},24,0,1001," ",null,{"$f":"IF(Inventory!J34<>\"\",Inventory!J34,0)","v":0},24,0,1001," ",null,0,24,0,1001," "]
[null,null,null,"Zuni sin sonda","Z07",null,null,null,null,null,null,null,{"$f":"IF(Inventory!C35<>\"\",Inventory!C35,0)","v":0},25,0,1001," ",null,{"$f":"IF(Inventory!J35<>\"\",Inventory!J35,0)","v":0},25,0,1001," ",null,0,25,0,1001," "]
[null,null,null,"Zuni sin sonda","Ze7",null,null,null,null,null,null,null,{"$f":"IF(Inventory!C36<>\"\",Inventory!C36,0)","v":0},26,0,1001," ",null,{"$f":"IF(Inventory!J36<>\"\",Inventory!J36,0)","v":0},26,0,1001," ",null,0,26,0,1001," "]
[null,null,null,null,null,null,null,null,null,null,null,null,{"$f":"IF(Inventory!C37<>\"\",Inventory!C37,0)","v":0},27,0,1001," ",null,{"$f":"IF(Inventory!J37<>\"\",Inventory!J37,0)","v":0},27,0,1001," ",null,0,27,0,1001," "]
[null,null,null,null,null,null,null,null,null,null,null,null,{"$f":"IF(Inventory!C38<>\"\",Inventory!C38,0)","v":0},28,0,1001," ",null,{"$f":"IF(Inventory!J38<>\"\",Inventory!J38,0)","v":0},28,0,1001," ",null,0,28,0,1001," "]
[null,null,null,null,null,null,null,null,null,null,null,null,{"$f":"IF(Inventory!C39<>\"\",Inventory!C39,0)","v":0},29,0,1001," ",null,{"$f":"IF(Inventory!J39<>\"\",Inventory!J39,0)","v":0},29,0,1001," ",null,0,29,0,1001," "]
[null,null,null,null,null,null,null,null,null,null,null,null,{"$f":"IF(Inventory!C40<>\"\",Inventory!C40,0)","v":0},30,0,1001," ",null,{"$f":"IF(Inventory!J40<>\"\",Inventory!J40,0)","v":0},30,0,1001," ",null,0,30,0,1001," "]
[null,null,null,null,null,null,null,null,null,null,null,null,{"$f":"IF(Inventory!C41<>\"\",Inventory!C41,0)","v":0},31,0,1001," ",null,{"$f":"IF(Inventory!J41<>\"\",Inventory!J41,0)","v":0},31,0,1001," ",null,0,31,0,1001," "]
[null,null,null,null,null,null,null,null,null,null,null,null,{"$f":"IF(Inventory!C42<>\"\",Inventory!C42,0)","v":0},32,0,1001," ",null,{"$f":"IF(Inventory!J42<>\"\",Inventory!J42,0)","v":0},32,0,1001," ",null,0,32,0,1001," "]
[null,null,null,null,null,null,null,null,null,null,null,null,{"$f":"IF(Inventory!C43<>\"\",Inventory!C43,0)","v":0},33,0,1001," ",null,{"$f":"IF(Inventory!J43<>\"\",Inventory!J43,0)","v":0},33,0,1001," ",null,0,33,0,1001," "]
[null,null,null,null,null,null,null,null,null,null,null,null,{"$f":"IF(Inventory!C44<>\"\",Inventory!C44,0)","v":0},34,0,1001," ",null,{"$f":"IF(Inventory!J44<>\"\",Inventory!J44,0)","v":0},34,0,1001," ",null,0,34,0,1001," "]
[null,null,null,null,null,null,null,null,null,null,null,null,{"$f":"IF(Inventory!C45<>\"\",Inventory!C45,0)","v":0},35,0,1001," ",null,{"$f":"IF(Inventory!J45<>\"\",Inventory!J45,0)","v":0},35,0,1001," ",null,0,35,0,1001," "]
[null,null,null,null,null,null,null,null,null,null,null,null,{"$f":"IF(Inventory!C46<>\"\",Inventory!C46,0)","v":0},36,0,1001," ",null,{"$f":"IF(Inventory!J46<>\"\",Inventory!J46,0)","v":0},36,0,1001," ",null,0,36,0,1001," "]
[null,null,null,null,null,null,null,null,null,null,null,null,{"$f":"IF(Inventory!C47<>\"\",Inventory!C47,0)","v":0},37,0,1001," ",null,{"$f":"IF(Inventory!J47<>\"\",Inventory!J47,0)","v":0},37,0,1001," ",null,0,37,0,1001," "]
[null,null,null,null,null,null,null,null,null,null,null,null,{"$f":"IF(Inventory!C48<>\"\",Inventory!C48,0)","v":0},38,0,1001," ",null,{"$f":"IF(Inventory!J48<>\"\",Inventory!J48,0)","v":0},38,0,1001," ",null,0,38,0,1001," "]
[null,null,null,null,null,null,null,null,null,null,null,null,{"$f":"IF(Inventory!C49<>\"\",Inventory!C49,0)","v":0},39,0,1001," ",null,{"$f":"IF(Inventory!J49<>\"\",Inventory!J49,0)","v":0},39,0,1001," ",null,0,39,0,1001," "]
[null,null,null,null,null,null,null,null,null,null,null,null,{"$f":"IF(Inventory!C50<>\"\",Inventory!C50,0)","v":0},40,0,1001," ",null,{"$f":"IF(Inventory!J50<>\"\",Inventory!J50,0)","v":0},40,0,1001," ",null,0,40,0,1001," "]
[null,null,null,null,null,null,null,null,null,null,null,null,{"$f":"IF(Inventory!C51<>\"\",Inventory!C51,0)","v":0},41,0,1001," ",null,{"$f":"IF(Inventory!J51<>\"\",Inventory!J51,0)","v":0},41,0,1001," ",null,0,41,0,1001," "]
[null,null,null,null,null,null,null,null,null,null,null,null,{"$f":"IF(Inventory!C52<>\"\",Inventory!C52,0)","v":0},42,0,1001," ",null,{"$f":"IF(Inventory!J52<>\"\",Inventory!J52,0)","v":0},42,0,1001," ",null,0,42,0,1001," "]
[null,null,null,null,null,null,null,null,null,null,null,null,{"$f":"IF(Inventory!C53<>\"\",Inventory!C53,0)","v":0},43,0,1001," ",null,{"$f":"IF(Inventory!J53<>\"\",Inventory!J53,0)","v":0},43,0,1001," ",null,0,43,0,1001," "]
[null,null,null,null,null,null,null,null,null,null,null,null,{"$f":"IF(Inventory!C54<>\"\",Inventory!C54,0)","v":0},44,0,1001," ",null,{"$f":"IF(Inventory!J54<>\"\",Inventory!J54,0)","v":0},44,0,1001," ",null,0,44,0,1001," "]
[null,null,null,null,null,null,null,null,null,null,null,null,{"$f":"IF(Inventory!C55<>\"\",Inventory!C55,0)","v":0},45,0,1001," ",null,{"$f":"IF(Inventory!J55<>\"\",Inventory!J55,0)","v":0},45,0,1001," ",null,0,45,0,1001," "]
[null,null,null,null,null,null,null,null,null,null,null,null,{"$f":"IF(Inventory!C56<>\"\",Inventory!C56,0)","v":0},46,0,1001," ",null,{"$f":"IF(Inventory!J56<>\"\",Inventory!J56,0)","v":0},46,0,1001," ",null,0,46,0,1001," "]
[null,null,null,null,null,null,null,null,null,null,null,null,{"$f":"IF(Inventory!C57<>\"\",Inventory!C57,0)","v":0},47,0,1001," ",null,{"$f":"IF(Inventory!J57<>\"\",Inventory!J57,0)","v":0},47,0,1001," ",null,0,47,0,1001," "]
[null,null,null,null,null,null,null,null,null,null,null,null,{"$f":"IF(Inventory!C58<>\"\",Inventory!C58,0)","v":0},48,0,1001," ",null,{"$f":"IF(Inventory!J58<>\"\",Inventory!J58,0)","v":0},48,0,1001," ",null,0,48,0,1001," "]
[null,null,null,null,null,null,null,null,null,null,null,null,{"$f":"IF(Inventory!C59<>\"\",Inventory!C59,0)","v":0},49,0,1001," ",null,{"$f":"IF(Inventory!J59<>\"\",Inventory!J59,0)","v":0},49,0,1001," ",null,0,49,0,1001," "]
[null,null,null,null,null,null,null,null,null,null,null,null,{"$f":"IF(Inventory!C60<>\"\",Inventory!C60,0)","v":0},50,0,1001," ",null,{"$f":"IF(Inventory!J60<>\"\",Inventory!J60,0)","v":0},50,0,1001," ",null,0,50,0,1001," "]
[null,null,null,null,null,null,null,null,null,null,null,null,{"$f":"IF(Inventory!C61<>\"\",Inventory!C61,0)","v":0},51,0,1001," ",null,{"$f":"IF(Inventory!J61<>\"\",Inventory!J61,0)","v":0},51,0,1001," ",null,0,51,0,1001," "]
[null,null,null,null,null,null,null,null,null,null,null,null,{"$f":"IF(Inventory!C62<>\"\",Inventory!C62,0)","v":0},52,0,1001," ",null,{"$f":"IF(Inventory!J62<>\"\",Inventory!J62,0)","v":0},52,0,1001," ",null,0,52,0,1001," "]
[null,null,null,null,null,null,null,null,null,null,null,null,{"$f":"IF(Inventory!C63<>\"\",Inventory!C63,0)","v":0},53,0,1001," ",null,{"$f":"IF(Inventory!J63<>\"\",Inventory!J63,0)","v":0},53,0,1001," ",null,0,53,0,1001," "]
[null,null,null,null,null,null,null,null,null,null,null,null,{"$f":"IF(Inventory!C64<>\"\",Inventory!C64,0)","v":0},54,0,1001," ",null,{"$f":"IF(Inventory!J64<>\"\",Inventory!J64,0)","v":0},54,0,1001," ",null,0,54,0,1001," "]
[null,null,null,null,null,null,null,null,null,null,null,null,{"$f":"IF(Inventory!C65<>\"\",Inventory!C65,0)","v":0},55,0,1001," ",null,{"$f":"IF(Inventory!J65<>\"\",Inventory!J65,0)","v":0},55,0,1001," ",null,0,55,0,1001," "]
[null,null,null,null,null,null,null,null,null,null,null,null,{"$f":"IF(Inventory!C66<>\"\",Inventory!C66,0)","v":0},56,0,1001," ",null,{"$f":"IF(Inventory!J66<>\"\",Inventory!J66,0)","v":0},56,0,1001," ",null,0,56,0,1001," "]
[null,null,null,null,null,null,null,null,null,null,null,null,{"$f":"IF(Inventory!C67<>\"\",Inventory!C67,0)","v":0},57,0,1001," ",null,{"$f":"IF(Inventory!J67<>\"\",Inventory!J67,0)","v":0},57,0,1001," ",null,0,57,0,1001," "]
[null,null,null,null,null,null,null,null,null,null,null,null,{"$f":"IF(Inventory!C68<>\"\",Inventory!C68,0)","v":0},58,0,1001," ",null,{"$f":"IF(Inventory!J68<>\"\",Inventory!J68,0)","v":0},58,0,1001," ",null,0,58,0,1001," "]
[null,null,null,null,null,null,null,null,null,null,null,null,{"$f":"IF(Inventory!C69<>\"\",Inventory!C69,0)","v":0},59,0,1001," ",null,{"$f":"IF(Inventory!J69<>\"\",Inventory!J69,0)","v":0},59,0,1001," ",null,0,59,0,1001," "]
[null,null,null,null,null,null,null,null,null,null,null,null,{"$f":"IF(Inventory!C70<>\"\",Inventory!C70,0)","v":0},60,0,1001," ",null,{"$f":"IF(Inventory!J70<>\"\",Inventory!J70,0)","v":0},60,0,1001," ",null,0,60,0,1001," "]
[null,null,null,null,null,null,null,null,null,null,null,null,{"$f":"IF(Inventory!C71<>\"\",Inventory!C71,0)","v":0},61,0,1001," ",null,{"$f":"IF(Inventory!J71<>\"\",Inventory!J71,0)","v":0},61,0,1001," ",null,0,61,0,1001," "]
[null,null,null,null,null,null,null,null,null,null,null,null,{"$f":"IF(Inventory!C72<>\"\",Inventory!C72,0)","v":0},62,0,1001," ",null,{"$f":"IF(Inventory!J72<>\"\",Inventory!J72,0)","v":0},62,0,1001," ",null,0,62,0,1001," "]
[null,null,null,null,null,null,null,null,null,null,null,null,{"$f":"IF(Inventory!C73<>\"\",Inventory!C73,0)","v":0},63,0,1001," ",null,{"$f":"IF(Inventory!J73<>\"\",Inventory!J73,0)","v":0},63,0,1001," ",null,0,63,0,1001," "]
[null,null,null,null,null,null,null,null,null,null,null,null,{"$f":"IF(Inventory!C74<>\"\",Inventory!C74,0)","v":0},64,0,1001," ",null,{"$f":"IF(Inventory!J74<>\"\",Inventory!J74,0)","v":0},64,0,1001," ",null,0,64,0,1001," "]
[null,null,null,null,null,null,null,null,null,null,null,null,{"$f":"IF(Inventory!C75<>\"\",Inventory!C75,0)","v":0},65,0,1001,{"$f":"IFERROR(VLOOKUP(SMALL($P$6:$P$1005,N70),$N$6:$O$1005,2,FALSE),\" \")","v":" "},null,{"$f":"IF(Inventory!J75<>\"\",Inventory!J75,0)","v":0},65,0,1001,{"$f":"IFERROR(VLOOKUP(SMALL($V$6:$V$1005,T70),$T$6:$U$1005,2,FALSE),\" \")","v":" "},null,0,65,0,1001,{"$f":"IFERROR(VLOOKUP(SMALL($AB$6:$AB$1005,Z70),$Z$6:$AA$1005,2,FALSE),\" \")","v":" "}]
[null,null,null,null,null,null,null,null,null,null,null,null,{"$f":"IF(Inventory!C76<>\"\",Inventory!C76,0)","v":0},66,{"$f":"M71","v":0},{"$f":"IF(O71=0,MAX($N$6:$N$1005)+1,N71)","v":1001}," ",null,{"$f":"IF(Inventory!J76<>\"\",Inventory!J76,0)","v":0},66,{"$f":"S71","v":0},{"$f":"IF(U71=0,MAX($T$6:$T$1005)+1,T71)","v":1001}," ",null,{"$f":"IF(AND(M71=0,S71=0),0,IF(AND(M71<>0,S71=0),M71,IF(AND(M71=0,S71<>0),S71,IF(AND(M71<>0,S71<>0),(CONCATENATE(M71,S71))))))","v":0},66,{"$f":"Y71","v":0},{"$f":"IF(AA71=0,MAX($Z$6:$Z$1005)+1,Z71)","v":1001}," "]
[null,null,null,null,null,null,null,null,null,null,null,null,{"$f":"IF(Inventory!C77<>\"\",Inventory!C77,0)","v":0},67,0,1001," ",null,{"$f":"IF(Inventory!J77<>\"\",Inventory!J77,0)","v":0},67,0,1001," ",null,0,67,0,1001," "]
[null,null,null,null,null,null,null,null,null,null,null,null,{"$f":"IF(Inventory!C78<>\"\",Inventory!C78,0)","v":0},68,0,1001," ",null,{"$f":"IF(Inventory!J78<>\"\",Inventory!J78,0)","v":0},68,0,1001," ",null,0,68,0,1001," "]
[null,null,null,null,null,null,null,null,null,null,null,null,{"$f":"IF(Inventory!C79<>\"\",Inventory!C79,0)","v":0},69,0,1001," ",null,{"$f":"IF(Inventory!J79<>\"\",Inventory!J79,0)","v":0},69,0,1001," ",null,0,69,0,1001," "]
[null,null,null,null,null,null,null,null,null,null,null,null,{"$f":"IF(Inventory!C80<>\"\",Inventory!C80,0)","v":0},70,0,1001," ",null,{"$f":"IF(Inventory!J80<>\"\",Inventory!J80,0)","v":0},70,0,1001," ",null,0,70,0,1001," "]
[null,null,null,null,null,null,null,null,null,null,null,null,{"$f":"IF(Inventory!C81<>\"\",Inventory!C81,0)","v":0},71,0,1001," ",null,{"$f":"IF(Inventory!J81<>\"\",Inventory!J81,0)","v":0},71,0,1001," ",null,0,71,0,1001," "]
[null,null,null,null,null,null,null,null,null,null,null,null,{"$f":"IF(Inventory!C82<>\"\",Inventory!C82,0)","v":0},72,0,1001," ",null,{"$f":"IF(Inventory!J82<>\"\",Inventory!J82,0)","v":0},72,0,1001," ",null,0,72,0,1001," "]
[null,null,null,null,null,null,null,null,null,null,null,null,{"$f":"IF(Inventory!C83<>\"\",Inventory!C83,0)","v":0},73,0,1001," ",null,{"$f":"IF(Inventory!J83<>\"\",Inventory!J83,0)","v":0},73,0,1001," ",null,0,73,0,1001," "]
[null,null,null,null,null,null,null,null,null,null,null,null,{"$f":"IF(Inventory!C84<>\"\",Inventory!C84,0)","v":0},74,0,1001," ",null,{"$f":"IF(Inventory!J84<>\"\",Inventory!J84,0)","v":0},74,0,1001," ",null,0,74,0,1001," "]
[null,null,null,null,null,null,null,null,null,null,null,null,{"$f":"IF(Inventory!C85<>\"\",Inventory!C85,0)","v":0},75,0,1001," ",null,{"$f":"IF(Inventory!J85<>\"\",Inventory!J85,0)","v":0},75,0,1001," ",null,0,75,0,1001," "]
[null,null,null,null,null,null,null,null,null,null,null,null,{"$f":"IF(Inventory!C86<>\"\",Inventory!C86,0)","v":0},76,0,1001," ",null,{"$f":"IF(Inventory!J86<>\"\",Inventory!J86,0)","v":0},76,0,1001," ",null,0,76,0,1001," "]
[null,null,null,null,null,null,null,null,null,null,null,null,{"$f":"IF(Inventory!C87<>\"\",Inventory!C87,0)","v":0},77,0,1001," ",null,{"$f":"IF(Inventory!J87<>\"\",Inventory!J87,0)","v":0},77,0,1001," ",null,0,77,0,1001," "]
[null,null,null,null,null,null,null,null,null,null,null,null,{"$f":"IF(Inventory!C88<>\"\",Inventory!C88,0)","v":0},78,0,1001," ",null,{"$f":"IF(Inventory!J88<>\"\",Inventory!J88,0)","v":0},78,0,1001," ",null,0,78,0,1001," "]
[null,null,null,null,null,null,null,null,null,null,null,null,{"$f":"IF(Inventory!C89<>\"\",Inventory!C89,0)","v":0},79,0,1001," ",null,{"$f":"IF(Inventory!J89<>\"\",Inventory!J89,0)","v":0},79,0,1001," ",null,0,79,0,1001," "]
[null,null,null,null,null,null,null,null,null,null,null,null,{"$f":"IF(Inventory!C90<>\"\",Inventory!C90,0)","v":0},80,0,1001," ",null,{"$f":"IF(Inventory!J90<>\"\",Inventory!J90,0)","v":0},80,0,1001," ",null,0,80,0,1001," "]
[null,null,null,null,null,null,null,null,null,null,null,null,{"$f":"IF(Inventory!C91<>\"\",Inventory!C91,0)","v":0},81,0,1001," ",null,{"$f":"IF(Inventory!J91<>\"\",Inventory!J91,0)","v":0},81,0,1001," ",null,0,81,0,1001," "]
[null,null,null,null,null,null,null,null,null,null,null,null,{"$f":"IF(Inventory!C92<>\"\",Inventory!C92,0)","v":0},82,0,1001," ",null,{"$f":"IF(Inventory!J92<>\"\",Inventory!J92,0)","v":0},82,0,1001," ",null,0,82,0,1001," "]
[null,null,null,null,null,null,null,null,null,null,null,null,{"$f":"IF(Inventory!C93<>\"\",Inventory!C93,0)","v":0},83,0,1001," ",null,{"$f":"IF(Inventory!J93<>\"\",Inventory!J93,0)","v":0},83,0,1001," ",null,0,83,0,1001," "]
[null,null,null,null,null,null,null,null,null,null,null,null,{"$f":"IF(Inventory!C94<>\"\",Inventory!C94,0)","v":0},84,0,1001," ",null,{"$f":"IF(Inventory!J94<>\"\",Inventory!J94,0)","v":0},84,0,1001," ",null,0,84,0,1001," "]
[null,null,null,null,null,null,null,null,null,null,null,null,{"$f":"IF(Inventory!C95<>\"\",Inventory!C95,0)","v":0},85,0,1001," ",null,{"$f":"IF(Inventory!J95<>\"\",Inventory!J95,0)","v":0},85,0,1001," ",null,0,85,0,1001," "]
[null,null,null,null,null,null,null,null,null,null,null,null,{"$f":"IF(Inventory!C96<>\"\",Inventory!C96,0)","v":0},86,0,1001," ",null,{"$f":"IF(Inventory!J96<>\"\",Inventory!J96,0)","v":0},86,0,1001," ",null,0,86,0,1001," "]
[null,null,null,null,null,null,null,null,null,null,null,null,{"$f":"IF(Inventory!C97<>\"\",Inventory!C97,0)","v":0},87,0,1001," ",null,{"$f":"IF(Inventory!J97<>\"\",Inventory!J97,0)","v":0},87,0,1001," ",null,0,87,0,1001," "]
[null,null,null,null,null,null,null,null,null,null,null,null,{"$f":"IF(Inventory!C98<>\"\",Inventory!C98,0)","v":0},88,0,1001," ",null,{"$f":"IF(Inventory!J98<>\"\",Inventory!J98,0)","v":0},88,0,1001," ",null,0,88,0,1001," "]
[null,null,null,null,null,null,null,null,null,null,null,null,{"$f":"IF(Inventory!C99<>\"\",Inventory!C99,0)","v":0},89,0,1001," ",null,{"$f":"IF(Inventory!J99<>\"\",Inventory!J99,0)","v":0},89,0,1001," ",null,0,89,0,1001," "]
[null,null,null,null,null,null,null,null,null,null,null,null,{"$f":"IF(Inventory!C100<>\"\",Inventory!C100,0)","v":0},90,0,1001," ",null,{"$f":"IF(Inventory!J100<>\"\",Inventory!J100,0)","v":0},90,0,1001," ",null,0,90,0,1001," "]
[null,null,null,null,null,null,null,null,null,null,null,null,{"$f":"IF(Inventory!C101<>\"\",Inventory!C101,0)","v":0},91,0,1001," ",null,{"$f":"IF(Inventory!J101<>\"\",Inventory!J101,0)","v":0},91,0,1001," ",null,0,91,0,1001," "]
[null,null,null,null,null,null,null,null,null,null,null,null,{"$f":"IF(Inventory!C102<>\"\",Inventory!C102,0)","v":0},92,0,1001," ",null,{"$f":"IF(Inventory!J102<>\"\",Inventory!J102,0)","v":0},92,0,1001," ",null,0,92,0,1001," "]
[null,null,null,null,null,null,null,null,null,null,null,null,{"$f":"IF(Inventory!C103<>\"\",Inventory!C103,0)","v":0},93,0,1001," ",null,{"$f":"IF(Inventory!J103<>\"\",Inventory!J103,0)","v":0},93,0,1001," ",null,0,93,0,1001," "]
[null,null,null,null,null,null,null,null,null,null,null,null,{"$f":"IF(Inventory!C104<>\"\",Inventory!C104,0)","v":0},94,0,1001," ",null,{"$f":"IF(Inventory!J104<>\"\",Inventory!J104,0)","v":0},94,0,1001," ",null,0,94,0,1001," "]
[null,null,null,null,null,null,null,null,null,null,null,null,{"$f":"IF(Inventory!C105<>\"\",Inventory!C105,0)","v":0},95,0,1001," ",null,{"$f":"IF(Inventory!J105<>\"\",Inventory!J105,0)","v":0},95,0,1001," ",null,0,95,0,1001," "]
[null,null,null,null,null,null,null,null,null,null,null,null,{"$f":"IF(Inventory!C106<>\"\",Inventory!C106,0)","v":0},96,0,1001," ",null,{"$f":"IF(Inventory!J106<>\"\",Inventory!J106,0)","v":0},96,0,1001," ",null,0,96,0,1001," "]
[null,null,null,null,null,null,null,null,null,null,null,null,{"$f":"IF(Inventory!C107<>\"\",Inventory!C107,0)","v":0},97,0,1001," ",null,{"$f":"IF(Inventory!J107<>\"\",Inventory!J107,0)","v":0},97,0,1001," ",null,0,97,0,1001," "]
[null,null,null,null,null,null,null,null,null,null,null,null,{"$f":"IF(Inventory!C108<>\"\",Inventory!C108,0)","v":0},98,0,1001," ",null,{"$f":"IF(Inventory!J108<>\"\",Inventory!J108,0)","v":0},98,0,1001," ",null,0,98,0,1001," "]
[null,null,null,null,null,null,null,null,null,null,null,null,{"$f":"IF(Inventory!C109<>\"\",Inventory!C109,0)","v":0},99,0,1001," ",null,{"$f":"IF(Inventory!J109<>\"\",Inventory!J109,0)","v":0},99,0,1001," ",null,0,99,0,1001," "]
[null,null,null,null,null,null,null,null,null,null,null,null,{"$f":"IF(Inventory!C110<>\"\",Inventory!C110,0)","v":0},100,0,1001," ",null,{"$f":"IF(Inventory!J110<>\"\",Inventory!J110,0)","v":0},100,0,1001," ",null,0,100,0,1001," "]
[null,null,null,null,null,null,null,null,null,null,null,null,{"$f":"IF(Inventory!C111<>\"\",Inventory!C111,0)","v":0},101,0,1001," ",null,{"$f":"IF(Inventory!J111<>\"\",Inventory!J111,0)","v":0},101,0,1001," ",null,0,101,0,1001," "]
[null,null,null,null,null,null,null,null,null,null,null,null,{"$f":"IF(Inventory!C112<>\"\",Inventory!C112,0)","v":0},102,0,1001," ",null,{"$f":"IF(Inventory!J112<>\"\",Inventory!J112,0)","v":0},102,0,1001," ",null,0,102,0,1001," "]
[null,null,null,null,null,null,null,null,null,null,null,null,{"$f":"IF(Inventory!C113<>\"\",Inventory!C113,0)","v":0},103,0,1001," ",null,{"$f":"IF(Inventory!J113<>\"\",Inventory!J113,0)","v":0},103,0,1001," ",null,0,103,0,1001," "]
[null,null,null,null,null,null,null,null,null,null,null,null,{"$f":"IF(Inventory!C114<>\"\",Inventory!C114,0)","v":0},104,0,1001," ",null,{"$f":"IF(Inventory!J114<>\"\",Inventory!J114,0)","v":0},104,0,1001," ",null,0,104,0,1001," "]
[null,null,null,null,null,null,null,null,null,null,null,null,{"$f":"IF(Inventory!C115<>\"\",Inventory!C115,0)","v":0},105,0,1001," ",null,{"$f":"IF(Inventory!J115<>\"\",Inventory!J115,0)","v":0},105,0,1001," ",null,0,105,0,1001," "]
[null,null,null,null,null,null,null,null,null,null,null,null,{"$f":"IF(Inventory!C116<>\"\",Inventory!C116,0)","v":0},106,0,1001," ",null,{"$f":"IF(Inventory!J116<>\"\",Inventory!J116,0)","v":0},106,0,1001," ",null,0,106,0,1001," "]
[null,null,null,null,null,null,null,null,null,null,null,null,{"$f":"IF(Inventory!C117<>\"\",Inventory!C117,0)","v":0},107,0,1001," ",null,{"$f":"IF(Inventory!J117<>\"\",Inventory!J117,0)","v":0},107,0,1001," ",null,0,107,0,1001," "]
[null,null,null,null,null,null,null,null,null,null,null,null,{"$f":"IF(Inventory!C118<>\"\",Inventory!C118,0)","v":0},108,0,1001," ",null,{"$f":"IF(Inventory!J118<>\"\",Inventory!J118,0)","v":0},108,0,1001," ",null,0,108,0,1001," "]
[null,null,null,null,null,null,null,null,null,null,null,null,{"$f":"IF(Inventory!C119<>\"\",Inventory!C119,0)","v":0},109,0,1001," ",null,{"$f":"IF(Inventory!J119<>\"\",Inventory!J119,0)","v":0},109,0,1001," ",null,0,109,0,1001," "]
[null,null,null,null,null,null,null,null,null,null,null,null,{"$f":"IF(Inventory!C120<>\"\",Inventory!C120,0)","v":0},110,0,1001," ",null,{"$f":"IF(Inventory!J120<>\"\",Inventory!J120,0)","v":0},110,0,1001," ",null,0,110,0,1001," "]
[null,null,null,null,null,null,null,null,null,null,null,null,{"$f":"IF(Inventory!C121<>\"\",Inventory!C121,0)","v":0},111,0,1001," ",null,{"$f":"IF(Inventory!J121<>\"\",Inventory!J121,0)","v":0},111,0,1001," ",null,0,111,0,1001," "]
[null,null,null,null,null,null,null,null,null,null,null,null,{"$f":"IF(Inventory!C122<>\"\",Inventory!C122,0)","v":0},112,0,1001," ",null,{"$f":"IF(Inventory!J122<>\"\",Inventory!J122,0)","v":0},112,0,1001," ",null,0,112,0,1001," "]
[null,null,null,null,null,null,null,null,null,null,null,null,{"$f":"IF(Inventory!C123<>\"\",Inventory!C123,0)","v":0},113,0,1001," ",null,{"$f":"IF(Inventory!J123<>\"\",Inventory!J123,0)","v":0},113,0,1001," ",null,0,113,0,1001," "]
[null,null,null,null,null,null,null,null,null,null,null,null,{"$f":"IF(Inventory!C124<>\"\",Inventory!C124,0)","v":0},114,0,1001," ",null,{"$f":"IF(Inventory!J124<>\"\",Inventory!J124,0)","v":0},114,0,1001," ",null,0,114,0,1001," "]
[null,null,null,null,null,null,null,null,null,null,null,null,{"$f":"IF(Inventory!C125<>\"\",Inventory!C125,0)","v":0},115,0,1001," ",null,{"$f":"IF(Inventory!J125<>\"\",Inventory!J125,0)","v":0},115,0,1001," ",null,0,115,0,1001," "]
[null,null,null,null,null,null,null,null,null,null,null,null,{"$f":"IF(Inventory!C126<>\"\",Inventory!C126,0)","v":0},116,0,1001," ",null,{"$f":"IF(Inventory!J126<>\"\",Inventory!J126,0)","v":0},116,0,1001," ",null,0,116,0,1001," "]
[null,null,null,null,null,null,null,null,null,null,null,null,{"$f":"IF(Inventory!C127<>\"\",Inventory!C127,0)","v":0},117,0,1001," ",null,{"$f":"IF(Inventory!J127<>\"\",Inventory!J127,0)","v":0},117,0,1001," ",null,0,117,0,1001," "]
[null,null,null,null,null,null,null,null,null,null,null,null,{"$f":"IF(Inventory!C128<>\"\",Inventory!C128,0)","v":0},118,0,1001," ",null,{"$f":"IF(Inventory!J128<>\"\",Inventory!J128,0)","v":0},118,0,1001," ",null,0,118,0,1001," "]
[null,null,null,null,null,null,null,null,null,null,null,null,{"$f":"IF(Inventory!C129<>\"\",Inventory!C129,0)","v":0},119,0,1001," ",null,{"$f":"IF(Inventory!J129<>\"\",Inventory!J129,0)","v":0},119,0,1001," ",null,0,119,0,1001," "]
[null,null,null,null,null,null,null,null,null,null,null,null,{"$f":"IF(Inventory!C130<>\"\",Inventory!C130,0)","v":0},120,0,1001," ",null,{"$f":"IF(Inventory!J130<>\"\",Inventory!J130,0)","v":0},120,0,1001," ",null,0,120,0,1001," "]
[null,null,null,null,null,null,null,null,null,null,null,null,{"$f":"IF(Inventory!C131<>\"\",Inventory!C131,0)","v":0},121,0,1001," ",null,{"$f":"IF(Inventory!J131<>\"\",Inventory!J131,0)","v":0},121,0,1001," ",null,0,121,0,1001," "]
[null,null,null,null,null,null,null,null,null,null,null,null,{"$f":"IF(Inventory!C132<>\"\",Inventory!C132,0)","v":0},122,0,1001," ",null,{"$f":"IF(Inventory!J132<>\"\",Inventory!J132,0)","v":0},122,0,1001," ",null,0,122,0,1001," "]
[null,null,null,null,null,null,null,null,null,null,null,null,{"$f":"IF(Inventory!C133<>\"\",Inventory!C133,0)","v":0},123,0,1001," ",null,{"$f":"IF(Inventory!J133<>\"\",Inventory!J133,0)","v":0},123,0,1001," ",null,0,123,0,1001," "]
[null,null,null,null,null,null,null,null,null,null,null,null,{"$f":"IF(Inventory!C134<>\"\",Inventory!C134,0)","v":0},124,0,1001," ",null,{"$f":"IF(Inventory!J134<>\"\",Inventory!J134,0)","v":0},124,0,1001," ",null,0,124,0,1001," "]
[null,null,null,null,null,null,null,null,null,null,null,null,{"$f":"IF(Inventory!C135<>\"\",Inventory!C135,0)","v":0},125,0,1001," ",null,{"$f":"IF(Inventory!J135<>\"\",Inventory!J135,0)","v":0},125,0,1001," ",null,0,125,0,1001," "]
[null,null,null,null,null,null,null,null,null,null,null,null,{"$f":"IF(Inventory!C136<>\"\",Inventory!C136,0)","v":0},126,0,1001," ",null,{"$f":"IF(Inventory!J136<>\"\",Inventory!J136,0)","v":0},126,0,1001," ",null,0,126,0,1001," "]
[null,null,null,null,null,null,null,null,null,null,null,null,{"$f":"IF(Inventory!C137<>\"\",Inventory!C137,0)","v":0},127,0,1001," ",null,{"$f":"IF(Inventory!J137<>\"\",Inventory!J137,0)","v":0},127,0,1001," ",null,0,127,0,1001," "]
[null,null,null,null,null,null,null,null,null,null,null,null,{"$f":"IF(Inventory!C138<>\"\",Inventory!C138,0)","v":0},128,0,1001," ",null,{"$f":"IF(Inventory!J138<>\"\",Inventory!J138,0)","v":0},128,0,1001," ",null,0,128,0,1001," "]
[null,null,null,null,null,null,null,null,null,null,null,null,{"$f":"IF(Inventory!C139<>\"\",Inventory!C139,0)","v":0},129,0,1001,{"$f":"IFERROR(VLOOKUP(SMALL($P$6:$P$1005,N134),$N$6:$O$1005,2,FALSE),\" \")","v":" "},null,{"$f":"IF(Inventory!J139<>\"\",Inventory!J139,0)","v":0},129,0,1001,{"$f":"IFERROR(VLOOKUP(SMALL($V$6:$V$1005,T134),$T$6:$U$1005,2,FALSE),\" \")","v":" "},null,0,129,0,1001,{"$f":"IFERROR(VLOOKUP(SMALL($AB$6:$AB$1005,Z134),$Z$6:$AA$1005,2,FALSE),\" \")","v":" "}]
[null,null,null,null,null,null,null,null,null,null,null,null,{"$f":"IF(Inventory!C140<>\"\",Inventory!C140,0)","v":0},130,{"$f":"M135","v":0},{"$f":"IF(O135=0,MAX($N$6:$N$1005)+1,N135)","v":1001}," ",null,{"$f":"IF(Inventory!J140<>\"\",Inventory!J140,0)","v":0},130,{"$f":"S135","v":0},{"$f":"IF(U135=0,MAX($T$6:$T$1005)+1,T135)","v":1001}," ",null,{"$f":"IF(AND(M135=0,S135=0),0,IF(AND(M135<>0,S135=0),M135,IF(AND(M135=0,S135<>0),S135,IF(AND(M135<>0,S135<>0),(CONCATENATE(M135,S135))))))","v":0},130,{"$f":"Y135","v":0},{"$f":"IF(AA135=0,MAX($Z$6:$Z$1005)+1,Z135)","v":1001}," "]
[null,null,null,null,null,null,null,null,null,null,null,null,{"$f":"IF(Inventory!C141<>\"\",Inventory!C141,0)","v":0},131,0,1001," ",null,{"$f":"IF(Inventory!J141<>\"\",Inventory!J141,0)","v":0},131,0,1001," ",null,0,131,0,1001," "]
[null,null,null,null,null,null,null,null,null,null,null,null,{"$f":"IF(Inventory!C142<>\"\",Inventory!C142,0)","v":0},132,0,1001," ",null,{"$f":"IF(Inventory!J142<>\"\",Inventory!J142,0)","v":0},132,0,1001," ",null,0,132,0,1001," "]
[null,null,null,null,null,null,null,null,null,null,null,null,{"$f":"IF(Inventory!C143<>\"\",Inventory!C143,0)","v":0},133,0,1001," ",null,{"$f":"IF(Inventory!J143<>\"\",Inventory!J143,0)","v":0},133,0,1001," ",null,0,133,0,1001," "]
[null,null,null,null,null,null,null,null,null,null,null,null,{"$f":"IF(Inventory!C144<>\"\",Inventory!C144,0)","v":0},134,0,1001," ",null,{"$f":"IF(Inventory!J144<>\"\",Inventory!J144,0)","v":0},134,0,1001," ",null,0,134,0,1001," "]
[null,null,null,null,null,null,null,null,null,null,null,null,{"$f":"IF(Inventory!C145<>\"\",Inventory!C145,0)","v":0},135,0,1001," ",null,{"$f":"IF(Inventory!J145<>\"\",Inventory!J145,0)","v":0},135,0,1001," ",null,0,135,0,1001," "]
[null,null,null,null,null,null,null,null,null,null,null,null,{"$f":"IF(Inventory!C146<>\"\",Inventory!C146,0)","v":0},136,0,1001," ",null,{"$f":"IF(Inventory!J146<>\"\",Inventory!J146,0)","v":0},136,0,1001," ",null,0,136,0,1001," "]
[null,null,null,null,null,null,null,null,null,null,null,null,{"$f":"IF(Inventory!C147<>\"\",Inventory!C147,0)","v":0},137,0,1001," ",null,{"$f":"IF(Inventory!J147<>\"\",Inventory!J147,0)","v":0},137,0,1001," ",null,0,137,0,1001," "]
[null,null,null,null,null,null,null,null,null,null,null,null,{"$f":"IF(Inventory!C148<>\"\",Inventory!C148,0)","v":0},138,0,1001," ",null,{"$f":"IF(Inventory!J148<>\"\",Inventory!J148,0)","v":0},138,0,1001," ",null,0,138,0,1001," "]
[null,null,null,null,null,null,null,null,null,null,null,null,{"$f":"IF(Inventory!C149<>\"\",Inventory!C149,0)","v":0},139,0,1001," ",null,{"$f":"IF(Inventory!J149<>\"\",Inventory!J149,0)","v":0},139,0,1001," ",null,0,139,0,1001," "]
[null,null,null,null,null,null,null,null,null,null,null,null,{"$f":"IF(Inventory!C150<>\"\",Inventory!C150,0)","v":0},140,0,1001," ",null,{"$f":"IF(Inventory!J150<>\"\",Inventory!J150,0)","v":0},140,0,1001," ",null,0,140,0,1001," "]
[null,null,null,null,null,null,null,null,null,null,null,null,{"$f":"IF(Inventory!C151<>\"\",Inventory!C151,0)","v":0},141,0,1001," ",null,{"$f":"IF(Inventory!J151<>\"\",Inventory!J151,0)","v":0},141,0,1001," ",null,0,141,0,1001," "]
[null,null,null,null,null,null,null,null,null,null,null,null,{"$f":"IF(Inventory!C152<>\"\",Inventory!C152,0)","v":0},142,0,1001," ",null,{"$f":"IF(Inventory!J152<>\"\",Inventory!J152,0)","v":0},142,0,1001," ",null,0,142,0,1001," "]
[null,null,null,null,null,null,null,null,null,null,null,null,{"$f":"IF(Inventory!C153<>\"\",Inventory!C153,0)","v":0},143,0,1001," ",null,{"$f":"IF(Inventory!J153<>\"\",Inventory!J153,0)","v":0},143,0,1001," ",null,0,143,0,1001," "]
[null,null,null,null,null,null,null,null,null,null,null,null,{"$f":"IF(Inventory!C154<>\"\",Inventory!C154,0)","v":0},144,0,1001," ",null,{"$f":"IF(Inventory!J154<>\"\",Inventory!J154,0)","v":0},144,0,1001," ",null,0,144,0,1001," "]
[null,null,null,null,null,null,null,null,null,null,null,null,{"$f":"IF(Inventory!C155<>\"\",Inventory!C155,0)","v":0},145,0,1001," ",null,{"$f":"IF(Inventory!J155<>\"\",Inventory!J155,0)","v":0},145,0,1001," ",null,0,145,0,1001," "]
[null,null,null,null,null,null,null,null,null,null,null,null,{"$f":"IF(Inventory!C156<>\"\",Inventory!C156,0)","v":0},146,0,1001," ",null,{"$f":"IF(Inventory!J156<>\"\",Inventory!J156,0)","v":0},146,0,1001," ",null,0,146,0,1001," "]
[null,null,null,null,null,null,null,null,null,null,null,null,{"$f":"IF(Inventory!C157<>\"\",Inventory!C157,0)","v":0},147,0,1001," ",null,{"$f":"IF(Inventory!J157<>\"\",Inventory!J157,0)","v":0},147,0,1001," ",null,0,147,0,1001," "]
[null,null,null,null,null,null,null,null,null,null,null,null,{"$f":"IF(Inventory!C158<>\"\",Inventory!C158,0)","v":0},148,0,1001," ",null,{"$f":"IF(Inventory!J158<>\"\",Inventory!J158,0)","v":0},148,0,1001," ",null,0,148,0,1001," "]
[null,null,null,null,null,null,null,null,null,null,null,null,{"$f":"IF(Inventory!C159<>\"\",Inventory!C159,0)","v":0},149,0,1001," ",null,{"$f":"IF(Inventory!J159<>\"\",Inventory!J159,0)","v":0},149,0,1001," ",null,0,149,0,1001," "]
[null,null,null,null,null,null,null,null,null,null,null,null,{"$f":"IF(Inventory!C160<>\"\",Inventory!C160,0)","v":0},150,0,1001," ",null,{"$f":"IF(Inventory!J160<>\"\",Inventory!J160,0)","v":0},150,0,1001," ",null,0,150,0,1001," "]
[null,null,null,null,null,null,null,null,null,null,null,null,{"$f":"IF(Inventory!C161<>\"\",Inventory!C161,0)","v":0},151,0,1001," ",null,{"$f":"IF(Inventory!J161<>\"\",Inventory!J161,0)","v":0},151,0,1001," ",null,0,151,0,1001," "]
[null,null,null,null,null,null,null,null,null,null,null,null,{"$f":"IF(Inventory!C162<>\"\",Inventory!C162,0)","v":0},152,0,1001," ",null,{"$f":"IF(Inventory!J162<>\"\",Inventory!J162,0)","v":0},152,0,1001," ",null,0,152,0,1001," "]
[null,null,null,null,null,null,null,null,null,null,null,null,{"$f":"IF(Inventory!C163<>\"\",Inventory!C163,0)","v":0},153,0,1001," ",null,{"$f":"IF(Inventory!J163<>\"\",Inventory!J163,0)","v":0},153,0,1001," ",null,0,153,0,1001," "]
[null,null,null,null,null,null,null,null,null,null,null,null,{"$f":"IF(Inventory!C164<>\"\",Inventory!C164,0)","v":0},154,0,1001," ",null,{"$f":"IF(Inventory!J164<>\"\",Inventory!J164,0)","v":0},154,0,1001," ",null,0,154,0,1001," "]
[null,null,null,null,null,null,null,null,null,null,null,null,{"$f":"IF(Inventory!C165<>\"\",Inventory!C165,0)","v":0},155,0,1001," ",null,{"$f":"IF(Inventory!J165<>\"\",Inventory!J165,0)","v":0},155,0,1001," ",null,0,155,0,1001," "]
[null,null,null,null,null,null,null,null,null,null,null,null,{"$f":"IF(Inventory!C166<>\"\",Inventory!C166,0)","v":0},156,0,1001," ",null,{"$f":"IF(Inventory!J166<>\"\",Inventory!J166,0)","v":0},156,0,1001," ",null,0,156,0,1001," "]
[null,null,null,null,null,null,null,null,null,null,null,null,{"$f":"IF(Inventory!C167<>\"\",Inventory!C167,0)","v":0},157,0,1001," ",null,{"$f":"IF(Inventory!J167<>\"\",Inventory!J167,0)","v":0},157,0,1001," ",null,0,157,0,1001," "]
[null,null,null,null,null,null,null,null,null,null,null,null,{"$f":"IF(Inventory!C168<>\"\",Inventory!C168,0)","v":0},158,0,1001," ",null,{"$f":"IF(Inventory!J168<>\"\",Inventory!J168,0)","v":0},158,0,1001," ",null,0,158,0,1001," "]
[null,null,null,null,null,null,null,null,null,null,null,null,{"$f":"IF(Inventory!C169<>\"\",Inventory!C169,0)","v":0},159,0,1001," ",null,{"$f":"IF(Inventory!J169<>\"\",Inventory!J169,0)","v":0},159,0,1001," ",null,0,159,0,1001," "]
[null,null,null,null,null,null,null,null,null,null,null,null,{"$f":"IF(Inventory!C170<>\"\",Inventory!C170,0)","v":0},160,0,1001," ",null,{"$f":"IF(Inventory!J170<>\"\",Inventory!J170,0)","v":0},160,0,1001," ",null,0,160,0,1001," "]
[null,null,null,null,null,null,null,null,null,null,null,null,{"$f":"IF(Inventory!C171<>\"\",Inventory!C171,0)","v":0},161,0,1001," ",null,{"$f":"IF(Inventory!J171<>\"\",Inventory!J171,0)","v":0},161,0,1001," ",null,0,161,0,1001," "]
[null,null,null,null,null,null,null,null,null,null,null,null,{"$f":"IF(Inventory!C172<>\"\",Inventory!C172,0)","v":0},162,0,1001," ",null,{"$f":"IF(Inventory!J172<>\"\",Inventory!J172,0)","v":0},162,0,1001," ",null,0,162,0,1001," "]
[null,null,null,null,null,null,null,null,null,null,null,null,{"$f":"IF(Inventory!C173<>\"\",Inventory!C173,0)","v":0},163,0,1001," ",null,{"$f":"IF(Inventory!J173<>\"\",Inventory!J173,0)","v":0},163,0,1001," ",null,0,163,0,1001," "]
[null,null,null,null,null,null,null,null,null,null,null,null,{"$f":"IF(Inventory!C174<>\"\",Inventory!C174,0)","v":0},164,0,1001," ",null,{"$f":"IF(Inventory!J174<>\"\",Inventory!J174,0)","v":0},164,0,1001," ",null,0,164,0,1001," "]
[null,null,null,null,null,null,null,null,null,null,null,null,{"$f":"IF(Inventory!C175<>\"\",Inventory!C175,0)","v":0},165,0,1001," ",null,{"$f":"IF(Inventory!J175<>\"\",Inventory!J175,0)","v":0},165,0,1001," ",null,0,165,0,1001," "]
[null,null,null,null,null,null,null,null,null,null,null,null,{"$f":"IF(Inventory!C176<>\"\",Inventory!C176,0)","v":0},166,0,1001," ",null,{"$f":"IF(Inventory!J176<>\"\",Inventory!J176,0)","v":0},166,0,1001," ",null,0,166,0,1001," "]
[null,null,null,null,null,null,null,null,null,null,null,null,{"$f":"IF(Inventory!C177<>\"\",Inventory!C177,0)","v":0},167,0,1001," ",null,{"$f":"IF(Inventory!J177<>\"\",Inventory!J177,0)","v":0},167,0,1001," ",null,0,167,0,1001," "]
[null,null,null,null,null,null,null,null,null,null,null,null,{"$f":"IF(Inventory!C178<>\"\",Inventory!C178,0)","v":0},168,0,1001," ",null,{"$f":"IF(Inventory!J178<>\"\",Inventory!J178,0)","v":0},168,0,1001," ",null,0,168,0,1001," "]
[null,null,null,null,null,null,null,null,null,null,null,null,{"$f":"IF(Inventory!C179<>\"\",Inventory!C179,0)","v":0},169,0,1001," ",null,{"$f":"IF(Inventory!J179<>\"\",Inventory!J179,0)","v":0},169,0,1001," ",null,0,169,0,1001," "]
[null,null,null,null,null,null,null,null,null,null,null,null,{"$f":"IF(Inventory!C180<>\"\",Inventory!C180,0)","v":0},170,0,1001," ",null,{"$f":"IF(Inventory!J180<>\"\",Inventory!J180,0)","v":0},170,0,1001," ",null,0,170,0,1001," "]
[null,null,null,null,null,null,null,null,null,null,null,null,{"$f":"IF(Inventory!C181<>\"\",Inventory!C181,0)","v":0},171,0,1001," ",null,{"$f":"IF(Inventory!J181<>\"\",Inventory!J181,0)","v":0},171,0,1001," ",null,0,171,0,1001," "]
[null,null,null,null,null,null,null,null,null,null,null,null,{"$f":"IF(Inventory!C182<>\"\",Inventory!C182,0)","v":0},172,0,1001," ",null,{"$f":"IF(Inventory!J182<>\"\",Inventory!J182,0)","v":0},172,0,1001," ",null,0,172,0,1001," "]
[null,null,null,null,null,null,null,null,null,null,null,null,{"$f":"IF(Inventory!C183<>\"\",Inventory!C183,0)","v":0},173,0,1001," ",null,{"$f":"IF(Inventory!J183<>\"\",Inventory!J183,0)","v":0},173,0,1001," ",null,0,173,0,1001," "]
[null,null,null,null,null,null,null,null,null,null,null,null,{"$f":"IF(Inventory!C184<>\"\",Inventory!C184,0)","v":0},174,0,1001," ",null,{"$f":"IF(Inventory!J184<>\"\",Inventory!J184,0)","v":0},174,0,1001," ",null,0,174,0,1001," "]
[null,null,null,null,null,null,null,null,null,null,null,null,{"$f":"IF(Inventory!C185<>\"\",Inventory!C185,0)","v":0},175,0,1001," ",null,{"$f":"IF(Inventory!J185<>\"\",Inventory!J185,0)","v":0},175,0,1001," ",null,0,175,0,1001," "]
[null,null,null,null,null,null,null,null,null,null,null,null,{"$f":"IF(Inventory!C186<>\"\",Inventory!C186,0)","v":0},176,0,1001," ",null,{"$f":"IF(Inventory!J186<>\"\",Inventory!J186,0)","v":0},176,0,1001," ",null,0,176,0,1001," "]
[null,null,null,null,null,null,null,null,null,null,null,null,{"$f":"IF(Inventory!C187<>\"\",Inventory!C187,0)","v":0},177,0,1001," ",null,{"$f":"IF(Inventory!J187<>\"\",Inventory!J187,0)","v":0},177,0,1001," ",null,0,177,0,1001," "]
[null,null,null,null,null,null,null,null,null,null,null,null,{"$f":"IF(Inventory!C188<>\"\",Inventory!C188,0)","v":0},178,0,1001," ",null,{"$f":"IF(Inventory!J188<>\"\",Inventory!J188,0)","v":0},178,0,1001," ",null,0,178,0,1001," "]
[null,null,null,null,null,null,null,null,null,null,null,null,{"$f":"IF(Inventory!C189<>\"\",Inventory!C189,0)","v":0},179,0,1001," ",null,{"$f":"IF(Inventory!J189<>\"\",Inventory!J189,0)","v":0},179,0,1001," ",null,0,179,0,1001," "]
[null,null,null,null,null,null,null,null,null,null,null,null,{"$f":"IF(Inventory!C190<>\"\",Inventory!C190,0)","v":0},180,0,1001," ",null,{"$f":"IF(Inventory!J190<>\"\",Inventory!J190,0)","v":0},180,0,1001," ",null,0,180,0,1001," "]
[null,null,null,null,null,null,null,null,null,null,null,null,{"$f":"IF(Inventory!C191<>\"\",Inventory!C191,0)","v":0},181,0,1001," ",null,{"$f":"IF(Inventory!J191<>\"\",Inventory!J191,0)","v":0},181,0,1001," ",null,0,181,0,1001," "]
[null,null,null,null,null,null,null,null,null,null,null,null,{"$f":"IF(Inventory!C192<>\"\",Inventory!C192,0)","v":0},182,0,1001," ",null,{"$f":"IF(Inventory!J192<>\"\",Inventory!J192,0)","v":0},182,0,1001," ",null,0,182,0,1001," "]
[null,null,null,null,null,null,null,null,null,null,null,null,{"$f":"IF(Inventory!C193<>\"\",Inventory!C193,0)","v":0},183,0,1001," ",null,{"$f":"IF(Inventory!J193<>\"\",Inventory!J193,0)","v":0},183,0,1001," ",null,0,183,0,1001," "]
[null,null,null,null,null,null,null,null,null,null,null,null,{"$f":"IF(Inventory!C194<>\"\",Inventory!C194,0)","v":0},184,0,1001," ",null,{"$f":"IF(Inventory!J194<>\"\",Inventory!J194,0)","v":0},184,0,1001," ",null,0,184,0,1001," "]
[null,null,null,null,null,null,null,null,null,null,null,null,{"$f":"IF(Inventory!C195<>\"\",Inventory!C195,0)","v":0},185,0,1001," ",null,{"$f":"IF(Inventory!J195<>\"\",Inventory!J195,0)","v":0},185,0,1001," ",null,0,185,0,1001," "]
[null,null,null,null,null,null,null,null,null,null,null,null,{"$f":"IF(Inventory!C196<>\"\",Inventory!C196,0)","v":0},186,0,1001," ",null,{"$f":"IF(Inventory!J196<>\"\",Inventory!J196,0)","v":0},186,0,1001," ",null,0,186,0,1001," "]
[null,null,null,null,null,null,null,null,null,null,null,null,{"$f":"IF(Inventory!C197<>\"\",Inventory!C197,0)","v":0},187,0,1001," ",null,{"$f":"IF(Inventory!J197<>\"\",Inventory!J197,0)","v":0},187,0,1001," ",null,0,187,0,1001," "]
[null,null,null,null,null,null,null,null,null,null,null,null,{"$f":"IF(Inventory!C198<>\"\",Inventory!C198,0)","v":0},188,0,1001," ",null,{"$f":"IF(Inventory!J198<>\"\",Inventory!J198,0)","v":0},188,0,1001," ",null,0,188,0,1001," "]
[null,null,null,null,null,null,null,null,null,null,null,null,{"$f":"IF(Inventory!C199<>\"\",Inventory!C199,0)","v":0},189,0,1001," ",null,{"$f":"IF(Inventory!J199<>\"\",Inventory!J199,0)","v":0},189,0,1001," ",null,0,189,0,1001," "]
[null,null,null,null,null,null,null,null,null,null,null,null,{"$f":"IF(Inventory!C200<>\"\",Inventory!C200,0)","v":0},190,0,1001," ",null,{"$f":"IF(Inventory!J200<>\"\",Inventory!J200,0)","v":0},190,0,1001," ",null,0,190,0,1001," "]
[null,null,null,null,null,null,null,null,null,null,null,null,{"$f":"IF(Inventory!C201<>\"\",Inventory!C201,0)","v":0},191,0,1001," ",null,{"$f":"IF(Inventory!J201<>\"\",Inventory!J201,0)","v":0},191,0,1001," ",null,0,191,0,1001," "]
[null,null,null,null,null,null,null,null,null,null,null,null,{"$f":"IF(Inventory!C202<>\"\",Inventory!C202,0)","v":0},192,0,1001," ",null,{"$f":"IF(Inventory!J202<>\"\",Inventory!J202,0)","v":0},192,0,1001," ",null,0,192,0,1001," "]
[null,null,null,null,null,null,null,null,null,null,null,null,{"$f":"IF(Inventory!C203<>\"\",Inventory!C203,0)","v":0},193,0,1001,{"$f":"IFERROR(VLOOKUP(SMALL($P$6:$P$1005,N198),$N$6:$O$1005,2,FALSE),\" \")","v":" "},null,{"$f":"IF(Inventory!J203<>\"\",Inventory!J203,0)","v":0},193,0,1001,{"$f":"IFERROR(VLOOKUP(SMALL($V$6:$V$1005,T198),$T$6:$U$1005,2,FALSE),\" \")","v":" "},null,0,193,0,1001,{"$f":"IFERROR(VLOOKUP(SMALL($AB$6:$AB$1005,Z198),$Z$6:$AA$1005,2,FALSE),\" \")","v":" "}]
[null,null,null,null,null,null,null,null,null,null,null,null,{"$f":"IF(Inventory!C204<>\"\",Inventory!C204,0)","v":0},194,{"$f":"M199","v":0},{"$f":"IF(O199=0,MAX($N$6:$N$1005)+1,N199)","v":1001}," ",null,{"$f":"IF(Inventory!J204<>\"\",Inventory!J204,0)","v":0},194,{"$f":"S199","v":0},{"$f":"IF(U199=0,MAX($T$6:$T$1005)+1,T199)","v":1001}," ",null,{"$f":"IF(AND(M199=0,S199=0),0,IF(AND(M199<>0,S199=0),M199,IF(AND(M199=0,S199<>0),S199,IF(AND(M199<>0,S199<>0),(CONCATENATE(M199,S199))))))","v":0},194,{"$f":"Y199","v":0},{"$f":"IF(AA199=0,MAX($Z$6:$Z$1005)+1,Z199)","v":1001}," "]
[null,null,null,null,null,null,null,null,null,null,null,null,{"$f":"IF(Inventory!C205<>\"\",Inventory!C205,0)","v":0},195,0,1001," ",null,{"$f":"IF(Inventory!J205<>\"\",Inventory!J205,0)","v":0},195,0,1001," ",null,0,195,0,1001," "]
[null,null,null,null,null,null,null,null,null,null,null,null,{"$f":"IF(Inventory!C206<>\"\",Inventory!C206,0)","v":0},196,0,1001," ",null,{"$f":"IF(Inventory!J206<>\"\",Inventory!J206,0)","v":0},196,0,1001," ",null,0,196,0,1001," "]
[null,null,null,null,null,null,null,null,null,null,null,null,{"$f":"IF(Inventory!C207<>\"\",Inventory!C207,0)","v":0},197,0,1001," ",null,{"$f":"IF(Inventory!J207<>\"\",Inventory!J207,0)","v":0},197,0,1001," ",null,0,197,0,1001," "]
[null,null,null,null,null,null,null,null,null,null,null,null,{"$f":"IF(Inventory!C208<>\"\",Inventory!C208,0)","v":0},198,0,1001," ",null,{"$f":"IF(Inventory!J208<>\"\",Inventory!J208,0)","v":0},198,0,1001," ",null,0,198,0,1001," "]
[null,null,null,null,null,null,null,null,null,null,null,null,{"$f":"IF(Inventory!C209<>\"\",Inventory!C209,0)","v":0},199,0,1001," ",null,{"$f":"IF(Inventory!J209<>\"\",Inventory!J209,0)","v":0},199,0,1001," ",null,0,199,0,1001," "]
[null,null,null,null,null,null,null,null,null,null,null,null,{"$f":"IF(Inventory!C210<>\"\",Inventory!C210,0)","v":0},200,0,1001," ",null,{"$f":"IF(Inventory!J210<>\"\",Inventory!J210,0)","v":0},200,0,1001," ",null,0,200,0,1001," "]
[null,null,null,null,null,null,null,null,null,null,null,null,{"$f":"IF(Inventory!C211<>\"\",Inventory!C211,0)","v":0},201,0,1001," ",null,{"$f":"IF(Inventory!J211<>\"\",Inventory!J211,0)","v":0},201,0,1001," ",null,0,201,0,1001," "]
[null,null,null,null,null,null,null,null,null,null,null,null,{"$f":"IF(Inventory!C212<>\"\",Inventory!C212,0)","v":0},202,0,1001," ",null,{"$f":"IF(Inventory!J212<>\"\",Inventory!J212,0)","v":0},202,0,1001," ",null,0,202,0,1001," "]
[null,null,null,null,null,null,null,null,null,null,null,null,{"$f":"IF(Inventory!C213<>\"\",Inventory!C213,0)","v":0},203,0,1001," ",null,{"$f":"IF(Inventory!J213<>\"\",Inventory!J213,0)","v":0},203,0,1001," ",null,0,203,0,1001," "]
[null,null,null,null,null,null,null,null,null,null,null,null,{"$f":"IF(Inventory!C214<>\"\",Inventory!C214,0)","v":0},204,0,1001," ",null,{"$f":"IF(Inventory!J214<>\"\",Inventory!J214,0)","v":0},204,0,1001," ",null,0,204,0,1001," "]
[null,null,null,null,null,null,null,null,null,null,null,null,{"$f":"IF(Inventory!C215<>\"\",Inventory!C215,0)","v":0},205,0,1001," ",null,{"$f":"IF(Inventory!J215<>\"\",Inventory!J215,0)","v":0},205,0,1001," ",null,0,205,0,1001," "]
[null,null,null,null,null,null,null,null,null,null,null,null,{"$f":"IF(Inventory!C216<>\"\",Inventory!C216,0)","v":0},206,0,1001," ",null,{"$f":"IF(Inventory!J216<>\"\",Inventory!J216,0)","v":0},206,0,1001," ",null,0,206,0,1001," "]
[null,null,null,null,null,null,null,null,null,null,null,null,{"$f":"IF(Inventory!C217<>\"\",Inventory!C217,0)","v":0},207,0,1001," ",null,{"$f":"IF(Inventory!J217<>\"\",Inventory!J217,0)","v":0},207,0,1001," ",null,0,207,0,1001," "]
[null,null,null,null,null,null,null,null,null,null,null,null,{"$f":"IF(Inventory!C218<>\"\",Inventory!C218,0)","v":0},208,0,1001," ",null,{"$f":"IF(Inventory!J218<>\"\",Inventory!J218,0)","v":0},208,0,1001," ",null,0,208,0,1001," "]
[null,null,null,null,null,null,null,null,null,null,null,null,{"$f":"IF(Inventory!C219<>\"\",Inventory!C219,0)","v":0},209,0,1001," ",null,{"$f":"IF(Inventory!J219<>\"\",Inventory!J219,0)","v":0},209,0,1001," ",null,0,209,0,1001," "]
[null,null,null,null,null,null,null,null,null,null,null,null,{"$f":"IF(Inventory!C220<>\"\",Inventory!C220,0)","v":0},210,0,1001," ",null,{"$f":"IF(Inventory!J220<>\"\",Inventory!J220,0)","v":0},210,0,1001," ",null,0,210,0,1001," "]
[null,null,null,null,null,null,null,null,null,null,null,null,{"$f":"IF(Inventory!C221<>\"\",Inventory!C221,0)","v":0},211,0,1001," ",null,{"$f":"IF(Inventory!J221<>\"\",Inventory!J221,0)","v":0},211,0,1001," ",null,0,211,0,1001," "]
[null,null,null,null,null,null,null,null,null,null,null,null,{"$f":"IF(Inventory!C222<>\"\",Inventory!C222,0)","v":0},212,0,1001," ",null,{"$f":"IF(Inventory!J222<>\"\",Inventory!J222,0)","v":0},212,0,1001," ",null,0,212,0,1001," "]
[null,null,null,null,null,null,null,null,null,null,null,null,{"$f":"IF(Inventory!C223<>\"\",Inventory!C223,0)","v":0},213,0,1001," ",null,{"$f":"IF(Inventory!J223<>\"\",Inventory!J223,0)","v":0},213,0,1001," ",null,0,213,0,1001," "]
[null,null,null,null,null,null,null,null,null,null,null,null,{"$f":"IF(Inventory!C224<>\"\",Inventory!C224,0)","v":0},214,0,1001," ",null,{"$f":"IF(Inventory!J224<>\"\",Inventory!J224,0)","v":0},214,0,1001," ",null,0,214,0,1001," "]
[null,null,null,null,null,null,null,null,null,null,null,null,{"$f":"IF(Inventory!C225<>\"\",Inventory!C225,0)","v":0},215,0,1001," ",null,{"$f":"IF(Inventory!J225<>\"\",Inventory!J225,0)","v":0},215,0,1001," ",null,0,215,0,1001," "]
[null,null,null,null,null,null,null,null,null,null,null,null,{"$f":"IF(Inventory!C226<>\"\",Inventory!C226,0)","v":0},216,0,1001," ",null,{"$f":"IF(Inventory!J226<>\"\",Inventory!J226,0)","v":0},216,0,1001," ",null,0,216,0,1001," "]
[null,null,null,null,null,null,null,null,null,null,null,null,{"$f":"IF(Inventory!C227<>\"\",Inventory!C227,0)","v":0},217,0,1001," ",null,{"$f":"IF(Inventory!J227<>\"\",Inventory!J227,0)","v":0},217,0,1001," ",null,0,217,0,1001," "]
[null,null,null,null,null,null,null,null,null,null,null,null,{"$f":"IF(Inventory!C228<>\"\",Inventory!C228,0)","v":0},218,0,1001," ",null,{"$f":"IF(Inventory!J228<>\"\",Inventory!J228,0)","v":0},218,0,1001," ",null,0,218,0,1001," "]
[null,null,null,null,null,null,null,null,null,null,null,null,{"$f":"IF(Inventory!C229<>\"\",Inventory!C229,0)","v":0},219,0,1001," ",null,{"$f":"IF(Inventory!J229<>\"\",Inventory!J229,0)","v":0},219,0,1001," ",null,0,219,0,1001," "]
[null,null,null,null,null,null,null,null,null,null,null,null,{"$f":"IF(Inventory!C230<>\"\",Inventory!C230,0)","v":0},220,0,1001," ",null,{"$f":"IF(Inventory!J230<>\"\",Inventory!J230,0)","v":0},220,0,1001," ",null,0,220,0,1001," "]
[null,null,null,null,null,null,null,null,null,null,null,null,{"$f":"IF(Inventory!C231<>\"\",Inventory!C231,0)","v":0},221,0,1001," ",null,{"$f":"IF(Inventory!J231<>\"\",Inventory!J231,0)","v":0},221,0,1001," ",null,0,221,0,1001," "]
[null,null,null,null,null,null,null,null,null,null,null,null,{"$f":"IF(Inventory!C232<>\"\",Inventory!C232,0)","v":0},222,0,1001," ",null,{"$f":"IF(Inventory!J232<>\"\",Inventory!J232,0)","v":0},222,0,1001," ",null,0,222,0,1001," "]
[null,null,null,null,null,null,null,null,null,null,null,null,{"$f":"IF(Inventory!C233<>\"\",Inventory!C233,0)","v":0},223,0,1001," ",null,{"$f":"IF(Inventory!J233<>\"\",Inventory!J233,0)","v":0},223,0,1001," ",null,0,223,0,1001," "]
[null,null,null,null,null,null,null,null,null,null,null,null,{"$f":"IF(Inventory!C234<>\"\",Inventory!C234,0)","v":0},224,0,1001," ",null,{"$f":"IF(Inventory!J234<>\"\",Inventory!J234,0)","v":0},224,0,1001," ",null,0,224,0,1001," "]
[null,null,null,null,null,null,null,null,null,null,null,null,{"$f":"IF(Inventory!C235<>\"\",Inventory!C235,0)","v":0},225,0,1001," ",null,{"$f":"IF(Inventory!J235<>\"\",Inventory!J235,0)","v":0},225,0,1001," ",null,0,225,0,1001," "]
[null,null,null,null,null,null,null,null,null,null,null,null,{"$f":"IF(Inventory!C236<>\"\",Inventory!C236,0)","v":0},226,0,1001," ",null,{"$f":"IF(Inventory!J236<>\"\",Inventory!J236,0)","v":0},226,0,1001," ",null,0,226,0,1001," "]
[null,null,null,null,null,null,null,null,null,null,null,null,{"$f":"IF(Inventory!C237<>\"\",Inventory!C237,0)","v":0},227,0,1001," ",null,{"$f":"IF(Inventory!J237<>\"\",Inventory!J237,0)","v":0},227,0,1001," ",null,0,227,0,1001," "]
[null,null,null,null,null,null,null,null,null,null,null,null,{"$f":"IF(Inventory!C238<>\"\",Inventory!C238,0)","v":0},228,0,1001," ",null,{"$f":"IF(Inventory!J238<>\"\",Inventory!J238,0)","v":0},228,0,1001," ",null,0,228,0,1001," "]
[null,null,null,null,null,null,null,null,null,null,null,null,{"$f":"IF(Inventory!C239<>\"\",Inventory!C239,0)","v":0},229,0,1001," ",null,{"$f":"IF(Inventory!J239<>\"\",Inventory!J239,0)","v":0},229,0,1001," ",null,0,229,0,1001," "]
[null,null,null,null,null,null,null,null,null,null,null,null,{"$f":"IF(Inventory!C240<>\"\",Inventory!C240,0)","v":0},230,0,1001," ",null,{"$f":"IF(Inventory!J240<>\"\",Inventory!J240,0)","v":0},230,0,1001," ",null,0,230,0,1001," "]
[null,null,null,null,null,null,null,null,null,null,null,null,{"$f":"IF(Inventory!C241<>\"\",Inventory!C241,0)","v":0},231,0,1001," ",null,{"$f":"IF(Inventory!J241<>\"\",Inventory!J241,0)","v":0},231,0,1001," ",null,0,231,0,1001," "]
[null,null,null,null,null,null,null,null,null,null,null,null,{"$f":"IF(Inventory!C242<>\"\",Inventory!C242,0)","v":0},232,0,1001," ",null,{"$f":"IF(Inventory!J242<>\"\",Inventory!J242,0)","v":0},232,0,1001," ",null,0,232,0,1001," "]
[null,null,null,null,null,null,null,null,null,null,null,null,{"$f":"IF(Inventory!C243<>\"\",Inventory!C243,0)","v":0},233,0,1001," ",null,{"$f":"IF(Inventory!J243<>\"\",Inventory!J243,0)","v":0},233,0,1001," ",null,0,233,0,1001," "]
[null,null,null,null,null,null,null,null,null,null,null,null,{"$f":"IF(Inventory!C244<>\"\",Inventory!C244,0)","v":0},234,0,1001," ",null,{"$f":"IF(Inventory!J244<>\"\",Inventory!J244,0)","v":0},234,0,1001," ",null,0,234,0,1001," "]
[null,null,null,null,null,null,null,null,null,null,null,null,{"$f":"IF(Inventory!C245<>\"\",Inventory!C245,0)","v":0},235,0,1001," ",null,{"$f":"IF(Inventory!J245<>\"\",Inventory!J245,0)","v":0},235,0,1001," ",null,0,235,0,1001," "]
[null,null,null,null,null,null,null,null,null,null,null,null,{"$f":"IF(Inventory!C246<>\"\",Inventory!C246,0)","v":0},236,0,1001," ",null,{"$f":"IF(Inventory!J246<>\"\",Inventory!J246,0)","v":0},236,0,1001," ",null,0,236,0,1001," "]
[null,null,null,null,null,null,null,null,null,null,null,null,{"$f":"IF(Inventory!C247<>\"\",Inventory!C247,0)","v":0},237,0,1001," ",null,{"$f":"IF(Inventory!J247<>\"\",Inventory!J247,0)","v":0},237,0,1001," ",null,0,237,0,1001," "]
[null,null,null,null,null,null,null,null,null,null,null,null,{"$f":"IF(Inventory!C248<>\"\",Inventory!C248,0)","v":0},238,0,1001," ",null,{"$f":"IF(Inventory!J248<>\"\",Inventory!J248,0)","v":0},238,0,1001," ",null,0,238,0,1001," "]
[null,null,null,null,null,null,null,null,null,null,null,null,{"$f":"IF(Inventory!C249<>\"\",Inventory!C249,0)","v":0},239,0,1001," ",null,{"$f":"IF(Inventory!J249<>\"\",Inventory!J249,0)","v":0},239,0,1001," ",null,0,239,0,1001," "]
[null,null,null,null,null,null,null,null,null,null,null,null,{"$f":"IF(Inventory!C250<>\"\",Inventory!C250,0)","v":0},240,0,1001," ",null,{"$f":"IF(Inventory!J250<>\"\",Inventory!J250,0)","v":0},240,0,1001," ",null,0,240,0,1001," "]
[null,null,null,null,null,null,null,null,null,null,null,null,{"$f":"IF(Inventory!C251<>\"\",Inventory!C251,0)","v":0},241,0,1001," ",null,{"$f":"IF(Inventory!J251<>\"\",Inventory!J251,0)","v":0},241,0,1001," ",null,0,241,0,1001," "]
[null,null,null,null,null,null,null,null,null,null,null,null,{"$f":"IF(Inventory!C252<>\"\",Inventory!C252,0)","v":0},242,0,1001," ",null,{"$f":"IF(Inventory!J252<>\"\",Inventory!J252,0)","v":0},242,0,1001," ",null,0,242,0,1001," "]
[null,null,null,null,null,null,null,null,null,null,null,null,{"$f":"IF(Inventory!C253<>\"\",Inventory!C253,0)","v":0},243,0,1001," ",null,{"$f":"IF(Inventory!J253<>\"\",Inventory!J253,0)","v":0},243,0,1001," ",null,0,243,0,1001," "]
[null,null,null,null,null,null,null,null,null,null,null,null,{"$f":"IF(Inventory!C254<>\"\",Inventory!C254,0)","v":0},244,0,1001," ",null,{"$f":"IF(Inventory!J254<>\"\",Inventory!J254,0)","v":0},244,0,1001," ",null,0,244,0,1001," "]
[null,null,null,null,null,null,null,null,null,null,null,null,{"$f":"IF(Inventory!C255<>\"\",Inventory!C255,0)","v":0},245,0,1001," ",null,{"$f":"IF(Inventory!J255<>\"\",Inventory!J255,0)","v":0},245,0,1001," ",null,0,245,0,1001," "]
[null,null,null,null,null,null,null,null,null,null,null,null,{"$f":"IF(Inventory!C256<>\"\",Inventory!C256,0)","v":0},246,0,1001," ",null,{"$f":"IF(Inventory!J256<>\"\",Inventory!J256,0)","v":0},246,0,1001," ",null,0,246,0,1001," "]
[null,null,null,null,null,null,null,null,null,null,null,null,{"$f":"IF(Inventory!C257<>\"\",Inventory!C257,0)","v":0},247,0,1001," ",null,{"$f":"IF(Inventory!J257<>\"\",Inventory!J257,0)","v":0},247,0,1001," ",null,0,247,0,1001," "]
[null,null,null,null,null,null,null,null,null,null,null,null,{"$f":"IF(Inventory!C258<>\"\",Inventory!C258,0)","v":0},248,0,1001," ",null,{"$f":"IF(Inventory!J258<>\"\",Inventory!J258,0)","v":0},248,0,1001," ",null,0,248,0,1001," "]
[null,null,null,null,null,null,null,null,null,null,null,null,{"$f":"IF(Inventory!C259<>\"\",Inventory!C259,0)","v":0},249,0,1001," ",null,{"$f":"IF(Inventory!J259<>\"\",Inventory!J259,0)","v":0},249,0,1001," ",null,0,249,0,1001," "]
[null,null,null,null,null,null,null,null,null,null,null,null,{"$f":"IF(Inventory!C260<>\"\",Inventory!C260,0)","v":0},250,0,1001," ",null,{"$f":"IF(Inventory!J260<>\"\",Inventory!J260,0)","v":0},250,0,1001," ",null,0,250,0,1001," "]
[null,null,null,null,null,null,null,null,null,null,null,null,{"$f":"IF(Inventory!C261<>\"\",Inventory!C261,0)","v":0},251,0,1001," ",null,{"$f":"IF(Inventory!J261<>\"\",Inventory!J261,0)","v":0},251,0,1001," ",null,0,251,0,1001," "]
[null,null,null,null,null,null,null,null,null,null,null,null,{"$f":"IF(Inventory!C262<>\"\",Inventory!C262,0)","v":0},252,0,1001," ",null,{"$f":"IF(Inventory!J262<>\"\",Inventory!J262,0)","v":0},252,0,1001," ",null,0,252,0,1001," "]
[null,null,null,null,null,null,null,null,null,null,null,null,{"$f":"IF(Inventory!C263<>\"\",Inventory!C263,0)","v":0},253,0,1001," ",null,{"$f":"IF(Inventory!J263<>\"\",Inventory!J263,0)","v":0},253,0,1001," ",null,0,253,0,1001," "]
[null,null,null,null,null,null,null,null,null,null,null,null,{"$f":"IF(Inventory!C264<>\"\",Inventory!C264,0)","v":0},254,0,1001," ",null,{"$f":"IF(Inventory!J264<>\"\",Inventory!J264,0)","v":0},254,0,1001," ",null,0,254,0,1001," "]
[null,null,null,null,null,null,null,null,null,null,null,null,{"$f":"IF(Inventory!C265<>\"\",Inventory!C265,0)","v":0},255,0,1001," ",null,{"$f":"IF(Inventory!J265<>\"\",Inventory!J265,0)","v":0},255,0,1001," ",null,0,255,0,1001," "]
[null,null,null,null,null,null,null,null,null,null,null,null,{"$f":"IF(Inventory!C266<>\"\",Inventory!C266,0)","v":0},256,0,1001," ",null,{"$f":"IF(Inventory!J266<>\"\",Inventory!J266,0)","v":0},256,0,1001," ",null,0,256,0,1001," "]
[null,null,null,null,null,null,null,null,null,null,null,null,{"$f":"IF(Inventory!C267<>\"\",Inventory!C267,0)","v":0},257,0,1001,{"$f":"IFERROR(VLOOKUP(SMALL($P$6:$P$1005,N262),$N$6:$O$1005,2,FALSE),\" \")","v":" "},null,{"$f":"IF(Inventory!J267<>\"\",Inventory!J267,0)","v":0},257,0,1001,{"$f":"IFERROR(VLOOKUP(SMALL($V$6:$V$1005,T262),$T$6:$U$1005,2,FALSE),\" \")","v":" "},null,0,257,0,1001,{"$f":"IFERROR(VLOOKUP(SMALL($AB$6:$AB$1005,Z262),$Z$6:$AA$1005,2,FALSE),\" \")","v":" "}]
[null,null,null,null,null,null,null,null,null,null,null,null,{"$f":"IF(Inventory!C268<>\"\",Inventory!C268,0)","v":0},258,{"$f":"M263","v":0},{"$f":"IF(O263=0,MAX($N$6:$N$1005)+1,N263)","v":1001}," ",null,{"$f":"IF(Inventory!J268<>\"\",Inventory!J268,0)","v":0},258,{"$f":"S263","v":0},{"$f":"IF(U263=0,MAX($T$6:$T$1005)+1,T263)","v":1001}," ",null,{"$f":"IF(AND(M263=0,S263=0),0,IF(AND(M263<>0,S263=0),M263,IF(AND(M263=0,S263<>0),S263,IF(AND(M263<>0,S263<>0),(CONCATENATE(M263,S263))))))","v":0},258,{"$f":"Y263","v":0},{"$f":"IF(AA263=0,MAX($Z$6:$Z$1005)+1,Z263)","v":1001}," "]
[null,null,null,null,null,null,null,null,null,null,null,null,{"$f":"IF(Inventory!C269<>\"\",Inventory!C269,0)","v":0},259,0,1001," ",null,{"$f":"IF(Inventory!J269<>\"\",Inventory!J269,0)","v":0},259,0,1001," ",null,0,259,0,1001," "]
[null,null,null,null,null,null,null,null,null,null,null,null,{"$f":"IF(Inventory!C270<>\"\",Inventory!C270,0)","v":0},260,0,1001," ",null,{"$f":"IF(Inventory!J270<>\"\",Inventory!J270,0)","v":0},260,0,1001," ",null,0,260,0,1001," "]
[null,null,null,null,null,null,null,null,null,null,null,null,{"$f":"IF(Inventory!C271<>\"\",Inventory!C271,0)","v":0},261,0,1001," ",null,{"$f":"IF(Inventory!J271<>\"\",Inventory!J271,0)","v":0},261,0,1001," ",null,0,261,0,1001," "]
[null,null,null,null,null,null,null,null,null,null,null,null,{"$f":"IF(Inventory!C272<>\"\",Inventory!C272,0)","v":0},262,0,1001," ",null,{"$f":"IF(Inventory!J272<>\"\",Inventory!J272,0)","v":0},262,0,1001," ",null,0,262,0,1001," "]
[null,null,null,null,null,null,null,null,null,null,null,null,{"$f":"IF(Inventory!C273<>\"\",Inventory!C273,0)","v":0},263,0,1001," ",null,{"$f":"IF(Inventory!J273<>\"\",Inventory!J273,0)","v":0},263,0,1001," ",null,0,263,0,1001," "]
[null,null,null,null,null,null,null,null,null,null,null,null,{"$f":"IF(Inventory!C274<>\"\",Inventory!C274,0)","v":0},264,0,1001," ",null,{"$f":"IF(Inventory!J274<>\"\",Inventory!J274,0)","v":0},264,0,1001," ",null,0,264,0,1001," "]
[null,null,null,null,null,null,null,null,null,null,null,null,{"$f":"IF(Inventory!C275<>\"\",Inventory!C275,0)","v":0},265,0,1001," ",null,{"$f":"IF(Inventory!J275<>\"\",Inventory!J275,0)","v":0},265,0,1001," ",null,0,265,0,1001," "]
[null,null,null,null,null,null,null,null,null,null,null,null,{"$f":"IF(Inventory!C276<>\"\",Inventory!C276,0)","v":0},266,0,1001," ",null,{"$f":"IF(Inventory!J276<>\"\",Inventory!J276,0)","v":0},266,0,1001," ",null,0,266,0,1001," "]
[null,null,null,null,null,null,null,null,null,null,null,null,{"$f":"IF(Inventory!C277<>\"\",Inventory!C277,0)","v":0},267,0,1001," ",null,{"$f":"IF(Inventory!J277<>\"\",Inventory!J277,0)","v":0},267,0,1001," ",null,0,267,0,1001," "]
[null,null,null,null,null,null,null,null,null,null,null,null,{"$f":"IF(Inventory!C278<>\"\",Inventory!C278,0)","v":0},268,0,1001," ",null,{"$f":"IF(Inventory!J278<>\"\",Inventory!J278,0)","v":0},268,0,1001," ",null,0,268,0,1001," "]
[null,null,null,null,null,null,null,null,null,null,null,null,{"$f":"IF(Inventory!C279<>\"\",Inventory!C279,0)","v":0},269,0,1001," ",null,{"$f":"IF(Inventory!J279<>\"\",Inventory!J279,0)","v":0},269,0,1001," ",null,0,269,0,1001," "]
[null,null,null,null,null,null,null,null,null,null,null,null,{"$f":"IF(Inventory!C280<>\"\",Inventory!C280,0)","v":0},270,0,1001," ",null,{"$f":"IF(Inventory!J280<>\"\",Inventory!J280,0)","v":0},270,0,1001," ",null,0,270,0,1001," "]
[null,null,null,null,null,null,null,null,null,null,null,null,{"$f":"IF(Inventory!C281<>\"\",Inventory!C281,0)","v":0},271,0,1001," ",null,{"$f":"IF(Inventory!J281<>\"\",Inventory!J281,0)","v":0},271,0,1001," ",null,0,271,0,1001," "]
[null,null,null,null,null,null,null,null,null,null,null,null,{"$f":"IF(Inventory!C282<>\"\",Inventory!C282,0)","v":0},272,0,1001," ",null,{"$f":"IF(Inventory!J282<>\"\",Inventory!J282,0)","v":0},272,0,1001," ",null,0,272,0,1001," "]
[null,null,null,null,null,null,null,null,null,null,null,null,{"$f":"IF(Inventory!C283<>\"\",Inventory!C283,0)","v":0},273,0,1001," ",null,{"$f":"IF(Inventory!J283<>\"\",Inventory!J283,0)","v":0},273,0,1001," ",null,0,273,0,1001," "]
[null,null,null,null,null,null,null,null,null,null,null,null,{"$f":"IF(Inventory!C284<>\"\",Inventory!C284,0)","v":0},274,0,1001," ",null,{"$f":"IF(Inventory!J284<>\"\",Inventory!J284,0)","v":0},274,0,1001," ",null,0,274,0,1001," "]
[null,null,null,null,null,null,null,null,null,null,null,null,{"$f":"IF(Inventory!C285<>\"\",Inventory!C285,0)","v":0},275,0,1001," ",null,{"$f":"IF(Inventory!J285<>\"\",Inventory!J285,0)","v":0},275,0,1001," ",null,0,275,0,1001," "]
[null,null,null,null,null,null,null,null,null,null,null,null,{"$f":"IF(Inventory!C286<>\"\",Inventory!C286,0)","v":0},276,0,1001," ",null,{"$f":"IF(Inventory!J286<>\"\",Inventory!J286,0)","v":0},276,0,1001," ",null,0,276,0,1001," "]
[null,null,null,null,null,null,null,null,null,null,null,null,{"$f":"IF(Inventory!C287<>\"\",Inventory!C287,0)","v":0},277,0,1001," ",null,{"$f":"IF(Inventory!J287<>\"\",Inventory!J287,0)","v":0},277,0,1001," ",null,0,277,0,1001," "]
[null,null,null,null,null,null,null,null,null,null,null,null,{"$f":"IF(Inventory!C288<>\"\",Inventory!C288,0)","v":0},278,0,1001," ",null,{"$f":"IF(Inventory!J288<>\"\",Inventory!J288,0)","v":0},278,0,1001," ",null,0,278,0,1001," "]
[null,null,null,null,null,null,null,null,null,null,null,null,{"$f":"IF(Inventory!C289<>\"\",Inventory!C289,0)","v":0},279,0,1001," ",null,{"$f":"IF(Inventory!J289<>\"\",Inventory!J289,0)","v":0},279,0,1001," ",null,0,279,0,1001," "]
[null,null,null,null,null,null,null,null,null,null,null,null,{"$f":"IF(Inventory!C290<>\"\",Inventory!C290,0)","v":0},280,0,1001," ",null,{"$f":"IF(Inventory!J290<>\"\",Inventory!J290,0)","v":0},280,0,1001," ",null,0,280,0,1001," "]
[null,null,null,null,null,null,null,null,null,null,null,null,{"$f":"IF(Inventory!C291<>\"\",Inventory!C291,0)","v":0},281,0,1001," ",null,{"$f":"IF(Inventory!J291<>\"\",Inventory!J291,0)","v":0},281,0,1001," ",null,0,281,0,1001," "]
[null,null,null,null,null,null,null,null,null,null,null,null,{"$f":"IF(Inventory!C292<>\"\",Inventory!C292,0)","v":0},282,0,1001," ",null,{"$f":"IF(Inventory!J292<>\"\",Inventory!J292,0)","v":0},282,0,1001," ",null,0,282,0,1001," "]
[null,null,null,null,null,null,null,null,null,null,null,null,{"$f":"IF(Inventory!C293<>\"\",Inventory!C293,0)","v":0},283,0,1001," ",null,{"$f":"IF(Inventory!J293<>\"\",Inventory!J293,0)","v":0},283,0,1001," ",null,0,283,0,1001," "]
[null,null,null,null,null,null,null,null,null,null,null,null,{"$f":"IF(Inventory!C294<>\"\",Inventory!C294,0)","v":0},284,0,1001," ",null,{"$f":"IF(Inventory!J294<>\"\",Inventory!J294,0)","v":0},284,0,1001," ",null,0,284,0,1001," "]
[null,null,null,null,null,null,null,null,null,null,null,null,{"$f":"IF(Inventory!C295<>\"\",Inventory!C295,0)","v":0},285,0,1001," ",null,{"$f":"IF(Inventory!J295<>\"\",Inventory!J295,0)","v":0},285,0,1001," ",null,0,285,0,1001," "]
[null,null,null,null,null,null,null,null,null,null,null,null,{"$f":"IF(Inventory!C296<>\"\",Inventory!C296,0)","v":0},286,0,1001," ",null,{"$f":"IF(Inventory!J296<>\"\",Inventory!J296,0)","v":0},286,0,1001," ",null,0,286,0,1001," "]
[null,null,null,null,null,null,null,null,null,null,null,null,{"$f":"IF(Inventory!C297<>\"\",Inventory!C297,0)","v":0},287,0,1001," ",null,{"$f":"IF(Inventory!J297<>\"\",Inventory!J297,0)","v":0},287,0,1001," ",null,0,287,0,1001," "]
[null,null,null,null,null,null,null,null,null,null,null,null,{"$f":"IF(Inventory!C298<>\"\",Inventory!C298,0)","v":0},288,0,1001," ",null,{"$f":"IF(Inventory!J298<>\"\",Inventory!J298,0)","v":0},288,0,1001," ",null,0,288,0,1001," "]
[null,null,null,null,null,null,null,null,null,null,null,null,{"$f":"IF(Inventory!C299<>\"\",Inventory!C299,0)","v":0},289,0,1001," ",null,{"$f":"IF(Inventory!J299<>\"\",Inventory!J299,0)","v":0},289,0,1001," ",null,0,289,0,1001," "]
[null,null,null,null,null,null,null,null,null,null,null,null,{"$f":"IF(Inventory!C300<>\"\",Inventory!C300,0)","v":0},290,0,1001," ",null,{"$f":"IF(Inventory!J300<>\"\",Inventory!J300,0)","v":0},290,0,1001," ",null,0,290,0,1001," "]
[null,null,null,null,null,null,null,null,null,null,null,null,{"$f":"IF(Inventory!C301<>\"\",Inventory!C301,0)","v":0},291,0,1001," ",null,{"$f":"IF(Inventory!J301<>\"\",Inventory!J301,0)","v":0},291,0,1001," ",null,0,291,0,1001," "]
[null,null,null,null,null,null,null,null,null,null,null,null,{"$f":"IF(Inventory!C302<>\"\",Inventory!C302,0)","v":0},292,0,1001," ",null,{"$f":"IF(Inventory!J302<>\"\",Inventory!J302,0)","v":0},292,0,1001," ",null,0,292,0,1001," "]
[null,null,null,null,null,null,null,null,null,null,null,null,{"$f":"IF(Inventory!C303<>\"\",Inventory!C303,0)","v":0},293,0,1001," ",null,{"$f":"IF(Inventory!J303<>\"\",Inventory!J303,0)","v":0},293,0,1001," ",null,0,293,0,1001," "]
[null,null,null,null,null,null,null,null,null,null,null,null,{"$f":"IF(Inventory!C304<>\"\",Inventory!C304,0)","v":0},294,0,1001," ",null,{"$f":"IF(Inventory!J304<>\"\",Inventory!J304,0)","v":0},294,0,1001," ",null,0,294,0,1001," "]
[null,null,null,null,null,null,null,null,null,null,null,null,{"$f":"IF(Inventory!C305<>\"\",Inventory!C305,0)","v":0},295,0,1001," ",null,{"$f":"IF(Inventory!J305<>\"\",Inventory!J305,0)","v":0},295,0,1001," ",null,0,295,0,1001," "]
[null,null,null,null,null,null,null,null,null,null,null,null,{"$f":"IF(Inventory!C306<>\"\",Inventory!C306,0)","v":0},296,0,1001," ",null,{"$f":"IF(Inventory!J306<>\"\",Inventory!J306,0)","v":0},296,0,1001," ",null,0,296,0,1001," "]
[null,null,null,null,null,null,null,null,null,null,null,null,{"$f":"IF(Inventory!C307<>\"\",Inventory!C307,0)","v":0},297,0,1001," ",null,{"$f":"IF(Inventory!J307<>\"\",Inventory!J307,0)","v":0},297,0,1001," ",null,0,297,0,1001," "]
[null,null,null,null,null,null,null,null,null,null,null,null,{"$f":"IF(Inventory!C308<>\"\",Inventory!C308,0)","v":0},298,0,1001," ",null,{"$f":"IF(Inventory!J308<>\"\",Inventory!J308,0)","v":0},298,0,1001," ",null,0,298,0,1001," "]
[null,null,null,null,null,null,null,null,null,null,null,null,{"$f":"IF(Inventory!C309<>\"\",Inventory!C309,0)","v":0},299,0,1001," ",null,{"$f":"IF(Inventory!J309<>\"\",Inventory!J309,0)","v":0},299,0,1001," ",null,0,299,0,1001," "]
[null,null,null,null,null,null,null,null,null,null,null,null,{"$f":"IF(Inventory!C310<>\"\",Inventory!C310,0)","v":0},300,0,1001," ",null,{"$f":"IF(Inventory!J310<>\"\",Inventory!J310,0)","v":0},300,0,1001," ",null,0,300,0,1001," "]
[null,null,null,null,null,null,null,null,null,null,null,null,{"$f":"IF(Inventory!C311<>\"\",Inventory!C311,0)","v":0},301,0,1001," ",null,{"$f":"IF(Inventory!J311<>\"\",Inventory!J311,0)","v":0},301,0,1001," ",null,0,301,0,1001," "]
[null,null,null,null,null,null,null,null,null,null,null,null,{"$f":"IF(Inventory!C312<>\"\",Inventory!C312,0)","v":0},302,0,1001," ",null,{"$f":"IF(Inventory!J312<>\"\",Inventory!J312,0)","v":0},302,0,1001," ",null,0,302,0,1001," "]
[null,null,null,null,null,null,null,null,null,null,null,null,{"$f":"IF(Inventory!C313<>\"\",Inventory!C313,0)","v":0},303,0,1001," ",null,{"$f":"IF(Inventory!J313<>\"\",Inventory!J313,0)","v":0},303,0,1001," ",null,0,303,0,1001," "]
[null,null,null,null,null,null,null,null,null,null,null,null,{"$f":"IF(Inventory!C314<>\"\",Inventory!C314,0)","v":0},304,0,1001," ",null,{"$f":"IF(Inventory!J314<>\"\",Inventory!J314,0)","v":0},304,0,1001," ",null,0,304,0,1001," "]
[null,null,null,null,null,null,null,null,null,null,null,null,{"$f":"IF(Inventory!C315<>\"\",Inventory!C315,0)","v":0},305,0,1001," ",null,{"$f":"IF(Inventory!J315<>\"\",Inventory!J315,0)","v":0},305,0,1001," ",null,0,305,0,1001," "]
[null,null,null,null,null,null,null,null,null,null,null,null,{"$f":"IF(Inventory!C316<>\"\",Inventory!C316,0)","v":0},306,0,1001," ",null,{"$f":"IF(Inventory!J316<>\"\",Inventory!J316,0)","v":0},306,0,1001," ",null,0,306,0,1001," "]
[null,null,null,null,null,null,null,null,null,null,null,null,{"$f":"IF(Inventory!C317<>\"\",Inventory!C317,0)","v":0},307,0,1001," ",null,{"$f":"IF(Inventory!J317<>\"\",Inventory!J317,0)","v":0},307,0,1001," ",null,0,307,0,1001," "]
[null,null,null,null,null,null,null,null,null,null,null,null,{"$f":"IF(Inventory!C318<>\"\",Inventory!C318,0)","v":0},308,0,1001," ",null,{"$f":"IF(Inventory!J318<>\"\",Inventory!J318,0)","v":0},308,0,1001," ",null,0,308,0,1001," "]
[null,null,null,null,null,null,null,null,null,null,null,null,{"$f":"IF(Inventory!C319<>\"\",Inventory!C319,0)","v":0},309,0,1001," ",null,{"$f":"IF(Inventory!J319<>\"\",Inventory!J319,0)","v":0},309,0,1001," ",null,0,309,0,1001," "]
[null,null,null,null,null,null,null,null,null,null,null,null,{"$f":"IF(Inventory!C320<>\"\",Inventory!C320,0)","v":0},310,0,1001," ",null,{"$f":"IF(Inventory!J320<>\"\",Inventory!J320,0)","v":0},310,0,1001," ",null,0,310,0,1001," "]
[null,null,null,null,null,null,null,null,null,null,null,null,{"$f":"IF(Inventory!C321<>\"\",Inventory!C321,0)","v":0},311,0,1001," ",null,{"$f":"IF(Inventory!J321<>\"\",Inventory!J321,0)","v":0},311,0,1001," ",null,0,311,0,1001," "]
[null,null,null,null,null,null,null,null,null,null,null,null,{"$f":"IF(Inventory!C322<>\"\",Inventory!C322,0)","v":0},312,0,1001," ",null,{"$f":"IF(Inventory!J322<>\"\",Inventory!J322,0)","v":0},312,0,1001," ",null,0,312,0,1001," "]
[null,null,null,null,null,null,null,null,null,null,null,null,{"$f":"IF(Inventory!C323<>\"\",Inventory!C323,0)","v":0},313,0,1001," ",null,{"$f":"IF(Inventory!J323<>\"\",Inventory!J323,0)","v":0},313,0,1001," ",null,0,313,0,1001," "]
[null,null,null,null,null,null,null,null,null,null,null,null,{"$f":"IF(Inventory!C324<>\"\",Inventory!C324,0)","v":0},314,0,1001," ",null,{"$f":"IF(Inventory!J324<>\"\",Inventory!J324,0)","v":0},314,0,1001," ",null,0,314,0,1001," "]
[null,null,null,null,null,null,null,null,null,null,null,null,{"$f":"IF(Inventory!C325<>\"\",Inventory!C325,0)","v":0},315,0,1001," ",null,{"$f":"IF(Inventory!J325<>\"\",Inventory!J325,0)","v":0},315,0,1001," ",null,0,315,0,1001," "]
[null,null,null,null,null,null,null,null,null,null,null,null,{"$f":"IF(Inventory!C326<>\"\",Inventory!C326,0)","v":0},316,0,1001," ",null,{"$f":"IF(Inventory!J326<>\"\",Inventory!J326,0)","v":0},316,0,1001," ",null,0,316,0,1001," "]
[null,null,null,null,null,null,null,null,null,null,null,null,{"$f":"IF(Inventory!C327<>\"\",Inventory!C327,0)","v":0},317,0,1001," ",null,{"$f":"IF(Inventory!J327<>\"\",Inventory!J327,0)","v":0},317,0,1001," ",null,0,317,0,1001," "]
[null,null,null,null,null,null,null,null,null,null,null,null,{"$f":"IF(Inventory!C328<>\"\",Inventory!C328,0)","v":0},318,0,1001," ",null,{"$f":"IF(Inventory!J328<>\"\",Inventory!J328,0)","v":0},318,0,1001," ",null,0,318,0,1001," "]
[null,null,null,null,null,null,null,null,null,null,null,null,{"$f":"IF(Inventory!C329<>\"\",Inventory!C329,0)","v":0},319,0,1001," ",null,{"$f":"IF(Inventory!J329<>\"\",Inventory!J329,0)","v":0},319,0,1001," ",null,0,319,0,1001," "]
[null,null,null,null,null,null,null,null,null,null,null,null,{"$f":"IF(Inventory!C330<>\"\",Inventory!C330,0)","v":0},320,0,1001," ",null,{"$f":"IF(Inventory!J330<>\"\",Inventory!J330,0)","v":0},320,0,1001," ",null,0,320,0,1001," "]
[null,null,null,null,null,null,null,null,null,null,null,null,{"$f":"IF(Inventory!C331<>\"\",Inventory!C331,0)","v":0},321,0,1001,{"$f":"IFERROR(VLOOKUP(SMALL($P$6:$P$1005,N326),$N$6:$O$1005,2,FALSE),\" \")","v":" "},null,{"$f":"IF(Inventory!J331<>\"\",Inventory!J331,0)","v":0},321,0,1001,{"$f":"IFERROR(VLOOKUP(SMALL($V$6:$V$1005,T326),$T$6:$U$1005,2,FALSE),\" \")","v":" "},null,0,321,0,1001,{"$f":"IFERROR(VLOOKUP(SMALL($AB$6:$AB$1005,Z326),$Z$6:$AA$1005,2,FALSE),\" \")","v":" "}]
[null,null,null,null,null,null,null,null,null,null,null,null,{"$f":"IF(Inventory!C332<>\"\",Inventory!C332,0)","v":0},322,{"$f":"M327","v":0},{"$f":"IF(O327=0,MAX($N$6:$N$1005)+1,N327)","v":1001}," ",null,{"$f":"IF(Inventory!J332<>\"\",Inventory!J332,0)","v":0},322,{"$f":"S327","v":0},{"$f":"IF(U327=0,MAX($T$6:$T$1005)+1,T327)","v":1001}," ",null,{"$f":"IF(AND(M327=0,S327=0),0,IF(AND(M327<>0,S327=0),M327,IF(AND(M327=0,S327<>0),S327,IF(AND(M327<>0,S327<>0),(CONCATENATE(M327,S327))))))","v":0},322,{"$f":"Y327","v":0},{"$f":"IF(AA327=0,MAX($Z$6:$Z$1005)+1,Z327)","v":1001}," "]
[null,null,null,null,null,null,null,null,null,null,null,null,{"$f":"IF(Inventory!C333<>\"\",Inventory!C333,0)","v":0},323,0,1001," ",null,{"$f":"IF(Inventory!J333<>\"\",Inventory!J333,0)","v":0},323,0,1001," ",null,0,323,0,1001," "]
[null,null,null,null,null,null,null,null,null,null,null,null,{"$f":"IF(Inventory!C334<>\"\",Inventory!C334,0)","v":0},324,0,1001," ",null,{"$f":"IF(Inventory!J334<>\"\",Inventory!J334,0)","v":0},324,0,1001," ",null,0,324,0,1001," "]
[null,null,null,null,null,null,null,null,null,null,null,null,{"$f":"IF(Inventory!C335<>\"\",Inventory!C335,0)","v":0},325,0,1001," ",null,{"$f":"IF(Inventory!J335<>\"\",Inventory!J335,0)","v":0},325,0,1001," ",null,0,325,0,1001," "]
[null,null,null,null,null,null,null,null,null,null,null,null,{"$f":"IF(Inventory!C336<>\"\",Inventory!C336,0)","v":0},326,0,1001," ",null,{"$f":"IF(Inventory!J336<>\"\",Inventory!J336,0)","v":0},326,0,1001," ",null,0,326,0,1001," "]
[null,null,null,null,null,null,null,null,null,null,null,null,{"$f":"IF(Inventory!C337<>\"\",Inventory!C337,0)","v":0},327,0,1001," ",null,{"$f":"IF(Inventory!J337<>\"\",Inventory!J337,0)","v":0},327,0,1001," ",null,0,327,0,1001," "]
[null,null,null,null,null,null,null,null,null,null,null,null,{"$f":"IF(Inventory!C338<>\"\",Inventory!C338,0)","v":0},328,0,1001," ",null,{"$f":"IF(Inventory!J338<>\"\",Inventory!J338,0)","v":0},328,0,1001," ",null,0,328,0,1001," "]
[null,null,null,null,null,null,null,null,null,null,null,null,{"$f":"IF(Inventory!C339<>\"\",Inventory!C339,0)","v":0},329,0,1001," ",null,{"$f":"IF(Inventory!J339<>\"\",Inventory!J339,0)","v":0},329,0,1001," ",null,0,329,0,1001," "]
[null,null,null,null,null,null,null,null,null,null,null,null,{"$f":"IF(Inventory!C340<>\"\",Inventory!C340,0)","v":0},330,0,1001," ",null,{"$f":"IF(Inventory!J340<>\"\",Inventory!J340,0)","v":0},330,0,1001," ",null,0,330,0,1001," "]
[null,null,null,null,null,null,null,null,null,null,null,null,{"$f":"IF(Inventory!C341<>\"\",Inventory!C341,0)","v":0},331,0,1001," ",null,{"$f":"IF(Inventory!J341<>\"\",Inventory!J341,0)","v":0},331,0,1001," ",null,0,331,0,1001," "]
[null,null,null,null,null,null,null,null,null,null,null,null,{"$f":"IF(Inventory!C342<>\"\",Inventory!C342,0)","v":0},332,0,1001," ",null,{"$f":"IF(Inventory!J342<>\"\",Inventory!J342,0)","v":0},332,0,1001," ",null,0,332,0,1001," "]
[null,null,null,null,null,null,null,null,null,null,null,null,{"$f":"IF(Inventory!C343<>\"\",Inventory!C343,0)","v":0},333,0,1001," ",null,{"$f":"IF(Inventory!J343<>\"\",Inventory!J343,0)","v":0},333,0,1001," ",null,0,333,0,1001," "]
[null,null,null,null,null,null,null,null,null,null,null,null,{"$f":"IF(Inventory!C344<>\"\",Inventory!C344,0)","v":0},334,0,1001," ",null,{"$f":"IF(Inventory!J344<>\"\",Inventory!J344,0)","v":0},334,0,1001," ",null,0,334,0,1001," "]
[null,null,null,null,null,null,null,null,null,null,null,null,{"$f":"IF(Inventory!C345<>\"\",Inventory!C345,0)","v":0},335,0,1001," ",null,{"$f":"IF(Inventory!J345<>\"\",Inventory!J345,0)","v":0},335,0,1001," ",null,0,335,0,1001," "]
[null,null,null,null,null,null,null,null,null,null,null,null,{"$f":"IF(Inventory!C346<>\"\",Inventory!C346,0)","v":0},336,0,1001," ",null,{"$f":"IF(Inventory!J346<>\"\",Inventory!J346,0)","v":0},336,0,1001," ",null,0,336,0,1001," "]
[null,null,null,null,null,null,null,null,null,null,null,null,{"$f":"IF(Inventory!C347<>\"\",Inventory!C347,0)","v":0},337,0,1001," ",null,{"$f":"IF(Inventory!J347<>\"\",Inventory!J347,0)","v":0},337,0,1001," ",null,0,337,0,1001," "]
[null,null,null,null,null,null,null,null,null,null,null,null,{"$f":"IF(Inventory!C348<>\"\",Inventory!C348,0)","v":0},338,0,1001," ",null,{"$f":"IF(Inventory!J348<>\"\",Inventory!J348,0)","v":0},338,0,1001," ",null,0,338,0,1001," "]
[null,null,null,null,null,null,null,null,null,null,null,null,{"$f":"IF(Inventory!C349<>\"\",Inventory!C349,0)","v":0},339,0,1001," ",null,{"$f":"IF(Inventory!J349<>\"\",Inventory!J349,0)","v":0},339,0,1001," ",null,0,339,0,1001," "]
[null,null,null,null,null,null,null,null,null,null,null,null,{"$f":"IF(Inventory!C350<>\"\",Inventory!C350,0)","v":0},340,0,1001," ",null,{"$f":"IF(Inventory!J350<>\"\",Inventory!J350,0)","v":0},340,0,1001," ",null,0,340,0,1001," "]
[null,null,null,null,null,null,null,null,null,null,null,null,{"$f":"IF(Inventory!C351<>\"\",Inventory!C351,0)","v":0},341,0,1001," ",null,{"$f":"IF(Inventory!J351<>\"\",Inventory!J351,0)","v":0},341,0,1001," ",null,0,341,0,1001," "]
[null,null,null,null,null,null,null,null,null,null,null,null,{"$f":"IF(Inventory!C352<>\"\",Inventory!C352,0)","v":0},342,0,1001," ",null,{"$f":"IF(Inventory!J352<>\"\",Inventory!J352,0)","v":0},342,0,1001," ",null,0,342,0,1001," "]
[null,null,null,null,null,null,null,null,null,null,null,null,{"$f":"IF(Inventory!C353<>\"\",Inventory!C353,0)","v":0},343,0,1001," ",null,{"$f":"IF(Inventory!J353<>\"\",Inventory!J353,0)","v":0},343,0,1001," ",null,0,343,0,1001," "]
[null,null,null,null,null,null,null,null,null,null,null,null,{"$f":"IF(Inventory!C354<>\"\",Inventory!C354,0)","v":0},344,0,1001," ",null,{"$f":"IF(Inventory!J354<>\"\",Inventory!J354,0)","v":0},344,0,1001," ",null,0,344,0,1001," "]
[null,null,null,null,null,null,null,null,null,null,null,null,{"$f":"IF(Inventory!C355<>\"\",Inventory!C355,0)","v":0},345,0,1001," ",null,{"$f":"IF(Inventory!J355<>\"\",Inventory!J355,0)","v":0},345,0,1001," ",null,0,345,0,1001," "]
[null,null,null,null,null,null,null,null,null,null,null,null,{"$f":"IF(Inventory!C356<>\"\",Inventory!C356,0)","v":0},346,0,1001," ",null,{"$f":"IF(Inventory!J356<>\"\",Inventory!J356,0)","v":0},346,0,1001," ",null,0,346,0,1001," "]
[null,null,null,null,null,null,null,null,null,null,null,null,{"$f":"IF(Inventory!C357<>\"\",Inventory!C357,0)","v":0},347,0,1001," ",null,{"$f":"IF(Inventory!J357<>\"\",Inventory!J357,0)","v":0},347,0,1001," ",null,0,347,0,1001," "]
[null,null,null,null,null,null,null,null,null,null,null,null,{"$f":"IF(Inventory!C358<>\"\",Inventory!C358,0)","v":0},348,0,1001," ",null,{"$f":"IF(Inventory!J358<>\"\",Inventory!J358,0)","v":0},348,0,1001," ",null,0,348,0,1001," "]
[null,null,null,null,null,null,null,null,null,null,null,null,{"$f":"IF(Inventory!C359<>\"\",Inventory!C359,0)","v":0},349,0,1001," ",null,{"$f":"IF(Inventory!J359<>\"\",Inventory!J359,0)","v":0},349,0,1001," ",null,0,349,0,1001," "]
[null,null,null,null,null,null,null,null,null,null,null,null,{"$f":"IF(Inventory!C360<>\"\",Inventory!C360,0)","v":0},350,0,1001," ",null,{"$f":"IF(Inventory!J360<>\"\",Inventory!J360,0)","v":0},350,0,1001," ",null,0,350,0,1001," "]
[null,null,null,null,null,null,null,null,null,null,null,null,{"$f":"IF(Inventory!C361<>\"\",Inventory!C361,0)","v":0},351,0,1001," ",null,{"$f":"IF(Inventory!J361<>\"\",Inventory!J361,0)","v":0},351,0,1001," ",null,0,351,0,1001," "]
[null,null,null,null,null,null,null,null,null,null,null,null,{"$f":"IF(Inventory!C362<>\"\",Inventory!C362,0)","v":0},352,0,1001," ",null,{"$f":"IF(Inventory!J362<>\"\",Inventory!J362,0)","v":0},352,0,1001," ",null,0,352,0,1001," "]
[null,null,null,null,null,null,null,null,null,null,null,null,{"$f":"IF(Inventory!C363<>\"\",Inventory!C363,0)","v":0},353,0,1001," ",null,{"$f":"IF(Inventory!J363<>\"\",Inventory!J363,0)","v":0},353,0,1001," ",null,0,353,0,1001," "]
[null,null,null,null,null,null,null,null,null,null,null,null,{"$f":"IF(Inventory!C364<>\"\",Inventory!C364,0)","v":0},354,0,1001," ",null,{"$f":"IF(Inventory!J364<>\"\",Inventory!J364,0)","v":0},354,0,1001," ",null,0,354,0,1001," "]
[null,null,null,null,null,null,null,null,null,null,null,null,{"$f":"IF(Inventory!C365<>\"\",Inventory!C365,0)","v":0},355,0,1001," ",null,{"$f":"IF(Inventory!J365<>\"\",Inventory!J365,0)","v":0},355,0,1001," ",null,0,355,0,1001," "]
[null,null,null,null,null,null,null,null,null,null,null,null,{"$f":"IF(Inventory!C366<>\"\",Inventory!C366,0)","v":0},356,0,1001," ",null,{"$f":"IF(Inventory!J366<>\"\",Inventory!J366,0)","v":0},356,0,1001," ",null,0,356,0,1001," "]
[null,null,null,null,null,null,null,null,null,null,null,null,{"$f":"IF(Inventory!C367<>\"\",Inventory!C367,0)","v":0},357,0,1001," ",null,{"$f":"IF(Inventory!J367<>\"\",Inventory!J367,0)","v":0},357,0,1001," ",null,0,357,0,1001," "]
[null,null,null,null,null,null,null,null,null,null,null,null,{"$f":"IF(Inventory!C368<>\"\",Inventory!C368,0)","v":0},358,0,1001," ",null,{"$f":"IF(Inventory!J368<>\"\",Inventory!J368,0)","v":0},358,0,1001," ",null,0,358,0,1001," "]
[null,null,null,null,null,null,null,null,null,null,null,null,{"$f":"IF(Inventory!C369<>\"\",Inventory!C369,0)","v":0},359,0,1001," ",null,{"$f":"IF(Inventory!J369<>\"\",Inventory!J369,0)","v":0},359,0,1001," ",null,0,359,0,1001," "]
[null,null,null,null,null,null,null,null,null,null,null,null,{"$f":"IF(Inventory!C370<>\"\",Inventory!C370,0)","v":0},360,0,1001," ",null,{"$f":"IF(Inventory!J370<>\"\",Inventory!J370,0)","v":0},360,0,1001," ",null,0,360,0,1001," "]
[null,null,null,null,null,null,null,null,null,null,null,null,{"$f":"IF(Inventory!C371<>\"\",Inventory!C371,0)","v":0},361,0,1001," ",null,{"$f":"IF(Inventory!J371<>\"\",Inventory!J371,0)","v":0},361,0,1001," ",null,0,361,0,1001," "]
[null,null,null,null,null,null,null,null,null,null,null,null,{"$f":"IF(Inventory!C372<>\"\",Inventory!C372,0)","v":0},362,0,1001," ",null,{"$f":"IF(Inventory!J372<>\"\",Inventory!J372,0)","v":0},362,0,1001," ",null,0,362,0,1001," "]
[null,null,null,null,null,null,null,null,null,null,null,null,{"$f":"IF(Inventory!C373<>\"\",Inventory!C373,0)","v":0},363,0,1001," ",null,{"$f":"IF(Inventory!J373<>\"\",Inventory!J373,0)","v":0},363,0,1001," ",null,0,363,0,1001," "]
[null,null,null,null,null,null,null,null,null,null,null,null,{"$f":"IF(Inventory!C374<>\"\",Inventory!C374,0)","v":0},364,0,1001," ",null,{"$f":"IF(Inventory!J374<>\"\",Inventory!J374,0)","v":0},364,0,1001," ",null,0,364,0,1001," "]
[null,null,null,null,null,null,null,null,null,null,null,null,{"$f":"IF(Inventory!C375<>\"\",Inventory!C375,0)","v":0},365,0,1001," ",null,{"$f":"IF(Inventory!J375<>\"\",Inventory!J375,0)","v":0},365,0,1001," ",null,0,365,0,1001," "]
[null,null,null,null,null,null,null,null,null,null,null,null,{"$f":"IF(Inventory!C376<>\"\",Inventory!C376,0)","v":0},366,0,1001," ",null,{"$f":"IF(Inventory!J376<>\"\",Inventory!J376,0)","v":0},366,0,1001," ",null,0,366,0,1001," "]
[null,null,null,null,null,null,null,null,null,null,null,null,{"$f":"IF(Inventory!C377<>\"\",Inventory!C377,0)","v":0},367,0,1001," ",null,{"$f":"IF(Inventory!J377<>\"\",Inventory!J377,0)","v":0},367,0,1001," ",null,0,367,0,1001," "]
[null,null,null,null,null,null,null,null,null,null,null,null,{"$f":"IF(Inventory!C378<>\"\",Inventory!C378,0)","v":0},368,0,1001," ",null,{"$f":"IF(Inventory!J378<>\"\",Inventory!J378,0)","v":0},368,0,1001," ",null,0,368,0,1001," "]
[null,null,null,null,null,null,null,null,null,null,null,null,{"$f":"IF(Inventory!C379<>\"\",Inventory!C379,0)","v":0},369,0,1001," ",null,{"$f":"IF(Inventory!J379<>\"\",Inventory!J379,0)","v":0},369,0,1001," ",null,0,369,0,1001," "]
[null,null,null,null,null,null,null,null,null,null,null,null,{"$f":"IF(Inventory!C380<>\"\",Inventory!C380,0)","v":0},370,0,1001," ",null,{"$f":"IF(Inventory!J380<>\"\",Inventory!J380,0)","v":0},370,0,1001," ",null,0,370,0,1001," "]
[null,null,null,null,null,null,null,null,null,null,null,null,{"$f":"IF(Inventory!C381<>\"\",Inventory!C381,0)","v":0},371,0,1001," ",null,{"$f":"IF(Inventory!J381<>\"\",Inventory!J381,0)","v":0},371,0,1001," ",null,0,371,0,1001," "]
[null,null,null,null,null,null,null,null,null,null,null,null,{"$f":"IF(Inventory!C382<>\"\",Inventory!C382,0)","v":0},372,0,1001," ",null,{"$f":"IF(Inventory!J382<>\"\",Inventory!J382,0)","v":0},372,0,1001," ",null,0,372,0,1001," "]
[null,null,null,null,null,null,null,null,null,null,null,null,{"$f":"IF(Inventory!C383<>\"\",Inventory!C383,0)","v":0},373,0,1001," ",null,{"$f":"IF(Inventory!J383<>\"\",Inventory!J383,0)","v":0},373,0,1001," ",null,0,373,0,1001," "]
[null,null,null,null,null,null,null,null,null,null,null,null,{"$f":"IF(Inventory!C384<>\"\",Inventory!C384,0)","v":0},374,0,1001," ",null,{"$f":"IF(Inventory!J384<>\"\",Inventory!J384,0)","v":0},374,0,1001," ",null,0,374,0,1001," "]
[null,null,null,null,null,null,null,null,null,null,null,null,{"$f":"IF(Inventory!C385<>\"\",Inventory!C385,0)","v":0},375,0,1001," ",null,{"$f":"IF(Inventory!J385<>\"\",Inventory!J385,0)","v":0},375,0,1001," ",null,0,375,0,1001," "]
[null,null,null,null,null,null,null,null,null,null,null,null,{"$f":"IF(Inventory!C386<>\"\",Inventory!C386,0)","v":0},376,0,1001," ",null,{"$f":"IF(Inventory!J386<>\"\",Inventory!J386,0)","v":0},376,0,1001," ",null,0,376,0,1001," "]
[null,null,null,null,null,null,null,null,null,null,null,null,{"$f":"IF(Inventory!C387<>\"\",Inventory!C387,0)","v":0},377,0,1001," ",null,{"$f":"IF(Inventory!J387<>\"\",Inventory!J387,0)","v":0},377,0,1001," ",null,0,377,0,1001," "]
[null,null,null,null,null,null,null,null,null,null,null,null,{"$f":"IF(Inventory!C388<>\"\",Inventory!C388,0)","v":0},378,0,1001," ",null,{"$f":"IF(Inventory!J388<>\"\",Inventory!J388,0)","v":0},378,0,1001," ",null,0,378,0,1001," "]
[null,null,null,null,null,null,null,null,null,null,null,null,{"$f":"IF(Inventory!C389<>\"\",Inventory!C389,0)","v":0},379,0,1001," ",null,{"$f":"IF(Inventory!J389<>\"\",Inventory!J389,0)","v":0},379,0,1001," ",null,0,379,0,1001," "]
[null,null,null,null,null,null,null,null,null,null,null,null,{"$f":"IF(Inventory!C390<>\"\",Inventory!C390,0)","v":0},380,0,1001," ",null,{"$f":"IF(Inventory!J390<>\"\",Inventory!J390,0)","v":0},380,0,1001," ",null,0,380,0,1001," "]
[null,null,null,null,null,null,null,null,null,null,null,null,{"$f":"IF(Inventory!C391<>\"\",Inventory!C391,0)","v":0},381,0,1001," ",null,{"$f":"IF(Inventory!J391<>\"\",Inventory!J391,0)","v":0},381,0,1001," ",null,0,381,0,1001," "]
[null,null,null,null,null,null,null,null,null,null,null,null,{"$f":"IF(Inventory!C392<>\"\",Inventory!C392,0)","v":0},382,0,1001," ",null,{"$f":"IF(Inventory!J392<>\"\",Inventory!J392,0)","v":0},382,0,1001," ",null,0,382,0,1001," "]
[null,null,null,null,null,null,null,null,null,null,null,null,{"$f":"IF(Inventory!C393<>\"\",Inventory!C393,0)","v":0},383,0,1001," ",null,{"$f":"IF(Inventory!J393<>\"\",Inventory!J393,0)","v":0},383,0,1001," ",null,0,383,0,1001," "]
[null,null,null,null,null,null,null,null,null,null,null,null,{"$f":"IF(Inventory!C394<>\"\",Inventory!C394,0)","v":0},384,0,1001," ",null,{"$f":"IF(Inventory!J394<>\"\",Inventory!J394,0)","v":0},384,0,1001," ",null,0,384,0,1001," "]
[null,null,null,null,null,null,null,null,null,null,null,null,{"$f":"IF(Inventory!C395<>\"\",Inventory!C395,0)","v":0},385,0,1001,{"$f":"IFERROR(VLOOKUP(SMALL($P$6:$P$1005,N390),$N$6:$O$1005,2,FALSE),\" \")","v":" "},null,{"$f":"IF(Inventory!J395<>\"\",Inventory!J395,0)","v":0},385,0,1001,{"$f":"IFERROR(VLOOKUP(SMALL($V$6:$V$1005,T390),$T$6:$U$1005,2,FALSE),\" \")","v":" "},null,0,385,0,1001,{"$f":"IFERROR(VLOOKUP(SMALL($AB$6:$AB$1005,Z390),$Z$6:$AA$1005,2,FALSE),\" \")","v":" "}]
[null,null,null,null,null,null,null,null,null,null,null,null,{"$f":"IF(Inventory!C396<>\"\",Inventory!C396,0)","v":0},386,{"$f":"M391","v":0},{"$f":"IF(O391=0,MAX($N$6:$N$1005)+1,N391)","v":1001}," ",null,{"$f":"IF(Inventory!J396<>\"\",Inventory!J396,0)","v":0},386,{"$f":"S391","v":0},{"$f":"IF(U391=0,MAX($T$6:$T$1005)+1,T391)","v":1001}," ",null,{"$f":"IF(AND(M391=0,S391=0),0,IF(AND(M391<>0,S391=0),M391,IF(AND(M391=0,S391<>0),S391,IF(AND(M391<>0,S391<>0),(CONCATENATE(M391,S391))))))","v":0},386,{"$f":"Y391","v":0},{"$f":"IF(AA391=0,MAX($Z$6:$Z$1005)+1,Z391)","v":1001}," "]
[null,null,null,null,null,null,null,null,null,null,null,null,{"$f":"IF(Inventory!C397<>\"\",Inventory!C397,0)","v":0},387,0,1001," ",null,{"$f":"IF(Inventory!J397<>\"\",Inventory!J397,0)","v":0},387,0,1001," ",null,0,387,0,1001," "]
[null,null,null,null,null,null,null,null,null,null,null,null,{"$f":"IF(Inventory!C398<>\"\",Inventory!C398,0)","v":0},388,0,1001," ",null,{"$f":"IF(Inventory!J398<>\"\",Inventory!J398,0)","v":0},388,0,1001," ",null,0,388,0,1001," "]
[null,null,null,null,null,null,null,null,null,null,null,null,{"$f":"IF(Inventory!C399<>\"\",Inventory!C399,0)","v":0},389,0,1001," ",null,{"$f":"IF(Inventory!J399<>\"\",Inventory!J399,0)","v":0},389,0,1001," ",null,0,389,0,1001," "]
[null,null,null,null,null,null,null,null,null,null,null,null,{"$f":"IF(Inventory!C400<>\"\",Inventory!C400,0)","v":0},390,0,1001," ",null,{"$f":"IF(Inventory!J400<>\"\",Inventory!J400,0)","v":0},390,0,1001," ",null,0,390,0,1001," "]
[null,null,null,null,null,null,null,null,null,null,null,null,{"$f":"IF(Inventory!C401<>\"\",Inventory!C401,0)","v":0},391,0,1001," ",null,{"$f":"IF(Inventory!J401<>\"\",Inventory!J401,0)","v":0},391,0,1001," ",null,0,391,0,1001," "]
[null,null,null,null,null,null,null,null,null,null,null,null,{"$f":"IF(Inventory!C402<>\"\",Inventory!C402,0)","v":0},392,0,1001," ",null,{"$f":"IF(Inventory!J402<>\"\",Inventory!J402,0)","v":0},392,0,1001," ",null,0,392,0,1001," "]
[null,null,null,null,null,null,null,null,null,null,null,null,{"$f":"IF(Inventory!C403<>\"\",Inventory!C403,0)","v":0},393,0,1001," ",null,{"$f":"IF(Inventory!J403<>\"\",Inventory!J403,0)","v":0},393,0,1001," ",null,0,393,0,1001," "]
[null,null,null,null,null,null,null,null,null,null,null,null,{"$f":"IF(Inventory!C404<>\"\",Inventory!C404,0)","v":0},394,0,1001," ",null,{"$f":"IF(Inventory!J404<>\"\",Inventory!J404,0)","v":0},394,0,1001," ",null,0,394,0,1001," "]
[null,null,null,null,null,null,null,null,null,null,null,null,{"$f":"IF(Inventory!C405<>\"\",Inventory!C405,0)","v":0},395,0,1001," ",null,{"$f":"IF(Inventory!J405<>\"\",Inventory!J405,0)","v":0},395,0,1001," ",null,0,395,0,1001," "]
[null,null,null,null,null,null,null,null,null,null,null,null,{"$f":"IF(Inventory!C406<>\"\",Inventory!C406,0)","v":0},396,0,1001," ",null,{"$f":"IF(Inventory!J406<>\"\",Inventory!J406,0)","v":0},396,0,1001," ",null,0,396,0,1001," "]
[null,null,null,null,null,null,null,null,null,null,null,null,{"$f":"IF(Inventory!C407<>\"\",Inventory!C407,0)","v":0},397,0,1001," ",null,{"$f":"IF(Inventory!J407<>\"\",Inventory!J407,0)","v":0},397,0,1001," ",null,0,397,0,1001," "]
[null,null,null,null,null,null,null,null,null,null,null,null,{"$f":"IF(Inventory!C408<>\"\",Inventory!C408,0)","v":0},398,0,1001," ",null,{"$f":"IF(Inventory!J408<>\"\",Inventory!J408,0)","v":0},398,0,1001," ",null,0,398,0,1001," "]
[null,null,null,null,null,null,null,null,null,null,null,null,{"$f":"IF(Inventory!C409<>\"\",Inventory!C409,0)","v":0},399,0,1001," ",null,{"$f":"IF(Inventory!J409<>\"\",Inventory!J409,0)","v":0},399,0,1001," ",null,0,399,0,1001," "]
[null,null,null,null,null,null,null,null,null,null,null,null,{"$f":"IF(Inventory!C410<>\"\",Inventory!C410,0)","v":0},400,0,1001," ",null,{"$f":"IF(Inventory!J410<>\"\",Inventory!J410,0)","v":0},400,0,1001," ",null,0,400,0,1001," "]
[null,null,null,null,null,null,null,null,null,null,null,null,{"$f":"IF(Inventory!C411<>\"\",Inventory!C411,0)","v":0},401,0,1001," ",null,{"$f":"IF(Inventory!J411<>\"\",Inventory!J411,0)","v":0},401,0,1001," ",null,0,401,0,1001," "]
[null,null,null,null,null,null,null,null,null,null,null,null,{"$f":"IF(Inventory!C412<>\"\",Inventory!C412,0)","v":0},402,0,1001," ",null,{"$f":"IF(Inventory!J412<>\"\",Inventory!J412,0)","v":0},402,0,1001," ",null,0,402,0,1001," "]
[null,null,null,null,null,null,null,null,null,null,null,null,{"$f":"IF(Inventory!C413<>\"\",Inventory!C413,0)","v":0},403,0,1001," ",null,{"$f":"IF(Inventory!J413<>\"\",Inventory!J413,0)","v":0},403,0,1001," ",null,0,403,0,1001," "]
[null,null,null,null,null,null,null,null,null,null,null,null,{"$f":"IF(Inventory!C414<>\"\",Inventory!C414,0)","v":0},404,0,1001," ",null,{"$f":"IF(Inventory!J414<>\"\",Inventory!J414,0)","v":0},404,0,1001," ",null,0,404,0,1001," "]
[null,null,null,null,null,null,null,null,null,null,null,null,{"$f":"IF(Inventory!C415<>\"\",Inventory!C415,0)","v":0},405,0,1001," ",null,{"$f":"IF(Inventory!J415<>\"\",Inventory!J415,0)","v":0},405,0,1001," ",null,0,405,0,1001," "]
[null,null,null,null,null,null,null,null,null,null,null,null,{"$f":"IF(Inventory!C416<>\"\",Inventory!C416,0)","v":0},406,0,1001," ",null,{"$f":"IF(Inventory!J416<>\"\",Inventory!J416,0)","v":0},406,0,1001," ",null,0,406,0,1001," "]
[null,null,null,null,null,null,null,null,null,null,null,null,{"$f":"IF(Inventory!C417<>\"\",Inventory!C417,0)","v":0},407,0,1001," ",null,{"$f":"IF(Inventory!J417<>\"\",Inventory!J417,0)","v":0},407,0,1001," ",null,0,407,0,1001," "]
[null,null,null,null,null,null,null,null,null,null,null,null,{"$f":"IF(Inventory!C418<>\"\",Inventory!C418,0)","v":0},408,0,1001," ",null,{"$f":"IF(Inventory!J418<>\"\",Inventory!J418,0)","v":0},408,0,1001," ",null,0,408,0,1001," "]
[null,null,null,null,null,null,null,null,null,null,null,null,{"$f":"IF(Inventory!C419<>\"\",Inventory!C419,0)","v":0},409,0,1001," ",null,{"$f":"IF(Inventory!J419<>\"\",Inventory!J419,0)","v":0},409,0,1001," ",null,0,409,0,1001," "]
[null,null,null,null,null,null,null,null,null,null,null,null,{"$f":"IF(Inventory!C420<>\"\",Inventory!C420,0)","v":0},410,0,1001," ",null,{"$f":"IF(Inventory!J420<>\"\",Inventory!J420,0)","v":0},410,0,1001," ",null,0,410,0,1001," "]
[null,null,null,null,null,null,null,null,null,null,null,null,{"$f":"IF(Inventory!C421<>\"\",Inventory!C421,0)","v":0},411,0,1001," ",null,{"$f":"IF(Inventory!J421<>\"\",Inventory!J421,0)","v":0},411,0,1001," ",null,0,411,0,1001," "]
[null,null,null,null,null,null,null,null,null,null,null,null,{"$f":"IF(Inventory!C422<>\"\",Inventory!C422,0)","v":0},412,0,1001," ",null,{"$f":"IF(Inventory!J422<>\"\",Inventory!J422,0)","v":0},412,0,1001," ",null,0,412,0,1001," "]
[null,null,null,null,null,null,null,null,null,null,null,null,{"$f":"IF(Inventory!C423<>\"\",Inventory!C423,0)","v":0},413,0,1001," ",null,{"$f":"IF(Inventory!J423<>\"\",Inventory!J423,0)","v":0},413,0,1001," ",null,0,413,0,1001," "]
[null,null,null,null,null,null,null,null,null,null,null,null,{"$f":"IF(Inventory!C424<>\"\",Inventory!C424,0)","v":0},414,0,1001," ",null,{"$f":"IF(Inventory!J424<>\"\",Inventory!J424,0)","v":0},414,0,1001," ",null,0,414,0,1001," "]
[null,null,null,null,null,null,null,null,null,null,null,null,{"$f":"IF(Inventory!C425<>\"\",Inventory!C425,0)","v":0},415,0,1001," ",null,{"$f":"IF(Inventory!J425<>\"\",Inventory!J425,0)","v":0},415,0,1001," ",null,0,415,0,1001," "]
[null,null,null,null,null,null,null,null,null,null,null,null,{"$f":"IF(Inventory!C426<>\"\",Inventory!C426,0)","v":0},416,0,1001," ",null,{"$f":"IF(Inventory!J426<>\"\",Inventory!J426,0)","v":0},416,0,1001," ",null,0,416,0,1001," "]
[null,null,null,null,null,null,null,null,null,null,null,null,{"$f":"IF(Inventory!C427<>\"\",Inventory!C427,0)","v":0},417,0,1001," ",null,{"$f":"IF(Inventory!J427<>\"\",Inventory!J427,0)","v":0},417,0,1001," ",null,0,417,0,1001," "]
[null,null,null,null,null,null,null,null,null,null,null,null,{"$f":"IF(Inventory!C428<>\"\",Inventory!C428,0)","v":0},418,0,1001," ",null,{"$f":"IF(Inventory!J428<>\"\",Inventory!J428,0)","v":0},418,0,1001," ",null,0,418,0,1001," "]
[null,null,null,null,null,null,null,null,null,null,null,null,{"$f":"IF(Inventory!C429<>\"\",Inventory!C429,0)","v":0},419,0,1001," ",null,{"$f":"IF(Inventory!J429<>\"\",Inventory!J429,0)","v":0},419,0,1001," ",null,0,419,0,1001," "]
[null,null,null,null,null,null,null,null,null,null,null,null,{"$f":"IF(Inventory!C430<>\"\",Inventory!C430,0)","v":0},420,0,1001," ",null,{"$f":"IF(Inventory!J430<>\"\",Inventory!J430,0)","v":0},420,0,1001," ",null,0,420,0,1001," "]
[null,null,null,null,null,null,null,null,null,null,null,null,{"$f":"IF(Inventory!C431<>\"\",Inventory!C431,0)","v":0},421,0,1001," ",null,{"$f":"IF(Inventory!J431<>\"\",Inventory!J431,0)","v":0},421,0,1001," ",null,0,421,0,1001," "]
[null,null,null,null,null,null,null,null,null,null,null,null,{"$f":"IF(Inventory!C432<>\"\",Inventory!C432,0)","v":0},422,0,1001," ",null,{"$f":"IF(Inventory!J432<>\"\",Inventory!J432,0)","v":0},422,0,1001," ",null,0,422,0,1001," "]
[null,null,null,null,null,null,null,null,null,null,null,null,{"$f":"IF(Inventory!C433<>\"\",Inventory!C433,0)","v":0},423,0,1001," ",null,{"$f":"IF(Inventory!J433<>\"\",Inventory!J433,0)","v":0},423,0,1001," ",null,0,423,0,1001," "]
[null,null,null,null,null,null,null,null,null,null,null,null,{"$f":"IF(Inventory!C434<>\"\",Inventory!C434,0)","v":0},424,0,1001," ",null,{"$f":"IF(Inventory!J434<>\"\",Inventory!J434,0)","v":0},424,0,1001," ",null,0,424,0,1001," "]
[null,null,null,null,null,null,null,null,null,null,null,null,{"$f":"IF(Inventory!C435<>\"\",Inventory!C435,0)","v":0},425,0,1001," ",null,{"$f":"IF(Inventory!J435<>\"\",Inventory!J435,0)","v":0},425,0,1001," ",null,0,425,0,1001," "]
[null,null,null,null,null,null,null,null,null,null,null,null,{"$f":"IF(Inventory!C436<>\"\",Inventory!C436,0)","v":0},426,0,1001," ",null,{"$f":"IF(Inventory!J436<>\"\",Inventory!J436,0)","v":0},426,0,1001," ",null,0,426,0,1001," "]
[null,null,null,null,null,null,null,null,null,null,null,null,{"$f":"IF(Inventory!C437<>\"\",Inventory!C437,0)","v":0},427,0,1001," ",null,{"$f":"IF(Inventory!J437<>\"\",Inventory!J437,0)","v":0},427,0,1001," ",null,0,427,0,1001," "]
[null,null,null,null,null,null,null,null,null,null,null,null,{"$f":"IF(Inventory!C438<>\"\",Inventory!C438,0)","v":0},428,0,1001," ",null,{"$f":"IF(Inventory!J438<>\"\",Inventory!J438,0)","v":0},428,0,1001," ",null,0,428,0,1001," "]
[null,null,null,null,null,null,null,null,null,null,null,null,{"$f":"IF(Inventory!C439<>\"\",Inventory!C439,0)","v":0},429,0,1001," ",null,{"$f":"IF(Inventory!J439<>\"\",Inventory!J439,0)","v":0},429,0,1001," ",null,0,429,0,1001," "]
[null,null,null,null,null,null,null,null,null,null,null,null,{"$f":"IF(Inventory!C440<>\"\",Inventory!C440,0)","v":0},430,0,1001," ",null,{"$f":"IF(Inventory!J440<>\"\",Inventory!J440,0)","v":0},430,0,1001," ",null,0,430,0,1001," "]
[null,null,null,null,null,null,null,null,null,null,null,null,{"$f":"IF(Inventory!C441<>\"\",Inventory!C441,0)","v":0},431,0,1001," ",null,{"$f":"IF(Inventory!J441<>\"\",Inventory!J441,0)","v":0},431,0,1001," ",null,0,431,0,1001," "]
[null,null,null,null,null,null,null,null,null,null,null,null,{"$f":"IF(Inventory!C442<>\"\",Inventory!C442,0)","v":0},432,0,1001," ",null,{"$f":"IF(Inventory!J442<>\"\",Inventory!J442,0)","v":0},432,0,1001," ",null,0,432,0,1001," "]
[null,null,null,null,null,null,null,null,null,null,null,null,{"$f":"IF(Inventory!C443<>\"\",Inventory!C443,0)","v":0},433,0,1001," ",null,{"$f":"IF(Inventory!J443<>\"\",Inventory!J443,0)","v":0},433,0,1001," ",null,0,433,0,1001," "]
[null,null,null,null,null,null,null,null,null,null,null,null,{"$f":"IF(Inventory!C444<>\"\",Inventory!C444,0)","v":0},434,0,1001," ",null,{"$f":"IF(Inventory!J444<>\"\",Inventory!J444,0)","v":0},434,0,1001," ",null,0,434,0,1001," "]
[null,null,null,null,null,null,null,null,null,null,null,null,{"$f":"IF(Inventory!C445<>\"\",Inventory!C445,0)","v":0},435,0,1001," ",null,{"$f":"IF(Inventory!J445<>\"\",Inventory!J445,0)","v":0},435,0,1001," ",null,0,435,0,1001," "]
[null,null,null,null,null,null,null,null,null,null,null,null,{"$f":"IF(Inventory!C446<>\"\",Inventory!C446,0)","v":0},436,0,1001," ",null,{"$f":"IF(Inventory!J446<>\"\",Inventory!J446,0)","v":0},436,0,1001," ",null,0,436,0,1001," "]
[null,null,null,null,null,null,null,null,null,null,null,null,{"$f":"IF(Inventory!C447<>\"\",Inventory!C447,0)","v":0},437,0,1001," ",null,{"$f":"IF(Inventory!J447<>\"\",Inventory!J447,0)","v":0},437,0,1001," ",null,0,437,0,1001," "]
[null,null,null,null,null,null,null,null,null,null,null,null,{"$f":"IF(Inventory!C448<>\"\",Inventory!C448,0)","v":0},438,0,1001," ",null,{"$f":"IF(Inventory!J448<>\"\",Inventory!J448,0)","v":0},438,0,1001," ",null,0,438,0,1001," "]
[null,null,null,null,null,null,null,null,null,null,null,null,{"$f":"IF(Inventory!C449<>\"\",Inventory!C449,0)","v":0},439,0,1001," ",null,{"$f":"IF(Inventory!J449<>\"\",Inventory!J449,0)","v":0},439,0,1001," ",null,0,439,0,1001," "]
[null,null,null,null,null,null,null,null,null,null,null,null,{"$f":"IF(Inventory!C450<>\"\",Inventory!C450,0)","v":0},440,0,1001," ",null,{"$f":"IF(Inventory!J450<>\"\",Inventory!J450,0)","v":0},440,0,1001," ",null,0,440,0,1001," "]
[null,null,null,null,null,null,null,null,null,null,null,null,{"$f":"IF(Inventory!C451<>\"\",Inventory!C451,0)","v":0},441,0,1001," ",null,{"$f":"IF(Inventory!J451<>\"\",Inventory!J451,0)","v":0},441,0,1001," ",null,0,441,0,1001," "]
[null,null,null,null,null,null,null,null,null,null,null,null,{"$f":"IF(Inventory!C452<>\"\",Inventory!C452,0)","v":0},442,0,1001," ",null,{"$f":"IF(Inventory!J452<>\"\",Inventory!J452,0)","v":0},442,0,1001," ",null,0,442,0,1001," "]
[null,null,null,null,null,null,null,null,null,null,null,null,{"$f":"IF(Inventory!C453<>\"\",Inventory!C453,0)","v":0},443,0,1001," ",null,{"$f":"IF(Inventory!J453<>\"\",Inventory!J453,0)","v":0},443,0,1001," ",null,0,443,0,1001," "]
[null,null,null,null,null,null,null,null,null,null,null,null,{"$f":"IF(Inventory!C454<>\"\",Inventory!C454,0)","v":0},444,0,1001," ",null,{"$f":"IF(Inventory!J454<>\"\",Inventory!J454,0)","v":0},444,0,1001," ",null,0,444,0,1001," "]
[null,null,null,null,null,null,null,null,null,null,null,null,{"$f":"IF(Inventory!C455<>\"\",Inventory!C455,0)","v":0},445,0,1001," ",null,{"$f":"IF(Inventory!J455<>\"\",Inventory!J455,0)","v":0},445,0,1001," ",null,0,445,0,1001," "]
[null,null,null,null,null,null,null,null,null,null,null,null,{"$f":"IF(Inventory!C456<>\"\",Inventory!C456,0)","v":0},446,0,1001," ",null,{"$f":"IF(Inventory!J456<>\"\",Inventory!J456,0)","v":0},446,0,1001," ",null,0,446,0,1001," "]
[null,null,null,null,null,null,null,null,null,null,null,null,{"$f":"IF(Inventory!C457<>\"\",Inventory!C457,0)","v":0},447,0,1001," ",null,{"$f":"IF(Inventory!J457<>\"\",Inventory!J457,0)","v":0},447,0,1001," ",null,0,447,0,1001," "]
[null,null,null,null,null,null,null,null,null,null,null,null,{"$f":"IF(Inventory!C458<>\"\",Inventory!C458,0)","v":0},448,0,1001," ",null,{"$f":"IF(Inventory!J458<>\"\",Inventory!J458,0)","v":0},448,0,1001," ",null,0,448,0,1001," "]
[null,null,null,null,null,null,null,null,null,null,null,null,{"$f":"IF(Inventory!C459<>\"\",Inventory!C459,0)","v":0},449,0,1001,{"$f":"IFERROR(VLOOKUP(SMALL($P$6:$P$1005,N454),$N$6:$O$1005,2,FALSE),\" \")","v":" "},null,{"$f":"IF(Inventory!J459<>\"\",Inventory!J459,0)","v":0},449,0,1001,{"$f":"IFERROR(VLOOKUP(SMALL($V$6:$V$1005,T454),$T$6:$U$1005,2,FALSE),\" \")","v":" "},null,0,449,0,1001,{"$f":"IFERROR(VLOOKUP(SMALL($AB$6:$AB$1005,Z454),$Z$6:$AA$1005,2,FALSE),\" \")","v":" "}]
[null,null,null,null,null,null,null,null,null,null,null,null,{"$f":"IF(Inventory!C460<>\"\",Inventory!C460,0)","v":0},450,{"$f":"M455","v":0},{"$f":"IF(O455=0,MAX($N$6:$N$1005)+1,N455)","v":1001}," ",null,{"$f":"IF(Inventory!J460<>\"\",Inventory!J460,0)","v":0},450,{"$f":"S455","v":0},{"$f":"IF(U455=0,MAX($T$6:$T$1005)+1,T455)","v":1001}," ",null,{"$f":"IF(AND(M455=0,S455=0),0,IF(AND(M455<>0,S455=0),M455,IF(AND(M455=0,S455<>0),S455,IF(AND(M455<>0,S455<>0),(CONCATENATE(M455,S455))))))","v":0},450,{"$f":"Y455","v":0},{"$f":"IF(AA455=0,MAX($Z$6:$Z$1005)+1,Z455)","v":1001}," "]
[null,null,null,null,null,null,null,null,null,null,null,null,{"$f":"IF(Inventory!C461<>\"\",Inventory!C461,0)","v":0},451,0,1001," ",null,{"$f":"IF(Inventory!J461<>\"\",Inventory!J461,0)","v":0},451,0,1001," ",null,0,451,0,1001," "]
[null,null,null,null,null,null,null,null,null,null,null,null,{"$f":"IF(Inventory!C462<>\"\",Inventory!C462,0)","v":0},452,0,1001," ",null,{"$f":"IF(Inventory!J462<>\"\",Inventory!J462,0)","v":0},452,0,1001," ",null,0,452,0,1001," "]
[null,null,null,null,null,null,null,null,null,null,null,null,{"$f":"IF(Inventory!C463<>\"\",Inventory!C463,0)","v":0},453,0,1001," ",null,{"$f":"IF(Inventory!J463<>\"\",Inventory!J463,0)","v":0},453,0,1001," ",null,0,453,0,1001," "]
[null,null,null,null,null,null,null,null,null,null,null,null,{"$f":"IF(Inventory!C464<>\"\",Inventory!C464,0)","v":0},454,0,1001," ",null,{"$f":"IF(Inventory!J464<>\"\",Inventory!J464,0)","v":0},454,0,1001," ",null,0,454,0,1001," "]
[null,null,null,null,null,null,null,null,null,null,null,null,{"$f":"IF(Inventory!C465<>\"\",Inventory!C465,0)","v":0},455,0,1001," ",null,{"$f":"IF(Inventory!J465<>\"\",Inventory!J465,0)","v":0},455,0,1001," ",null,0,455,0,1001," "]
[null,null,null,null,null,null,null,null,null,null,null,null,{"$f":"IF(Inventory!C466<>\"\",Inventory!C466,0)","v":0},456,0,1001," ",null,{"$f":"IF(Inventory!J466<>\"\",Inventory!J466,0)","v":0},456,0,1001," ",null,0,456,0,1001," "]
[null,null,null,null,null,null,null,null,null,null,null,null,{"$f":"IF(Inventory!C467<>\"\",Inventory!C467,0)","v":0},457,0,1001," ",null,{"$f":"IF(Inventory!J467<>\"\",Inventory!J467,0)","v":0},457,0,1001," ",null,0,457,0,1001," "]
[null,null,null,null,null,null,null,null,null,null,null,null,{"$f":"IF(Inventory!C468<>\"\",Inventory!C468,0)","v":0},458,0,1001," ",null,{"$f":"IF(Inventory!J468<>\"\",Inventory!J468,0)","v":0},458,0,1001," ",null,0,458,0,1001," "]
[null,null,null,null,null,null,null,null,null,null,null,null,{"$f":"IF(Inventory!C469<>\"\",Inventory!C469,0)","v":0},459,0,1001," ",null,{"$f":"IF(Inventory!J469<>\"\",Inventory!J469,0)","v":0},459,0,1001," ",null,0,459,0,1001," "]
[null,null,null,null,null,null,null,null,null,null,null,null,{"$f":"IF(Inventory!C470<>\"\",Inventory!C470,0)","v":0},460,0,1001," ",null,{"$f":"IF(Inventory!J470<>\"\",Inventory!J470,0)","v":0},460,0,1001," ",null,0,460,0,1001," "]
[null,null,null,null,null,null,null,null,null,null,null,null,{"$f":"IF(Inventory!C471<>\"\",Inventory!C471,0)","v":0},461,0,1001," ",null,{"$f":"IF(Inventory!J471<>\"\",Inventory!J471,0)","v":0},461,0,1001," ",null,0,461,0,1001," "]
[null,null,null,null,null,null,null,null,null,null,null,null,{"$f":"IF(Inventory!C472<>\"\",Inventory!C472,0)","v":0},462,0,1001," ",null,{"$f":"IF(Inventory!J472<>\"\",Inventory!J472,0)","v":0},462,0,1001," ",null,0,462,0,1001," "]
[null,null,null,null,null,null,null,null,null,null,null,null,{"$f":"IF(Inventory!C473<>\"\",Inventory!C473,0)","v":0},463,0,1001," ",null,{"$f":"IF(Inventory!J473<>\"\",Inventory!J473,0)","v":0},463,0,1001," ",null,0,463,0,1001," "]
[null,null,null,null,null,null,null,null,null,null,null,null,{"$f":"IF(Inventory!C474<>\"\",Inventory!C474,0)","v":0},464,0,1001," ",null,{"$f":"IF(Inventory!J474<>\"\",Inventory!J474,0)","v":0},464,0,1001," ",null,0,464,0,1001," "]
[null,null,null,null,null,null,null,null,null,null,null,null,{"$f":"IF(Inventory!C475<>\"\",Inventory!C475,0)","v":0},465,0,1001," ",null,{"$f":"IF(Inventory!J475<>\"\",Inventory!J475,0)","v":0},465,0,1001," ",null,0,465,0,1001," "]
[null,null,null,null,null,null,null,null,null,null,null,null,{"$f":"IF(Inventory!C476<>\"\",Inventory!C476,0)","v":0},466,0,1001," ",null,{"$f":"IF(Inventory!J476<>\"\",Inventory!J476,0)","v":0},466,0,1001," ",null,0,466,0,1001," "]
[null,null,null,null,null,null,null,null,null,null,null,null,{"$f":"IF(Inventory!C477<>\"\",Inventory!C477,0)","v":0},467,0,1001," ",null,{"$f":"IF(Inventory!J477<>\"\",Inventory!J477,0)","v":0},467,0,1001," ",null,0,467,0,1001," "]
[null,null,null,null,null,null,null,null,null,null,null,null,{"$f":"IF(Inventory!C478<>\"\",Inventory!C478,0)","v":0},468,0,1001," ",null,{"$f":"IF(Inventory!J478<>\"\",Inventory!J478,0)","v":0},468,0,1001," ",null,0,468,0,1001," "]
[null,null,null,null,null,null,null,null,null,null,null,null,{"$f":"IF(Inventory!C479<>\"\",Inventory!C479,0)","v":0},469,0,1001," ",null,{"$f":"IF(Inventory!J479<>\"\",Inventory!J479,0)","v":0},469,0,1001," ",null,0,469,0,1001," "]
[null,null,null,null,null,null,null,null,null,null,null,null,{"$f":"IF(Inventory!C480<>\"\",Inventory!C480,0)","v":0},470,0,1001," ",null,{"$f":"IF(Inventory!J480<>\"\",Inventory!J480,0)","v":0},470,0,1001," ",null,0,470,0,1001," "]
[null,null,null,null,null,null,null,null,null,null,null,null,{"$f":"IF(Inventory!C481<>\"\",Inventory!C481,0)","v":0},471,0,1001," ",null,{"$f":"IF(Inventory!J481<>\"\",Inventory!J481,0)","v":0},471,0,1001," ",null,0,471,0,1001," "]
[null,null,null,null,null,null,null,null,null,null,null,null,{"$f":"IF(Inventory!C482<>\"\",Inventory!C482,0)","v":0},472,0,1001," ",null,{"$f":"IF(Inventory!J482<>\"\",Inventory!J482,0)","v":0},472,0,1001," ",null,0,472,0,1001," "]
[null,null,null,null,null,null,null,null,null,null,null,null,{"$f":"IF(Inventory!C483<>\"\",Inventory!C483,0)","v":0},473,0,1001," ",null,{"$f":"IF(Inventory!J483<>\"\",Inventory!J483,0)","v":0},473,0,1001," ",null,0,473,0,1001," "]
[null,null,null,null,null,null,null,null,null,null,null,null,{"$f":"IF(Inventory!C484<>\"\",Inventory!C484,0)","v":0},474,0,1001," ",null,{"$f":"IF(Inventory!J484<>\"\",Inventory!J484,0)","v":0},474,0,1001," ",null,0,474,0,1001," "]
[null,null,null,null,null,null,null,null,null,null,null,null,{"$f":"IF(Inventory!C485<>\"\",Inventory!C485,0)","v":0},475,0,1001," ",null,{"$f":"IF(Inventory!J485<>\"\",Inventory!J485,0)","v":0},475,0,1001," ",null,0,475,0,1001," "]
[null,null,null,null,null,null,null,null,null,null,null,null,{"$f":"IF(Inventory!C486<>\"\",Inventory!C486,0)","v":0},476,0,1001," ",null,{"$f":"IF(Inventory!J486<>\"\",Inventory!J486,0)","v":0},476,0,1001," ",null,0,476,0,1001," "]
[null,null,null,null,null,null,null,null,null,null,null,null,{"$f":"IF(Inventory!C487<>\"\",Inventory!C487,0)","v":0},477,0,1001," ",null,{"$f":"IF(Inventory!J487<>\"\",Inventory!J487,0)","v":0},477,0,1001," ",null,0,477,0,1001," "]
[null,null,null,null,null,null,null,null,null,null,null,null,{"$f":"IF(Inventory!C488<>\"\",Inventory!C488,0)","v":0},478,0,1001," ",null,{"$f":"IF(Inventory!J488<>\"\",Inventory!J488,0)","v":0},478,0,1001," ",null,0,478,0,1001," "]
[null,null,null,null,null,null,null,null,null,null,null,null,{"$f":"IF(Inventory!C489<>\"\",Inventory!C489,0)","v":0},479,0,1001," ",null,{"$f":"IF(Inventory!J489<>\"\",Inventory!J489,0)","v":0},479,0,1001," ",null,0,479,0,1001," "]
[null,null,null,null,null,null,null,null,null,null,null,null,{"$f":"IF(Inventory!C490<>\"\",Inventory!C490,0)","v":0},480,0,1001," ",null,{"$f":"IF(Inventory!J490<>\"\",Inventory!J490,0)","v":0},480,0,1001," ",null,0,480,0,1001," "]
[null,null,null,null,null,null,null,null,null,null,null,null,{"$f":"IF(Inventory!C491<>\"\",Inventory!C491,0)","v":0},481,0,1001," ",null,{"$f":"IF(Inventory!J491<>\"\",Inventory!J491,0)","v":0},481,0,1001," ",null,0,481,0,1001," "]
[null,null,null,null,null,null,null,null,null,null,null,null,{"$f":"IF(Inventory!C492<>\"\",Inventory!C492,0)","v":0},482,0,1001," ",null,{"$f":"IF(Inventory!J492<>\"\",Inventory!J492,0)","v":0},482,0,1001," ",null,0,482,0,1001," "]
[null,null,null,null,null,null,null,null,null,null,null,null,{"$f":"IF(Inventory!C493<>\"\",Inventory!C493,0)","v":0},483,0,1001," ",null,{"$f":"IF(Inventory!J493<>\"\",Inventory!J493,0)","v":0},483,0,1001," ",null,0,483,0,1001," "]
[null,null,null,null,null,null,null,null,null,null,null,null,{"$f":"IF(Inventory!C494<>\"\",Inventory!C494,0)","v":0},484,0,1001," ",null,{"$f":"IF(Inventory!J494<>\"\",Inventory!J494,0)","v":0},484,0,1001," ",null,0,484,0,1001," "]
[null,null,null,null,null,null,null,null,null,null,null,null,{"$f":"IF(Inventory!C495<>\"\",Inventory!C495,0)","v":0},485,0,1001," ",null,{"$f":"IF(Inventory!J495<>\"\",Inventory!J495,0)","v":0},485,0,1001," ",null,0,485,0,1001," "]
[null,null,null,null,null,null,null,null,null,null,null,null,{"$f":"IF(Inventory!C496<>\"\",Inventory!C496,0)","v":0},486,0,1001," ",null,{"$f":"IF(Inventory!J496<>\"\",Inventory!J496,0)","v":0},486,0,1001," ",null,0,486,0,1001," "]
[null,null,null,null,null,null,null,null,null,null,null,null,{"$f":"IF(Inventory!C497<>\"\",Inventory!C497,0)","v":0},487,0,1001," ",null,{"$f":"IF(Inventory!J497<>\"\",Inventory!J497,0)","v":0},487,0,1001," ",null,0,487,0,1001," "]
[null,null,null,null,null,null,null,null,null,null,null,null,{"$f":"IF(Inventory!C498<>\"\",Inventory!C498,0)","v":0},488,0,1001," ",null,{"$f":"IF(Inventory!J498<>\"\",Inventory!J498,0)","v":0},488,0,1001," ",null,0,488,0,1001," "]
[null,null,null,null,null,null,null,null,null,null,null,null,{"$f":"IF(Inventory!C499<>\"\",Inventory!C499,0)","v":0},489,0,1001," ",null,{"$f":"IF(Inventory!J499<>\"\",Inventory!J499,0)","v":0},489,0,1001," ",null,0,489,0,1001," "]
[null,null,null,null,null,null,null,null,null,null,null,null,{"$f":"IF(Inventory!C500<>\"\",Inventory!C500,0)","v":0},490,0,1001," ",null,{"$f":"IF(Inventory!J500<>\"\",Inventory!J500,0)","v":0},490,0,1001," ",null,0,490,0,1001," "]
[null,null,null,null,null,null,null,null,null,null,null,null,{"$f":"IF(Inventory!C501<>\"\",Inventory!C501,0)","v":0},491,0,1001," ",null,{"$f":"IF(Inventory!J501<>\"\",Inventory!J501,0)","v":0},491,0,1001," ",null,0,491,0,1001," "]
[null,null,null,null,null,null,null,null,null,null,null,null,{"$f":"IF(Inventory!C502<>\"\",Inventory!C502,0)","v":0},492,0,1001," ",null,{"$f":"IF(Inventory!J502<>\"\",Inventory!J502,0)","v":0},492,0,1001," ",null,0,492,0,1001," "]
[null,null,null,null,null,null,null,null,null,null,null,null,{"$f":"IF(Inventory!C503<>\"\",Inventory!C503,0)","v":0},493,0,1001," ",null,{"$f":"IF(Inventory!J503<>\"\",Inventory!J503,0)","v":0},493,0,1001," ",null,0,493,0,1001," "]
[null,null,null,null,null,null,null,null,null,null,null,null,{"$f":"IF(Inventory!C504<>\"\",Inventory!C504,0)","v":0},494,0,1001," ",null,{"$f":"IF(Inventory!J504<>\"\",Inventory!J504,0)","v":0},494,0,1001," ",null,0,494,0,1001," "]
[null,null,null,null,null,null,null,null,null,null,null,null,{"$f":"IF(Inventory!C505<>\"\",Inventory!C505,0)","v":0},495,0,1001," ",null,{"$f":"IF(Inventory!J505<>\"\",Inventory!J505,0)","v":0},495,0,1001," ",null,0,495,0,1001," "]
[null,null,null,null,null,null,null,null,null,null,null,null,{"$f":"IF(Inventory!C506<>\"\",Inventory!C506,0)","v":0},496,0,1001," ",null,{"$f":"IF(Inventory!J506<>\"\",Inventory!J506,0)","v":0},496,0,1001," ",null,0,496,0,1001," "]
[null,null,null,null,null,null,null,null,null,null,null,null,{"$f":"IF(Inventory!C507<>\"\",Inventory!C507,0)","v":0},497,0,1001," ",null,{"$f":"IF(Inventory!J507<>\"\",Inventory!J507,0)","v":0},497,0,1001," ",null,0,497,0,1001," "]
[null,null,null,null,null,null,null,null,null,null,null,null,{"$f":"IF(Inventory!C508<>\"\",Inventory!C508,0)","v":0},498,0,1001," ",null,{"$f":"IF(Inventory!J508<>\"\",Inventory!J508,0)","v":0},498,0,1001," ",null,0,498,0,1001," "]
[null,null,null,null,null,null,null,null,null,null,null,null,{"$f":"IF(Inventory!C509<>\"\",Inventory!C509,0)","v":0},499,0,1001," ",null,{"$f":"IF(Inventory!J509<>\"\",Inventory!J509,0)","v":0},499,0,1001," ",null,0,499,0,1001," "]
[null,null,null,null,null,null,null,null,null,null,null,null,{"$f":"IF(Inventory!C510<>\"\",Inventory!C510,0)","v":0},500,0,1001," ",null,{"$f":"IF(Inventory!J510<>\"\",Inventory!J510,0)","v":0},500,0,1001," ",null,0,500,0,1001," "]
[null,null,null,null,null,null,null,null,null,null,null,null,{"$f":"IF(Inventory!C511<>\"\",Inventory!C511,0)","v":0},501,0,1001," ",null,{"$f":"IF(Inventory!J511<>\"\",Inventory!J511,0)","v":0},501,0,1001," ",null,0,501,0,1001," "]
[null,null,null,null,null,null,null,null,null,null,null,null,{"$f":"IF(Inventory!C512<>\"\",Inventory!C512,0)","v":0},502,0,1001," ",null,{"$f":"IF(Inventory!J512<>\"\",Inventory!J512,0)","v":0},502,0,1001," ",null,0,502,0,1001," "]
[null,null,null,null,null,null,null,null,null,null,null,null,{"$f":"IF(Inventory!C513<>\"\",Inventory!C513,0)","v":0},503,0,1001," ",null,{"$f":"IF(Inventory!J513<>\"\",Inventory!J513,0)","v":0},503,0,1001," ",null,0,503,0,1001," "]
[null,null,null,null,null,null,null,null,null,null,null,null,{"$f":"IF(Inventory!C514<>\"\",Inventory!C514,0)","v":0},504,0,1001," ",null,{"$f":"IF(Inventory!J514<>\"\",Inventory!J514,0)","v":0},504,0,1001," ",null,0,504,0,1001," "]
[null,null,null,null,null,null,null,null,null,null,null,null,{"$f":"IF(Inventory!C515<>\"\",Inventory!C515,0)","v":0},505,0,1001," ",null,{"$f":"IF(Inventory!J515<>\"\",Inventory!J515,0)","v":0},505,0,1001," ",null,0,505,0,1001," "]
[null,null,null,null,null,null,null,null,null,null,null,null,{"$f":"IF(Inventory!C516<>\"\",Inventory!C516,0)","v":0},506,0,1001," ",null,{"$f":"IF(Inventory!J516<>\"\",Inventory!J516,0)","v":0},506,0,1001," ",null,0,506,0,1001," "]
[null,null,null,null,null,null,null,null,null,null,null,null,{"$f":"IF(Inventory!C517<>\"\",Inventory!C517,0)","v":0},507,0,1001," ",null,{"$f":"IF(Inventory!J517<>\"\",Inventory!J517,0)","v":0},507,0,1001," ",null,0,507,0,1001," "]
[null,null,null,null,null,null,null,null,null,null,null,null,{"$f":"IF(Inventory!C518<>\"\",Inventory!C518,0)","v":0},508,0,1001," ",null,{"$f":"IF(Inventory!J518<>\"\",Inventory!J518,0)","v":0},508,0,1001," ",null,0,508,0,1001," "]
[null,null,null,null,null,null,null,null,null,null,null,null,{"$f":"IF(Inventory!C519<>\"\",Inventory!C519,0)","v":0},509,0,1001," ",null,{"$f":"IF(Inventory!J519<>\"\",Inventory!J519,0)","v":0},509,0,1001," ",null,0,509,0,1001," "]
[null,null,null,null,null,null,null,null,null,null,null,null,{"$f":"IF(Inventory!C520<>\"\",Inventory!C520,0)","v":0},510,0,1001," ",null,{"$f":"IF(Inventory!J520<>\"\",Inventory!J520,0)","v":0},510,0,1001," ",null,0,510,0,1001," "]
[null,null,null,null,null,null,null,null,null,null,null,null,{"$f":"IF(Inventory!C521<>\"\",Inventory!C521,0)","v":0},511,0,1001," ",null,{"$f":"IF(Inventory!J521<>\"\",Inventory!J521,0)","v":0},511,0,1001," ",null,0,511,0,1001," "]
[null,null,null,null,null,null,null,null,null,null,null,null,{"$f":"IF(Inventory!C522<>\"\",Inventory!C522,0)","v":0},512,0,1001," ",null,{"$f":"IF(Inventory!J522<>\"\",Inventory!J522,0)","v":0},512,0,1001," ",null,0,512,0,1001," "]
[null,null,null,null,null,null,null,null,null,null,null,null,{"$f":"IF(Inventory!C523<>\"\",Inventory!C523,0)","v":0},513,0,1001,{"$f":"IFERROR(VLOOKUP(SMALL($P$6:$P$1005,N518),$N$6:$O$1005,2,FALSE),\" \")","v":" "},null,{"$f":"IF(Inventory!J523<>\"\",Inventory!J523,0)","v":0},513,0,1001,{"$f":"IFERROR(VLOOKUP(SMALL($V$6:$V$1005,T518),$T$6:$U$1005,2,FALSE),\" \")","v":" "},null,0,513,0,1001,{"$f":"IFERROR(VLOOKUP(SMALL($AB$6:$AB$1005,Z518),$Z$6:$AA$1005,2,FALSE),\" \")","v":" "}]
[null,null,null,null,null,null,null,null,null,null,null,null,{"$f":"IF(Inventory!C524<>\"\",Inventory!C524,0)","v":0},514,{"$f":"M519","v":0},{"$f":"IF(O519=0,MAX($N$6:$N$1005)+1,N519)","v":1001}," ",null,{"$f":"IF(Inventory!J524<>\"\",Inventory!J524,0)","v":0},514,{"$f":"S519","v":0},{"$f":"IF(U519=0,MAX($T$6:$T$1005)+1,T519)","v":1001}," ",null,{"$f":"IF(AND(M519=0,S519=0),0,IF(AND(M519<>0,S519=0),M519,IF(AND(M519=0,S519<>0),S519,IF(AND(M519<>0,S519<>0),(CONCATENATE(M519,S519))))))","v":0},514,{"$f":"Y519","v":0},{"$f":"IF(AA519=0,MAX($Z$6:$Z$1005)+1,Z519)","v":1001}," "]
[null,null,null,null,null,null,null,null,null,null,null,null,{"$f":"IF(Inventory!C525<>\"\",Inventory!C525,0)","v":0},515,0,1001," ",null,{"$f":"IF(Inventory!J525<>\"\",Inventory!J525,0)","v":0},515,0,1001," ",null,0,515,0,1001," "]
[null,null,null,null,null,null,null,null,null,null,null,null,{"$f":"IF(Inventory!C526<>\"\",Inventory!C526,0)","v":0},516,0,1001," ",null,{"$f":"IF(Inventory!J526<>\"\",Inventory!J526,0)","v":0},516,0,1001," ",null,0,516,0,1001," "]
[null,null,null,null,null,null,null,null,null,null,null,null,{"$f":"IF(Inventory!C527<>\"\",Inventory!C527,0)","v":0},517,0,1001," ",null,{"$f":"IF(Inventory!J527<>\"\",Inventory!J527,0)","v":0},517,0,1001," ",null,0,517,0,1001," "]
[null,null,null,null,null,null,null,null,null,null,null,null,{"$f":"IF(Inventory!C528<>\"\",Inventory!C528,0)","v":0},518,0,1001," ",null,{"$f":"IF(Inventory!J528<>\"\",Inventory!J528,0)","v":0},518,0,1001," ",null,0,518,0,1001," "]
[null,null,null,null,null,null,null,null,null,null,null,null,{"$f":"IF(Inventory!C529<>\"\",Inventory!C529,0)","v":0},519,0,1001," ",null,{"$f":"IF(Inventory!J529<>\"\",Inventory!J529,0)","v":0},519,0,1001," ",null,0,519,0,1001," "]
[null,null,null,null,null,null,null,null,null,null,null,null,{"$f":"IF(Inventory!C530<>\"\",Inventory!C530,0)","v":0},520,0,1001," ",null,{"$f":"IF(Inventory!J530<>\"\",Inventory!J530,0)","v":0},520,0,1001," ",null,0,520,0,1001," "]
[null,null,null,null,null,null,null,null,null,null,null,null,{"$f":"IF(Inventory!C531<>\"\",Inventory!C531,0)","v":0},521,0,1001," ",null,{"$f":"IF(Inventory!J531<>\"\",Inventory!J531,0)","v":0},521,0,1001," ",null,0,521,0,1001," "]
[null,null,null,null,null,null,null,null,null,null,null,null,{"$f":"IF(Inventory!C532<>\"\",Inventory!C532,0)","v":0},522,0,1001," ",null,{"$f":"IF(Inventory!J532<>\"\",Inventory!J532,0)","v":0},522,0,1001," ",null,0,522,0,1001," "]
[null,null,null,null,null,null,null,null,null,null,null,null,{"$f":"IF(Inventory!C533<>\"\",Inventory!C533,0)","v":0},523,0,1001," ",null,{"$f":"IF(Inventory!J533<>\"\",Inventory!J533,0)","v":0},523,0,1001," ",null,0,523,0,1001," "]
[null,null,null,null,null,null,null,null,null,null,null,null,{"$f":"IF(Inventory!C534<>\"\",Inventory!C534,0)","v":0},524,0,1001," ",null,{"$f":"IF(Inventory!J534<>\"\",Inventory!J534,0)","v":0},524,0,1001," ",null,0,524,0,1001," "]
[null,null,null,null,null,null,null,null,null,null,null,null,{"$f":"IF(Inventory!C535<>\"\",Inventory!C535,0)","v":0},525,0,1001," ",null,{"$f":"IF(Inventory!J535<>\"\",Inventory!J535,0)","v":0},525,0,1001," ",null,0,525,0,1001," "]
[null,null,null,null,null,null,null,null,null,null,null,null,{"$f":"IF(Inventory!C536<>\"\",Inventory!C536,0)","v":0},526,0,1001," ",null,{"$f":"IF(Inventory!J536<>\"\",Inventory!J536,0)","v":0},526,0,1001," ",null,0,526,0,1001," "]
[null,null,null,null,null,null,null,null,null,null,null,null,{"$f":"IF(Inventory!C537<>\"\",Inventory!C537,0)","v":0},527,0,1001," ",null,{"$f":"IF(Inventory!J537<>\"\",Inventory!J537,0)","v":0},527,0,1001," ",null,0,527,0,1001," "]
[null,null,null,null,null,null,null,null,null,null,null,null,{"$f":"IF(Inventory!C538<>\"\",Inventory!C538,0)","v":0},528,0,1001," ",null,{"$f":"IF(Inventory!J538<>\"\",Inventory!J538,0)","v":0},528,0,1001," ",null,0,528,0,1001," "]
[null,null,null,null,null,null,null,null,null,null,null,null,{"$f":"IF(Inventory!C539<>\"\",Inventory!C539,0)","v":0},529,0,1001," ",null,{"$f":"IF(Inventory!J539<>\"\",Inventory!J539,0)","v":0},529,0,1001," ",null,0,529,0,1001," "]
[null,null,null,null,null,null,null,null,null,null,null,null,{"$f":"IF(Inventory!C540<>\"\",Inventory!C540,0)","v":0},530,0,1001," ",null,{"$f":"IF(Inventory!J540<>\"\",Inventory!J540,0)","v":0},530,0,1001," ",null,0,530,0,1001," "]
[null,null,null,null,null,null,null,null,null,null,null,null,{"$f":"IF(Inventory!C541<>\"\",Inventory!C541,0)","v":0},531,0,1001," ",null,{"$f":"IF(Inventory!J541<>\"\",Inventory!J541,0)","v":0},531,0,1001," ",null,0,531,0,1001," "]
[null,null,null,null,null,null,null,null,null,null,null,null,{"$f":"IF(Inventory!C542<>\"\",Inventory!C542,0)","v":0},532,0,1001," ",null,{"$f":"IF(Inventory!J542<>\"\",Inventory!J542,0)","v":0},532,0,1001," ",null,0,532,0,1001," "]
[null,null,null,null,null,null,null,null,null,null,null,null,{"$f":"IF(Inventory!C543<>\"\",Inventory!C543,0)","v":0},533,0,1001," ",null,{"$f":"IF(Inventory!J543<>\"\",Inventory!J543,0)","v":0},533,0,1001," ",null,0,533,0,1001," "]
[null,null,null,null,null,null,null,null,null,null,null,null,{"$f":"IF(Inventory!C544<>\"\",Inventory!C544,0)","v":0},534,0,1001," ",null,{"$f":"IF(Inventory!J544<>\"\",Inventory!J544,0)","v":0},534,0,1001," ",null,0,534,0,1001," "]
[null,null,null,null,null,null,null,null,null,null,null,null,{"$f":"IF(Inventory!C545<>\"\",Inventory!C545,0)","v":0},535,0,1001," ",null,{"$f":"IF(Inventory!J545<>\"\",Inventory!J545,0)","v":0},535,0,1001," ",null,0,535,0,1001," "]
[null,null,null,null,null,null,null,null,null,null,null,null,{"$f":"IF(Inventory!C546<>\"\",Inventory!C546,0)","v":0},536,0,1001," ",null,{"$f":"IF(Inventory!J546<>\"\",Inventory!J546,0)","v":0},536,0,1001," ",null,0,536,0,1001," "]
[null,null,null,null,null,null,null,null,null,null,null,null,{"$f":"IF(Inventory!C547<>\"\",Inventory!C547,0)","v":0},537,0,1001," ",null,{"$f":"IF(Inventory!J547<>\"\",Inventory!J547,0)","v":0},537,0,1001," ",null,0,537,0,1001," "]
[null,null,null,null,null,null,null,null,null,null,null,null,{"$f":"IF(Inventory!C548<>\"\",Inventory!C548,0)","v":0},538,0,1001," ",null,{"$f":"IF(Inventory!J548<>\"\",Inventory!J548,0)","v":0},538,0,1001," ",null,0,538,0,1001," "]
[null,null,null,null,null,null,null,null,null,null,null,null,{"$f":"IF(Inventory!C549<>\"\",Inventory!C549,0)","v":0},539,0,1001," ",null,{"$f":"IF(Inventory!J549<>\"\",Inventory!J549,0)","v":0},539,0,1001," ",null,0,539,0,1001," "]
[null,null,null,null,null,null,null,null,null,null,null,null,{"$f":"IF(Inventory!C550<>\"\",Inventory!C550,0)","v":0},540,0,1001," ",null,{"$f":"IF(Inventory!J550<>\"\",Inventory!J550,0)","v":0},540,0,1001," ",null,0,540,0,1001," "]
[null,null,null,null,null,null,null,null,null,null,null,null,{"$f":"IF(Inventory!C551<>\"\",Inventory!C551,0)","v":0},541,0,1001," ",null,{"$f":"IF(Inventory!J551<>\"\",Inventory!J551,0)","v":0},541,0,1001," ",null,0,541,0,1001," "]
[null,null,null,null,null,null,null,null,null,null,null,null,{"$f":"IF(Inventory!C552<>\"\",Inventory!C552,0)","v":0},542,0,1001," ",null,{"$f":"IF(Inventory!J552<>\"\",Inventory!J552,0)","v":0},542,0,1001," ",null,0,542,0,1001," "]
[null,null,null,null,null,null,null,null,null,null,null,null,{"$f":"IF(Inventory!C553<>\"\",Inventory!C553,0)","v":0},543,0,1001," ",null,{"$f":"IF(Inventory!J553<>\"\",Inventory!J553,0)","v":0},543,0,1001," ",null,0,543,0,1001," "]
[null,null,null,null,null,null,null,null,null,null,null,null,{"$f":"IF(Inventory!C554<>\"\",Inventory!C554,0)","v":0},544,0,1001," ",null,{"$f":"IF(Inventory!J554<>\"\",Inventory!J554,0)","v":0},544,0,1001," ",null,0,544,0,1001," "]
[null,null,null,null,null,null,null,null,null,null,null,null,{"$f":"IF(Inventory!C555<>\"\",Inventory!C555,0)","v":0},545,0,1001," ",null,{"$f":"IF(Inventory!J555<>\"\",Inventory!J555,0)","v":0},545,0,1001," ",null,0,545,0,1001," "]
[null,null,null,null,null,null,null,null,null,null,null,null,{"$f":"IF(Inventory!C556<>\"\",Inventory!C556,0)","v":0},546,0,1001," ",null,{"$f":"IF(Inventory!J556<>\"\",Inventory!J556,0)","v":0},546,0,1001," ",null,0,546,0,1001," "]
[null,null,null,null,null,null,null,null,null,null,null,null,{"$f":"IF(Inventory!C557<>\"\",Inventory!C557,0)","v":0},547,0,1001," ",null,{"$f":"IF(Inventory!J557<>\"\",Inventory!J557,0)","v":0},547,0,1001," ",null,0,547,0,1001," "]
[null,null,null,null,null,null,null,null,null,null,null,null,{"$f":"IF(Inventory!C558<>\"\",Inventory!C558,0)","v":0},548,0,1001," ",null,{"$f":"IF(Inventory!J558<>\"\",Inventory!J558,0)","v":0},548,0,1001," ",null,0,548,0,1001," "]
[null,null,null,null,null,null,null,null,null,null,null,null,{"$f":"IF(Inventory!C559<>\"\",Inventory!C559,0)","v":0},549,0,1001," ",null,{"$f":"IF(Inventory!J559<>\"\",Inventory!J559,0)","v":0},549,0,1001," ",null,0,549,0,1001," "]
[null,null,null,null,null,null,null,null,null,null,null,null,{"$f":"IF(Inventory!C560<>\"\",Inventory!C560,0)","v":0},550,0,1001," ",null,{"$f":"IF(Inventory!J560<>\"\",Inventory!J560,0)","v":0},550,0,1001," ",null,0,550,0,1001," "]
[null,null,null,null,null,null,null,null,null,null,null,null,{"$f":"IF(Inventory!C561<>\"\",Inventory!C561,0)","v":0},551,0,1001," ",null,{"$f":"IF(Inventory!J561<>\"\",Inventory!J561,0)","v":0},551,0,1001," ",null,0,551,0,1001," "]
[null,null,null,null,null,null,null,null,null,null,null,null,{"$f":"IF(Inventory!C562<>\"\",Inventory!C562,0)","v":0},552,0,1001," ",null,{"$f":"IF(Inventory!J562<>\"\",Inventory!J562,0)","v":0},552,0,1001," ",null,0,552,0,1001," "]
[null,null,null,null,null,null,null,null,null,null,null,null,{"$f":"IF(Inventory!C563<>\"\",Inventory!C563,0)","v":0},553,0,1001," ",null,{"$f":"IF(Inventory!J563<>\"\",Inventory!J563,0)","v":0},553,0,1001," ",null,0,553,0,1001," "]
[null,null,null,null,null,null,null,null,null,null,null,null,{"$f":"IF(Inventory!C564<>\"\",Inventory!C564,0)","v":0},554,0,1001," ",null,{"$f":"IF(Inventory!J564<>\"\",Inventory!J564,0)","v":0},554,0,1001," ",null,0,554,0,1001," "]
[null,null,null,null,null,null,null,null,null,null,null,null,{"$f":"IF(Inventory!C565<>\"\",Inventory!C565,0)","v":0},555,0,1001," ",null,{"$f":"IF(Inventory!J565<>\"\",Inventory!J565,0)","v":0},555,0,1001," ",null,0,555,0,1001," "]
[null,null,null,null,null,null,null,null,null,null,null,null,{"$f":"IF(Inventory!C566<>\"\",Inventory!C566,0)","v":0},556,0,1001," ",null,{"$f":"IF(Inventory!J566<>\"\",Inventory!J566,0)","v":0},556,0,1001," ",null,0,556,0,1001," "]
[null,null,null,null,null,null,null,null,null,null,null,null,{"$f":"IF(Inventory!C567<>\"\",Inventory!C567,0)","v":0},557,0,1001," ",null,{"$f":"IF(Inventory!J567<>\"\",Inventory!J567,0)","v":0},557,0,1001," ",null,0,557,0,1001," "]
[null,null,null,null,null,null,null,null,null,null,null,null,{"$f":"IF(Inventory!C568<>\"\",Inventory!C568,0)","v":0},558,0,1001," ",null,{"$f":"IF(Inventory!J568<>\"\",Inventory!J568,0)","v":0},558,0,1001," ",null,0,558,0,1001," "]
[null,null,null,null,null,null,null,null,null,null,null,null,{"$f":"IF(Inventory!C569<>\"\",Inventory!C569,0)","v":0},559,0,1001," ",null,{"$f":"IF(Inventory!J569<>\"\",Inventory!J569,0)","v":0},559,0,1001," ",null,0,559,0,1001," "]
[null,null,null,null,null,null,null,null,null,null,null,null,{"$f":"IF(Inventory!C570<>\"\",Inventory!C570,0)","v":0},560,0,1001," ",null,{"$f":"IF(Inventory!J570<>\"\",Inventory!J570,0)","v":0},560,0,1001," ",null,0,560,0,1001," "]
[null,null,null,null,null,null,null,null,null,null,null,null,{"$f":"IF(Inventory!C571<>\"\",Inventory!C571,0)","v":0},561,0,1001," ",null,{"$f":"IF(Inventory!J571<>\"\",Inventory!J571,0)","v":0},561,0,1001," ",null,0,561,0,1001," "]
[null,null,null,null,null,null,null,null,null,null,null,null,{"$f":"IF(Inventory!C572<>\"\",Inventory!C572,0)","v":0},562,0,1001," ",null,{"$f":"IF(Inventory!J572<>\"\",Inventory!J572,0)","v":0},562,0,1001," ",null,0,562,0,1001," "]
[null,null,null,null,null,null,null,null,null,null,null,null,{"$f":"IF(Inventory!C573<>\"\",Inventory!C573,0)","v":0},563,0,1001," ",null,{"$f":"IF(Inventory!J573<>\"\",Inventory!J573,0)","v":0},563,0,1001," ",null,0,563,0,1001," "]
[null,null,null,null,null,null,null,null,null,null,null,null,{"$f":"IF(Inventory!C574<>\"\",Inventory!C574,0)","v":0},564,0,1001," ",null,{"$f":"IF(Inventory!J574<>\"\",Inventory!J574,0)","v":0},564,0,1001," ",null,0,564,0,1001," "]
[null,null,null,null,null,null,null,null,null,null,null,null,{"$f":"IF(Inventory!C575<>\"\",Inventory!C575,0)","v":0},565,0,1001," ",null,{"$f":"IF(Inventory!J575<>\"\",Inventory!J575,0)","v":0},565,0,1001," ",null,0,565,0,1001," "]
[null,null,null,null,null,null,null,null,null,null,null,null,{"$f":"IF(Inventory!C576<>\"\",Inventory!C576,0)","v":0},566,0,1001," ",null,{"$f":"IF(Inventory!J576<>\"\",Inventory!J576,0)","v":0},566,0,1001," ",null,0,566,0,1001," "]
[null,null,null,null,null,null,null,null,null,null,null,null,{"$f":"IF(Inventory!C577<>\"\",Inventory!C577,0)","v":0},567,0,1001," ",null,{"$f":"IF(Inventory!J577<>\"\",Inventory!J577,0)","v":0},567,0,1001," ",null,0,567,0,1001," "]
[null,null,null,null,null,null,null,null,null,null,null,null,{"$f":"IF(Inventory!C578<>\"\",Inventory!C578,0)","v":0},568,0,1001," ",null,{"$f":"IF(Inventory!J578<>\"\",Inventory!J578,0)","v":0},568,0,1001," ",null,0,568,0,1001," "]
[null,null,null,null,null,null,null,null,null,null,null,null,{"$f":"IF(Inventory!C579<>\"\",Inventory!C579,0)","v":0},569,0,1001," ",null,{"$f":"IF(Inventory!J579<>\"\",Inventory!J579,0)","v":0},569,0,1001," ",null,0,569,0,1001," "]
[null,null,null,null,null,null,null,null,null,null,null,null,{"$f":"IF(Inventory!C580<>\"\",Inventory!C580,0)","v":0},570,0,1001," ",null,{"$f":"IF(Inventory!J580<>\"\",Inventory!J580,0)","v":0},570,0,1001," ",null,0,570,0,1001," "]
[null,null,null,null,null,null,null,null,null,null,null,null,{"$f":"IF(Inventory!C581<>\"\",Inventory!C581,0)","v":0},571,0,1001," ",null,{"$f":"IF(Inventory!J581<>\"\",Inventory!J581,0)","v":0},571,0,1001," ",null,0,571,0,1001," "]
[null,null,null,null,null,null,null,null,null,null,null,null,{"$f":"IF(Inventory!C582<>\"\",Inventory!C582,0)","v":0},572,0,1001," ",null,{"$f":"IF(Inventory!J582<>\"\",Inventory!J582,0)","v":0},572,0,1001," ",null,0,572,0,1001," "]
[null,null,null,null,null,null,null,null,null,null,null,null,{"$f":"IF(Inventory!C583<>\"\",Inventory!C583,0)","v":0},573,0,1001," ",null,{"$f":"IF(Inventory!J583<>\"\",Inventory!J583,0)","v":0},573,0,1001," ",null,0,573,0,1001," "]
[null,null,null,null,null,null,null,null,null,null,null,null,{"$f":"IF(Inventory!C584<>\"\",Inventory!C584,0)","v":0},574,0,1001," ",null,{"$f":"IF(Inventory!J584<>\"\",Inventory!J584,0)","v":0},574,0,1001," ",null,0,574,0,1001," "]
[null,null,null,null,null,null,null,null,null,null,null,null,{"$f":"IF(Inventory!C585<>\"\",Inventory!C585,0)","v":0},575,0,1001," ",null,{"$f":"IF(Inventory!J585<>\"\",Inventory!J585,0)","v":0},575,0,1001," ",null,0,575,0,1001," "]
[null,null,null,null,null,null,null,null,null,null,null,null,{"$f":"IF(Inventory!C586<>\"\",Inventory!C586,0)","v":0},576,0,1001," ",null,{"$f":"IF(Inventory!J586<>\"\",Inventory!J586,0)","v":0},576,0,1001," ",null,0,576,0,1001," "]
[null,null,null,null,null,null,null,null,null,null,null,null,{"$f":"IF(Inventory!C587<>\"\",Inventory!C587,0)","v":0},577,0,1001,{"$f":"IFERROR(VLOOKUP(SMALL($P$6:$P$1005,N582),$N$6:$O$1005,2,FALSE),\" \")","v":" "},null,{"$f":"IF(Inventory!J587<>\"\",Inventory!J587,0)","v":0},577,0,1001,{"$f":"IFERROR(VLOOKUP(SMALL($V$6:$V$1005,T582),$T$6:$U$1005,2,FALSE),\" \")","v":" "},null,0,577,0,1001,{"$f":"IFERROR(VLOOKUP(SMALL($AB$6:$AB$1005,Z582),$Z$6:$AA$1005,2,FALSE),\" \")","v":" "}]
[null,null,null,null,null,null,null,null,null,null,null,null,{"$f":"IF(Inventory!C588<>\"\",Inventory!C588,0)","v":0},578,{"$f":"M583","v":0},{"$f":"IF(O583=0,MAX($N$6:$N$1005)+1,N583)","v":1001}," ",null,{"$f":"IF(Inventory!J588<>\"\",Inventory!J588,0)","v":0},578,{"$f":"S583","v":0},{"$f":"IF(U583=0,MAX($T$6:$T$1005)+1,T583)","v":1001}," ",null,{"$f":"IF(AND(M583=0,S583=0),0,IF(AND(M583<>0,S583=0),M583,IF(AND(M583=0,S583<>0),S583,IF(AND(M583<>0,S583<>0),(CONCATENATE(M583,S583))))))","v":0},578,{"$f":"Y583","v":0},{"$f":"IF(AA583=0,MAX($Z$6:$Z$1005)+1,Z583)","v":1001}," "]
[null,null,null,null,null,null,null,null,null,null,null,null,{"$f":"IF(Inventory!C589<>\"\",Inventory!C589,0)","v":0},579,0,1001," ",null,{"$f":"IF(Inventory!J589<>\"\",Inventory!J589,0)","v":0},579,0,1001," ",null,0,579,0,1001," "]
[null,null,null,null,null,null,null,null,null,null,null,null,{"$f":"IF(Inventory!C590<>\"\",Inventory!C590,0)","v":0},580,0,1001," ",null,{"$f":"IF(Inventory!J590<>\"\",Inventory!J590,0)","v":0},580,0,1001," ",null,0,580,0,1001," "]
[null,null,null,null,null,null,null,null,null,null,null,null,{"$f":"IF(Inventory!C591<>\"\",Inventory!C591,0)","v":0},581,0,1001," ",null,{"$f":"IF(Inventory!J591<>\"\",Inventory!J591,0)","v":0},581,0,1001," ",null,0,581,0,1001," "]
[null,null,null,null,null,null,null,null,null,null,null,null,{"$f":"IF(Inventory!C592<>\"\",Inventory!C592,0)","v":0},582,0,1001," ",null,{"$f":"IF(Inventory!J592<>\"\",Inventory!J592,0)","v":0},582,0,1001," ",null,0,582,0,1001," "]
[null,null,null,null,null,null,null,null,null,null,null,null,{"$f":"IF(Inventory!C593<>\"\",Inventory!C593,0)","v":0},583,0,1001," ",null,{"$f":"IF(Inventory!J593<>\"\",Inventory!J593,0)","v":0},583,0,1001," ",null,0,583,0,1001," "]
[null,null,null,null,null,null,null,null,null,null,null,null,{"$f":"IF(Inventory!C594<>\"\",Inventory!C594,0)","v":0},584,0,1001," ",null,{"$f":"IF(Inventory!J594<>\"\",Inventory!J594,0)","v":0},584,0,1001," ",null,0,584,0,1001," "]
[null,null,null,null,null,null,null,null,null,null,null,null,{"$f":"IF(Inventory!C595<>\"\",Inventory!C595,0)","v":0},585,0,1001," ",null,{"$f":"IF(Inventory!J595<>\"\",Inventory!J595,0)","v":0},585,0,1001," ",null,0,585,0,1001," "]
[null,null,null,null,null,null,null,null,null,null,null,null,{"$f":"IF(Inventory!C596<>\"\",Inventory!C596,0)","v":0},586,0,1001," ",null,{"$f":"IF(Inventory!J596<>\"\",Inventory!J596,0)","v":0},586,0,1001," ",null,0,586,0,1001," "]
[null,null,null,null,null,null,null,null,null,null,null,null,{"$f":"IF(Inventory!C597<>\"\",Inventory!C597,0)","v":0},587,0,1001," ",null,{"$f":"IF(Inventory!J597<>\"\",Inventory!J597,0)","v":0},587,0,1001," ",null,0,587,0,1001," "]
[null,null,null,null,null,null,null,null,null,null,null,null,{"$f":"IF(Inventory!C598<>\"\",Inventory!C598,0)","v":0},588,0,1001," ",null,{"$f":"IF(Inventory!J598<>\"\",Inventory!J598,0)","v":0},588,0,1001," ",null,0,588,0,1001," "]
[null,null,null,null,null,null,null,null,null,null,null,null,{"$f":"IF(Inventory!C599<>\"\",Inventory!C599,0)","v":0},589,0,1001," ",null,{"$f":"IF(Inventory!J599<>\"\",Inventory!J599,0)","v":0},589,0,1001," ",null,0,589,0,1001," "]
[null,null,null,null,null,null,null,null,null,null,null,null,{"$f":"IF(Inventory!C600<>\"\",Inventory!C600,0)","v":0},590,0,1001," ",null,{"$f":"IF(Inventory!J600<>\"\",Inventory!J600,0)","v":0},590,0,1001," ",null,0,590,0,1001," "]
[null,null,null,null,null,null,null,null,null,null,null,null,{"$f":"IF(Inventory!C601<>\"\",Inventory!C601,0)","v":0},591,0,1001," ",null,{"$f":"IF(Inventory!J601<>\"\",Inventory!J601,0)","v":0},591,0,1001," ",null,0,591,0,1001," "]
[null,null,null,null,null,null,null,null,null,null,null,null,{"$f":"IF(Inventory!C602<>\"\",Inventory!C602,0)","v":0},592,0,1001," ",null,{"$f":"IF(Inventory!J602<>\"\",Inventory!J602,0)","v":0},592,0,1001," ",null,0,592,0,1001," "]
[null,null,null,null,null,null,null,null,null,null,null,null,{"$f":"IF(Inventory!C603<>\"\",Inventory!C603,0)","v":0},593,0,1001," ",null,{"$f":"IF(Inventory!J603<>\"\",Inventory!J603,0)","v":0},593,0,1001," ",null,0,593,0,1001," "]
[null,null,null,null,null,null,null,null,null,null,null,null,{"$f":"IF(Inventory!C604<>\"\",Inventory!C604,0)","v":0},594,0,1001," ",null,{"$f":"IF(Inventory!J604<>\"\",Inventory!J604,0)","v":0},594,0,1001," ",null,0,594,0,1001," "]
[null,null,null,null,null,null,null,null,null,null,null,null,{"$f":"IF(Inventory!C605<>\"\",Inventory!C605,0)","v":0},595,0,1001," ",null,{"$f":"IF(Inventory!J605<>\"\",Inventory!J605,0)","v":0},595,0,1001," ",null,0,595,0,1001," "]
[null,null,null,null,null,null,null,null,null,null,null,null,{"$f":"IF(Inventory!C606<>\"\",Inventory!C606,0)","v":0},596,0,1001," ",null,{"$f":"IF(Inventory!J606<>\"\",Inventory!J606,0)","v":0},596,0,1001," ",null,0,596,0,1001," "]
[null,null,null,null,null,null,null,null,null,null,null,null,{"$f":"IF(Inventory!C607<>\"\",Inventory!C607,0)","v":0},597,0,1001," ",null,{"$f":"IF(Inventory!J607<>\"\",Inventory!J607,0)","v":0},597,0,1001," ",null,0,597,0,1001," "]
[null,null,null,null,null,null,null,null,null,null,null,null,{"$f":"IF(Inventory!C608<>\"\",Inventory!C608,0)","v":0},598,0,1001," ",null,{"$f":"IF(Inventory!J608<>\"\",Inventory!J608,0)","v":0},598,0,1001," ",null,0,598,0,1001," "]
[null,null,null,null,null,null,null,null,null,null,null,null,{"$f":"IF(Inventory!C609<>\"\",Inventory!C609,0)","v":0},599,0,1001," ",null,{"$f":"IF(Inventory!J609<>\"\",Inventory!J609,0)","v":0},599,0,1001," ",null,0,599,0,1001," "]
[null,null,null,null,null,null,null,null,null,null,null,null,{"$f":"IF(Inventory!C610<>\"\",Inventory!C610,0)","v":0},600,0,1001," ",null,{"$f":"IF(Inventory!J610<>\"\",Inventory!J610,0)","v":0},600,0,1001," ",null,0,600,0,1001," "]
[null,null,null,null,null,null,null,null,null,null,null,null,{"$f":"IF(Inventory!C611<>\"\",Inventory!C611,0)","v":0},601,0,1001," ",null,{"$f":"IF(Inventory!J611<>\"\",Inventory!J611,0)","v":0},601,0,1001," ",null,0,601,0,1001," "]
[null,null,null,null,null,null,null,null,null,null,null,null,{"$f":"IF(Inventory!C612<>\"\",Inventory!C612,0)","v":0},602,0,1001," ",null,{"$f":"IF(Inventory!J612<>\"\",Inventory!J612,0)","v":0},602,0,1001," ",null,0,602,0,1001," "]
[null,null,null,null,null,null,null,null,null,null,null,null,{"$f":"IF(Inventory!C613<>\"\",Inventory!C613,0)","v":0},603,0,1001," ",null,{"$f":"IF(Inventory!J613<>\"\",Inventory!J613,0)","v":0},603,0,1001," ",null,0,603,0,1001," "]
[null,null,null,null,null,null,null,null,null,null,null,null,{"$f":"IF(Inventory!C614<>\"\",Inventory!C614,0)","v":0},604,0,1001," ",null,{"$f":"IF(Inventory!J614<>\"\",Inventory!J614,0)","v":0},604,0,1001," ",null,0,604,0,1001," "]
[null,null,null,null,null,null,null,null,null,null,null,null,{"$f":"IF(Inventory!C615<>\"\",Inventory!C615,0)","v":0},605,0,1001," ",null,{"$f":"IF(Inventory!J615<>\"\",Inventory!J615,0)","v":0},605,0,1001," ",null,0,605,0,1001," "]
[null,null,null,null,null,null,null,null,null,null,null,null,{"$f":"IF(Inventory!C616<>\"\",Inventory!C616,0)","v":0},606,0,1001," ",null,{"$f":"IF(Inventory!J616<>\"\",Inventory!J616,0)","v":0},606,0,1001," ",null,0,606,0,1001," "]
[null,null,null,null,null,null,null,null,null,null,null,null,{"$f":"IF(Inventory!C617<>\"\",Inventory!C617,0)","v":0},607,0,1001," ",null,{"$f":"IF(Inventory!J617<>\"\",Inventory!J617,0)","v":0},607,0,1001," ",null,0,607,0,1001," "]
[null,null,null,null,null,null,null,null,null,null,null,null,{"$f":"IF(Inventory!C618<>\"\",Inventory!C618,0)","v":0},608,0,1001," ",null,{"$f":"IF(Inventory!J618<>\"\",Inventory!J618,0)","v":0},608,0,1001," ",null,0,608,0,1001," "]
[null,null,null,null,null,null,null,null,null,null,null,null,{"$f":"IF(Inventory!C619<>\"\",Inventory!C619,0)","v":0},609,0,1001," ",null,{"$f":"IF(Inventory!J619<>\"\",Inventory!J619,0)","v":0},609,0,1001," ",null,0,609,0,1001," "]
[null,null,null,null,null,null,null,null,null,null,null,null,{"$f":"IF(Inventory!C620<>\"\",Inventory!C620,0)","v":0},610,0,1001," ",null,{"$f":"IF(Inventory!J620<>\"\",Inventory!J620,0)","v":0},610,0,1001," ",null,0,610,0,1001," "]
[null,null,null,null,null,null,null,null,null,null,null,null,{"$f":"IF(Inventory!C621<>\"\",Inventory!C621,0)","v":0},611,0,1001," ",null,{"$f":"IF(Inventory!J621<>\"\",Inventory!J621,0)","v":0},611,0,1001," ",null,0,611,0,1001," "]
[null,null,null,null,null,null,null,null,null,null,null,null,{"$f":"IF(Inventory!C622<>\"\",Inventory!C622,0)","v":0},612,0,1001," ",null,{"$f":"IF(Inventory!J622<>\"\",Inventory!J622,0)","v":0},612,0,1001," ",null,0,612,0,1001," "]
[null,null,null,null,null,null,null,null,null,null,null,null,{"$f":"IF(Inventory!C623<>\"\",Inventory!C623,0)","v":0},613,0,1001," ",null,{"$f":"IF(Inventory!J623<>\"\",Inventory!J623,0)","v":0},613,0,1001," ",null,0,613,0,1001," "]
[null,null,null,null,null,null,null,null,null,null,null,null,{"$f":"IF(Inventory!C624<>\"\",Inventory!C624,0)","v":0},614,0,1001," ",null,{"$f":"IF(Inventory!J624<>\"\",Inventory!J624,0)","v":0},614,0,1001," ",null,0,614,0,1001," "]
[null,null,null,null,null,null,null,null,null,null,null,null,{"$f":"IF(Inventory!C625<>\"\",Inventory!C625,0)","v":0},615,0,1001," ",null,{"$f":"IF(Inventory!J625<>\"\",Inventory!J625,0)","v":0},615,0,1001," ",null,0,615,0,1001," "]
[null,null,null,null,null,null,null,null,null,null,null,null,{"$f":"IF(Inventory!C626<>\"\",Inventory!C626,0)","v":0},616,0,1001," ",null,{"$f":"IF(Inventory!J626<>\"\",Inventory!J626,0)","v":0},616,0,1001," ",null,0,616,0,1001," "]
[null,null,null,null,null,null,null,null,null,null,null,null,{"$f":"IF(Inventory!C627<>\"\",Inventory!C627,0)","v":0},617,0,1001," ",null,{"$f":"IF(Inventory!J627<>\"\",Inventory!J627,0)","v":0},617,0,1001," ",null,0,617,0,1001," "]
[null,null,null,null,null,null,null,null,null,null,null,null,{"$f":"IF(Inventory!C628<>\"\",Inventory!C628,0)","v":0},618,0,1001," ",null,{"$f":"IF(Inventory!J628<>\"\",Inventory!J628,0)","v":0},618,0,1001," ",null,0,618,0,1001," "]
[null,null,null,null,null,null,null,null,null,null,null,null,{"$f":"IF(Inventory!C629<>\"\",Inventory!C629,0)","v":0},619,0,1001," ",null,{"$f":"IF(Inventory!J629<>\"\",Inventory!J629,0)","v":0},619,0,1001," ",null,0,619,0,1001," "]
[null,null,null,null,null,null,null,null,null,null,null,null,{"$f":"IF(Inventory!C630<>\"\",Inventory!C630,0)","v":0},620,0,1001," ",null,{"$f":"IF(Inventory!J630<>\"\",Inventory!J630,0)","v":0},620,0,1001," ",null,0,620,0,1001," "]
[null,null,null,null,null,null,null,null,null,null,null,null,{"$f":"IF(Inventory!C631<>\"\",Inventory!C631,0)","v":0},621,0,1001," ",null,{"$f":"IF(Inventory!J631<>\"\",Inventory!J631,0)","v":0},621,0,1001," ",null,0,621,0,1001," "]
[null,null,null,null,null,null,null,null,null,null,null,null,{"$f":"IF(Inventory!C632<>\"\",Inventory!C632,0)","v":0},622,0,1001," ",null,{"$f":"IF(Inventory!J632<>\"\",Inventory!J632,0)","v":0},622,0,1001," ",null,0,622,0,1001," "]
[null,null,null,null,null,null,null,null,null,null,null,null,{"$f":"IF(Inventory!C633<>\"\",Inventory!C633,0)","v":0},623,0,1001," ",null,{"$f":"IF(Inventory!J633<>\"\",Inventory!J633,0)","v":0},623,0,1001," ",null,0,623,0,1001," "]
[null,null,null,null,null,null,null,null,null,null,null,null,{"$f":"IF(Inventory!C634<>\"\",Inventory!C634,0)","v":0},624,0,1001," ",null,{"$f":"IF(Inventory!J634<>\"\",Inventory!J634,0)","v":0},624,0,1001," ",null,0,624,0,1001," "]
[null,null,null,null,null,null,null,null,null,null,null,null,{"$f":"IF(Inventory!C635<>\"\",Inventory!C635,0)","v":0},625,0,1001," ",null,{"$f":"IF(Inventory!J635<>\"\",Inventory!J635,0)","v":0},625,0,1001," ",null,0,625,0,1001," "]
[null,null,null,null,null,null,null,null,null,null,null,null,{"$f":"IF(Inventory!C636<>\"\",Inventory!C636,0)","v":0},626,0,1001," ",null,{"$f":"IF(Inventory!J636<>\"\",Inventory!J636,0)","v":0},626,0,1001," ",null,0,626,0,1001," "]
[null,null,null,null,null,null,null,null,null,null,null,null,{"$f":"IF(Inventory!C637<>\"\",Inventory!C637,0)","v":0},627,0,1001," ",null,{"$f":"IF(Inventory!J637<>\"\",Inventory!J637,0)","v":0},627,0,1001," ",null,0,627,0,1001," "]
[null,null,null,null,null,null,null,null,null,null,null,null,{"$f":"IF(Inventory!C638<>\"\",Inventory!C638,0)","v":0},628,0,1001," ",null,{"$f":"IF(Inventory!J638<>\"\",Inventory!J638,0)","v":0},628,0,1001," ",null,0,628,0,1001," "]
[null,null,null,null,null,null,null,null,null,null,null,null,{"$f":"IF(Inventory!C639<>\"\",Inventory!C639,0)","v":0},629,0,1001," ",null,{"$f":"IF(Inventory!J639<>\"\",Inventory!J639,0)","v":0},629,0,1001," ",null,0,629,0,1001," "]
[null,null,null,null,null,null,null,null,null,null,null,null,{"$f":"IF(Inventory!C640<>\"\",Inventory!C640,0)","v":0},630,0,1001," ",null,{"$f":"IF(Inventory!J640<>\"\",Inventory!J640,0)","v":0},630,0,1001," ",null,0,630,0,1001," "]
[null,null,null,null,null,null,null,null,null,null,null,null,{"$f":"IF(Inventory!C641<>\"\",Inventory!C641,0)","v":0},631,0,1001," ",null,{"$f":"IF(Inventory!J641<>\"\",Inventory!J641,0)","v":0},631,0,1001," ",null,0,631,0,1001," "]
[null,null,null,null,null,null,null,null,null,null,null,null,{"$f":"IF(Inventory!C642<>\"\",Inventory!C642,0)","v":0},632,0,1001," ",null,{"$f":"IF(Inventory!J642<>\"\",Inventory!J642,0)","v":0},632,0,1001," ",null,0,632,0,1001," "]
[null,null,null,null,null,null,null,null,null,null,null,null,{"$f":"IF(Inventory!C643<>\"\",Inventory!C643,0)","v":0},633,0,1001," ",null,{"$f":"IF(Inventory!J643<>\"\",Inventory!J643,0)","v":0},633,0,1001," ",null,0,633,0,1001," "]
[null,null,null,null,null,null,null,null,null,null,null,null,{"$f":"IF(Inventory!C644<>\"\",Inventory!C644,0)","v":0},634,0,1001," ",null,{"$f":"IF(Inventory!J644<>\"\",Inventory!J644,0)","v":0},634,0,1001," ",null,0,634,0,1001," "]
[null,null,null,null,null,null,null,null,null,null,null,null,{"$f":"IF(Inventory!C645<>\"\",Inventory!C645,0)","v":0},635,0,1001," ",null,{"$f":"IF(Inventory!J645<>\"\",Inventory!J645,0)","v":0},635,0,1001," ",null,0,635,0,1001," "]
[null,null,null,null,null,null,null,null,null,null,null,null,{"$f":"IF(Inventory!C646<>\"\",Inventory!C646,0)","v":0},636,0,1001," ",null,{"$f":"IF(Inventory!J646<>\"\",Inventory!J646,0)","v":0},636,0,1001," ",null,0,636,0,1001," "]
[null,null,null,null,null,null,null,null,null,null,null,null,{"$f":"IF(Inventory!C647<>\"\",Inventory!C647,0)","v":0},637,0,1001," ",null,{"$f":"IF(Inventory!J647<>\"\",Inventory!J647,0)","v":0},637,0,1001," ",null,0,637,0,1001," "]
[null,null,null,null,null,null,null,null,null,null,null,null,{"$f":"IF(Inventory!C648<>\"\",Inventory!C648,0)","v":0},638,0,1001," ",null,{"$f":"IF(Inventory!J648<>\"\",Inventory!J648,0)","v":0},638,0,1001," ",null,0,638,0,1001," "]
[null,null,null,null,null,null,null,null,null,null,null,null,{"$f":"IF(Inventory!C649<>\"\",Inventory!C649,0)","v":0},639,0,1001," ",null,{"$f":"IF(Inventory!J649<>\"\",Inventory!J649,0)","v":0},639,0,1001," ",null,0,639,0,1001," "]
[null,null,null,null,null,null,null,null,null,null,null,null,{"$f":"IF(Inventory!C650<>\"\",Inventory!C650,0)","v":0},640,0,1001," ",null,{"$f":"IF(Inventory!J650<>\"\",Inventory!J650,0)","v":0},640,0,1001," ",null,0,640,0,1001," "]
[null,null,null,null,null,null,null,null,null,null,null,null,{"$f":"IF(Inventory!C651<>\"\",Inventory!C651,0)","v":0},641,0,1001,{"$f":"IFERROR(VLOOKUP(SMALL($P$6:$P$1005,N646),$N$6:$O$1005,2,FALSE),\" \")","v":" "},null,{"$f":"IF(Inventory!J651<>\"\",Inventory!J651,0)","v":0},641,0,1001,{"$f":"IFERROR(VLOOKUP(SMALL($V$6:$V$1005,T646),$T$6:$U$1005,2,FALSE),\" \")","v":" "},null,0,641,0,1001,{"$f":"IFERROR(VLOOKUP(SMALL($AB$6:$AB$1005,Z646),$Z$6:$AA$1005,2,FALSE),\" \")","v":" "}]
[null,null,null,null,null,null,null,null,null,null,null,null,{"$f":"IF(Inventory!C652<>\"\",Inventory!C652,0)","v":0},642,{"$f":"M647","v":0},{"$f":"IF(O647=0,MAX($N$6:$N$1005)+1,N647)","v":1001}," ",null,{"$f":"IF(Inventory!J652<>\"\",Inventory!J652,0)","v":0},642,{"$f":"S647","v":0},{"$f":"IF(U647=0,MAX($T$6:$T$1005)+1,T647)","v":1001}," ",null,{"$f":"IF(AND(M647=0,S647=0),0,IF(AND(M647<>0,S647=0),M647,IF(AND(M647=0,S647<>0),S647,IF(AND(M647<>0,S647<>0),(CONCATENATE(M647,S647))))))","v":0},642,{"$f":"Y647","v":0},{"$f":"IF(AA647=0,MAX($Z$6:$Z$1005)+1,Z647)","v":1001}," "]
[null,null,null,null,null,null,null,null,null,null,null,null,{"$f":"IF(Inventory!C653<>\"\",Inventory!C653,0)","v":0},643,0,1001," ",null,{"$f":"IF(Inventory!J653<>\"\",Inventory!J653,0)","v":0},643,0,1001," ",null,0,643,0,1001," "]
[null,null,null,null,null,null,null,null,null,null,null,null,{"$f":"IF(Inventory!C654<>\"\",Inventory!C654,0)","v":0},644,0,1001," ",null,{"$f":"IF(Inventory!J654<>\"\",Inventory!J654,0)","v":0},644,0,1001," ",null,0,644,0,1001," "]
[null,null,null,null,null,null,null,null,null,null,null,null,{"$f":"IF(Inventory!C655<>\"\",Inventory!C655,0)","v":0},645,0,1001," ",null,{"$f":"IF(Inventory!J655<>\"\",Inventory!J655,0)","v":0},645,0,1001," ",null,0,645,0,1001," "]
[null,null,null,null,null,null,null,null,null,null,null,null,{"$f":"IF(Inventory!C656<>\"\",Inventory!C656,0)","v":0},646,0,1001," ",null,{"$f":"IF(Inventory!J656<>\"\",Inventory!J656,0)","v":0},646,0,1001," ",null,0,646,0,1001," "]
[null,null,null,null,null,null,null,null,null,null,null,null,{"$f":"IF(Inventory!C657<>\"\",Inventory!C657,0)","v":0},647,0,1001," ",null,{"$f":"IF(Inventory!J657<>\"\",Inventory!J657,0)","v":0},647,0,1001," ",null,0,647,0,1001," "]
[null,null,null,null,null,null,null,null,null,null,null,null,{"$f":"IF(Inventory!C658<>\"\",Inventory!C658,0)","v":0},648,0,1001," ",null,{"$f":"IF(Inventory!J658<>\"\",Inventory!J658,0)","v":0},648,0,1001," ",null,0,648,0,1001," "]
[null,null,null,null,null,null,null,null,null,null,null,null,{"$f":"IF(Inventory!C659<>\"\",Inventory!C659,0)","v":0},649,0,1001," ",null,{"$f":"IF(Inventory!J659<>\"\",Inventory!J659,0)","v":0},649,0,1001," ",null,0,649,0,1001," "]
[null,null,null,null,null,null,null,null,null,null,null,null,{"$f":"IF(Inventory!C660<>\"\",Inventory!C660,0)","v":0},650,0,1001," ",null,{"$f":"IF(Inventory!J660<>\"\",Inventory!J660,0)","v":0},650,0,1001," ",null,0,650,0,1001," "]
[null,null,null,null,null,null,null,null,null,null,null,null,{"$f":"IF(Inventory!C661<>\"\",Inventory!C661,0)","v":0},651,0,1001," ",null,{"$f":"IF(Inventory!J661<>\"\",Inventory!J661,0)","v":0},651,0,1001," ",null,0,651,0,1001," "]
[null,null,null,null,null,null,null,null,null,null,null,null,{"$f":"IF(Inventory!C662<>\"\",Inventory!C662,0)","v":0},652,0,1001," ",null,{"$f":"IF(Inventory!J662<>\"\",Inventory!J662,0)","v":0},652,0,1001," ",null,0,652,0,1001," "]
[null,null,null,null,null,null,null,null,null,null,null,null,{"$f":"IF(Inventory!C663<>\"\",Inventory!C663,0)","v":0},653,0,1001," ",null,{"$f":"IF(Inventory!J663<>\"\",Inventory!J663,0)","v":0},653,0,1001," ",null,0,653,0,1001," "]
[null,null,null,null,null,null,null,null,null,null,null,null,{"$f":"IF(Inventory!C664<>\"\",Inventory!C664,0)","v":0},654,0,1001," ",null,{"$f":"IF(Inventory!J664<>\"\",Inventory!J664,0)","v":0},654,0,1001," ",null,0,654,0,1001," "]
[null,null,null,null,null,null,null,null,null,null,null,null,{"$f":"IF(Inventory!C665<>\"\",Inventory!C665,0)","v":0},655,0,1001," ",null,{"$f":"IF(Inventory!J665<>\"\",Inventory!J665,0)","v":0},655,0,1001," ",null,0,655,0,1001," "]
[null,null,null,null,null,null,null,null,null,null,null,null,{"$f":"IF(Inventory!C666<>\"\",Inventory!C666,0)","v":0},656,0,1001," ",null,{"$f":"IF(Inventory!J666<>\"\",Inventory!J666,0)","v":0},656,0,1001," ",null,0,656,0,1001," "]
[null,null,null,null,null,null,null,null,null,null,null,null,{"$f":"IF(Inventory!C667<>\"\",Inventory!C667,0)","v":0},657,0,1001," ",null,{"$f":"IF(Inventory!J667<>\"\",Inventory!J667,0)","v":0},657,0,1001," ",null,0,657,0,1001," "]
[null,null,null,null,null,null,null,null,null,null,null,null,{"$f":"IF(Inventory!C668<>\"\",Inventory!C668,0)","v":0},658,0,1001," ",null,{"$f":"IF(Inventory!J668<>\"\",Inventory!J668,0)","v":0},658,0,1001," ",null,0,658,0,1001," "]
[null,null,null,null,null,null,null,null,null,null,null,null,{"$f":"IF(Inventory!C669<>\"\",Inventory!C669,0)","v":0},659,0,1001," ",null,{"$f":"IF(Inventory!J669<>\"\",Inventory!J669,0)","v":0},659,0,1001," ",null,0,659,0,1001," "]
[null,null,null,null,null,null,null,null,null,null,null,null,{"$f":"IF(Inventory!C670<>\"\",Inventory!C670,0)","v":0},660,0,1001," ",null,{"$f":"IF(Inventory!J670<>\"\",Inventory!J670,0)","v":0},660,0,1001," ",null,0,660,0,1001," "]
[null,null,null,null,null,null,null,null,null,null,null,null,{"$f":"IF(Inventory!C671<>\"\",Inventory!C671,0)","v":0},661,0,1001," ",null,{"$f":"IF(Inventory!J671<>\"\",Inventory!J671,0)","v":0},661,0,1001," ",null,0,661,0,1001," "]
[null,null,null,null,null,null,null,null,null,null,null,null,{"$f":"IF(Inventory!C672<>\"\",Inventory!C672,0)","v":0},662,0,1001," ",null,{"$f":"IF(Inventory!J672<>\"\",Inventory!J672,0)","v":0},662,0,1001," ",null,0,662,0,1001," "]
[null,null,null,null,null,null,null,null,null,null,null,null,{"$f":"IF(Inventory!C673<>\"\",Inventory!C673,0)","v":0},663,0,1001," ",null,{"$f":"IF(Inventory!J673<>\"\",Inventory!J673,0)","v":0},663,0,1001," ",null,0,663,0,1001," "]
[null,null,null,null,null,null,null,null,null,null,null,null,{"$f":"IF(Inventory!C674<>\"\",Inventory!C674,0)","v":0},664,0,1001," ",null,{"$f":"IF(Inventory!J674<>\"\",Inventory!J674,0)","v":0},664,0,1001," ",null,0,664,0,1001," "]
[null,null,null,null,null,null,null,null,null,null,null,null,{"$f":"IF(Inventory!C675<>\"\",Inventory!C675,0)","v":0},665,0,1001," ",null,{"$f":"IF(Inventory!J675<>\"\",Inventory!J675,0)","v":0},665,0,1001," ",null,0,665,0,1001," "]
[null,null,null,null,null,null,null,null,null,null,null,null,{"$f":"IF(Inventory!C676<>\"\",Inventory!C676,0)","v":0},666,0,1001," ",null,{"$f":"IF(Inventory!J676<>\"\",Inventory!J676,0)","v":0},666,0,1001," ",null,0,666,0,1001," "]
[null,null,null,null,null,null,null,null,null,null,null,null,{"$f":"IF(Inventory!C677<>\"\",Inventory!C677,0)","v":0},667,0,1001," ",null,{"$f":"IF(Inventory!J677<>\"\",Inventory!J677,0)","v":0},667,0,1001," ",null,0,667,0,1001," "]
[null,null,null,null,null,null,null,null,null,null,null,null,{"$f":"IF(Inventory!C678<>\"\",Inventory!C678,0)","v":0},668,0,1001," ",null,{"$f":"IF(Inventory!J678<>\"\",Inventory!J678,0)","v":0},668,0,1001," ",null,0,668,0,1001," "]
[null,null,null,null,null,null,null,null,null,null,null,null,{"$f":"IF(Inventory!C679<>\"\",Inventory!C679,0)","v":0},669,0,1001," ",null,{"$f":"IF(Inventory!J679<>\"\",Inventory!J679,0)","v":0},669,0,1001," ",null,0,669,0,1001," "]
[null,null,null,null,null,null,null,null,null,null,null,null,{"$f":"IF(Inventory!C680<>\"\",Inventory!C680,0)","v":0},670,0,1001," ",null,{"$f":"IF(Inventory!J680<>\"\",Inventory!J680,0)","v":0},670,0,1001," ",null,0,670,0,1001," "]
[null,null,null,null,null,null,null,null,null,null,null,null,{"$f":"IF(Inventory!C681<>\"\",Inventory!C681,0)","v":0},671,0,1001," ",null,{"$f":"IF(Inventory!J681<>\"\",Inventory!J681,0)","v":0},671,0,1001," ",null,0,671,0,1001," "]
[null,null,null,null,null,null,null,null,null,null,null,null,{"$f":"IF(Inventory!C682<>\"\",Inventory!C682,0)","v":0},672,0,1001," ",null,{"$f":"IF(Inventory!J682<>\"\",Inventory!J682,0)","v":0},672,0,1001," ",null,0,672,0,1001," "]
[null,null,null,null,null,null,null,null,null,null,null,null,{"$f":"IF(Inventory!C683<>\"\",Inventory!C683,0)","v":0},673,0,1001," ",null,{"$f":"IF(Inventory!J683<>\"\",Inventory!J683,0)","v":0},673,0,1001," ",null,0,673,0,1001," "]
[null,null,null,null,null,null,null,null,null,null,null,null,{"$f":"IF(Inventory!C684<>\"\",Inventory!C684,0)","v":0},674,0,1001," ",null,{"$f":"IF(Inventory!J684<>\"\",Inventory!J684,0)","v":0},674,0,1001," ",null,0,674,0,1001," "]
[null,null,null,null,null,null,null,null,null,null,null,null,{"$f":"IF(Inventory!C685<>\"\",Inventory!C685,0)","v":0},675,0,1001," ",null,{"$f":"IF(Inventory!J685<>\"\",Inventory!J685,0)","v":0},675,0,1001," ",null,0,675,0,1001," "]
[null,null,null,null,null,null,null,null,null,null,null,null,{"$f":"IF(Inventory!C686<>\"\",Inventory!C686,0)","v":0},676,0,1001," ",null,{"$f":"IF(Inventory!J686<>\"\",Inventory!J686,0)","v":0},676,0,1001," ",null,0,676,0,1001," "]
[null,null,null,null,null,null,null,null,null,null,null,null,{"$f":"IF(Inventory!C687<>\"\",Inventory!C687,0)","v":0},677,0,1001," ",null,{"$f":"IF(Inventory!J687<>\"\",Inventory!J687,0)","v":0},677,0,1001," ",null,0,677,0,1001," "]
[null,null,null,null,null,null,null,null,null,null,null,null,{"$f":"IF(Inventory!C688<>\"\",Inventory!C688,0)","v":0},678,0,1001," ",null,{"$f":"IF(Inventory!J688<>\"\",Inventory!J688,0)","v":0},678,0,1001," ",null,0,678,0,1001," "]
[null,null,null,null,null,null,null,null,null,null,null,null,{"$f":"IF(Inventory!C689<>\"\",Inventory!C689,0)","v":0},679,0,1001," ",null,{"$f":"IF(Inventory!J689<>\"\",Inventory!J689,0)","v":0},679,0,1001," ",null,0,679,0,1001," "]
[null,null,null,null,null,null,null,null,null,null,null,null,{"$f":"IF(Inventory!C690<>\"\",Inventory!C690,0)","v":0},680,0,1001," ",null,{"$f":"IF(Inventory!J690<>\"\",Inventory!J690,0)","v":0},680,0,1001," ",null,0,680,0,1001," "]
[null,null,null,null,null,null,null,null,null,null,null,null,{"$f":"IF(Inventory!C691<>\"\",Inventory!C691,0)","v":0},681,0,1001," ",null,{"$f":"IF(Inventory!J691<>\"\",Inventory!J691,0)","v":0},681,0,1001," ",null,0,681,0,1001," "]
[null,null,null,null,null,null,null,null,null,null,null,null,{"$f":"IF(Inventory!C692<>\"\",Inventory!C692,0)","v":0},682,0,1001," ",null,{"$f":"IF(Inventory!J692<>\"\",Inventory!J692,0)","v":0},682,0,1001," ",null,0,682,0,1001," "]
[null,null,null,null,null,null,null,null,null,null,null,null,{"$f":"IF(Inventory!C693<>\"\",Inventory!C693,0)","v":0},683,0,1001," ",null,{"$f":"IF(Inventory!J693<>\"\",Inventory!J693,0)","v":0},683,0,1001," ",null,0,683,0,1001," "]
[null,null,null,null,null,null,null,null,null,null,null,null,{"$f":"IF(Inventory!C694<>\"\",Inventory!C694,0)","v":0},684,0,1001," ",null,{"$f":"IF(Inventory!J694<>\"\",Inventory!J694,0)","v":0},684,0,1001," ",null,0,684,0,1001," "]
[null,null,null,null,null,null,null,null,null,null,null,null,{"$f":"IF(Inventory!C695<>\"\",Inventory!C695,0)","v":0},685,0,1001," ",null,{"$f":"IF(Inventory!J695<>\"\",Inventory!J695,0)","v":0},685,0,1001," ",null,0,685,0,1001," "]
[null,null,null,null,null,null,null,null,null,null,null,null,{"$f":"IF(Inventory!C696<>\"\",Inventory!C696,0)","v":0},686,0,1001," ",null,{"$f":"IF(Inventory!J696<>\"\",Inventory!J696,0)","v":0},686,0,1001," ",null,0,686,0,1001," "]
[null,null,null,null,null,null,null,null,null,null,null,null,{"$f":"IF(Inventory!C697<>\"\",Inventory!C697,0)","v":0},687,0,1001," ",null,{"$f":"IF(Inventory!J697<>\"\",Inventory!J697,0)","v":0},687,0,1001," ",null,0,687,0,1001," "]
[null,null,null,null,null,null,null,null,null,null,null,null,{"$f":"IF(Inventory!C698<>\"\",Inventory!C698,0)","v":0},688,0,1001," ",null,{"$f":"IF(Inventory!J698<>\"\",Inventory!J698,0)","v":0},688,0,1001," ",null,0,688,0,1001," "]
[null,null,null,null,null,null,null,null,null,null,null,null,{"$f":"IF(Inventory!C699<>\"\",Inventory!C699,0)","v":0},689,0,1001," ",null,{"$f":"IF(Inventory!J699<>\"\",Inventory!J699,0)","v":0},689,0,1001," ",null,0,689,0,1001," "]
[null,null,null,null,null,null,null,null,null,null,null,null,{"$f":"IF(Inventory!C700<>\"\",Inventory!C700,0)","v":0},690,0,1001," ",null,{"$f":"IF(Inventory!J700<>\"\",Inventory!J700,0)","v":0},690,0,1001," ",null,0,690,0,1001," "]
[null,null,null,null,null,null,null,null,null,null,null,null,{"$f":"IF(Inventory!C701<>\"\",Inventory!C701,0)","v":0},691,0,1001," ",null,{"$f":"IF(Inventory!J701<>\"\",Inventory!J701,0)","v":0},691,0,1001," ",null,0,691,0,1001," "]
[null,null,null,null,null,null,null,null,null,null,null,null,{"$f":"IF(Inventory!C702<>\"\",Inventory!C702,0)","v":0},692,0,1001," ",null,{"$f":"IF(Inventory!J702<>\"\",Inventory!J702,0)","v":0},692,0,1001," ",null,0,692,0,1001," "]
[null,null,null,null,null,null,null,null,null,null,null,null,{"$f":"IF(Inventory!C703<>\"\",Inventory!C703,0)","v":0},693,0,1001," ",null,{"$f":"IF(Inventory!J703<>\"\",Inventory!J703,0)","v":0},693,0,1001," ",null,0,693,0,1001," "]
[null,null,null,null,null,null,null,null,null,null,null,null,{"$f":"IF(Inventory!C704<>\"\",Inventory!C704,0)","v":0},694,0,1001," ",null,{"$f":"IF(Inventory!J704<>\"\",Inventory!J704,0)","v":0},694,0,1001," ",null,0,694,0,1001," "]
[null,null,null,null,null,null,null,null,null,null,null,null,{"$f":"IF(Inventory!C705<>\"\",Inventory!C705,0)","v":0},695,0,1001," ",null,{"$f":"IF(Inventory!J705<>\"\",Inventory!J705,0)","v":0},695,0,1001," ",null,0,695,0,1001," "]
[null,null,null,null,null,null,null,null,null,null,null,null,{"$f":"IF(Inventory!C706<>\"\",Inventory!C706,0)","v":0},696,0,1001," ",null,{"$f":"IF(Inventory!J706<>\"\",Inventory!J706,0)","v":0},696,0,1001," ",null,0,696,0,1001," "]
[null,null,null,null,null,null,null,null,null,null,null,null,{"$f":"IF(Inventory!C707<>\"\",Inventory!C707,0)","v":0},697,0,1001," ",null,{"$f":"IF(Inventory!J707<>\"\",Inventory!J707,0)","v":0},697,0,1001," ",null,0,697,0,1001," "]
[null,null,null,null,null,null,null,null,null,null,null,null,{"$f":"IF(Inventory!C708<>\"\",Inventory!C708,0)","v":0},698,0,1001," ",null,{"$f":"IF(Inventory!J708<>\"\",Inventory!J708,0)","v":0},698,0,1001," ",null,0,698,0,1001," "]
[null,null,null,null,null,null,null,null,null,null,null,null,{"$f":"IF(Inventory!C709<>\"\",Inventory!C709,0)","v":0},699,0,1001," ",null,{"$f":"IF(Inventory!J709<>\"\",Inventory!J709,0)","v":0},699,0,1001," ",null,0,699,0,1001," "]
[null,null,null,null,null,null,null,null,null,null,null,null,{"$f":"IF(Inventory!C710<>\"\",Inventory!C710,0)","v":0},700,0,1001," ",null,{"$f":"IF(Inventory!J710<>\"\",Inventory!J710,0)","v":0},700,0,1001," ",null,0,700,0,1001," "]
[null,null,null,null,null,null,null,null,null,null,null,null,{"$f":"IF(Inventory!C711<>\"\",Inventory!C711,0)","v":0},701,0,1001," ",null,{"$f":"IF(Inventory!J711<>\"\",Inventory!J711,0)","v":0},701,0,1001," ",null,0,701,0,1001," "]
[null,null,null,null,null,null,null,null,null,null,null,null,{"$f":"IF(Inventory!C712<>\"\",Inventory!C712,0)","v":0},702,0,1001," ",null,{"$f":"IF(Inventory!J712<>\"\",Inventory!J712,0)","v":0},702,0,1001," ",null,0,702,0,1001," "]
[null,null,null,null,null,null,null,null,null,null,null,null,{"$f":"IF(Inventory!C713<>\"\",Inventory!C713,0)","v":0},703,0,1001," ",null,{"$f":"IF(Inventory!J713<>\"\",Inventory!J713,0)","v":0},703,0,1001," ",null,0,703,0,1001," "]
[null,null,null,null,null,null,null,null,null,null,null,null,{"$f":"IF(Inventory!C714<>\"\",Inventory!C714,0)","v":0},704,0,1001," ",null,{"$f":"IF(Inventory!J714<>\"\",Inventory!J714,0)","v":0},704,0,1001," ",null,0,704,0,1001," "]
[null,null,null,null,null,null,null,null,null,null,null,null,{"$f":"IF(Inventory!C715<>\"\",Inventory!C715,0)","v":0},705,0,1001,{"$f":"IFERROR(VLOOKUP(SMALL($P$6:$P$1005,N710),$N$6:$O$1005,2,FALSE),\" \")","v":" "},null,{"$f":"IF(Inventory!J715<>\"\",Inventory!J715,0)","v":0},705,0,1001,{"$f":"IFERROR(VLOOKUP(SMALL($V$6:$V$1005,T710),$T$6:$U$1005,2,FALSE),\" \")","v":" "},null,0,705,0,1001,{"$f":"IFERROR(VLOOKUP(SMALL($AB$6:$AB$1005,Z710),$Z$6:$AA$1005,2,FALSE),\" \")","v":" "}]
[null,null,null,null,null,null,null,null,null,null,null,null,{"$f":"IF(Inventory!C716<>\"\",Inventory!C716,0)","v":0},706,{"$f":"M711","v":0},{"$f":"IF(O711=0,MAX($N$6:$N$1005)+1,N711)","v":1001}," ",null,{"$f":"IF(Inventory!J716<>\"\",Inventory!J716,0)","v":0},706,{"$f":"S711","v":0},{"$f":"IF(U711=0,MAX($T$6:$T$1005)+1,T711)","v":1001}," ",null,{"$f":"IF(AND(M711=0,S711=0),0,IF(AND(M711<>0,S711=0),M711,IF(AND(M711=0,S711<>0),S711,IF(AND(M711<>0,S711<>0),(CONCATENATE(M711,S711))))))","v":0},706,{"$f":"Y711","v":0},{"$f":"IF(AA711=0,MAX($Z$6:$Z$1005)+1,Z711)","v":1001}," "]
[null,null,null,null,null,null,null,null,null,null,null,null,{"$f":"IF(Inventory!C717<>\"\",Inventory!C717,0)","v":0},707,0,1001," ",null,{"$f":"IF(Inventory!J717<>\"\",Inventory!J717,0)","v":0},707,0,1001," ",null,0,707,0,1001," "]
[null,null,null,null,null,null,null,null,null,null,null,null,{"$f":"IF(Inventory!C718<>\"\",Inventory!C718,0)","v":0},708,0,1001," ",null,{"$f":"IF(Inventory!J718<>\"\",Inventory!J718,0)","v":0},708,0,1001," ",null,0,708,0,1001," "]
[null,null,null,null,null,null,null,null,null,null,null,null,{"$f":"IF(Inventory!C719<>\"\",Inventory!C719,0)","v":0},709,0,1001," ",null,{"$f":"IF(Inventory!J719<>\"\",Inventory!J719,0)","v":0},709,0,1001," ",null,0,709,0,1001," "]
[null,null,null,null,null,null,null,null,null,null,null,null,{"$f":"IF(Inventory!C720<>\"\",Inventory!C720,0)","v":0},710,0,1001," ",null,{"$f":"IF(Inventory!J720<>\"\",Inventory!J720,0)","v":0},710,0,1001," ",null,0,710,0,1001," "]
[null,null,null,null,null,null,null,null,null,null,null,null,{"$f":"IF(Inventory!C721<>\"\",Inventory!C721,0)","v":0},711,0,1001," ",null,{"$f":"IF(Inventory!J721<>\"\",Inventory!J721,0)","v":0},711,0,1001," ",null,0,711,0,1001," "]
[null,null,null,null,null,null,null,null,null,null,null,null,{"$f":"IF(Inventory!C722<>\"\",Inventory!C722,0)","v":0},712,0,1001," ",null,{"$f":"IF(Inventory!J722<>\"\",Inventory!J722,0)","v":0},712,0,1001," ",null,0,712,0,1001," "]
[null,null,null,null,null,null,null,null,null,null,null,null,{"$f":"IF(Inventory!C723<>\"\",Inventory!C723,0)","v":0},713,0,1001," ",null,{"$f":"IF(Inventory!J723<>\"\",Inventory!J723,0)","v":0},713,0,1001," ",null,0,713,0,1001," "]
[null,null,null,null,null,null,null,null,null,null,null,null,{"$f":"IF(Inventory!C724<>\"\",Inventory!C724,0)","v":0},714,0,1001," ",null,{"$f":"IF(Inventory!J724<>\"\",Inventory!J724,0)","v":0},714,0,1001," ",null,0,714,0,1001," "]
[null,null,null,null,null,null,null,null,null,null,null,null,{"$f":"IF(Inventory!C725<>\"\",Inventory!C725,0)","v":0},715,0,1001," ",null,{"$f":"IF(Inventory!J725<>\"\",Inventory!J725,0)","v":0},715,0,1001," ",null,0,715,0,1001," "]
[null,null,null,null,null,null,null,null,null,null,null,null,{"$f":"IF(Inventory!C726<>\"\",Inventory!C726,0)","v":0},716,0,1001," ",null,{"$f":"IF(Inventory!J726<>\"\",Inventory!J726,0)","v":0},716,0,1001," ",null,0,716,0,1001," "]
[null,null,null,null,null,null,null,null,null,null,null,null,{"$f":"IF(Inventory!C727<>\"\",Inventory!C727,0)","v":0},717,0,1001," ",null,{"$f":"IF(Inventory!J727<>\"\",Inventory!J727,0)","v":0},717,0,1001," ",null,0,717,0,1001," "]
[null,null,null,null,null,null,null,null,null,null,null,null,{"$f":"IF(Inventory!C728<>\"\",Inventory!C728,0)","v":0},718,0,1001," ",null,{"$f":"IF(Inventory!J728<>\"\",Inventory!J728,0)","v":0},718,0,1001," ",null,0,718,0,1001," "]
[null,null,null,null,null,null,null,null,null,null,null,null,{"$f":"IF(Inventory!C729<>\"\",Inventory!C729,0)","v":0},719,0,1001," ",null,{"$f":"IF(Inventory!J729<>\"\",Inventory!J729,0)","v":0},719,0,1001," ",null,0,719,0,1001," "]
[null,null,null,null,null,null,null,null,null,null,null,null,{"$f":"IF(Inventory!C730<>\"\",Inventory!C730,0)","v":0},720,0,1001," ",null,{"$f":"IF(Inventory!J730<>\"\",Inventory!J730,0)","v":0},720,0,1001," ",null,0,720,0,1001," "]
[null,null,null,null,null,null,null,null,null,null,null,null,{"$f":"IF(Inventory!C731<>\"\",Inventory!C731,0)","v":0},721,0,1001," ",null,{"$f":"IF(Inventory!J731<>\"\",Inventory!J731,0)","v":0},721,0,1001," ",null,0,721,0,1001," "]
[null,null,null,null,null,null,null,null,null,null,null,null,{"$f":"IF(Inventory!C732<>\"\",Inventory!C732,0)","v":0},722,0,1001," ",null,{"$f":"IF(Inventory!J732<>\"\",Inventory!J732,0)","v":0},722,0,1001," ",null,0,722,0,1001," "]
[null,null,null,null,null,null,null,null,null,null,null,null,{"$f":"IF(Inventory!C733<>\"\",Inventory!C733,0)","v":0},723,0,1001," ",null,{"$f":"IF(Inventory!J733<>\"\",Inventory!J733,0)","v":0},723,0,1001," ",null,0,723,0,1001," "]
[null,null,null,null,null,null,null,null,null,null,null,null,{"$f":"IF(Inventory!C734<>\"\",Inventory!C734,0)","v":0},724,0,1001," ",null,{"$f":"IF(Inventory!J734<>\"\",Inventory!J734,0)","v":0},724,0,1001," ",null,0,724,0,1001," "]
[null,null,null,null,null,null,null,null,null,null,null,null,{"$f":"IF(Inventory!C735<>\"\",Inventory!C735,0)","v":0},725,0,1001," ",null,{"$f":"IF(Inventory!J735<>\"\",Inventory!J735,0)","v":0},725,0,1001," ",null,0,725,0,1001," "]
[null,null,null,null,null,null,null,null,null,null,null,null,{"$f":"IF(Inventory!C736<>\"\",Inventory!C736,0)","v":0},726,0,1001," ",null,{"$f":"IF(Inventory!J736<>\"\",Inventory!J736,0)","v":0},726,0,1001," ",null,0,726,0,1001," "]
[null,null,null,null,null,null,null,null,null,null,null,null,{"$f":"IF(Inventory!C737<>\"\",Inventory!C737,0)","v":0},727,0,1001," ",null,{"$f":"IF(Inventory!J737<>\"\",Inventory!J737,0)","v":0},727,0,1001," ",null,0,727,0,1001," "]
[null,null,null,null,null,null,null,null,null,null,null,null,{"$f":"IF(Inventory!C738<>\"\",Inventory!C738,0)","v":0},728,0,1001," ",null,{"$f":"IF(Inventory!J738<>\"\",Inventory!J738,0)","v":0},728,0,1001," ",null,0,728,0,1001," "]
[null,null,null,null,null,null,null,null,null,null,null,null,{"$f":"IF(Inventory!C739<>\"\",Inventory!C739,0)","v":0},729,0,1001," ",null,{"$f":"IF(Inventory!J739<>\"\",Inventory!J739,0)","v":0},729,0,1001," ",null,0,729,0,1001," "]
[null,null,null,null,null,null,null,null,null,null,null,null,{"$f":"IF(Inventory!C740<>\"\",Inventory!C740,0)","v":0},730,0,1001," ",null,{"$f":"IF(Inventory!J740<>\"\",Inventory!J740,0)","v":0},730,0,1001," ",null,0,730,0,1001," "]
[null,null,null,null,null,null,null,null,null,null,null,null,{"$f":"IF(Inventory!C741<>\"\",Inventory!C741,0)","v":0},731,0,1001," ",null,{"$f":"IF(Inventory!J741<>\"\",Inventory!J741,0)","v":0},731,0,1001," ",null,0,731,0,1001," "]
[null,null,null,null,null,null,null,null,null,null,null,null,{"$f":"IF(Inventory!C742<>\"\",Inventory!C742,0)","v":0},732,0,1001," ",null,{"$f":"IF(Inventory!J742<>\"\",Inventory!J742,0)","v":0},732,0,1001," ",null,0,732,0,1001," "]
[null,null,null,null,null,null,null,null,null,null,null,null,{"$f":"IF(Inventory!C743<>\"\",Inventory!C743,0)","v":0},733,0,1001," ",null,{"$f":"IF(Inventory!J743<>\"\",Inventory!J743,0)","v":0},733,0,1001," ",null,0,733,0,1001," "]
[null,null,null,null,null,null,null,null,null,null,null,null,{"$f":"IF(Inventory!C744<>\"\",Inventory!C744,0)","v":0},734,0,1001," ",null,{"$f":"IF(Inventory!J744<>\"\",Inventory!J744,0)","v":0},734,0,1001," ",null,0,734,0,1001," "]
[null,null,null,null,null,null,null,null,null,null,null,null,{"$f":"IF(Inventory!C745<>\"\",Inventory!C745,0)","v":0},735,0,1001," ",null,{"$f":"IF(Inventory!J745<>\"\",Inventory!J745,0)","v":0},735,0,1001," ",null,0,735,0,1001," "]
[null,null,null,null,null,null,null,null,null,null,null,null,{"$f":"IF(Inventory!C746<>\"\",Inventory!C746,0)","v":0},736,0,1001," ",null,{"$f":"IF(Inventory!J746<>\"\",Inventory!J746,0)","v":0},736,0,1001," ",null,0,736,0,1001," "]
[null,null,null,null,null,null,null,null,null,null,null,null,{"$f":"IF(Inventory!C747<>\"\",Inventory!C747,0)","v":0},737,0,1001," ",null,{"$f":"IF(Inventory!J747<>\"\",Inventory!J747,0)","v":0},737,0,1001," ",null,0,737,0,1001," "]
[null,null,null,null,null,null,null,null,null,null,null,null,{"$f":"IF(Inventory!C748<>\"\",Inventory!C748,0)","v":0},738,0,1001," ",null,{"$f":"IF(Inventory!J748<>\"\",Inventory!J748,0)","v":0},738,0,1001," ",null,0,738,0,1001," "]
[null,null,null,null,null,null,null,null,null,null,null,null,{"$f":"IF(Inventory!C749<>\"\",Inventory!C749,0)","v":0},739,0,1001," ",null,{"$f":"IF(Inventory!J749<>\"\",Inventory!J749,0)","v":0},739,0,1001," ",null,0,739,0,1001," "]
[null,null,null,null,null,null,null,null,null,null,null,null,{"$f":"IF(Inventory!C750<>\"\",Inventory!C750,0)","v":0},740,0,1001," ",null,{"$f":"IF(Inventory!J750<>\"\",Inventory!J750,0)","v":0},740,0,1001," ",null,0,740,0,1001," "]
[null,null,null,null,null,null,null,null,null,null,null,null,{"$f":"IF(Inventory!C751<>\"\",Inventory!C751,0)","v":0},741,0,1001," ",null,{"$f":"IF(Inventory!J751<>\"\",Inventory!J751,0)","v":0},741,0,1001," ",null,0,741,0,1001," "]
[null,null,null,null,null,null,null,null,null,null,null,null,{"$f":"IF(Inventory!C752<>\"\",Inventory!C752,0)","v":0},742,0,1001," ",null,{"$f":"IF(Inventory!J752<>\"\",Inventory!J752,0)","v":0},742,0,1001," ",null,0,742,0,1001," "]
[null,null,null,null,null,null,null,null,null,null,null,null,{"$f":"IF(Inventory!C753<>\"\",Inventory!C753,0)","v":0},743,0,1001," ",null,{"$f":"IF(Inventory!J753<>\"\",Inventory!J753,0)","v":0},743,0,1001," ",null,0,743,0,1001," "]
[null,null,null,null,null,null,null,null,null,null,null,null,{"$f":"IF(Inventory!C754<>\"\",Inventory!C754,0)","v":0},744,0,1001," ",null,{"$f":"IF(Inventory!J754<>\"\",Inventory!J754,0)","v":0},744,0,1001," ",null,0,744,0,1001," "]
[null,null,null,null,null,null,null,null,null,null,null,null,{"$f":"IF(Inventory!C755<>\"\",Inventory!C755,0)","v":0},745,0,1001," ",null,{"$f":"IF(Inventory!J755<>\"\",Inventory!J755,0)","v":0},745,0,1001," ",null,0,745,0,1001," "]
[null,null,null,null,null,null,null,null,null,null,null,null,{"$f":"IF(Inventory!C756<>\"\",Inventory!C756,0)","v":0},746,0,1001," ",null,{"$f":"IF(Inventory!J756<>\"\",Inventory!J756,0)","v":0},746,0,1001," ",null,0,746,0,1001," "]
[null,null,null,null,null,null,null,null,null,null,null,null,{"$f":"IF(Inventory!C757<>\"\",Inventory!C757,0)","v":0},747,0,1001," ",null,{"$f":"IF(Inventory!J757<>\"\",Inventory!J757,0)","v":0},747,0,1001," ",null,0,747,0,1001," "]
[null,null,null,null,null,null,null,null,null,null,null,null,{"$f":"IF(Inventory!C758<>\"\",Inventory!C758,0)","v":0},748,0,1001," ",null,{"$f":"IF(Inventory!J758<>\"\",Inventory!J758,0)","v":0},748,0,1001," ",null,0,748,0,1001," "]
[null,null,null,null,null,null,null,null,null,null,null,null,{"$f":"IF(Inventory!C759<>\"\",Inventory!C759,0)","v":0},749,0,1001," ",null,{"$f":"IF(Inventory!J759<>\"\",Inventory!J759,0)","v":0},749,0,1001," ",null,0,749,0,1001," "]
[null,null,null,null,null,null,null,null,null,null,null,null,{"$f":"IF(Inventory!C760<>\"\",Inventory!C760,0)","v":0},750,0,1001," ",null,{"$f":"IF(Inventory!J760<>\"\",Inventory!J760,0)","v":0},750,0,1001," ",null,0,750,0,1001," "]
[null,null,null,null,null,null,null,null,null,null,null,null,{"$f":"IF(Inventory!C761<>\"\",Inventory!C761,0)","v":0},751,0,1001," ",null,{"$f":"IF(Inventory!J761<>\"\",Inventory!J761,0)","v":0},751,0,1001," ",null,0,751,0,1001," "]
[null,null,null,null,null,null,null,null,null,null,null,null,{"$f":"IF(Inventory!C762<>\"\",Inventory!C762,0)","v":0},752,0,1001," ",null,{"$f":"IF(Inventory!J762<>\"\",Inventory!J762,0)","v":0},752,0,1001," ",null,0,752,0,1001," "]
[null,null,null,null,null,null,null,null,null,null,null,null,{"$f":"IF(Inventory!C763<>\"\",Inventory!C763,0)","v":0},753,0,1001," ",null,{"$f":"IF(Inventory!J763<>\"\",Inventory!J763,0)","v":0},753,0,1001," ",null,0,753,0,1001," "]
[null,null,null,null,null,null,null,null,null,null,null,null,{"$f":"IF(Inventory!C764<>\"\",Inventory!C764,0)","v":0},754,0,1001," ",null,{"$f":"IF(Inventory!J764<>\"\",Inventory!J764,0)","v":0},754,0,1001," ",null,0,754,0,1001," "]
[null,null,null,null,null,null,null,null,null,null,null,null,{"$f":"IF(Inventory!C765<>\"\",Inventory!C765,0)","v":0},755,0,1001," ",null,{"$f":"IF(Inventory!J765<>\"\",Inventory!J765,0)","v":0},755,0,1001," ",null,0,755,0,1001," "]
[null,null,null,null,null,null,null,null,null,null,null,null,{"$f":"IF(Inventory!C766<>\"\",Inventory!C766,0)","v":0},756,0,1001," ",null,{"$f":"IF(Inventory!J766<>\"\",Inventory!J766,0)","v":0},756,0,1001," ",null,0,756,0,1001," "]
[null,null,null,null,null,null,null,null,null,null,null,null,{"$f":"IF(Inventory!C767<>\"\",Inventory!C767,0)","v":0},757,0,1001," ",null,{"$f":"IF(Inventory!J767<>\"\",Inventory!J767,0)","v":0},757,0,1001," ",null,0,757,0,1001," "]
[null,null,null,null,null,null,null,null,null,null,null,null,{"$f":"IF(Inventory!C768<>\"\",Inventory!C768,0)","v":0},758,0,1001," ",null,{"$f":"IF(Inventory!J768<>\"\",Inventory!J768,0)","v":0},758,0,1001," ",null,0,758,0,1001," "]
[null,null,null,null,null,null,null,null,null,null,null,null,{"$f":"IF(Inventory!C769<>\"\",Inventory!C769,0)","v":0},759,0,1001," ",null,{"$f":"IF(Inventory!J769<>\"\",Inventory!J769,0)","v":0},759,0,1001," ",null,0,759,0,1001," "]
[null,null,null,null,null,null,null,null,null,null,null,null,{"$f":"IF(Inventory!C770<>\"\",Inventory!C770,0)","v":0},760,0,1001," ",null,{"$f":"IF(Inventory!J770<>\"\",Inventory!J770,0)","v":0},760,0,1001," ",null,0,760,0,1001," "]
[null,null,null,null,null,null,null,null,null,null,null,null,{"$f":"IF(Inventory!C771<>\"\",Inventory!C771,0)","v":0},761,0,1001," ",null,{"$f":"IF(Inventory!J771<>\"\",Inventory!J771,0)","v":0},761,0,1001," ",null,0,761,0,1001," "]
[null,null,null,null,null,null,null,null,null,null,null,null,{"$f":"IF(Inventory!C772<>\"\",Inventory!C772,0)","v":0},762,0,1001," ",null,{"$f":"IF(Inventory!J772<>\"\",Inventory!J772,0)","v":0},762,0,1001," ",null,0,762,0,1001," "]
[null,null,null,null,null,null,null,null,null,null,null,null,{"$f":"IF(Inventory!C773<>\"\",Inventory!C773,0)","v":0},763,0,1001," ",null,{"$f":"IF(Inventory!J773<>\"\",Inventory!J773,0)","v":0},763,0,1001," ",null,0,763,0,1001," "]
[null,null,null,null,null,null,null,null,null,null,null,null,{"$f":"IF(Inventory!C774<>\"\",Inventory!C774,0)","v":0},764,0,1001," ",null,{"$f":"IF(Inventory!J774<>\"\",Inventory!J774,0)","v":0},764,0,1001," ",null,0,764,0,1001," "]
[null,null,null,null,null,null,null,null,null,null,null,null,{"$f":"IF(Inventory!C775<>\"\",Inventory!C775,0)","v":0},765,0,1001," ",null,{"$f":"IF(Inventory!J775<>\"\",Inventory!J775,0)","v":0},765,0,1001," ",null,0,765,0,1001," "]
[null,null,null,null,null,null,null,null,null,null,null,null,{"$f":"IF(Inventory!C776<>\"\",Inventory!C776,0)","v":0},766,0,1001," ",null,{"$f":"IF(Inventory!J776<>\"\",Inventory!J776,0)","v":0},766,0,1001," ",null,0,766,0,1001," "]
[null,null,null,null,null,null,null,null,null,null,null,null,{"$f":"IF(Inventory!C777<>\"\",Inventory!C777,0)","v":0},767,0,1001," ",null,{"$f":"IF(Inventory!J777<>\"\",Inventory!J777,0)","v":0},767,0,1001," ",null,0,767,0,1001," "]
[null,null,null,null,null,null,null,null,null,null,null,null,{"$f":"IF(Inventory!C778<>\"\",Inventory!C778,0)","v":0},768,0,1001," ",null,{"$f":"IF(Inventory!J778<>\"\",Inventory!J778,0)","v":0},768,0,1001," ",null,0,768,0,1001," "]
[null,null,null,null,null,null,null,null,null,null,null,null,{"$f":"IF(Inventory!C779<>\"\",Inventory!C779,0)","v":0},769,0,1001,{"$f":"IFERROR(VLOOKUP(SMALL($P$6:$P$1005,N774),$N$6:$O$1005,2,FALSE),\" \")","v":" "},null,{"$f":"IF(Inventory!J779<>\"\",Inventory!J779,0)","v":0},769,0,1001,{"$f":"IFERROR(VLOOKUP(SMALL($V$6:$V$1005,T774),$T$6:$U$1005,2,FALSE),\" \")","v":" "},null,0,769,0,1001,{"$f":"IFERROR(VLOOKUP(SMALL($AB$6:$AB$1005,Z774),$Z$6:$AA$1005,2,FALSE),\" \")","v":" "}]
[null,null,null,null,null,null,null,null,null,null,null,null,{"$f":"IF(Inventory!C780<>\"\",Inventory!C780,0)","v":0},770,{"$f":"M775","v":0},{"$f":"IF(O775=0,MAX($N$6:$N$1005)+1,N775)","v":1001}," ",null,{"$f":"IF(Inventory!J780<>\"\",Inventory!J780,0)","v":0},770,{"$f":"S775","v":0},{"$f":"IF(U775=0,MAX($T$6:$T$1005)+1,T775)","v":1001}," ",null,{"$f":"IF(AND(M775=0,S775=0),0,IF(AND(M775<>0,S775=0),M775,IF(AND(M775=0,S775<>0),S775,IF(AND(M775<>0,S775<>0),(CONCATENATE(M775,S775))))))","v":0},770,{"$f":"Y775","v":0},{"$f":"IF(AA775=0,MAX($Z$6:$Z$1005)+1,Z775)","v":1001}," "]
[null,null,null,null,null,null,null,null,null,null,null,null,{"$f":"IF(Inventory!C781<>\"\",Inventory!C781,0)","v":0},771,0,1001," ",null,{"$f":"IF(Inventory!J781<>\"\",Inventory!J781,0)","v":0},771,0,1001," ",null,0,771,0,1001," "]
[null,null,null,null,null,null,null,null,null,null,null,null,{"$f":"IF(Inventory!C782<>\"\",Inventory!C782,0)","v":0},772,0,1001," ",null,{"$f":"IF(Inventory!J782<>\"\",Inventory!J782,0)","v":0},772,0,1001," ",null,0,772,0,1001," "]
[null,null,null,null,null,null,null,null,null,null,null,null,{"$f":"IF(Inventory!C783<>\"\",Inventory!C783,0)","v":0},773,0,1001," ",null,{"$f":"IF(Inventory!J783<>\"\",Inventory!J783,0)","v":0},773,0,1001," ",null,0,773,0,1001," "]
[null,null,null,null,null,null,null,null,null,null,null,null,{"$f":"IF(Inventory!C784<>\"\",Inventory!C784,0)","v":0},774,0,1001," ",null,{"$f":"IF(Inventory!J784<>\"\",Inventory!J784,0)","v":0},774,0,1001," ",null,0,774,0,1001," "]
[null,null,null,null,null,null,null,null,null,null,null,null,{"$f":"IF(Inventory!C785<>\"\",Inventory!C785,0)","v":0},775,0,1001," ",null,{"$f":"IF(Inventory!J785<>\"\",Inventory!J785,0)","v":0},775,0,1001," ",null,0,775,0,1001," "]
[null,null,null,null,null,null,null,null,null,null,null,null,{"$f":"IF(Inventory!C786<>\"\",Inventory!C786,0)","v":0},776,0,1001," ",null,{"$f":"IF(Inventory!J786<>\"\",Inventory!J786,0)","v":0},776,0,1001," ",null,0,776,0,1001," "]
[null,null,null,null,null,null,null,null,null,null,null,null,{"$f":"IF(Inventory!C787<>\"\",Inventory!C787,0)","v":0},777,0,1001," ",null,{"$f":"IF(Inventory!J787<>\"\",Inventory!J787,0)","v":0},777,0,1001," ",null,0,777,0,1001," "]
[null,null,null,null,null,null,null,null,null,null,null,null,{"$f":"IF(Inventory!C788<>\"\",Inventory!C788,0)","v":0},778,0,1001," ",null,{"$f":"IF(Inventory!J788<>\"\",Inventory!J788,0)","v":0},778,0,1001," ",null,0,778,0,1001," "]
[null,null,null,null,null,null,null,null,null,null,null,null,{"$f":"IF(Inventory!C789<>\"\",Inventory!C789,0)","v":0},779,0,1001," ",null,{"$f":"IF(Inventory!J789<>\"\",Inventory!J789,0)","v":0},779,0,1001," ",null,0,779,0,1001," "]
[null,null,null,null,null,null,null,null,null,null,null,null,{"$f":"IF(Inventory!C790<>\"\",Inventory!C790,0)","v":0},780,0,1001," ",null,{"$f":"IF(Inventory!J790<>\"\",Inventory!J790,0)","v":0},780,0,1001," ",null,0,780,0,1001," "]
[null,null,null,null,null,null,null,null,null,null,null,null,{"$f":"IF(Inventory!C791<>\"\",Inventory!C791,0)","v":0},781,0,1001," ",null,{"$f":"IF(Inventory!J791<>\"\",Inventory!J791,0)","v":0},781,0,1001," ",null,0,781,0,1001," "]
[null,null,null,null,null,null,null,null,null,null,null,null,{"$f":"IF(Inventory!C792<>\"\",Inventory!C792,0)","v":0},782,0,1001," ",null,{"$f":"IF(Inventory!J792<>\"\",Inventory!J792,0)","v":0},782,0,1001," ",null,0,782,0,1001," "]
[null,null,null,null,null,null,null,null,null,null,null,null,{"$f":"IF(Inventory!C793<>\"\",Inventory!C793,0)","v":0},783,0,1001," ",null,{"$f":"IF(Inventory!J793<>\"\",Inventory!J793,0)","v":0},783,0,1001," ",null,0,783,0,1001," "]
[null,null,null,null,null,null,null,null,null,null,null,null,{"$f":"IF(Inventory!C794<>\"\",Inventory!C794,0)","v":0},784,0,1001," ",null,{"$f":"IF(Inventory!J794<>\"\",Inventory!J794,0)","v":0},784,0,1001," ",null,0,784,0,1001," "]
[null,null,null,null,null,null,null,null,null,null,null,null,{"$f":"IF(Inventory!C795<>\"\",Inventory!C795,0)","v":0},785,0,1001," ",null,{"$f":"IF(Inventory!J795<>\"\",Inventory!J795,0)","v":0},785,0,1001," ",null,0,785,0,1001," "]
[null,null,null,null,null,null,null,null,null,null,null,null,{"$f":"IF(Inventory!C796<>\"\",Inventory!C796,0)","v":0},786,0,1001," ",null,{"$f":"IF(Inventory!J796<>\"\",Inventory!J796,0)","v":0},786,0,1001," ",null,0,786,0,1001," "]
[null,null,null,null,null,null,null,null,null,null,null,null,{"$f":"IF(Inventory!C797<>\"\",Inventory!C797,0)","v":0},787,0,1001," ",null,{"$f":"IF(Inventory!J797<>\"\",Inventory!J797,0)","v":0},787,0,1001," ",null,0,787,0,1001," "]
[null,null,null,null,null,null,null,null,null,null,null,null,{"$f":"IF(Inventory!C798<>\"\",Inventory!C798,0)","v":0},788,0,1001," ",null,{"$f":"IF(Inventory!J798<>\"\",Inventory!J798,0)","v":0},788,0,1001," ",null,0,788,0,1001," "]
[null,null,null,null,null,null,null,null,null,null,null,null,{"$f":"IF(Inventory!C799<>\"\",Inventory!C799,0)","v":0},789,0,1001," ",null,{"$f":"IF(Inventory!J799<>\"\",Inventory!J799,0)","v":0},789,0,1001," ",null,0,789,0,1001," "]
[null,null,null,null,null,null,null,null,null,null,null,null,{"$f":"IF(Inventory!C800<>\"\",Inventory!C800,0)","v":0},790,0,1001," ",null,{"$f":"IF(Inventory!J800<>\"\",Inventory!J800,0)","v":0},790,0,1001," ",null,0,790,0,1001," "]
[null,null,null,null,null,null,null,null,null,null,null,null,{"$f":"IF(Inventory!C801<>\"\",Inventory!C801,0)","v":0},791,0,1001," ",null,{"$f":"IF(Inventory!J801<>\"\",Inventory!J801,0)","v":0},791,0,1001," ",null,0,791,0,1001," "]
[null,null,null,null,null,null,null,null,null,null,null,null,{"$f":"IF(Inventory!C802<>\"\",Inventory!C802,0)","v":0},792,0,1001," ",null,{"$f":"IF(Inventory!J802<>\"\",Inventory!J802,0)","v":0},792,0,1001," ",null,0,792,0,1001," "]
[null,null,null,null,null,null,null,null,null,null,null,null,{"$f":"IF(Inventory!C803<>\"\",Inventory!C803,0)","v":0},793,0,1001," ",null,{"$f":"IF(Inventory!J803<>\"\",Inventory!J803,0)","v":0},793,0,1001," ",null,0,793,0,1001," "]
[null,null,null,null,null,null,null,null,null,null,null,null,{"$f":"IF(Inventory!C804<>\"\",Inventory!C804,0)","v":0},794,0,1001," ",null,{"$f":"IF(Inventory!J804<>\"\",Inventory!J804,0)","v":0},794,0,1001," ",null,0,794,0,1001," "]
[null,null,null,null,null,null,null,null,null,null,null,null,{"$f":"IF(Inventory!C805<>\"\",Inventory!C805,0)","v":0},795,0,1001," ",null,{"$f":"IF(Inventory!J805<>\"\",Inventory!J805,0)","v":0},795,0,1001," ",null,0,795,0,1001," "]
[null,null,null,null,null,null,null,null,null,null,null,null,{"$f":"IF(Inventory!C806<>\"\",Inventory!C806,0)","v":0},796,0,1001," ",null,{"$f":"IF(Inventory!J806<>\"\",Inventory!J806,0)","v":0},796,0,1001," ",null,0,796,0,1001," "]
[null,null,null,null,null,null,null,null,null,null,null,null,{"$f":"IF(Inventory!C807<>\"\",Inventory!C807,0)","v":0},797,0,1001," ",null,{"$f":"IF(Inventory!J807<>\"\",Inventory!J807,0)","v":0},797,0,1001," ",null,0,797,0,1001," "]
[null,null,null,null,null,null,null,null,null,null,null,null,{"$f":"IF(Inventory!C808<>\"\",Inventory!C808,0)","v":0},798,0,1001," ",null,{"$f":"IF(Inventory!J808<>\"\",Inventory!J808,0)","v":0},798,0,1001," ",null,0,798,0,1001," "]
[null,null,null,null,null,null,null,null,null,null,null,null,{"$f":"IF(Inventory!C809<>\"\",Inventory!C809,0)","v":0},799,0,1001," ",null,{"$f":"IF(Inventory!J809<>\"\",Inventory!J809,0)","v":0},799,0,1001," ",null,0,799,0,1001," "]
[null,null,null,null,null,null,null,null,null,null,null,null,{"$f":"IF(Inventory!C810<>\"\",Inventory!C810,0)","v":0},800,0,1001," ",null,{"$f":"IF(Inventory!J810<>\"\",Inventory!J810,0)","v":0},800,0,1001," ",null,0,800,0,1001," "]
[null,null,null,null,null,null,null,null,null,null,null,null,{"$f":"IF(Inventory!C811<>\"\",Inventory!C811,0)","v":0},801,0,1001," ",null,{"$f":"IF(Inventory!J811<>\"\",Inventory!J811,0)","v":0},801,0,1001," ",null,0,801,0,1001," "]
[null,null,null,null,null,null,null,null,null,null,null,null,{"$f":"IF(Inventory!C812<>\"\",Inventory!C812,0)","v":0},802,0,1001," ",null,{"$f":"IF(Inventory!J812<>\"\",Inventory!J812,0)","v":0},802,0,1001," ",null,0,802,0,1001," "]
[null,null,null,null,null,null,null,null,null,null,null,null,{"$f":"IF(Inventory!C813<>\"\",Inventory!C813,0)","v":0},803,0,1001," ",null,{"$f":"IF(Inventory!J813<>\"\",Inventory!J813,0)","v":0},803,0,1001," ",null,0,803,0,1001," "]
[null,null,null,null,null,null,null,null,null,null,null,null,{"$f":"IF(Inventory!C814<>\"\",Inventory!C814,0)","v":0},804,0,1001," ",null,{"$f":"IF(Inventory!J814<>\"\",Inventory!J814,0)","v":0},804,0,1001," ",null,0,804,0,1001," "]
[null,null,null,null,null,null,null,null,null,null,null,null,{"$f":"IF(Inventory!C815<>\"\",Inventory!C815,0)","v":0},805,0,1001," ",null,{"$f":"IF(Inventory!J815<>\"\",Inventory!J815,0)","v":0},805,0,1001," ",null,0,805,0,1001," "]
[null,null,null,null,null,null,null,null,null,null,null,null,{"$f":"IF(Inventory!C816<>\"\",Inventory!C816,0)","v":0},806,0,1001," ",null,{"$f":"IF(Inventory!J816<>\"\",Inventory!J816,0)","v":0},806,0,1001," ",null,0,806,0,1001," "]
[null,null,null,null,null,null,null,null,null,null,null,null,{"$f":"IF(Inventory!C817<>\"\",Inventory!C817,0)","v":0},807,0,1001," ",null,{"$f":"IF(Inventory!J817<>\"\",Inventory!J817,0)","v":0},807,0,1001," ",null,0,807,0,1001," "]
[null,null,null,null,null,null,null,null,null,null,null,null,{"$f":"IF(Inventory!C818<>\"\",Inventory!C818,0)","v":0},808,0,1001," ",null,{"$f":"IF(Inventory!J818<>\"\",Inventory!J818,0)","v":0},808,0,1001," ",null,0,808,0,1001," "]
[null,null,null,null,null,null,null,null,null,null,null,null,{"$f":"IF(Inventory!C819<>\"\",Inventory!C819,0)","v":0},809,0,1001," ",null,{"$f":"IF(Inventory!J819<>\"\",Inventory!J819,0)","v":0},809,0,1001," ",null,0,809,0,1001," "]
[null,null,null,null,null,null,null,null,null,null,null,null,{"$f":"IF(Inventory!C820<>\"\",Inventory!C820,0)","v":0},810,0,1001," ",null,{"$f":"IF(Inventory!J820<>\"\",Inventory!J820,0)","v":0},810,0,1001," ",null,0,810,0,1001," "]
[null,null,null,null,null,null,null,null,null,null,null,null,{"$f":"IF(Inventory!C821<>\"\",Inventory!C821,0)","v":0},811,0,1001," ",null,{"$f":"IF(Inventory!J821<>\"\",Inventory!J821,0)","v":0},811,0,1001," ",null,0,811,0,1001," "]
[null,null,null,null,null,null,null,null,null,null,null,null,{"$f":"IF(Inventory!C822<>\"\",Inventory!C822,0)","v":0},812,0,1001," ",null,{"$f":"IF(Inventory!J822<>\"\",Inventory!J822,0)","v":0},812,0,1001," ",null,0,812,0,1001," "]
[null,null,null,null,null,null,null,null,null,null,null,null,{"$f":"IF(Inventory!C823<>\"\",Inventory!C823,0)","v":0},813,0,1001," ",null,{"$f":"IF(Inventory!J823<>\"\",Inventory!J823,0)","v":0},813,0,1001," ",null,0,813,0,1001," "]
[null,null,null,null,null,null,null,null,null,null,null,null,{"$f":"IF(Inventory!C824<>\"\",Inventory!C824,0)","v":0},814,0,1001," ",null,{"$f":"IF(Inventory!J824<>\"\",Inventory!J824,0)","v":0},814,0,1001," ",null,0,814,0,1001," "]
[null,null,null,null,null,null,null,null,null,null,null,null,{"$f":"IF(Inventory!C825<>\"\",Inventory!C825,0)","v":0},815,0,1001," ",null,{"$f":"IF(Inventory!J825<>\"\",Inventory!J825,0)","v":0},815,0,1001," ",null,0,815,0,1001," "]
[null,null,null,null,null,null,null,null,null,null,null,null,{"$f":"IF(Inventory!C826<>\"\",Inventory!C826,0)","v":0},816,0,1001," ",null,{"$f":"IF(Inventory!J826<>\"\",Inventory!J826,0)","v":0},816,0,1001," ",null,0,816,0,1001," "]
[null,null,null,null,null,null,null,null,null,null,null,null,{"$f":"IF(Inventory!C827<>\"\",Inventory!C827,0)","v":0},817,0,1001," ",null,{"$f":"IF(Inventory!J827<>\"\",Inventory!J827,0)","v":0},817,0,1001," ",null,0,817,0,1001," "]
[null,null,null,null,null,null,null,null,null,null,null,null,{"$f":"IF(Inventory!C828<>\"\",Inventory!C828,0)","v":0},818,0,1001," ",null,{"$f":"IF(Inventory!J828<>\"\",Inventory!J828,0)","v":0},818,0,1001," ",null,0,818,0,1001," "]
[null,null,null,null,null,null,null,null,null,null,null,null,{"$f":"IF(Inventory!C829<>\"\",Inventory!C829,0)","v":0},819,0,1001," ",null,{"$f":"IF(Inventory!J829<>\"\",Inventory!J829,0)","v":0},819,0,1001," ",null,0,819,0,1001," "]
[null,null,null,null,null,null,null,null,null,null,null,null,{"$f":"IF(Inventory!C830<>\"\",Inventory!C830,0)","v":0},820,0,1001," ",null,{"$f":"IF(Inventory!J830<>\"\",Inventory!J830,0)","v":0},820,0,1001," ",null,0,820,0,1001," "]
[null,null,null,null,null,null,null,null,null,null,null,null,{"$f":"IF(Inventory!C831<>\"\",Inventory!C831,0)","v":0},821,0,1001," ",null,{"$f":"IF(Inventory!J831<>\"\",Inventory!J831,0)","v":0},821,0,1001," ",null,0,821,0,1001," "]
[null,null,null,null,null,null,null,null,null,null,null,null,{"$f":"IF(Inventory!C832<>\"\",Inventory!C832,0)","v":0},822,0,1001," ",null,{"$f":"IF(Inventory!J832<>\"\",Inventory!J832,0)","v":0},822,0,1001," ",null,0,822,0,1001," "]
[null,null,null,null,null,null,null,null,null,null,null,null,{"$f":"IF(Inventory!C833<>\"\",Inventory!C833,0)","v":0},823,0,1001," ",null,{"$f":"IF(Inventory!J833<>\"\",Inventory!J833,0)","v":0},823,0,1001," ",null,0,823,0,1001," "]
[null,null,null,null,null,null,null,null,null,null,null,null,{"$f":"IF(Inventory!C834<>\"\",Inventory!C834,0)","v":0},824,0,1001," ",null,{"$f":"IF(Inventory!J834<>\"\",Inventory!J834,0)","v":0},824,0,1001," ",null,0,824,0,1001," "]
[null,null,null,null,null,null,null,null,null,null,null,null,{"$f":"IF(Inventory!C835<>\"\",Inventory!C835,0)","v":0},825,0,1001," ",null,{"$f":"IF(Inventory!J835<>\"\",Inventory!J835,0)","v":0},825,0,1001," ",null,0,825,0,1001," "]
[null,null,null,null,null,null,null,null,null,null,null,null,{"$f":"IF(Inventory!C836<>\"\",Inventory!C836,0)","v":0},826,0,1001," ",null,{"$f":"IF(Inventory!J836<>\"\",Inventory!J836,0)","v":0},826,0,1001," ",null,0,826,0,1001," "]
[null,null,null,null,null,null,null,null,null,null,null,null,{"$f":"IF(Inventory!C837<>\"\",Inventory!C837,0)","v":0},827,0,1001," ",null,{"$f":"IF(Inventory!J837<>\"\",Inventory!J837,0)","v":0},827,0,1001," ",null,0,827,0,1001," "]
[null,null,null,null,null,null,null,null,null,null,null,null,{"$f":"IF(Inventory!C838<>\"\",Inventory!C838,0)","v":0},828,0,1001," ",null,{"$f":"IF(Inventory!J838<>\"\",Inventory!J838,0)","v":0},828,0,1001," ",null,0,828,0,1001," "]
[null,null,null,null,null,null,null,null,null,null,null,null,{"$f":"IF(Inventory!C839<>\"\",Inventory!C839,0)","v":0},829,0,1001," ",null,{"$f":"IF(Inventory!J839<>\"\",Inventory!J839,0)","v":0},829,0,1001," ",null,0,829,0,1001," "]
[null,null,null,null,null,null,null,null,null,null,null,null,{"$f":"IF(Inventory!C840<>\"\",Inventory!C840,0)","v":0},830,0,1001," ",null,{"$f":"IF(Inventory!J840<>\"\",Inventory!J840,0)","v":0},830,0,1001," ",null,0,830,0,1001," "]
[null,null,null,null,null,null,null,null,null,null,null,null,{"$f":"IF(Inventory!C841<>\"\",Inventory!C841,0)","v":0},831,0,1001," ",null,{"$f":"IF(Inventory!J841<>\"\",Inventory!J841,0)","v":0},831,0,1001," ",null,0,831,0,1001," "]
[null,null,null,null,null,null,null,null,null,null,null,null,{"$f":"IF(Inventory!C842<>\"\",Inventory!C842,0)","v":0},832,0,1001," ",null,{"$f":"IF(Inventory!J842<>\"\",Inventory!J842,0)","v":0},832,0,1001," ",null,0,832,0,1001," "]
[null,null,null,null,null,null,null,null,null,null,null,null,{"$f":"IF(Inventory!C843<>\"\",Inventory!C843,0)","v":0},833,0,1001,{"$f":"IFERROR(VLOOKUP(SMALL($P$6:$P$1005,N838),$N$6:$O$1005,2,FALSE),\" \")","v":" "},null,{"$f":"IF(Inventory!J843<>\"\",Inventory!J843,0)","v":0},833,0,1001,{"$f":"IFERROR(VLOOKUP(SMALL($V$6:$V$1005,T838),$T$6:$U$1005,2,FALSE),\" \")","v":" "},null,0,833,0,1001,{"$f":"IFERROR(VLOOKUP(SMALL($AB$6:$AB$1005,Z838),$Z$6:$AA$1005,2,FALSE),\" \")","v":" "}]
[null,null,null,null,null,null,null,null,null,null,null,null,{"$f":"IF(Inventory!C844<>\"\",Inventory!C844,0)","v":0},834,{"$f":"M839","v":0},{"$f":"IF(O839=0,MAX($N$6:$N$1005)+1,N839)","v":1001}," ",null,{"$f":"IF(Inventory!J844<>\"\",Inventory!J844,0)","v":0},834,{"$f":"S839","v":0},{"$f":"IF(U839=0,MAX($T$6:$T$1005)+1,T839)","v":1001}," ",null,{"$f":"IF(AND(M839=0,S839=0),0,IF(AND(M839<>0,S839=0),M839,IF(AND(M839=0,S839<>0),S839,IF(AND(M839<>0,S839<>0),(CONCATENATE(M839,S839))))))","v":0},834,{"$f":"Y839","v":0},{"$f":"IF(AA839=0,MAX($Z$6:$Z$1005)+1,Z839)","v":1001}," "]
[null,null,null,null,null,null,null,null,null,null,null,null,{"$f":"IF(Inventory!C845<>\"\",Inventory!C845,0)","v":0},835,0,1001," ",null,{"$f":"IF(Inventory!J845<>\"\",Inventory!J845,0)","v":0},835,0,1001," ",null,0,835,0,1001," "]
[null,null,null,null,null,null,null,null,null,null,null,null,{"$f":"IF(Inventory!C846<>\"\",Inventory!C846,0)","v":0},836,0,1001," ",null,{"$f":"IF(Inventory!J846<>\"\",Inventory!J846,0)","v":0},836,0,1001," ",null,0,836,0,1001," "]
[null,null,null,null,null,null,null,null,null,null,null,null,{"$f":"IF(Inventory!C847<>\"\",Inventory!C847,0)","v":0},837,0,1001," ",null,{"$f":"IF(Inventory!J847<>\"\",Inventory!J847,0)","v":0},837,0,1001," ",null,0,837,0,1001," "]
[null,null,null,null,null,null,null,null,null,null,null,null,{"$f":"IF(Inventory!C848<>\"\",Inventory!C848,0)","v":0},838,0,1001," ",null,{"$f":"IF(Inventory!J848<>\"\",Inventory!J848,0)","v":0},838,0,1001," ",null,0,838,0,1001," "]
[null,null,null,null,null,null,null,null,null,null,null,null,{"$f":"IF(Inventory!C849<>\"\",Inventory!C849,0)","v":0},839,0,1001," ",null,{"$f":"IF(Inventory!J849<>\"\",Inventory!J849,0)","v":0},839,0,1001," ",null,0,839,0,1001," "]
[null,null,null,null,null,null,null,null,null,null,null,null,{"$f":"IF(Inventory!C850<>\"\",Inventory!C850,0)","v":0},840,0,1001," ",null,{"$f":"IF(Inventory!J850<>\"\",Inventory!J850,0)","v":0},840,0,1001," ",null,0,840,0,1001," "]
[null,null,null,null,null,null,null,null,null,null,null,null,{"$f":"IF(Inventory!C851<>\"\",Inventory!C851,0)","v":0},841,0,1001," ",null,{"$f":"IF(Inventory!J851<>\"\",Inventory!J851,0)","v":0},841,0,1001," ",null,0,841,0,1001," "]
[null,null,null,null,null,null,null,null,null,null,null,null,{"$f":"IF(Inventory!C852<>\"\",Inventory!C852,0)","v":0},842,0,1001," ",null,{"$f":"IF(Inventory!J852<>\"\",Inventory!J852,0)","v":0},842,0,1001," ",null,0,842,0,1001," "]
[null,null,null,null,null,null,null,null,null,null,null,null,{"$f":"IF(Inventory!C853<>\"\",Inventory!C853,0)","v":0},843,0,1001," ",null,{"$f":"IF(Inventory!J853<>\"\",Inventory!J853,0)","v":0},843,0,1001," ",null,0,843,0,1001," "]
[null,null,null,null,null,null,null,null,null,null,null,null,{"$f":"IF(Inventory!C854<>\"\",Inventory!C854,0)","v":0},844,0,1001," ",null,{"$f":"IF(Inventory!J854<>\"\",Inventory!J854,0)","v":0},844,0,1001," ",null,0,844,0,1001," "]
[null,null,null,null,null,null,null,null,null,null,null,null,{"$f":"IF(Inventory!C855<>\"\",Inventory!C855,0)","v":0},845,0,1001," ",null,{"$f":"IF(Inventory!J855<>\"\",Inventory!J855,0)","v":0},845,0,1001," ",null,0,845,0,1001," "]
[null,null,null,null,null,null,null,null,null,null,null,null,{"$f":"IF(Inventory!C856<>\"\",Inventory!C856,0)","v":0},846,0,1001," ",null,{"$f":"IF(Inventory!J856<>\"\",Inventory!J856,0)","v":0},846,0,1001," ",null,0,846,0,1001," "]
[null,null,null,null,null,null,null,null,null,null,null,null,{"$f":"IF(Inventory!C857<>\"\",Inventory!C857,0)","v":0},847,0,1001," ",null,{"$f":"IF(Inventory!J857<>\"\",Inventory!J857,0)","v":0},847,0,1001," ",null,0,847,0,1001," "]
[null,null,null,null,null,null,null,null,null,null,null,null,{"$f":"IF(Inventory!C858<>\"\",Inventory!C858,0)","v":0},848,0,1001," ",null,{"$f":"IF(Inventory!J858<>\"\",Inventory!J858,0)","v":0},848,0,1001," ",null,0,848,0,1001," "]
[null,null,null,null,null,null,null,null,null,null,null,null,{"$f":"IF(Inventory!C859<>\"\",Inventory!C859,0)","v":0},849,0,1001," ",null,{"$f":"IF(Inventory!J859<>\"\",Inventory!J859,0)","v":0},849,0,1001," ",null,0,849,0,1001," "]
[null,null,null,null,null,null,null,null,null,null,null,null,{"$f":"IF(Inventory!C860<>\"\",Inventory!C860,0)","v":0},850,0,1001," ",null,{"$f":"IF(Inventory!J860<>\"\",Inventory!J860,0)","v":0},850,0,1001," ",null,0,850,0,1001," "]
[null,null,null,null,null,null,null,null,null,null,null,null,{"$f":"IF(Inventory!C861<>\"\",Inventory!C861,0)","v":0},851,0,1001," ",null,{"$f":"IF(Inventory!J861<>\"\",Inventory!J861,0)","v":0},851,0,1001," ",null,0,851,0,1001," "]
[null,null,null,null,null,null,null,null,null,null,null,null,{"$f":"IF(Inventory!C862<>\"\",Inventory!C862,0)","v":0},852,0,1001," ",null,{"$f":"IF(Inventory!J862<>\"\",Inventory!J862,0)","v":0},852,0,1001," ",null,0,852,0,1001," "]
[null,null,null,null,null,null,null,null,null,null,null,null,{"$f":"IF(Inventory!C863<>\"\",Inventory!C863,0)","v":0},853,0,1001," ",null,{"$f":"IF(Inventory!J863<>\"\",Inventory!J863,0)","v":0},853,0,1001," ",null,0,853,0,1001," "]
[null,null,null,null,null,null,null,null,null,null,null,null,{"$f":"IF(Inventory!C864<>\"\",Inventory!C864,0)","v":0},854,0,1001," ",null,{"$f":"IF(Inventory!J864<>\"\",Inventory!J864,0)","v":0},854,0,1001," ",null,0,854,0,1001," "]
[null,null,null,null,null,null,null,null,null,null,null,null,{"$f":"IF(Inventory!C865<>\"\",Inventory!C865,0)","v":0},855,0,1001," ",null,{"$f":"IF(Inventory!J865<>\"\",Inventory!J865,0)","v":0},855,0,1001," ",null,0,855,0,1001," "]
[null,null,null,null,null,null,null,null,null,null,null,null,{"$f":"IF(Inventory!C866<>\"\",Inventory!C866,0)","v":0},856,0,1001," ",null,{"$f":"IF(Inventory!J866<>\"\",Inventory!J866,0)","v":0},856,0,1001," ",null,0,856,0,1001," "]
[null,null,null,null,null,null,null,null,null,null,null,null,{"$f":"IF(Inventory!C867<>\"\",Inventory!C867,0)","v":0},857,0,1001," ",null,{"$f":"IF(Inventory!J867<>\"\",Inventory!J867,0)","v":0},857,0,1001," ",null,0,857,0,1001," "]
[null,null,null,null,null,null,null,null,null,null,null,null,{"$f":"IF(Inventory!C868<>\"\",Inventory!C868,0)","v":0},858,0,1001," ",null,{"$f":"IF(Inventory!J868<>\"\",Inventory!J868,0)","v":0},858,0,1001," ",null,0,858,0,1001," "]
[null,null,null,null,null,null,null,null,null,null,null,null,{"$f":"IF(Inventory!C869<>\"\",Inventory!C869,0)","v":0},859,0,1001," ",null,{"$f":"IF(Inventory!J869<>\"\",Inventory!J869,0)","v":0},859,0,1001," ",null,0,859,0,1001," "]
[null,null,null,null,null,null,null,null,null,null,null,null,{"$f":"IF(Inventory!C870<>\"\",Inventory!C870,0)","v":0},860,0,1001," ",null,{"$f":"IF(Inventory!J870<>\"\",Inventory!J870,0)","v":0},860,0,1001," ",null,0,860,0,1001," "]
[null,null,null,null,null,null,null,null,null,null,null,null,{"$f":"IF(Inventory!C871<>\"\",Inventory!C871,0)","v":0},861,0,1001," ",null,{"$f":"IF(Inventory!J871<>\"\",Inventory!J871,0)","v":0},861,0,1001," ",null,0,861,0,1001," "]
[null,null,null,null,null,null,null,null,null,null,null,null,{"$f":"IF(Inventory!C872<>\"\",Inventory!C872,0)","v":0},862,0,1001," ",null,{"$f":"IF(Inventory!J872<>\"\",Inventory!J872,0)","v":0},862,0,1001," ",null,0,862,0,1001," "]
[null,null,null,null,null,null,null,null,null,null,null,null,{"$f":"IF(Inventory!C873<>\"\",Inventory!C873,0)","v":0},863,0,1001," ",null,{"$f":"IF(Inventory!J873<>\"\",Inventory!J873,0)","v":0},863,0,1001," ",null,0,863,0,1001," "]
[null,null,null,null,null,null,null,null,null,null,null,null,{"$f":"IF(Inventory!C874<>\"\",Inventory!C874,0)","v":0},864,0,1001," ",null,{"$f":"IF(Inventory!J874<>\"\",Inventory!J874,0)","v":0},864,0,1001," ",null,0,864,0,1001," "]
[null,null,null,null,null,null,null,null,null,null,null,null,{"$f":"IF(Inventory!C875<>\"\",Inventory!C875,0)","v":0},865,0,1001," ",null,{"$f":"IF(Inventory!J875<>\"\",Inventory!J875,0)","v":0},865,0,1001," ",null,0,865,0,1001," "]
[null,null,null,null,null,null,null,null,null,null,null,null,{"$f":"IF(Inventory!C876<>\"\",Inventory!C876,0)","v":0},866,0,1001," ",null,{"$f":"IF(Inventory!J876<>\"\",Inventory!J876,0)","v":0},866,0,1001," ",null,0,866,0,1001," "]
[null,null,null,null,null,null,null,null,null,null,null,null,{"$f":"IF(Inventory!C877<>\"\",Inventory!C877,0)","v":0},867,0,1001," ",null,{"$f":"IF(Inventory!J877<>\"\",Inventory!J877,0)","v":0},867,0,1001," ",null,0,867,0,1001," "]
[null,null,null,null,null,null,null,null,null,null,null,null,{"$f":"IF(Inventory!C878<>\"\",Inventory!C878,0)","v":0},868,0,1001," ",null,{"$f":"IF(Inventory!J878<>\"\",Inventory!J878,0)","v":0},868,0,1001," ",null,0,868,0,1001," "]
[null,null,null,null,null,null,null,null,null,null,null,null,{"$f":"IF(Inventory!C879<>\"\",Inventory!C879,0)","v":0},869,0,1001," ",null,{"$f":"IF(Inventory!J879<>\"\",Inventory!J879,0)","v":0},869,0,1001," ",null,0,869,0,1001," "]
[null,null,null,null,null,null,null,null,null,null,null,null,{"$f":"IF(Inventory!C880<>\"\",Inventory!C880,0)","v":0},870,0,1001," ",null,{"$f":"IF(Inventory!J880<>\"\",Inventory!J880,0)","v":0},870,0,1001," ",null,0,870,0,1001," "]
[null,null,null,null,null,null,null,null,null,null,null,null,{"$f":"IF(Inventory!C881<>\"\",Inventory!C881,0)","v":0},871,0,1001," ",null,{"$f":"IF(Inventory!J881<>\"\",Inventory!J881,0)","v":0},871,0,1001," ",null,0,871,0,1001," "]
[null,null,null,null,null,null,null,null,null,null,null,null,{"$f":"IF(Inventory!C882<>\"\",Inventory!C882,0)","v":0},872,0,1001," ",null,{"$f":"IF(Inventory!J882<>\"\",Inventory!J882,0)","v":0},872,0,1001," ",null,0,872,0,1001," "]
[null,null,null,null,null,null,null,null,null,null,null,null,{"$f":"IF(Inventory!C883<>\"\",Inventory!C883,0)","v":0},873,0,1001," ",null,{"$f":"IF(Inventory!J883<>\"\",Inventory!J883,0)","v":0},873,0,1001," ",null,0,873,0,1001," "]
[null,null,null,null,null,null,null,null,null,null,null,null,{"$f":"IF(Inventory!C884<>\"\",Inventory!C884,0)","v":0},874,0,1001," ",null,{"$f":"IF(Inventory!J884<>\"\",Inventory!J884,0)","v":0},874,0,1001," ",null,0,874,0,1001," "]
[null,null,null,null,null,null,null,null,null,null,null,null,{"$f":"IF(Inventory!C885<>\"\",Inventory!C885,0)","v":0},875,0,1001," ",null,{"$f":"IF(Inventory!J885<>\"\",Inventory!J885,0)","v":0},875,0,1001," ",null,0,875,0,1001," "]
[null,null,null,null,null,null,null,null,null,null,null,null,{"$f":"IF(Inventory!C886<>\"\",Inventory!C886,0)","v":0},876,0,1001," ",null,{"$f":"IF(Inventory!J886<>\"\",Inventory!J886,0)","v":0},876,0,1001," ",null,0,876,0,1001," "]
[null,null,null,null,null,null,null,null,null,null,null,null,{"$f":"IF(Inventory!C887<>\"\",Inventory!C887,0)","v":0},877,0,1001," ",null,{"$f":"IF(Inventory!J887<>\"\",Inventory!J887,0)","v":0},877,0,1001," ",null,0,877,0,1001," "]
[null,null,null,null,null,null,null,null,null,null,null,null,{"$f":"IF(Inventory!C888<>\"\",Inventory!C888,0)","v":0},878,0,1001," ",null,{"$f":"IF(Inventory!J888<>\"\",Inventory!J888,0)","v":0},878,0,1001," ",null,0,878,0,1001," "]
[null,null,null,null,null,null,null,null,null,null,null,null,{"$f":"IF(Inventory!C889<>\"\",Inventory!C889,0)","v":0},879,0,1001," ",null,{"$f":"IF(Inventory!J889<>\"\",Inventory!J889,0)","v":0},879,0,1001," ",null,0,879,0,1001," "]
[null,null,null,null,null,null,null,null,null,null,null,null,{"$f":"IF(Inventory!C890<>\"\",Inventory!C890,0)","v":0},880,0,1001," ",null,{"$f":"IF(Inventory!J890<>\"\",Inventory!J890,0)","v":0},880,0,1001," ",null,0,880,0,1001," "]
[null,null,null,null,null,null,null,null,null,null,null,null,{"$f":"IF(Inventory!C891<>\"\",Inventory!C891,0)","v":0},881,0,1001," ",null,{"$f":"IF(Inventory!J891<>\"\",Inventory!J891,0)","v":0},881,0,1001," ",null,0,881,0,1001," "]
[null,null,null,null,null,null,null,null,null,null,null,null,{"$f":"IF(Inventory!C892<>\"\",Inventory!C892,0)","v":0},882,0,1001," ",null,{"$f":"IF(Inventory!J892<>\"\",Inventory!J892,0)","v":0},882,0,1001," ",null,0,882,0,1001," "]
[null,null,null,null,null,null,null,null,null,null,null,null,{"$f":"IF(Inventory!C893<>\"\",Inventory!C893,0)","v":0},883,0,1001," ",null,{"$f":"IF(Inventory!J893<>\"\",Inventory!J893,0)","v":0},883,0,1001," ",null,0,883,0,1001," "]
[null,null,null,null,null,null,null,null,null,null,null,null,{"$f":"IF(Inventory!C894<>\"\",Inventory!C894,0)","v":0},884,0,1001," ",null,{"$f":"IF(Inventory!J894<>\"\",Inventory!J894,0)","v":0},884,0,1001," ",null,0,884,0,1001," "]
[null,null,null,null,null,null,null,null,null,null,null,null,{"$f":"IF(Inventory!C895<>\"\",Inventory!C895,0)","v":0},885,0,1001," ",null,{"$f":"IF(Inventory!J895<>\"\",Inventory!J895,0)","v":0},885,0,1001," ",null,0,885,0,1001," "]
[null,null,null,null,null,null,null,null,null,null,null,null,{"$f":"IF(Inventory!C896<>\"\",Inventory!C896,0)","v":0},886,0,1001," ",null,{"$f":"IF(Inventory!J896<>\"\",Inventory!J896,0)","v":0},886,0,1001," ",null,0,886,0,1001," "]
[null,null,null,null,null,null,null,null,null,null,null,null,{"$f":"IF(Inventory!C897<>\"\",Inventory!C897,0)","v":0},887,0,1001," ",null,{"$f":"IF(Inventory!J897<>\"\",Inventory!J897,0)","v":0},887,0,1001," ",null,0,887,0,1001," "]
[null,null,null,null,null,null,null,null,null,null,null,null,{"$f":"IF(Inventory!C898<>\"\",Inventory!C898,0)","v":0},888,0,1001," ",null,{"$f":"IF(Inventory!J898<>\"\",Inventory!J898,0)","v":0},888,0,1001," ",null,0,888,0,1001," "]
[null,null,null,null,null,null,null,null,null,null,null,null,{"$f":"IF(Inventory!C899<>\"\",Inventory!C899,0)","v":0},889,0,1001," ",null,{"$f":"IF(Inventory!J899<>\"\",Inventory!J899,0)","v":0},889,0,1001," ",null,0,889,0,1001," "]
[null,null,null,null,null,null,null,null,null,null,null,null,{"$f":"IF(Inventory!C900<>\"\",Inventory!C900,0)","v":0},890,0,1001," ",null,{"$f":"IF(Inventory!J900<>\"\",Inventory!J900,0)","v":0},890,0,1001," ",null,0,890,0,1001," "]
[null,null,null,null,null,null,null,null,null,null,null,null,{"$f":"IF(Inventory!C901<>\"\",Inventory!C901,0)","v":0},891,0,1001," ",null,{"$f":"IF(Inventory!J901<>\"\",Inventory!J901,0)","v":0},891,0,1001," ",null,0,891,0,1001," "]
[null,null,null,null,null,null,null,null,null,null,null,null,{"$f":"IF(Inventory!C902<>\"\",Inventory!C902,0)","v":0},892,0,1001," ",null,{"$f":"IF(Inventory!J902<>\"\",Inventory!J902,0)","v":0},892,0,1001," ",null,0,892,0,1001," "]
[null,null,null,null,null,null,null,null,null,null,null,null,{"$f":"IF(Inventory!C903<>\"\",Inventory!C903,0)","v":0},893,0,1001," ",null,{"$f":"IF(Inventory!J903<>\"\",Inventory!J903,0)","v":0},893,0,1001," ",null,0,893,0,1001," "]
[null,null,null,null,null,null,null,null,null,null,null,null,{"$f":"IF(Inventory!C904<>\"\",Inventory!C904,0)","v":0},894,0,1001," ",null,{"$f":"IF(Inventory!J904<>\"\",Inventory!J904,0)","v":0},894,0,1001," ",null,0,894,0,1001," "]
[null,null,null,null,null,null,null,null,null,null,null,null,{"$f":"IF(Inventory!C905<>\"\",Inventory!C905,0)","v":0},895,0,1001," ",null,{"$f":"IF(Inventory!J905<>\"\",Inventory!J905,0)","v":0},895,0,1001," ",null,0,895,0,1001," "]
[null,null,null,null,null,null,null,null,null,null,null,null,{"$f":"IF(Inventory!C906<>\"\",Inventory!C906,0)","v":0},896,0,1001," ",null,{"$f":"IF(Inventory!J906<>\"\",Inventory!J906,0)","v":0},896,0,1001," ",null,0,896,0,1001," "]
[null,null,null,null,null,null,null,null,null,null,null,null,{"$f":"IF(Inventory!C907<>\"\",Inventory!C907,0)","v":0},897,0,1001,{"$f":"IFERROR(VLOOKUP(SMALL($P$6:$P$1005,N902),$N$6:$O$1005,2,FALSE),\" \")","v":" "},null,{"$f":"IF(Inventory!J907<>\"\",Inventory!J907,0)","v":0},897,0,1001,{"$f":"IFERROR(VLOOKUP(SMALL($V$6:$V$1005,T902),$T$6:$U$1005,2,FALSE),\" \")","v":" "},null,0,897,0,1001,{"$f":"IFERROR(VLOOKUP(SMALL($AB$6:$AB$1005,Z902),$Z$6:$AA$1005,2,FALSE),\" \")","v":" "}]
[null,null,null,null,null,null,null,null,null,null,null,null,{"$f":"IF(Inventory!C908<>\"\",Inventory!C908,0)","v":0},898,{"$f":"M903","v":0},{"$f":"IF(O903=0,MAX($N$6:$N$1005)+1,N903)","v":1001}," ",null,{"$f":"IF(Inventory!J908<>\"\",Inventory!J908,0)","v":0},898,{"$f":"S903","v":0},{"$f":"IF(U903=0,MAX($T$6:$T$1005)+1,T903)","v":1001}," ",null,{"$f":"IF(AND(M903=0,S903=0),0,IF(AND(M903<>0,S903=0),M903,IF(AND(M903=0,S903<>0),S903,IF(AND(M903<>0,S903<>0),(CONCATENATE(M903,S903))))))","v":0},898,{"$f":"Y903","v":0},{"$f":"IF(AA903=0,MAX($Z$6:$Z$1005)+1,Z903)","v":1001}," "]
[null,null,null,null,null,null,null,null,null,null,null,null,{"$f":"IF(Inventory!C909<>\"\",Inventory!C909,0)","v":0},899,0,1001," ",null,{"$f":"IF(Inventory!J909<>\"\",Inventory!J909,0)","v":0},899,0,1001," ",null,0,899,0,1001," "]
[null,null,null,null,null,null,null,null,null,null,null,null,{"$f":"IF(Inventory!C910<>\"\",Inventory!C910,0)","v":0},900,0,1001," ",null,{"$f":"IF(Inventory!J910<>\"\",Inventory!J910,0)","v":0},900,0,1001," ",null,0,900,0,1001," "]
[null,null,null,null,null,null,null,null,null,null,null,null,{"$f":"IF(Inventory!C911<>\"\",Inventory!C911,0)","v":0},901,0,1001," ",null,{"$f":"IF(Inventory!J911<>\"\",Inventory!J911,0)","v":0},901,0,1001," ",null,0,901,0,1001," "]
[null,null,null,null,null,null,null,null,null,null,null,null,{"$f":"IF(Inventory!C912<>\"\",Inventory!C912,0)","v":0},902,0,1001," ",null,{"$f":"IF(Inventory!J912<>\"\",Inventory!J912,0)","v":0},902,0,1001," ",null,0,902,0,1001," "]
[null,null,null,null,null,null,null,null,null,null,null,null,{"$f":"IF(Inventory!C913<>\"\",Inventory!C913,0)","v":0},903,0,1001," ",null,{"$f":"IF(Inventory!J913<>\"\",Inventory!J913,0)","v":0},903,0,1001," ",null,0,903,0,1001," "]
[null,null,null,null,null,null,null,null,null,null,null,null,{"$f":"IF(Inventory!C914<>\"\",Inventory!C914,0)","v":0},904,0,1001," ",null,{"$f":"IF(Inventory!J914<>\"\",Inventory!J914,0)","v":0},904,0,1001," ",null,0,904,0,1001," "]
[null,null,null,null,null,null,null,null,null,null,null,null,{"$f":"IF(Inventory!C915<>\"\",Inventory!C915,0)","v":0},905,0,1001," ",null,{"$f":"IF(Inventory!J915<>\"\",Inventory!J915,0)","v":0},905,0,1001," ",null,0,905,0,1001," "]
[null,null,null,null,null,null,null,null,null,null,null,null,{"$f":"IF(Inventory!C916<>\"\",Inventory!C916,0)","v":0},906,0,1001," ",null,{"$f":"IF(Inventory!J916<>\"\",Inventory!J916,0)","v":0},906,0,1001," ",null,0,906,0,1001," "]
[null,null,null,null,null,null,null,null,null,null,null,null,{"$f":"IF(Inventory!C917<>\"\",Inventory!C917,0)","v":0},907,0,1001," ",null,{"$f":"IF(Inventory!J917<>\"\",Inventory!J917,0)","v":0},907,0,1001," ",null,0,907,0,1001," "]
[null,null,null,null,null,null,null,null,null,null,null,null,{"$f":"IF(Inventory!C918<>\"\",Inventory!C918,0)","v":0},908,0,1001," ",null,{"$f":"IF(Inventory!J918<>\"\",Inventory!J918,0)","v":0},908,0,1001," ",null,0,908,0,1001," "]
[null,null,null,null,null,null,null,null,null,null,null,null,{"$f":"IF(Inventory!C919<>\"\",Inventory!C919,0)","v":0},909,0,1001," ",null,{"$f":"IF(Inventory!J919<>\"\",Inventory!J919,0)","v":0},909,0,1001," ",null,0,909,0,1001," "]
[null,null,null,null,null,null,null,null,null,null,null,null,{"$f":"IF(Inventory!C920<>\"\",Inventory!C920,0)","v":0},910,0,1001," ",null,{"$f":"IF(Inventory!J920<>\"\",Inventory!J920,0)","v":0},910,0,1001," ",null,0,910,0,1001," "]
[null,null,null,null,null,null,null,null,null,null,null,null,{"$f":"IF(Inventory!C921<>\"\",Inventory!C921,0)","v":0},911,0,1001," ",null,{"$f":"IF(Inventory!J921<>\"\",Inventory!J921,0)","v":0},911,0,1001," ",null,0,911,0,1001," "]
[null,null,null,null,null,null,null,null,null,null,null,null,{"$f":"IF(Inventory!C922<>\"\",Inventory!C922,0)","v":0},912,0,1001," ",null,{"$f":"IF(Inventory!J922<>\"\",Inventory!J922,0)","v":0},912,0,1001," ",null,0,912,0,1001," "]
[null,null,null,null,null,null,null,null,null,null,null,null,{"$f":"IF(Inventory!C923<>\"\",Inventory!C923,0)","v":0},913,0,1001," ",null,{"$f":"IF(Inventory!J923<>\"\",Inventory!J923,0)","v":0},913,0,1001," ",null,0,913,0,1001," "]
[null,null,null,null,null,null,null,null,null,null,null,null,{"$f":"IF(Inventory!C924<>\"\",Inventory!C924,0)","v":0},914,0,1001," ",null,{"$f":"IF(Inventory!J924<>\"\",Inventory!J924,0)","v":0},914,0,1001," ",null,0,914,0,1001," "]
[null,null,null,null,null,null,null,null,null,null,null,null,{"$f":"IF(Inventory!C925<>\"\",Inventory!C925,0)","v":0},915,0,1001," ",null,{"$f":"IF(Inventory!J925<>\"\",Inventory!J925,0)","v":0},915,0,1001," ",null,0,915,0,1001," "]
[null,null,null,null,null,null,null,null,null,null,null,null,{"$f":"IF(Inventory!C926<>\"\",Inventory!C926,0)","v":0},916,0,1001," ",null,{"$f":"IF(Inventory!J926<>\"\",Inventory!J926,0)","v":0},916,0,1001," ",null,0,916,0,1001," "]
[null,null,null,null,null,null,null,null,null,null,null,null,{"$f":"IF(Inventory!C927<>\"\",Inventory!C927,0)","v":0},917,0,1001," ",null,{"$f":"IF(Inventory!J927<>\"\",Inventory!J927,0)","v":0},917,0,1001," ",null,0,917,0,1001," "]
[null,null,null,null,null,null,null,null,null,null,null,null,{"$f":"IF(Inventory!C928<>\"\",Inventory!C928,0)","v":0},918,0,1001," ",null,{"$f":"IF(Inventory!J928<>\"\",Inventory!J928,0)","v":0},918,0,1001," ",null,0,918,0,1001," "]
[null,null,null,null,null,null,null,null,null,null,null,null,{"$f":"IF(Inventory!C929<>\"\",Inventory!C929,0)","v":0},919,0,1001," ",null,{"$f":"IF(Inventory!J929<>\"\",Inventory!J929,0)","v":0},919,0,1001," ",null,0,919,0,1001," "]
[null,null,null,null,null,null,null,null,null,null,null,null,{"$f":"IF(Inventory!C930<>\"\",Inventory!C930,0)","v":0},920,0,1001," ",null,{"$f":"IF(Inventory!J930<>\"\",Inventory!J930,0)","v":0},920,0,1001," ",null,0,920,0,1001," "]
[null,null,null,null,null,null,null,null,null,null,null,null,{"$f":"IF(Inventory!C931<>\"\",Inventory!C931,0)","v":0},921,0,1001," ",null,{"$f":"IF(Inventory!J931<>\"\",Inventory!J931,0)","v":0},921,0,1001," ",null,0,921,0,1001," "]
[null,null,null,null,null,null,null,null,null,null,null,null,{"$f":"IF(Inventory!C932<>\"\",Inventory!C932,0)","v":0},922,0,1001," ",null,{"$f":"IF(Inventory!J932<>\"\",Inventory!J932,0)","v":0},922,0,1001," ",null,0,922,0,1001," "]
[null,null,null,null,null,null,null,null,null,null,null,null,{"$f":"IF(Inventory!C933<>\"\",Inventory!C933,0)","v":0},923,0,1001," ",null,{"$f":"IF(Inventory!J933<>\"\",Inventory!J933,0)","v":0},923,0,1001," ",null,0,923,0,1001," "]
[null,null,null,null,null,null,null,null,null,null,null,null,{"$f":"IF(Inventory!C934<>\"\",Inventory!C934,0)","v":0},924,0,1001," ",null,{"$f":"IF(Inventory!J934<>\"\",Inventory!J934,0)","v":0},924,0,1001," ",null,0,924,0,1001," "]
[null,null,null,null,null,null,null,null,null,null,null,null,{"$f":"IF(Inventory!C935<>\"\",Inventory!C935,0)","v":0},925,0,1001," ",null,{"$f":"IF(Inventory!J935<>\"\",Inventory!J935,0)","v":0},925,0,1001," ",null,0,925,0,1001," "]
[null,null,null,null,null,null,null,null,null,null,null,null,{"$f":"IF(Inventory!C936<>\"\",Inventory!C936,0)","v":0},926,0,1001," ",null,{"$f":"IF(Inventory!J936<>\"\",Inventory!J936,0)","v":0},926,0,1001," ",null,0,926,0,1001," "]
[null,null,null,null,null,null,null,null,null,null,null,null,{"$f":"IF(Inventory!C937<>\"\",Inventory!C937,0)","v":0},927,0,1001," ",null,{"$f":"IF(Inventory!J937<>\"\",Inventory!J937,0)","v":0},927,0,1001," ",null,0,927,0,1001," "]
[null,null,null,null,null,null,null,null,null,null,null,null,{"$f":"IF(Inventory!C938<>\"\",Inventory!C938,0)","v":0},928,0,1001," ",null,{"$f":"IF(Inventory!J938<>\"\",Inventory!J938,0)","v":0},928,0,1001," ",null,0,928,0,1001," "]
[null,null,null,null,null,null,null,null,null,null,null,null,{"$f":"IF(Inventory!C939<>\"\",Inventory!C939,0)","v":0},929,0,1001," ",null,{"$f":"IF(Inventory!J939<>\"\",Inventory!J939,0)","v":0},929,0,1001," ",null,0,929,0,1001," "]
[null,null,null,null,null,null,null,null,null,null,null,null,{"$f":"IF(Inventory!C940<>\"\",Inventory!C940,0)","v":0},930,0,1001," ",null,{"$f":"IF(Inventory!J940<>\"\",Inventory!J940,0)","v":0},930,0,1001," ",null,0,930,0,1001," "]
[null,null,null,null,null,null,null,null,null,null,null,null,{"$f":"IF(Inventory!C941<>\"\",Inventory!C941,0)","v":0},931,0,1001," ",null,{"$f":"IF(Inventory!J941<>\"\",Inventory!J941,0)","v":0},931,0,1001," ",null,0,931,0,1001," "]
[null,null,null,null,null,null,null,null,null,null,null,null,{"$f":"IF(Inventory!C942<>\"\",Inventory!C942,0)","v":0},932,0,1001," ",null,{"$f":"IF(Inventory!J942<>\"\",Inventory!J942,0)","v":0},932,0,1001," ",null,0,932,0,1001," "]
[null,null,null,null,null,null,null,null,null,null,null,null,{"$f":"IF(Inventory!C943<>\"\",Inventory!C943,0)","v":0},933,0,1001," ",null,{"$f":"IF(Inventory!J943<>\"\",Inventory!J943,0)","v":0},933,0,1001," ",null,0,933,0,1001," "]
[null,null,null,null,null,null,null,null,null,null,null,null,{"$f":"IF(Inventory!C944<>\"\",Inventory!C944,0)","v":0},934,0,1001," ",null,{"$f":"IF(Inventory!J944<>\"\",Inventory!J944,0)","v":0},934,0,1001," ",null,0,934,0,1001," "]
[null,null,null,null,null,null,null,null,null,null,null,null,{"$f":"IF(Inventory!C945<>\"\",Inventory!C945,0)","v":0},935,0,1001," ",null,{"$f":"IF(Inventory!J945<>\"\",Inventory!J945,0)","v":0},935,0,1001," ",null,0,935,0,1001," "]
[null,null,null,null,null,null,null,null,null,null,null,null,{"$f":"IF(Inventory!C946<>\"\",Inventory!C946,0)","v":0},936,0,1001," ",null,{"$f":"IF(Inventory!J946<>\"\",Inventory!J946,0)","v":0},936,0,1001," ",null,0,936,0,1001," "]
[null,null,null,null,null,null,null,null,null,null,null,null,{"$f":"IF(Inventory!C947<>\"\",Inventory!C947,0)","v":0},937,0,1001," ",null,{"$f":"IF(Inventory!J947<>\"\",Inventory!J947,0)","v":0},937,0,1001," ",null,0,937,0,1001," "]
[null,null,null,null,null,null,null,null,null,null,null,null,{"$f":"IF(Inventory!C948<>\"\",Inventory!C948,0)","v":0},938,0,1001," ",null,{"$f":"IF(Inventory!J948<>\"\",Inventory!J948,0)","v":0},938,0,1001," ",null,0,938,0,1001," "]
[null,null,null,null,null,null,null,null,null,null,null,null,{"$f":"IF(Inventory!C949<>\"\",Inventory!C949,0)","v":0},939,0,1001," ",null,{"$f":"IF(Inventory!J949<>\"\",Inventory!J949,0)","v":0},939,0,1001," ",null,0,939,0,1001," "]
[null,null,null,null,null,null,null,null,null,null,null,null,{"$f":"IF(Inventory!C950<>\"\",Inventory!C950,0)","v":0},940,0,1001," ",null,{"$f":"IF(Inventory!J950<>\"\",Inventory!J950,0)","v":0},940,0,1001," ",null,0,940,0,1001," "]
[null,null,null,null,null,null,null,null,null,null,null,null,{"$f":"IF(Inventory!C951<>\"\",Inventory!C951,0)","v":0},941,0,1001," ",null,{"$f":"IF(Inventory!J951<>\"\",Inventory!J951,0)","v":0},941,0,1001," ",null,0,941,0,1001," "]
[null,null,null,null,null,null,null,null,null,null,null,null,{"$f":"IF(Inventory!C952<>\"\",Inventory!C952,0)","v":0},942,0,1001," ",null,{"$f":"IF(Inventory!J952<>\"\",Inventory!J952,0)","v":0},942,0,1001," ",null,0,942,0,1001," "]
[null,null,null,null,null,null,null,null,null,null,null,null,{"$f":"IF(Inventory!C953<>\"\",Inventory!C953,0)","v":0},943,0,1001," ",null,{"$f":"IF(Inventory!J953<>\"\",Inventory!J953,0)","v":0},943,0,1001," ",null,0,943,0,1001," "]
[null,null,null,null,null,null,null,null,null,null,null,null,{"$f":"IF(Inventory!C954<>\"\",Inventory!C954,0)","v":0},944,0,1001," ",null,{"$f":"IF(Inventory!J954<>\"\",Inventory!J954,0)","v":0},944,0,1001," ",null,0,944,0,1001," "]
[null,null,null,null,null,null,null,null,null,null,null,null,{"$f":"IF(Inventory!C955<>\"\",Inventory!C955,0)","v":0},945,0,1001," ",null,{"$f":"IF(Inventory!J955<>\"\",Inventory!J955,0)","v":0},945,0,1001," ",null,0,945,0,1001," "]
[null,null,null,null,null,null,null,null,null,null,null,null,{"$f":"IF(Inventory!C956<>\"\",Inventory!C956,0)","v":0},946,0,1001," ",null,{"$f":"IF(Inventory!J956<>\"\",Inventory!J956,0)","v":0},946,0,1001," ",null,0,946,0,1001," "]
[null,null,null,null,null,null,null,null,null,null,null,null,{"$f":"IF(Inventory!C957<>\"\",Inventory!C957,0)","v":0},947,0,1001," ",null,{"$f":"IF(Inventory!J957<>\"\",Inventory!J957,0)","v":0},947,0,1001," ",null,0,947,0,1001," "]
[null,null,null,null,null,null,null,null,null,null,null,null,{"$f":"IF(Inventory!C958<>\"\",Inventory!C958,0)","v":0},948,0,1001," ",null,{"$f":"IF(Inventory!J958<>\"\",Inventory!J958,0)","v":0},948,0,1001," ",null,0,948,0,1001," "]
[null,null,null,null,null,null,null,null,null,null,null,null,{"$f":"IF(Inventory!C959<>\"\",Inventory!C959,0)","v":0},949,0,1001," ",null,{"$f":"IF(Inventory!J959<>\"\",Inventory!J959,0)","v":0},949,0,1001," ",null,0,949,0,1001," "]
[null,null,null,null,null,null,null,null,null,null,null,null,{"$f":"IF(Inventory!C960<>\"\",Inventory!C960,0)","v":0},950,0,1001," ",null,{"$f":"IF(Inventory!J960<>\"\",Inventory!J960,0)","v":0},950,0,1001," ",null,0,950,0,1001," "]
[null,null,null,null,null,null,null,null,null,null,null,null,{"$f":"IF(Inventory!C961<>\"\",Inventory!C961,0)","v":0},951,0,1001," ",null,{"$f":"IF(Inventory!J961<>\"\",Inventory!J961,0)","v":0},951,0,1001," ",null,0,951,0,1001," "]
[null,null,null,null,null,null,null,null,null,null,null,null,{"$f":"IF(Inventory!C962<>\"\",Inventory!C962,0)","v":0},952,0,1001," ",null,{"$f":"IF(Inventory!J962<>\"\",Inventory!J962,0)","v":0},952,0,1001," ",null,0,952,0,1001," "]
[null,null,null,null,null,null,null,null,null,null,null,null,{"$f":"IF(Inventory!C963<>\"\",Inventory!C963,0)","v":0},953,0,1001," ",null,{"$f":"IF(Inventory!J963<>\"\",Inventory!J963,0)","v":0},953,0,1001," ",null,0,953,0,1001," "]
[null,null,null,null,null,null,null,null,null,null,null,null,{"$f":"IF(Inventory!C964<>\"\",Inventory!C964,0)","v":0},954,0,1001," ",null,{"$f":"IF(Inventory!J964<>\"\",Inventory!J964,0)","v":0},954,0,1001," ",null,0,954,0,1001," "]
[null,null,null,null,null,null,null,null,null,null,null,null,{"$f":"IF(Inventory!C965<>\"\",Inventory!C965,0)","v":0},955,0,1001," ",null,{"$f":"IF(Inventory!J965<>\"\",Inventory!J965,0)","v":0},955,0,1001," ",null,0,955,0,1001," "]
[null,null,null,null,null,null,null,null,null,null,null,null,{"$f":"IF(Inventory!C966<>\"\",Inventory!C966,0)","v":0},956,0,1001," ",null,{"$f":"IF(Inventory!J966<>\"\",Inventory!J966,0)","v":0},956,0,1001," ",null,0,956,0,1001," "]
[null,null,null,null,null,null,null,null,null,null,null,null,{"$f":"IF(Inventory!C967<>\"\",Inventory!C967,0)","v":0},957,0,1001," ",null,{"$f":"IF(Inventory!J967<>\"\",Inventory!J967,0)","v":0},957,0,1001," ",null,0,957,0,1001," "]
[null,null,null,null,null,null,null,null,null,null,null,null,{"$f":"IF(Inventory!C968<>\"\",Inventory!C968,0)","v":0},958,0,1001," ",null,{"$f":"IF(Inventory!J968<>\"\",Inventory!J968,0)","v":0},958,0,1001," ",null,0,958,0,1001," "]
[null,null,null,null,null,null,null,null,null,null,null,null,{"$f":"IF(Inventory!C969<>\"\",Inventory!C969,0)","v":0},959,0,1001," ",null,{"$f":"IF(Inventory!J969<>\"\",Inventory!J969,0)","v":0},959,0,1001," ",null,0,959,0,1001," "]
[null,null,null,null,null,null,null,null,null,null,null,null,{"$f":"IF(Inventory!C970<>\"\",Inventory!C970,0)","v":0},960,0,1001," ",null,{"$f":"IF(Inventory!J970<>\"\",Inventory!J970,0)","v":0},960,0,1001," ",null,0,960,0,1001," "]
[null,null,null,null,null,null,null,null,null,null,null,null,{"$f":"IF(Inventory!C971<>\"\",Inventory!C971,0)","v":0},961,0,1001,{"$f":"IFERROR(VLOOKUP(SMALL($P$6:$P$1005,N966),$N$6:$O$1005,2,FALSE),\" \")","v":" "},null,{"$f":"IF(Inventory!J971<>\"\",Inventory!J971,0)","v":0},961,0,1001,{"$f":"IFERROR(VLOOKUP(SMALL($V$6:$V$1005,T966),$T$6:$U$1005,2,FALSE),\" \")","v":" "},null,0,961,0,1001,{"$f":"IFERROR(VLOOKUP(SMALL($AB$6:$AB$1005,Z966),$Z$6:$AA$1005,2,FALSE),\" \")","v":" "}]
[null,null,null,null,null,null,null,null,null,null,null,null,{"$f":"IF(Inventory!C972<>\"\",Inventory!C972,0)","v":0},962,{"$f":"M967","v":0},{"$f":"IF(O967=0,MAX($N$6:$N$1005)+1,N967)","v":1001}," ",null,{"$f":"IF(Inventory!J972<>\"\",Inventory!J972,0)","v":0},962,{"$f":"S967","v":0},{"$f":"IF(U967=0,MAX($T$6:$T$1005)+1,T967)","v":1001}," ",null,{"$f":"IF(AND(M967=0,S967=0),0,IF(AND(M967<>0,S967=0),M967,IF(AND(M967=0,S967<>0),S967,IF(AND(M967<>0,S967<>0),(CONCATENATE(M967,S967))))))","v":0},962,{"$f":"Y967","v":0},{"$f":"IF(AA967=0,MAX($Z$6:$Z$1005)+1,Z967)","v":1001}," "]
[null,null,null,null,null,null,null,null,null,null,null,null,{"$f":"IF(Inventory!C973<>\"\",Inventory!C973,0)","v":0},963,0,1001," ",null,{"$f":"IF(Inventory!J973<>\"\",Inventory!J973,0)","v":0},963,0,1001," ",null,0,963,0,1001," "]
[null,null,null,null,null,null,null,null,null,null,null,null,{"$f":"IF(Inventory!C974<>\"\",Inventory!C974,0)","v":0},964,0,1001," ",null,{"$f":"IF(Inventory!J974<>\"\",Inventory!J974,0)","v":0},964,0,1001," ",null,0,964,0,1001," "]
[null,null,null,null,null,null,null,null,null,null,null,null,{"$f":"IF(Inventory!C975<>\"\",Inventory!C975,0)","v":0},965,0,1001," ",null,{"$f":"IF(Inventory!J975<>\"\",Inventory!J975,0)","v":0},965,0,1001," ",null,0,965,0,1001," "]
[null,null,null,null,null,null,null,null,null,null,null,null,{"$f":"IF(Inventory!C976<>\"\",Inventory!C976,0)","v":0},966,0,1001," ",null,{"$f":"IF(Inventory!J976<>\"\",Inventory!J976,0)","v":0},966,0,1001," ",null,0,966,0,1001," "]
[null,null,null,null,null,null,null,null,null,null,null,null,{"$f":"IF(Inventory!C977<>\"\",Inventory!C977,0)","v":0},967,0,1001," ",null,{"$f":"IF(Inventory!J977<>\"\",Inventory!J977,0)","v":0},967,0,1001," ",null,0,967,0,1001," "]
[null,null,null,null,null,null,null,null,null,null,null,null,{"$f":"IF(Inventory!C978<>\"\",Inventory!C978,0)","v":0},968,0,1001," ",null,{"$f":"IF(Inventory!J978<>\"\",Inventory!J978,0)","v":0},968,0,1001," ",null,0,968,0,1001," "]
[null,null,null,null,null,null,null,null,null,null,null,null,{"$f":"IF(Inventory!C979<>\"\",Inventory!C979,0)","v":0},969,0,1001," ",null,{"$f":"IF(Inventory!J979<>\"\",Inventory!J979,0)","v":0},969,0,1001," ",null,0,969,0,1001," "]
[null,null,null,null,null,null,null,null,null,null,null,null,{"$f":"IF(Inventory!C980<>\"\",Inventory!C980,0)","v":0},970,0,1001," ",null,{"$f":"IF(Inventory!J980<>\"\",Inventory!J980,0)","v":0},970,0,1001," ",null,0,970,0,1001," "]
[null,null,null,null,null,null,null,null,null,null,null,null,{"$f":"IF(Inventory!C981<>\"\",Inventory!C981,0)","v":0},971,0,1001," ",null,{"$f":"IF(Inventory!J981<>\"\",Inventory!J981,0)","v":0},971,0,1001," ",null,0,971,0,1001," "]
[null,null,null,null,null,null,null,null,null,null,null,null,{"$f":"IF(Inventory!C982<>\"\",Inventory!C982,0)","v":0},972,0,1001," ",null,{"$f":"IF(Inventory!J982<>\"\",Inventory!J982,0)","v":0},972,0,1001," ",null,0,972,0,1001," "]
[null,null,null,null,null,null,null,null,null,null,null,null,{"$f":"IF(Inventory!C983<>\"\",Inventory!C983,0)","v":0},973,0,1001," ",null,{"$f":"IF(Inventory!J983<>\"\",Inventory!J983,0)","v":0},973,0,1001," ",null,0,973,0,1001," "]
[null,null,null,null,null,null,null,null,null,null,null,null,{"$f":"IF(Inventory!C984<>\"\",Inventory!C984,0)","v":0},974,0,1001," ",null,{"$f":"IF(Inventory!J984<>\"\",Inventory!J984,0)","v":0},974,0,1001," ",null,0,974,0,1001," "]
[null,null,null,null,null,null,null,null,null,null,null,null,{"$f":"IF(Inventory!C985<>\"\",Inventory!C985,0)","v":0},975,0,1001," ",null,{"$f":"IF(Inventory!J985<>\"\",Inventory!J985,0)","v":0},975,0,1001," ",null,0,975,0,1001," "]
[null,null,null,null,null,null,null,null,null,null,null,null,{"$f":"IF(Inventory!C986<>\"\",Inventory!C986,0)","v":0},976,0,1001," ",null,{"$f":"IF(Inventory!J986<>\"\",Inventory!J986,0)","v":0},976,0,1001," ",null,0,976,0,1001," "]
[null,null,null,null,null,null,null,null,null,null,null,null,{"$f":"IF(Inventory!C987<>\"\",Inventory!C987,0)","v":0},977,0,1001," ",null,{"$f":"IF(Inventory!J987<>\"\",Inventory!J987,0)","v":0},977,0,1001," ",null,0,977,0,1001," "]
[null,null,null,null,null,null,null,null,null,null,null,null,{"$f":"IF(Inventory!C988<>\"\",Inventory!C988,0)","v":0},978,0,1001," ",null,{"$f":"IF(Inventory!J988<>\"\",Inventory!J988,0)","v":0},978,0,1001," ",null,0,978,0,1001," "]
[null,null,null,null,null,null,null,null,null,null,null,null,{"$f":"IF(Inventory!C989<>\"\",Inventory!C989,0)","v":0},979,0,1001," ",null,{"$f":"IF(Inventory!J989<>\"\",Inventory!J989,0)","v":0},979,0,1001," ",null,0,979,0,1001," "]
[null,null,null,null,null,null,null,null,null,null,null,null,{"$f":"IF(Inventory!C990<>\"\",Inventory!C990,0)","v":0},980,0,1001," ",null,{"$f":"IF(Inventory!J990<>\"\",Inventory!J990,0)","v":0},980,0,1001," ",null,0,980,0,1001," "]
[null,null,null,null,null,null,null,null,null,null,null,null,{"$f":"IF(Inventory!C991<>\"\",Inventory!C991,0)","v":0},981,0,1001," ",null,{"$f":"IF(Inventory!J991<>\"\",Inventory!J991,0)","v":0},981,0,1001," ",null,0,981,0,1001," "]
[null,null,null,null,null,null,null,null,null,null,null,null,{"$f":"IF(Inventory!C992<>\"\",Inventory!C992,0)","v":0},982,0,1001," ",null,{"$f":"IF(Inventory!J992<>\"\",Inventory!J992,0)","v":0},982,0,1001," ",null,0,982,0,1001," "]
[null,null,null,null,null,null,null,null,null,null,null,null,{"$f":"IF(Inventory!C993<>\"\",Inventory!C993,0)","v":0},983,0,1001," ",null,{"$f":"IF(Inventory!J993<>\"\",Inventory!J993,0)","v":0},983,0,1001," ",null,0,983,0,1001," "]
[null,null,null,null,null,null,null,null,null,null,null,null,{"$f":"IF(Inventory!C994<>\"\",Inventory!C994,0)","v":0},984,0,1001," ",null,{"$f":"IF(Inventory!J994<>\"\",Inventory!J994,0)","v":0},984,0,1001," ",null,0,984,0,1001," "]
[null,null,null,null,null,null,null,null,null,null,null,null,{"$f":"IF(Inventory!C995<>\"\",Inventory!C995,0)","v":0},985,0,1001," ",null,{"$f":"IF(Inventory!J995<>\"\",Inventory!J995,0)","v":0},985,0,1001," ",null,0,985,0,1001," "]
[null,null,null,null,null,null,null,null,null,null,null,null,{"$f":"IF(Inventory!C996<>\"\",Inventory!C996,0)","v":0},986,0,1001," ",null,{"$f":"IF(Inventory!J996<>\"\",Inventory!J996,0)","v":0},986,0,1001," ",null,0,986,0,1001," "]
[null,null,null,null,null,null,null,null,null,null,null,null,{"$f":"IF(Inventory!C997<>\"\",Inventory!C997,0)","v":0},987,0,1001," ",null,{"$f":"IF(Inventory!J997<>\"\",Inventory!J997,0)","v":0},987,0,1001," ",null,0,987,0,1001," "]
[null,null,null,null,null,null,null,null,null,null,null,null,{"$f":"IF(Inventory!C998<>\"\",Inventory!C998,0)","v":0},988,0,1001," ",null,{"$f":"IF(Inventory!J998<>\"\",Inventory!J998,0)","v":0},988,0,1001," ",null,0,988,0,1001," "]
[null,null,null,null,null,null,null,null,null,null,null,null,{"$f":"IF(Inventory!C999<>\"\",Inventory!C999,0)","v":0},989,0,1001," ",null,{"$f":"IF(Inventory!J999<>\"\",Inventory!J999,0)","v":0},989,0,1001," ",null,0,989,0,1001," "]
[null,null,null,null,null,null,null,null,null,null,null,null,{"$f":"IF(Inventory!C1000<>\"\",Inventory!C1000,0)","v":0},990,0,1001," ",null,{"$f":"IF(Inventory!J1000<>\"\",Inventory!J1000,0)","v":0},990,0,1001," ",null,0,990,0,1001," "]
[null,null,null,null,null,null,null,null,null,null,null,null,{"$f":"IF(Inventory!C1001<>\"\",Inventory!C1001,0)","v":0},991,0,1001," ",null,{"$f":"IF(Inventory!J1001<>\"\",Inventory!J1001,0)","v":0},991,0,1001," ",null,0,991,0,1001," "]
[null,null,null,null,null,null,null,null,null,null,null,null,{"$f":"IF(Inventory!C1002<>\"\",Inventory!C1002,0)","v":0},992,0,1001," ",null,{"$f":"IF(Inventory!J1002<>\"\",Inventory!J1002,0)","v":0},992,0,1001," ",null,0,992,0,1001," "]
[null,null,null,null,null,null,null,null,null,null,null,null,{"$f":"IF(Inventory!C1003<>\"\",Inventory!C1003,0)","v":0},993,0,1001," ",null,{"$f":"IF(Inventory!J1003<>\"\",Inventory!J1003,0)","v":0},993,0,1001," ",null,0,993,0,1001," "]
[null,null,null,null,null,null,null,null,null,null,null,null,{"$f":"IF(Inventory!C1004<>\"\",Inventory!C1004,0)","v":0},994,0,1001," ",null,{"$f":"IF(Inventory!J1004<>\"\",Inventory!J1004,0)","v":0},994,0,1001," ",null,0,994,0,1001," "]
[null,null,null,null,null,null,null,null,null,null,null,null,{"$f":"IF(Inventory!C1005<>\"\",Inventory!C1005,0)","v":0},995,0,1001," ",null,{"$f":"IF(Inventory!J1005<>\"\",Inventory!J1005,0)","v":0},995,0,1001," ",null,0,995,0,1001," "]
[null,null,null,null,null,null,null,null,null,null,null,null,{"$f":"IF(Inventory!C1006<>\"\",Inventory!C1006,0)","v":0},996,0,1001," ",null,{"$f":"IF(Inventory!J1006<>\"\",Inventory!J1006,0)","v":0},996,0,1001," ",null,0,996,0,1001," "]
[null,null,null,null,null,null,null,null,null,null,null,null,{"$f":"IF(Inventory!C1007<>\"\",Inventory!C1007,0)","v":0},997,0,1001," ",null,{"$f":"IF(Inventory!J1007<>\"\",Inventory!J1007,0)","v":0},997,0,1001," ",null,0,997,0,1001," "]
[null,null,null,null,null,null,null,null,null,null,null,null,{"$f":"IF(Inventory!C1008<>\"\",Inventory!C1008,0)","v":0},998,0,1001," ",null,{"$f":"IF(Inventory!J1008<>\"\",Inventory!J1008,0)","v":0},998,0,1001," ",null,0,998,0,1001," "]
[null,null,null,null,null,null,null,null,null,null,null,null,{"$f":"IF(Inventory!C1009<>\"\",Inventory!C1009,0)","v":0},999,0,1001," ",null,{"$f":"IF(Inventory!J1009<>\"\",Inventory!J1009,0)","v":0},999,0,1001," ",null,0,999,0,1001," "]
[null,null,null,null,null,null,null,null,null,null,null,null,{"$f":"IF(Inventory!C1010<>\"\",Inventory!C1010,0)","v":0},1000,0,1001," ",null,{"$f":"IF(Inventory!J1010<>\"\",Inventory!J1010,0)","v":0},1000,0,1001," ",null,0,1000,0,1001," "]