{"text_format":"1","workbook":"xlsx","n_sheets":4,"sheets":["Instructions","Utilized-Interacted FAD-beacons","Activity","Tablas"],"not_rendered":{"charts":0,"images":2,"macros":1,"external_links":0,"defined_names":12,"comments":0,"pivot_tables":0},"unopened":[],"bounds":{"document_bytes":16777216,"sheet_cells":100000,"rows_first":2000,"rows_last":500,"rows_between":2000,"halvings":0,"cell_chars":16384,"cell_head_chars":4096},"cells_cut":0,"cells_raw":0,"read":"whole","date_system":"1900"}

{"sheet":"Instructions","index":0,"n_rows":117,"n_cols":95,"rows_kept":117,"cut":false,"hidden":false,"merged":[[49,3,49,7],[49,8,49,12],[105,48,105,93],[105,3,105,47],[61,70,61,78],[61,79,61,89],[68,3,68,9],[68,10,68,20],[68,21,68,27],[69,3,69,9],[69,10,69,20],[61,3,61,17],[61,18,61,33],[61,34,61,40],[61,42,61,52],[61,53,61,63],[61,64,61,68],[103,3,103,47],[104,3,104,47],[72,3,72,15],[72,16,72,23],[72,24,72,30],[73,3,73,15],[73,16,73,23],[104,48,104,93],[103,48,103,93],[59,70,59,101],[60,3,60,17],[60,18,60,33],[60,34,60,40],[60,42,60,52],[60,53,60,63],[60,64,60,68],[60,70,60,78],[60,79,60,89],[60,90,60,101],[54,3,54,46],[54,47,54,61],[55,3,55,46],[55,47,55,61],[59,3,59,40],[59,42,59,68],[46,58,46,62],[46,63,46,67],[48,3,48,7],[48,8,48,12],[48,52,48,55],[48,58,48,62],[48,63,48,67],[46,3,46,7],[46,8,46,12],[46,32,46,35],[46,52,46,55],[46,15,46,31],[47,3,47,7],[47,8,47,12],[47,15,47,31],[47,32,47,35],[47,52,47,55],[47,58,47,62],[45,8,45,12],[45,32,45,35],[45,52,45,55],[45,58,45,62],[45,63,45,67],[44,3,44,7],[44,8,44,12],[44,32,44,35],[44,52,44,55],[45,15,45,31],[44,15,44,31],[44,63,44,67],[45,3,45,7],[3,3,3,102],[5,55,5,59],[14,50,14,70],[39,15,39,35],[37,3,37,60],[40,58,40,62],[40,63,40,67],[41,3,41,7],[41,8,41,12],[41,32,41,35],[41,52,41,55],[41,58,41,62],[41,63,41,67],[40,3,40,7],[40,8,40,12],[40,32,40,35],[40,52,40,55],[41,15,41,31],[40,15,40,31],[1,94,1,103],[1,9,1,93],[47,63,47,67],[49,52,49,55],[50,52,50,55],[50,38,50,51],[23,4,23,43],[39,3,39,12],[39,58,39,67],[42,58,42,62],[42,63,42,67],[43,3,43,7],[43,8,43,12],[43,32,43,35],[43,52,43,55],[43,58,43,62],[43,63,43,67],[42,3,42,7],[42,8,42,12],[42,32,42,35],[42,52,42,55],[43,15,43,31],[42,15,42,31],[44,58,44,62],[51,38,51,51],[39,38,39,55],[51,52,51,55],[40,38,40,51],[41,38,41,51],[42,38,42,51],[43,38,43,51],[44,38,44,51],[45,38,45,51],[46,38,46,51],[47,38,47,51],[48,38,48,51],[49,38,49,51]]}
[]
[null,null,null,null,null,null,null,null,null,"INTER-AMERICAN TROPICAL TUNA COMMISSION",null,null,null,null,null,null,null,null,null,null,null,null,null,null,null,null,null,null,null,null,null,null,null,null,null,null,null,null,null,null,null,null,null,null,null,null,null,null,null,null,null,null,null,null,null,null,null,null,null,null,null,null,null,null,null,null,null,null,null,null,null,null,null,null,null,null,null,null,null,null,null,null,null,null,null,null,null,null,null,null,null,null,null,null,"Ver. 2023-12 v5"]
[]
[null,null,null,"FAD RECORDS"]
[]
[null,null,null,"These forms (Utilized-Interacted FAD-becons, and Activity on FADs) are based on IATTC Resolution",null,null,null,null,null,null,null,null,null,null,null,null,null,null,null,null,null,null,null,null,null,null,null,null,null,null,null,null,null,null,null,null,null,null,null,null,null,null,null,null,null,null,null,null,null,null,null,null,null,null,null,"C-19-01",null,null,null,null,"on the collection of data on fish-aggregating devices (FADs)."]
[null,null,null," They are designed to enable monitoring of FADs throughout a fishing trip."]
[]
[null,null,null,"GENERAL INSTRUCTIONS"]
[]
[null,null,null,"It is the responsibility of the person in charge of fishing operations to ensure that the forms are properly filled out, and that the data recorded on the forms are correct, accurate, and complete,"]
[null,null,null,"although the task of filling out the forms may be delegated to any vessel officer. Do not write in the shaded spaces."]
[null,null,null,"You must fill the form out electronically and save it as an Excel workbook."]
[]
[null,null,null,"Electronic forms: The MS Excel version of this form can be downloaded from the IATTC website",null,null,null,null,null,null,null,null,null,null,null,null,null,null,null,null,null,null,null,null,null,null,null,null,null,null,null,null,null,null,null,null,null,null,null,null,null,null,null,null,null,null,null,null,null,null,"www.iattc.org/en-us/Resources/Forms",null,null,null,null,null,null,null,null,null,null,null,null,null,null,null,null,null,null,null,null,"Save it in xlsm (Excel Macro-Enabled Workbook)"]
[null,null,null,"format, with the filename ‘Vessel-Year-Trip.xslm’, where ‘Vessel’ is the name of the vessel, ‘Year’ is the year the trip started, and ‘Trip’ is a consecutive number of the trip in that year."]
[null,null,null,"For example, for the second trip in 2018 by the vessel Guadalcanal, it would be ‘Guadalcanal-2018-02.xlsm’."]
[]
[null,null,null,"1.    Utilized-Interacted FADs and beacons information",null,null,null,null,null,null,null,null,null,null,null,null,null,null,null,null,null,null,null,null,null,null,null,null,null,null,null,null,null,null,"NOTE: RECORD ANY UTILIZED BEACON ON ALL FADS VISITED DURING YOUR TRIP EVEN IF IT IS NOT YOUR PROPERTY"]
[]
[null,null,null,"a.      Header"]
[null,null,null,null,"Vessel name: Enter the name of the vessel"]
[null,null,null,null,"IATTC vessel no.: Enter the number allocated by the IATTC on the Regional Vessel Register, available on the IATTC website:"]
[null,null,null,null,"https://www.iattc.org/VesselRegister/VesselList.aspx?List=AcPS&Lang=ENG"]
[null,null,null,null,"Trip start date: In the spaces provided, enter the date the trip started, in DDMMYY format; for example, May 10, 2018, would be entered as ‘100518’."]
[]
[null,null,null,"b.      FAD details"]
[null,null,null,null,"FAD ID: The ID to enter depends on the system that you use for identifying your FADs."]
[null,null,null,null,"•    If you use the number of the satellite beacon, enter the manufacturer’s make and model code from Table 1 and the beacon’s unique serial number. If you use a make or model"]
[null,null,null,null,"      not included in the table, enter it in the table and provide as much information as possible under Comments/Observations."]
[null,null,null,null,"•     For other types of beacon, enter a unique identifier that your vessel assigns to the FAD or locating beacon, and that can be used as a reference for future encounters with that FAD."]
[null,null,null,null,"•     If you use the alphanumeric code provided by the IATTC, enter the code that you assigned to this particular FAD. Enter the letters in the first column and the sequential number"]
[null,null,null,null,null,null," in the second column."]
[null,null,null,null,"•     For cases not covered here, describe under Comments/Observations. "]
[null,null,null,null,"•     If you use the satellite beacon’s number as the FAD ID and you change the beacon on a FAD, it is important that you record the ID of both beacons, the original and the replacement,"]
[null,null,null,null,"       on separate lines.  Under Comments/Observations, make a note that the beacon was changed on the FAD. "]
[]
[null,null,null,"Table 1. Manufacturer and model codes"]
[]
[null,null,null,"MARINE INSTRUMENTS",null,null,null,null,null,null,null,null,null,null,null,"SATLINK",null,null,null,null,null,null,null,null,null,null,null,null,null,null,null,null,null,null,null,null,null,null,"ZUNIBAL",null,null,null,null,null,null,null,null,null,null,null,null,null,null,null,null,null,null,null,"Other make _____"]
[null,null,null,"Model",null,null,null,null,"Code ",null,null,null,null,null,null,"Model",null,null,null,null,null,null,null,null,null,null,null,null,null,null,null,null,"Code",null,null,null,null,null,"Model",null,null,null,null,null,null,null,null,null,null,null,null,null,"Code",null,null,null,null,null,"Model",null,null,null,null,"Code",null,null,null,null,null,null,null,null,null,null,null,null,null,null,null,"Dimensions"]
[null,null,null,"MDP",null,null,null,null,"MDP",null,null,null,null,null,null,"D+ battery",null,null,null,null,null,null,null,null,null,null,null,null,null,null,null,null,"D+",null,null,null,null,null,"Tunabal-7",null,null,null,null,null,null,null,null,null,null,null,null,null,"T07"]
[null,null,null,"MDS",null,null,null,null,"MDS",null,null,null,null,null,null,"D+ battery with echosounder",null,null,null,null,null,null,null,null,null,null,null,null,null,null,null,null,"DS+",null,null,null,null,null,"Tunabal-e7",null,null,null,null,null,null,null,null,null,null,null,null,null,"Te7"]
[null,null,null,"M2D",null,null,null,null,"M2D",null,null,null,null,null,null,"D+ solar",null,null,null,null,null,null,null,null,null,null,null,null,null,null,null,null,"DL+",null,null,null,null,null,"Tunabal-e7+",null,null,null,null,null,null,null,null,null,null,null,null,null,"T7+"]
[null,null,null,"MSI",null,null,null,null,"MSI",null,null,null,null,null,null,"D+ solar with echosounder",null,null,null,null,null,null,null,null,null,null,null,null,null,null,null,null,"DSL+",null,null,null,null,null,"Tuna8 Explorer",null,null,null,null,null,null,null,null,null,null,null,null,null,"T8E"]
[null,null,null,"M3i",null,null,null,null,"M3I",null,null,null,null,null,null,"IDP solar with echosounder",null,null,null,null,null,null,null,null,null,null,null,null,null,null,null,null,"ISL+",null,null,null,null,null,"Tuna8 Xtreme",null,null,null,null,null,null,null,null,null,null,null,null,null,"T8X"]
[null,null,null,"M3i+",null,null,null,null,"M3+",null,null,null,null,null,null,"IDP solar disc. with echosounder",null,null,null,null,null,null,null,null,null,null,null,null,null,null,null,null,"ISD+",null,null,null,null,null,"Tunabal-7 (F series)",null,null,null,null,null,null,null,null,null,null,null,null,null,"F07"]
[null,null,null,"M4I",null,null,null,null,"M4I",null,null,null,null,null,null,"SLX solar \"ECO\"",null,null,null,null,null,null,null,null,null,null,null,null,null,null,null,null,"SLX+",null,null,null,null,null,"Tunabal-e7 (F series)",null,null,null,null,null,null,null,null,null,null,null,null,null,"Fe7"]
[null,null,null,"M4i+",null,null,null,null,"M4+",null,null,null,null,null,null,null,null,null,null,null,null,null,null,null,null,null,null,null,null,null,null,null,null,null,null,null,null,null,"Tunabal-e7+ (F-series)",null,null,null,null,null,null,null,null,null,null,null,null,null,"F7+"]
[null,null,null,"M3iGO",null,null,null,null,"MGO",null,null,null,null,null,null,null,null,null,null,null,null,null,null,null,null,null,null,null,null,null,null,null,null,null,null,null,null,null,"Tuna8 Explorer (F-series)",null,null,null,null,null,null,null,null,null,null,null,null,null,"F8E"]
[null,null,null,null,null,null,null,null,null,null,null,null,null,null,null,null,null,null,null,null,null,null,null,null,null,null,null,null,null,null,null,null,null,null,null,null,null,null,"Zuni without sounder",null,null,null,null,null,null,null,null,null,null,null,null,null,"Z07"]
[null,null,null,null,null,null,null,null,null,null,null,null,null,null,null,null,null,null,null,null,null,null,null,null,null,null,null,null,null,null,null,null,null,null,null,null,null,null,"Zuni without sounder",null,null,null,null,null,null,null,null,null,null,null,null,null,"Ze7"]
[]
[null,null,null,"DESCRIPTION: Enter the numeric code (only one) that best describes the type of FAD:"]
[null,null,null,"1.       Natural (tree trunk, ropes, pallet, fronds), dead animal",null,null,null,null,null,null,null,null,null,null,null,null,null,null,null,null,null,null,null,null,null,null,null,null,null,null,null,null,null,null,null,null,null,null,null,null,null,null,null,null,null,null,null,"2.       Own FAD"]
[null,null,null,"3.       FAD not owned (by your vessel)",null,null,null,null,null,null,null,null,null,null,null,null,null,null,null,null,null,null,null,null,null,null,null,null,null,null,null,null,null,null,null,null,null,null,null,null,null,null,null,null,null,null,null,"4.       Anchored FAD"]
[]
[null,null,null,"SURFACE COMPONENT: In the corresponding column, enter the numeric code that best describes the main materials used to make that component of the FAD. If the covering is mainly"]
[null,null,null,"made of webbing, write under Mesh the mesh size (in cm) of the majority of the mesh. If no webbing is used, leave blank."]
[null,null,null,"Raft",null,null,null,null,null,null,null,null,null,null,null,null,null,null,null,null,null,null,null,null,null,null,null,null,null,null,null,null,null,null,null,null,null,null,null,null,null,null,"Covering",null,null,null,null,null,null,null,null,null,null,null,null,null,null,null,null,null,null,null,null,null,null,null,null,null,null,null,"Floats"]
[null,null,null,"1. Canes (bamboo), latticed",null,null,null,null,null,null,null,null,null,null,null,null,null,null,"2. Canes (bamboo), bundled",null,null,null,null,null,null,null,null,null,null,null,null,null,null,null,"3. Metal",null,null,null,null,null,null,null,"1. Webbing ",null,null,null,null,null,null,null,null,null,null,"2. Plastic",null,null,null,null,null,null,null,null,null,null,"3. Cloth",null,null,null,null,null,"1. Net corks",null,null,null,null,null,null,null,null,"2. Plastic buoys",null,null,null,null,null,null,null,null,null,null,"3. Plastic drums"]
[null,null,null,"4. PVC or plastic",null,null,null,null,null,null,null,null,null,null,null,null,null,null,"5. No raft",null,null,null,null,null,null,null,null,null,null,null,null,null,null,null,"6. Other",null,null,null,null,null,null,null,"4. Palm leaves",null,null,null,null,null,null,null,null,null,null,"5. No covering",null,null,null,null,null,null,null,null,null,null,"6. Other",null,null,null,null,null,"4. No floats",null,null,null,null,null,null,null,null,"5. Other"]
[]
[null,null,null,"DIMENSIONS (meters):  Width (W), Length (L), Depth (D): In the corresponding spaces, enter the dimensions of the FAD (without the tail, if present)."]
[]
[null,null,null,"UNDERWATER COMPONENT (“TAIL”):"]
[null,null,null,"Mat. 1 and Mat. 2: In the corresponding columns, enter the numeric codes for the two main materials of the tail of the FAD. If there is only one, leave the second column blank."]
[]
[null,null,null,"1.  Nylon",null,null,null,null,null,null,"2.  Palm leaves",null,null,null,null,null,null,null,null,null,null,"3.  Bamboo"]
[null,null,null,"4.  No tail",null,null,null,null,null,null,"5.  Other"]
[]
[null,null,null,"Config. (Configuration): Enter the numeric code of the configuration that best describes the tail:"]
[null,null,null,"1.       Bundled webbing",null,null,null,null,null,null,null,null,null,null,null,null,"2.       Ropes",null,null,null,null,null,null,null,"3.       Cloth"]
[null,null,null,"4.       Open webbing",null,null,null,null,null,null,null,null,null,null,null,null,"5.       Other"]
[]
[null,null,null,"Mesh size: If the tail is made of net webbing, enter the mesh size, in centimeters (1.25\" ≈ 3 cm / 4.5\" ≈ 11 cm). Otherwise, leave blank."]
[]
[null,null,null,"Depth (m): Record the maximum depth of the underwater component (tail), in meters."]
[]
[null,null,null,"Comments/Observations: Use this space to record any additional information you consider relevant."]
[]
[]
[null,null,null,"2.  ACTIVITY ON FADs"]
[null,null,null,"This form complements the Inventory form, and is used to record each activity involving the FADs recorded on that form, including deploying, checking, recovering,"]
[null,null,null,"and setting on the FAD, or changing its beacon."]
[]
[null,null,null,"Details of the activities"]
[null,null,null,"FAD ID: Enter the same code that you entered under FAD ID on the Inventory to identify the FAD. In the Code column, enter the same manufacturer code that you entered on the\n"]
[null,null,null,"Inventory, and under Serial No, the beacon’s serial number. If the FAD does not have a beacon, leave blank."]
[]
[null,null,null,"If you replace the beacon that is used as the FAD ID, enter in this column the ID of the original beacon that you removed, and in the following column (Replacement ID) "]
[null,null,null,"the identification of the replacement beacon."]
[]
[null,null,null,"Replacement ID: Fill out this column only if you replace the beacon used as the FAD ID (Activity 5, Beacon change). Enter the ID of the new beacon in this column. For every subsequent"]
[null,null,null,"activity on this FAD, enter this ID in the first column. For cases not covered by these instructions, describe under Comments/Observations."]
[]
[null,null,null,"Date: The date of the activity, in DDMMYY (day-month-year) format"]
[null,null,null,"Time: The local time at which the activity occurred, in 24-hour format (1 pm = 13:00)."]
[null,null,null,"Act. (Activity): Enter the numeric code that best describes the activity recorded. Record each activity, with its respective code, on a separate line, even if they happen consecutively. "]
[null,null,null,"For example, if the FAD is recovered at the end of a set, enter '3’, with its corresponding information (ID, date, time, position, catch), on one line, and ‘4’ on the following line, "]
[null,null,null,"with its corresponding information (ID, date, time, position). If you check a FAD and change its beacon, enter each activity (‘1’ and ‘5’) on a separate line; in that case, the ID would change, "]
[null,null,null,"but all the other information would be the same."]
[]
[null,null,null,"1.  Check: The FAD is checked to see whether it has fish, but no set is made",null,null,null,null,null,null,null,null,null,null,null,null,null,null,null,null,null,null,null,null,null,null,null,null,null,null,null,null,null,null,null,null,null,null,null,null,null,null,null,null,null,null,null,null,"2.  Deployment: A new or recovered FAD is deployed"]
[null,null,null,"3.  Set: A set is made on the FAD",null,null,null,null,null,null,null,null,null,null,null,null,null,null,null,null,null,null,null,null,null,null,null,null,null,null,null,null,null,null,null,null,null,null,null,null,null,null,null,null,null,null,null,null,"4.  Recovery: The FAD is recovered and kept on board"]
[null,null,null,"5.  Beacon change: The beacon used to identify the FAD is changed",null,null,null,null,null,null,null,null,null,null,null,null,null,null,null,null,null,null,null,null,null,null,null,null,null,null,null,null,null,null,null,null,null,null,null,null,null,null,null,null,null,null,null,null,"6. Other: Describe any activity not covered by codes 1-5 under Comments/Observations"]
[]
[null,null,null,"Position: Record the geographic position of the activity (latitude and longitude) in degrees and minutes, with four and five digits, respectively. Do not write down the symbols for degrees (°),"]
[null,null,null," minutes (') or hemisphere (N/S, E/W).  If the latitude is south of the equator, record it as negative: 08°27 ' S would be recorded as -0827.  For longitudes west  of the 180°W record it as a negative."]
[]
[null,null,null,"Tuna catch: If the activity is a set (‘3’), enter the catch of yellowfin (YFT), bigeye (BET), and skipjack (SKJ) tuna, in tons. If the catch includes tunas of other species (OTR), enter the quantity "]
[null,null,null,"and species, if possible, under Comments/Observations. If the activity is not a set, leave blank."]
[]
[null,null,null,"Bycatch: If sharks (SHK), turtles (TURT), billfishes (BIL), rays (RAY), or other fish (OTR)) are caught in the set, enter the number of individuals (N) or tonnage (t) caught, "]
[null,null,null,"and on the following line, the number or tonnage released alive.  You may also key '1' for 'N', and '2' for 't'.  If there is no catch, leave blank."]
[]
[null,null,null,"Comments/Observations: Use this space as indicated in the instructions, or to make any notes or observations you consider important."]

{"sheet":"Utilized-Interacted FAD-beacons","index":1,"n_rows":1010,"n_cols":59,"rows_kept":1010,"cut":false,"hidden":false,"merged":[[8,31,8,36],[10,37,10,38],[10,39,10,40],[10,41,10,42],[10,22,10,23],[10,27,10,28],[10,29,10,30],[8,46,9,48],[10,49,10,66],[8,49,9,66],[10,43,10,45],[10,46,10,48],[10,33,10,34],[10,35,10,36],[10,31,10,32],[5,2,5,8],[10,2,10,8],[10,9,10,17],[10,18,10,21],[10,24,10,26],[9,35,9,36],[7,2,7,17],[9,31,9,32],[5,9,5,28],[9,33,9,34],[8,2,9,8],[8,9,9,17],[7,22,7,36],[8,24,9,26],[5,29,5,37],[5,38,5,43],[3,2,3,66],[5,44,5,52],[5,53,5,60],[8,37,9,38],[8,39,9,40],[8,41,9,42],[8,22,9,23],[8,27,9,28],[8,29,9,30],[7,37,7,48],[7,18,9,21],[8,43,9,45],[1,26,1,42],[1,58,1,66],[13,49,13,66],[14,2,14,8],[14,9,14,17],[14,18,14,21],[14,22,14,23],[14,24,14,26],[14,27,14,28],[14,29,14,30],[14,31,14,32],[14,33,14,34],[14,35,14,36],[14,37,14,38],[14,39,14,40],[14,41,14,42],[14,43,14,45],[14,46,14,48],[12,49,12,66],[13,2,13,8],[13,9,13,17],[13,18,13,21],[13,22,13,23],[13,24,13,26],[13,27,13,28],[13,29,13,30],[13,31,13,32],[13,33,13,34],[13,35,13,36],[13,37,13,38],[13,39,13,40],[13,41,13,42],[13,43,13,45],[13,46,13,48],[11,49,11,66],[12,2,12,8],[12,9,12,17],[12,18,12,21],[12,22,12,23],[12,24,12,26],[12,27,12,28],[12,29,12,30],[12,31,12,32],[12,33,12,34],[12,35,12,36],[12,37,12,38],[12,39,12,40],[12,41,12,42],[12,43,12,45],[12,46,12,48],[11,37,11,38],[11,39,11,40],[11,41,11,42],[11,43,11,45],[11,46,11,48],[11,27,11,28],[11,29,11,30],[11,31,11,32],[11,33,11,34],[11,35,11,36],[11,2,11,8],[11,9,11,17],[11,18,11,21],[11,22,11,23],[11,24,11,26],[16,49,16,66],[17,2,17,8],[17,9,17,17],[17,18,17,21],[17,22,17,23],[17,24,17,26],[17,27,17,28],[17,29,17,30],[17,31,17,32],[17,33,17,34],[17,35,17,36],[17,37,17,38],[17,39,17,40],[17,41,17,42],[17,43,17,45],[17,46,17,48],[15,49,15,66],[16,2,16,8],[16,9,16,17],[16,18,16,21],[16,22,16,23],[16,24,16,26],[16,27,16,28],[16,29,16,30],[16,31,16,32],[16,33,16,34],[16,35,16,36],[16,37,16,38],[16,39,16,40],[16,41,16,42],[16,43,16,45],[16,46,16,48],[14,49,14,66],[15,2,15,8],[15,9,15,17],[15,18,15,21],[15,22,15,23],[15,24,15,26],[15,27,15,28],[15,29,15,30],[15,31,15,32],[15,33,15,34],[15,35,15,36],[15,37,15,38],[15,39,15,40],[15,41,15,42],[15,43,15,45],[15,46,15,48],[19,49,19,66],[20,2,20,8],[20,9,20,17],[20,18,20,21],[20,22,20,23],[20,24,20,26],[20,27,20,28],[20,29,20,30],[20,31,20,32],[20,33,20,34],[20,35,20,36],[20,37,20,38],[20,39,20,40],[20,41,20,42],[20,43,20,45],[20,46,20,48],[18,49,18,66],[19,2,19,8],[19,9,19,17],[19,18,19,21],[19,22,19,23],[19,24,19,26],[19,27,19,28],[19,29,19,30],[19,31,19,32],[19,33,19,34],[19,35,19,36],[19,37,19,38],[19,39,19,40],[19,41,19,42],[19,43,19,45],[19,46,19,48],[17,49,17,66],[18,2,18,8],[18,9,18,17],[18,18,18,21],[18,22,18,23],[18,24,18,26],[18,27,18,28],[18,29,18,30],[18,31,18,32],[18,33,18,34],[18,35,18,36],[18,37,18,38],[18,39,18,40],[18,41,18,42],[18,43,18,45],[18,46,18,48],[22,49,22,66],[23,2,23,8],[23,9,23,17],[23,18,23,21],[23,22,23,23],[23,24,23,26],[23,27,23,28],[23,29,23,30],[23,31,23,32],[23,33,23,34],[23,35,23,36],[23,37,23,38],[23,39,23,40],[23,41,23,42],[23,43,23,45],[23,46,23,48],[21,49,21,66],[22,2,22,8],[22,9,22,17],[22,18,22,21],[22,22,22,23],[22,24,22,26],[22,27,22,28],[22,29,22,30],[22,31,22,32],[22,33,22,34],[22,35,22,36],[22,37,22,38],[22,39,22,40],[22,41,22,42],[22,43,22,45],[22,46,22,48],[20,49,20,66],[21,2,21,8],[21,9,21,17],[21,18,21,21],[21,22,21,23],[21,24,21,26],[21,27,21,28],[21,29,21,30],[21,31,21,32],[21,33,21,34],[21,35,21,36],[21,37,21,38],[21,39,21,40],[21,41,21,42],[21,43,21,45],[21,46,21,48],[25,49,25,66],[26,2,26,8],[26,9,26,17],[26,18,26,21],[26,22,26,23],[26,24,26,26],[26,27,26,28],[26,29,26,30],[26,31,26,32],[26,33,26,34],[26,35,26,36],[26,37,26,38],[26,39,26,40],[26,41,26,42],[26,43,26,45],[26,46,26,48],[24,49,24,66],[25,2,25,8],[25,9,25,17],[25,18,25,21],[25,22,25,23],[25,24,25,26],[25,27,25,28],[25,29,25,30],[25,31,25,32],[25,33,25,34],[25,35,25,36],[25,37,25,38],[25,39,25,40],[25,41,25,42],[25,43,25,45],[25,46,25,48],[23,49,23,66],[24,2,24,8],[24,9,24,17],[24,18,24,21],[24,22,24,23],[24,24,24,26],[24,27,24,28],[24,29,24,30],[24,31,24,32],[24,33,24,34],[24,35,24,36],[24,37,24,38],[24,39,24,40],[24,41,24,42],[24,43,24,45],[24,46,24,48],[28,49,28,66],[29,2,29,8],[29,9,29,17],[29,18,29,21],[29,22,29,23],[29,24,29,26],[29,27,29,28],[29,29,29,30],[29,31,29,32],[29,33,29,34],[29,35,29,36],[29,37,29,38],[29,39,29,40],[29,41,29,42],[29,43,29,45],[29,46,29,48],[27,49,27,66],[28,2,28,8],[28,9,28,17],[28,18,28,21],[28,22,28,23],[28,24,28,26],[28,27,28,28],[28,29,28,30],[28,31,28,32],[28,33,28,34],[28,35,28,36],[28,37,28,38],[28,39,28,40],[28,41,28,42],[28,43,28,45],[28,46,28,48],[26,49,26,66],[27,2,27,8],[27,9,27,17],[27,18,27,21],[27,22,27,23],[27,24,27,26],[27,27,27,28],[27,29,27,30],[27,31,27,32],[27,33,27,34],[27,35,27,36],[27,37,27,38],[27,39,27,40],[27,41,27,42],[27,43,27,45],[27,46,27,48],[31,49,31,66],[32,2,32,8],[32,9,32,17],[32,18,32,21],[32,22,32,23],[32,24,32,26],[32,27,32,28],[32,29,32,30],[32,31,32,32],[32,33,32,34],[32,35,32,36],[32,37,32,38],[32,39,32,40],[32,41,32,42],[32,43,32,45],[32,46,32,48],[30,49,30,66],[31,2,31,8],[31,9,31,17],[31,18,31,21],[31,22,31,23],[31,24,31,26],[31,27,31,28],[31,29,31,30],[31,31,31,32],[31,33,31,34],[31,35,31,36],[31,37,31,38],[31,39,31,40],[31,41,31,42],[31,43,31,45],[31,46,31,48],[29,49,29,66],[30,2,30,8],[30,9,30,17],[30,18,30,21],[30,22,30,23],[30,24,30,26],[30,27,30,28],[30,29,30,30],[30,31,30,32],[30,33,30,34],[30,35,30,36],[30,37,30,38],[30,39,30,40],[30,41,30,42],[30,43,30,45],[30,46,30,48],[34,49,34,66],[35,2,35,8],[35,9,35,17],[35,18,35,21],[35,22,35,23],[35,24,35,26],[35,27,35,28],[35,29,35,30],[35,31,35,32],[35,33,35,34],[35,35,35,36],[35,37,35,38],[35,39,35,40],[35,41,35,42],[35,43,35,45],[35,46,35,48],[33,49,33,66],[34,2,34,8],[34,9,34,17],[34,18,34,21],[34,22,34,23],[34,24,34,26],[34,27,34,28],[34,29,34,30],[34,31,34,32],[34,33,34,34],[34,35,34,36],[34,37,34,38],[34,39,34,40],[34,41,34,42],[34,43,34,45],[34,46,34,48],[32,49,32,66],[33,2,33,8],[33,9,33,17],[33,18,33,21],[33,22,33,23],[33,24,33,26],[33,27,33,28],[33,29,33,30],[33,31,33,32],[33,33,33,34],[33,35,33,36],[33,37,33,38],[33,39,33,40],[33,41,33,42],[33,43,33,45],[33,46,33,48],[37,49,37,66],[38,2,38,8],[38,9,38,17],[38,18,38,21],[38,22,38,23],[38,24,38,26],[38,27,38,28],[38,29,38,30],[38,31,38,32],[38,33,38,34],[38,35,38,36],[38,37,38,38],[38,39,38,40],[38,41,38,42],[38,43,38,45],[38,46,38,48],[36,49,36,66],[37,2,37,8],[37,9,37,17],[37,18,37,21],[37,22,37,23],[37,24,37,26],[37,27,37,28],[37,29,37,30],[37,31,37,32],[37,33,37,34],[37,35,37,36],[37,37,37,38],[37,39,37,40],[37,41,37,42],[37,43,37,45],[37,46,37,48],[35,49,35,66],[36,2,36,8],[36,9,36,17],[36,18,36,21],[36,22,36,23],[36,24,36,26],[36,27,36,28],[36,29,36,30],[36,31,36,32],[36,33,36,34],[36,35,36,36],[36,37,36,38],[36,39,36,40],[36,41,36,42],[36,43,36,45],[36,46,36,48],[40,49,40,66],[41,2,41,8],[41,9,41,17],[41,18,41,21],[41,22,41,23],[41,24,41,26],[41,27,41,28],[41,29,41,30],[41,31,41,32],[41,33,41,34],[41,35,41,36],[41,37,41,38],[41,39,41,40],[41,41,41,42],[41,43,41,45],[41,46,41,48],[39,49,39,66],[40,2,40,8],[40,9,40,17],[40,18,40,21],[40,22,40,23],[40,24,40,26],[40,27,40,28],[40,29,40,30],[40,31,40,32],[40,33,40,34],[40,35,40,36],[40,37,40,38],[40,39,40,40],[40,41,40,42],[40,43,40,45],[40,46,40,48],[38,49,38,66],[39,2,39,8],[39,9,39,17],[39,18,39,21],[39,22,39,23],[39,24,39,26],[39,27,39,28],[39,29,39,30],[39,31,39,32],[39,33,39,34],[39,35,39,36],[39,37,39,38],[39,39,39,40],[39,41,39,42],[39,43,39,45],[39,46,39,48],[43,49,43,66],[44,2,44,8],[44,9,44,17],[44,18,44,21],[44,22,44,23],[44,24,44,26],[44,27,44,28],[44,29,44,30],[44,31,44,32],[44,33,44,34],[44,35,44,36],[44,37,44,38],[44,39,44,40],[44,41,44,42],[44,43,44,45],[44,46,44,48],[42,49,42,66],[43,2,43,8],[43,9,43,17],[43,18,43,21],[43,22,43,23],[43,24,43,26],[43,27,43,28],[43,29,43,30],[43,31,43,32],[43,33,43,34],[43,35,43,36],[43,37,43,38],[43,39,43,40],[43,41,43,42],[43,43,43,45],[43,46,43,48],[41,49,41,66],[42,2,42,8],[42,9,42,17],[42,18,42,21],[42,22,42,23],[42,24,42,26],[42,27,42,28],[42,29,42,30],[42,31,42,32],[42,33,42,34],[42,35,42,36],[42,37,42,38],[42,39,42,40],[42,41,42,42],[42,43,42,45],[42,46,42,48],[46,49,46,66],[47,2,47,8],[47,9,47,17],[47,18,47,21],[47,22,47,23],[47,24,47,26],[47,27,47,28],[47,29,47,30],[47,31,47,32],[47,33,47,34],[47,35,47,36],[47,37,47,38],[47,39,47,40],[47,41,47,42],[47,43,47,45],[47,46,47,48],[45,49,45,66],[46,2,46,8],[46,9,46,17],[46,18,46,21],[46,22,46,23],[46,24,46,26],[46,27,46,28],[46,29,46,30],[46,31,46,32],[46,33,46,34],[46,35,46,36],[46,37,46,38],[46,39,46,40],[46,41,46,42],[46,43,46,45],[46,46,46,48],[44,49,44,66],[45,2,45,8],[45,9,45,17],[45,18,45,21],[45,22,45,23],[45,24,45,26],[45,27,45,28],[45,29,45,30],[45,31,45,32],[45,33,45,34],[45,35,45,36],[45,37,45,38],[45,39,45,40],[45,41,45,42],[45,43,45,45],[45,46,45,48],[49,49,49,66],[50,2,50,8],[50,9,50,17],[50,18,50,21],[50,22,50,23],[50,24,50,26],[50,27,50,28],[50,29,50,30],[50,31,50,32],[50,33,50,34],[50,35,50,36],[50,37,50,38],[50,39,50,40],[50,41,50,42],[50,43,50,45],[50,46,50,48],[48,49,48,66],[49,2,49,8],[49,9,49,17],[49,18,49,21],[49,22,49,23],[49,24,49,26],[49,27,49,28],[49,29,49,30],[49,31,49,32],[49,33,49,34],[49,35,49,36],[49,37,49,38],[49,39,49,40],[49,41,49,42],[49,43,49,45],[49,46,49,48],[47,49,47,66],[48,2,48,8],[48,9,48,17],[48,18,48,21],[48,22,48,23],[48,24,48,26],[48,27,48,28],[48,29,48,30],[48,31,48,32],[48,33,48,34],[48,35,48,36],[48,37,48,38],[48,39,48,40],[48,41,48,42],[48,43,48,45],[48,46,48,48],[52,49,52,66],[53,2,53,8],[53,9,53,17],[53,18,53,21],[53,22,53,23],[53,24,53,26],[53,27,53,28],[53,29,53,30],[53,31,53,32],[53,33,53,34],[53,35,53,36],[53,37,53,38],[53,39,53,40],[53,41,53,42],[53,43,53,45],[53,46,53,48],[51,49,51,66],[52,2,52,8],[52,9,52,17],[52,18,52,21],[52,22,52,23],[52,24,52,26],[52,27,52,28],[52,29,52,30],[52,31,52,32],[52,33,52,34],[52,35,52,36],[52,37,52,38],[52,39,52,40],[52,41,52,42],[52,43,52,45],[52,46,52,48],[50,49,50,66],[51,2,51,8],[51,9,51,17],[51,18,51,21],[51,22,51,23],[51,24,51,26],[51,27,51,28],[51,29,51,30],[51,31,51,32],[51,33,51,34],[51,35,51,36],[51,37,51,38],[51,39,51,40],[51,41,51,42],[51,43,51,45],[51,46,51,48],[55,49,55,66],[56,2,56,8],[56,9,56,17],[56,18,56,21],[56,22,56,23],[56,24,56,26],[56,27,56,28],[56,29,56,30],[56,31,56,32],[56,33,56,34],[56,35,56,36],[56,37,56,38],[56,39,56,40],[56,41,56,42],[56,43,56,45],[56,46,56,48],[54,49,54,66],[55,2,55,8],[55,9,55,17],[55,18,55,21],[55,22,55,23],[55,24,55,26],[55,27,55,28],[55,29,55,30],[55,31,55,32],[55,33,55,34],[55,35,55,36],[55,37,55,38],[55,39,55,40],[55,41,55,42],[55,43,55,45],[55,46,55,48],[53,49,53,66],[54,2,54,8],[54,9,54,17],[54,18,54,21],[54,22,54,23],[54,24,54,26],[54,27,54,28],[54,29,54,30],[54,31,54,32],[54,33,54,34],[54,35,54,36],[54,37,54,38],[54,39,54,40],[54,41,54,42],[54,43,54,45],[54,46,54,48],[58,49,58,66],[59,2,59,8],[59,9,59,17],[59,18,59,21],[59,22,59,23],[59,24,59,26],[59,27,59,28],[59,29,59,30],[59,31,59,32],[59,33,59,34],[59,35,59,36],[59,37,59,38],[59,39,59,40],[59,41,59,42],[59,43,59,45],[59,46,59,48],[57,49,57,66],[58,2,58,8],[58,9,58,17],[58,18,58,21],[58,22,58,23],[58,24,58,26],[58,27,58,28],[58,29,58,30],[58,31,58,32],[58,33,58,34],[58,35,58,36],[58,37,58,38],[58,39,58,40],[58,41,58,42],[58,43,58,45],[58,46,58,48],[56,49,56,66],[57,2,57,8],[57,9,57,17],[57,18,57,21],[57,22,57,23],[57,24,57,26],[57,27,57,28],[57,29,57,30],[57,31,57,32],[57,33,57,34],[57,35,57,36],[57,37,57,38],[57,39,57,40],[57,41,57,42],[57,43,57,45],[57,46,57,48],[61,49,61,66],[62,2,62,8],[62,9,62,17],[62,18,62,21],[62,22,62,23],[62,24,62,26],[62,27,62,28],[62,29,62,30],[62,31,62,32],[62,33,62,34],[62,35,62,36],[62,37,62,38],[62,39,62,40],[62,41,62,42],[62,43,62,45],[62,46,62,48],[60,49,60,66],[61,2,61,8],[61,9,61,17],[61,18,61,21],[61,22,61,23],[61,24,61,26],[61,27,61,28],[61,29,61,30],[61,31,61,32],[61,33,61,34],[61,35,61,36],[61,37,61,38],[61,39,61,40],[61,41,61,42],[61,43,61,45],[61,46,61,48],[59,49,59,66],[60,2,60,8],[60,9,60,17],[60,18,60,21],[60,22,60,23],[60,24,60,26],[60,27,60,28],[60,29,60,30],[60,31,60,32],[60,33,60,34],[60,35,60,36],[60,37,60,38],[60,39,60,40],[60,41,60,42],[60,43,60,45],[60,46,60,48],[64,49,64,66],[65,2,65,8],[65,9,65,17],[65,18,65,21],[65,22,65,23],[65,24,65,26],[65,27,65,28],[65,29,65,30],[65,31,65,32],[65,33,65,34],[65,35,65,36],[65,37,65,38],[65,39,65,40],[65,41,65,42],[65,43,65,45],[65,46,65,48],[63,49,63,66],[64,2,64,8],[64,9,64,17],[64,18,64,21],[64,22,64,23],[64,24,64,26],[64,27,64,28],[64,29,64,30],[64,31,64,32],[64,33,64,34],[64,35,64,36],[64,37,64,38],[64,39,64,40],[64,41,64,42],[64,43,64,45],[64,46,64,48],[62,49,62,66],[63,2,63,8],[63,9,63,17],[63,18,63,21],[63,22,63,23],[63,24,63,26],[63,27,63,28],[63,29,63,30],[63,31,63,32],[63,33,63,34],[63,35,63,36],[63,37,63,38],[63,39,63,40],[63,41,63,42],[63,43,63,45],[63,46,63,48],[67,49,67,66],[68,2,68,8],[68,9,68,17],[68,18,68,21],[68,22,68,23],[68,24,68,26],[68,27,68,28],[68,29,68,30],[68,31,68,32],[68,33,68,34],[68,35,68,36],[68,37,68,38],[68,39,68,40],[68,41,68,42],[68,43,68,45],[68,46,68,48],[66,49,66,66],[67,2,67,8],[67,9,67,17],[67,18,67,21],[67,22,67,23],[67,24,67,26],[67,27,67,28],[67,29,67,30],[67,31,67,32],[67,33,67,34],[67,35,67,36],[67,37,67,38],[67,39,67,40],[67,41,67,42],[67,43,67,45],[67,46,67,48],[65,49,65,66],[66,2,66,8],[66,9,66,17],[66,18,66,21],[66,22,66,23],[66,24,66,26],[66,27,66,28],[66,29,66,30],[66,31,66,32],[66,33,66,34],[66,35,66,36],[66,37,66,38],[66,39,66,40],[66,41,66,42],[66,43,66,45],[66,46,66,48],[70,49,70,66],[71,2,71,8],[71,9,71,17],[71,18,71,21],[71,22,71,23],[71,24,71,26],[71,27,71,28],[71,29,71,30],[71,31,71,32],[71,33,71,34],[71,35,71,36],[71,37,71,38],[71,39,71,40],[71,41,71,42],[71,43,71,45],[71,46,71,48],[69,49,69,66],[70,2,70,8],[70,9,70,17],[70,18,70,21],[70,22,70,23],[70,24,70,26],[70,27,70,28],[70,29,70,30],[70,31,70,32],[70,33,70,34],[70,35,70,36],[70,37,70,38]],"merged_total":16029,"flags":["merged_cut"]}
[]
[null,null,null,null,null,null,null,null,null,null,null,null,null,null,null,null,null,null,null,null,null,null,null,null,null,null,"INTER-AMERICAN TROPICAL TUNA COMMISSION",null,null,null,null,null,null,null,null,null,null,null,null,null,null,null,null,null,null,null,null,null,null,null,null,null,null,null,null,null,null,null,{"$f":"Instructions!CQ2","v":"Ver. 2023-12 v5"}]
[]
[null,null,"UTILIZED FAD AND BEACONS INFORMATION"]
[]
[null,null,"Vessel name",null,null,null,null,null,null,null,null,null,null,null,null,null,null,null,null,null,null,null,null,null,null,null,null,null,null," IATTC number",null,null,null,null,null,null,null,null,null,null,null,null,null,null,"Trip start date"]
[]
[null,null,"FAD ID",null,null,null,null,null,null,null,null,null,null,null,null,null,null,null,"Description",null,null,null,"Surface component",null,null,null,null,null,null,null,null,null,null,null,null,null,null,"Underwater component (tail)"]
[null,null,"Manufacturer code (Table 1)",null,null,null,null,null,null,"Beacon serial no. or \nIATTC code",null,null,null,null,null,null,null,null,null,null,null,null,"Raft",null,"Covering",null,null,"Mesh\n(cm)",null,"Floats",null,"Dimentions (m)",null,null,null,null,null,"Mat. 1",null,"Mat. 2",null,"Config.",null,"Mesh size (cm)",null,null,"Depth \n(m)",null,null,"Comments / Observations"]
[null,null,null,null,null,null,null,null,null,null,null,null,null,null,null,null,null,null,null,null,null,null,null,null,null,null,null,null,null,null,null,"W",null,"L",null,"P"]
[null,1]
[null,2]
[null,3]
[null,4]
[null,5]
[null,6]
[null,7]
[null,8]
[null,9]
[null,10]
[null,11]
[null,12]
[null,13]
[null,14]
[null,15]
[null,16]
[null,17]
[null,18]
[null,19]
[null,20]
[null,21]
[null,22]
[null,23]
[null,24]
[null,25]
[null,26]
[null,27]
[null,28]
[null,29]
[null,30]
[null,31]
[null,32]
[null,33]
[null,34]
[null,35]
[null,36]
[null,37]
[null,38]
[null,39]
[null,40]
[null,41]
[null,42]
[null,43]
[null,44]
[null,45]
[null,46]
[null,47]
[null,48]
[null,49]
[null,50]
[null,51]
[null,52]
[null,53]
[null,54]
[null,55]
[null,56]
[null,57]
[null,58]
[null,59]
[null,60]
[null,61]
[null,62]
[null,63]
[null,64]
[null,65]
[null,66]
[null,67]
[null,68]
[null,69]
[null,70]
[null,71]
[null,72]
[null,73]
[null,74]
[null,75]
[null,76]
[null,77]
[null,78]
[null,79]
[null,80]
[null,81]
[null,82]
[null,83]
[null,84]
[null,85]
[null,86]
[null,87]
[null,88]
[null,89]
[null,90]
[null,91]
[null,92]
[null,93]
[null,94]
[null,95]
[null,96]
[null,97]
[null,98]
[null,99]
[null,100]
[null,101]
[null,102]
[null,103]
[null,104]
[null,105]
[null,106]
[null,107]
[null,108]
[null,109]
[null,110]
[null,111]
[null,112]
[null,113]
[null,114]
[null,115]
[null,116]
[null,117]
[null,118]
[null,119]
[null,120]
[null,121]
[null,122]
[null,123]
[null,124]
[null,125]
[null,126]
[null,127]
[null,128]
[null,129]
[null,130]
[null,131]
[null,132]
[null,133]
[null,134]
[null,135]
[null,136]
[null,137]
[null,138]
[null,139]
[null,140]
[null,141]
[null,142]
[null,143]
[null,144]
[null,145]
[null,146]
[null,147]
[null,148]
[null,149]
[null,150]
[null,151]
[null,152]
[null,153]
[null,154]
[null,155]
[null,156]
[null,157]
[null,158]
[null,159]
[null,160]
[null,161]
[null,162]
[null,163]
[null,164]
[null,165]
[null,166]
[null,167]
[null,168]
[null,169]
[null,170]
[null,171]
[null,172]
[null,173]
[null,174]
[null,175]
[null,176]
[null,177]
[null,178]
[null,179]
[null,180]
[null,181]
[null,182]
[null,183]
[null,184]
[null,185]
[null,186]
[null,187]
[null,188]
[null,189]
[null,190]
[null,191]
[null,192]
[null,193]
[null,194]
[null,195]
[null,196]
[null,197]
[null,198]
[null,199]
[null,200]
[null,201]
[null,202]
[null,203]
[null,204]
[null,205]
[null,206]
[null,207]
[null,208]
[null,209]
[null,210]
[null,211]
[null,212]
[null,213]
[null,214]
[null,215]
[null,216]
[null,217]
[null,218]
[null,219]
[null,220]
[null,221]
[null,222]
[null,223]
[null,224]
[null,225]
[null,226]
[null,227]
[null,228]
[null,229]
[null,230]
[null,231]
[null,232]
[null,233]
[null,234]
[null,235]
[null,236]
[null,237]
[null,238]
[null,239]
[null,240]
[null,241]
[null,242]
[null,243]
[null,244]
[null,245]
[null,246]
[null,247]
[null,248]
[null,249]
[null,250]
[null,251]
[null,252]
[null,253]
[null,254]
[null,255]
[null,256]
[null,257]
[null,258]
[null,259]
[null,260]
[null,261]
[null,262]
[null,263]
[null,264]
[null,265]
[null,266]
[null,267]
[null,268]
[null,269]
[null,270]
[null,271]
[null,272]
[null,273]
[null,274]
[null,275]
[null,276]
[null,277]
[null,278]
[null,279]
[null,280]
[null,281]
[null,282]
[null,283]
[null,284]
[null,285]
[null,286]
[null,287]
[null,288]
[null,289]
[null,290]
[null,291]
[null,292]
[null,293]
[null,294]
[null,295]
[null,296]
[null,297]
[null,298]
[null,299]
[null,300]
[null,301]
[null,302]
[null,303]
[null,304]
[null,305]
[null,306]
[null,307]
[null,308]
[null,309]
[null,310]
[null,311]
[null,312]
[null,313]
[null,314]
[null,315]
[null,316]
[null,317]
[null,318]
[null,319]
[null,320]
[null,321]
[null,322]
[null,323]
[null,324]
[null,325]
[null,326]
[null,327]
[null,328]
[null,329]
[null,330]
[null,331]
[null,332]
[null,333]
[null,334]
[null,335]
[null,336]
[null,337]
[null,338]
[null,339]
[null,340]
[null,341]
[null,342]
[null,343]
[null,344]
[null,345]
[null,346]
[null,347]
[null,348]
[null,349]
[null,350]
[null,351]
[null,352]
[null,353]
[null,354]
[null,355]
[null,356]
[null,357]
[null,358]
[null,359]
[null,360]
[null,361]
[null,362]
[null,363]
[null,364]
[null,365]
[null,366]
[null,367]
[null,368]
[null,369]
[null,370]
[null,371]
[null,372]
[null,373]
[null,374]
[null,375]
[null,376]
[null,377]
[null,378]
[null,379]
[null,380]
[null,381]
[null,382]
[null,383]
[null,384]
[null,385]
[null,386]
[null,387]
[null,388]
[null,389]
[null,390]
[null,391]
[null,392]
[null,393]
[null,394]
[null,395]
[null,396]
[null,397]
[null,398]
[null,399]
[null,400]
[null,401]
[null,402]
[null,403]
[null,404]
[null,405]
[null,406]
[null,407]
[null,408]
[null,409]
[null,410]
[null,411]
[null,412]
[null,413]
[null,414]
[null,415]
[null,416]
[null,417]
[null,418]
[null,419]
[null,420]
[null,421]
[null,422]
[null,423]
[null,424]
[null,425]
[null,426]
[null,427]
[null,428]
[null,429]
[null,430]
[null,431]
[null,432]
[null,433]
[null,434]
[null,435]
[null,436]
[null,437]
[null,438]
[null,439]
[null,440]
[null,441]
[null,442]
[null,443]
[null,444]
[null,445]
[null,446]
[null,447]
[null,448]
[null,449]
[null,450]
[null,451]
[null,452]
[null,453]
[null,454]
[null,455]
[null,456]
[null,457]
[null,458]
[null,459]
[null,460]
[null,461]
[null,462]
[null,463]
[null,464]
[null,465]
[null,466]
[null,467]
[null,468]
[null,469]
[null,470]
[null,471]
[null,472]
[null,473]
[null,474]
[null,475]
[null,476]
[null,477]
[null,478]
[null,479]
[null,480]
[null,481]
[null,482]
[null,483]
[null,484]
[null,485]
[null,486]
[null,487]
[null,488]
[null,489]
[null,490]
[null,491]
[null,492]
[null,493]
[null,494]
[null,495]
[null,496]
[null,497]
[null,498]
[null,499]
[null,500]
[null,501]
[null,502]
[null,503]
[null,504]
[null,505]
[null,506]
[null,507]
[null,508]
[null,509]
[null,510]
[null,511]
[null,512]
[null,513]
[null,514]
[null,515]
[null,516]
[null,517]
[null,518]
[null,519]
[null,520]
[null,521]
[null,522]
[null,523]
[null,524]
[null,525]
[null,526]
[null,527]
[null,528]
[null,529]
[null,530]
[null,531]
[null,532]
[null,533]
[null,534]
[null,535]
[null,536]
[null,537]
[null,538]
[null,539]
[null,540]
[null,541]
[null,542]
[null,543]
[null,544]
[null,545]
[null,546]
[null,547]
[null,548]
[null,549]
[null,550]
[null,551]
[null,552]
[null,553]
[null,554]
[null,555]
[null,556]
[null,557]
[null,558]
[null,559]
[null,560]
[null,561]
[null,562]
[null,563]
[null,564]
[null,565]
[null,566]
[null,567]
[null,568]
[null,569]
[null,570]
[null,571]
[null,572]
[null,573]
[null,574]
[null,575]
[null,576]
[null,577]
[null,578]
[null,579]
[null,580]
[null,581]
[null,582]
[null,583]
[null,584]
[null,585]
[null,586]
[null,587]
[null,588]
[null,589]
[null,590]
[null,591]
[null,592]
[null,593]
[null,594]
[null,595]
[null,596]
[null,597]
[null,598]
[null,599]
[null,600]
[null,601]
[null,602]
[null,603]
[null,604]
[null,605]
[null,606]
[null,607]
[null,608]
[null,609]
[null,610]
[null,611]
[null,612]
[null,613]
[null,614]
[null,615]
[null,616]
[null,617]
[null,618]
[null,619]
[null,620]
[null,621]
[null,622]
[null,623]
[null,624]
[null,625]
[null,626]
[null,627]
[null,628]
[null,629]
[null,630]
[null,631]
[null,632]
[null,633]
[null,634]
[null,635]
[null,636]
[null,637]
[null,638]
[null,639]
[null,640]
[null,641]
[null,642]
[null,643]
[null,644]
[null,645]
[null,646]
[null,647]
[null,648]
[null,649]
[null,650]
[null,651]
[null,652]
[null,653]
[null,654]
[null,655]
[null,656]
[null,657]
[null,658]
[null,659]
[null,660]
[null,661]
[null,662]
[null,663]
[null,664]
[null,665]
[null,666]
[null,667]
[null,668]
[null,669]
[null,670]
[null,671]
[null,672]
[null,673]
[null,674]
[null,675]
[null,676]
[null,677]
[null,678]
[null,679]
[null,680]
[null,681]
[null,682]
[null,683]
[null,684]
[null,685]
[null,686]
[null,687]
[null,688]
[null,689]
[null,690]
[null,691]
[null,692]
[null,693]
[null,694]
[null,695]
[null,696]
[null,697]
[null,698]
[null,699]
[null,700]
[null,701]
[null,702]
[null,703]
[null,704]
[null,705]
[null,706]
[null,707]
[null,708]
[null,709]
[null,710]
[null,711]
[null,712]
[null,713]
[null,714]
[null,715]
[null,716]
[null,717]
[null,718]
[null,719]
[null,720]
[null,721]
[null,722]
[null,723]
[null,724]
[null,725]
[null,726]
[null,727]
[null,728]
[null,729]
[null,730]
[null,731]
[null,732]
[null,733]
[null,734]
[null,735]
[null,736]
[null,737]
[null,738]
[null,739]
[null,740]
[null,741]
[null,742]
[null,743]
[null,744]
[null,745]
[null,746]
[null,747]
[null,748]
[null,749]
[null,750]
[null,751]
[null,752]
[null,753]
[null,754]
[null,755]
[null,756]
[null,757]
[null,758]
[null,759]
[null,760]
[null,761]
[null,762]
[null,763]
[null,764]
[null,765]
[null,766]
[null,767]
[null,768]
[null,769]
[null,770]
[null,771]
[null,772]
[null,773]
[null,774]
[null,775]
[null,776]
[null,777]
[null,778]
[null,779]
[null,780]
[null,781]
[null,782]
[null,783]
[null,784]
[null,785]
[null,786]
[null,787]
[null,788]
[null,789]
[null,790]
[null,791]
[null,792]
[null,793]
[null,794]
[null,795]
[null,796]
[null,797]
[null,798]
[null,799]
[null,800]
[null,801]
[null,802]
[null,803]
[null,804]
[null,805]
[null,806]
[null,807]
[null,808]
[null,809]
[null,810]
[null,811]
[null,812]
[null,813]
[null,814]
[null,815]
[null,816]
[null,817]
[null,818]
[null,819]
[null,820]
[null,821]
[null,822]
[null,823]
[null,824]
[null,825]
[null,826]
[null,827]
[null,828]
[null,829]
[null,830]
[null,831]
[null,832]
[null,833]
[null,834]
[null,835]
[null,836]
[null,837]
[null,838]
[null,839]
[null,840]
[null,841]
[null,842]
[null,843]
[null,844]
[null,845]
[null,846]
[null,847]
[null,848]
[null,849]
[null,850]
[null,851]
[null,852]
[null,853]
[null,854]
[null,855]
[null,856]
[null,857]
[null,858]
[null,859]
[null,860]
[null,861]
[null,862]
[null,863]
[null,864]
[null,865]
[null,866]
[null,867]
[null,868]
[null,869]
[null,870]
[null,871]
[null,872]
[null,873]
[null,874]
[null,875]
[null,876]
[null,877]
[null,878]
[null,879]
[null,880]
[null,881]
[null,882]
[null,883]
[null,884]
[null,885]
[null,886]
[null,887]
[null,888]
[null,889]
[null,890]
[null,891]
[null,892]
[null,893]
[null,894]
[null,895]
[null,896]
[null,897]
[null,898]
[null,899]
[null,900]
[null,901]
[null,902]
[null,903]
[null,904]
[null,905]
[null,906]
[null,907]
[null,908]
[null,909]
[null,910]
[null,911]
[null,912]
[null,913]
[null,914]
[null,915]
[null,916]
[null,917]
[null,918]
[null,919]
[null,920]
[null,921]
[null,922]
[null,923]
[null,924]
[null,925]
[null,926]
[null,927]
[null,928]
[null,929]
[null,930]
[null,931]
[null,932]
[null,933]
[null,934]
[null,935]
[null,936]
[null,937]
[null,938]
[null,939]
[null,940]
[null,941]
[null,942]
[null,943]
[null,944]
[null,945]
[null,946]
[null,947]
[null,948]
[null,949]
[null,950]
[null,951]
[null,952]
[null,953]
[null,954]
[null,955]
[null,956]
[null,957]
[null,958]
[null,959]
[null,960]
[null,961]
[null,962]
[null,963]
[null,964]
[null,965]
[null,966]
[null,967]
[null,968]
[null,969]
[null,970]
[null,971]
[null,972]
[null,973]
[null,974]
[null,975]
[null,976]
[null,977]
[null,978]
[null,979]
[null,980]
[null,981]
[null,982]
[null,983]
[null,984]
[null,985]
[null,986]
[null,987]
[null,988]
[null,989]
[null,990]
[null,991]
[null,992]
[null,993]
[null,994]
[null,995]
[null,996]
[null,997]
[null,998]
[null,999]
[null,1000]

{"sheet":"Activity","index":2,"n_rows":2010,"n_cols":70,"rows_kept":2010,"cut":false,"hidden":false,"merged":[[1,28,1,50],[1,69,1,77],[8,57,9,58],[8,59,9,60],[8,61,9,62],[8,63,9,64],[11,53,11,54],[11,61,11,62],[11,63,11,64],[10,53,10,54],[10,55,10,56],[10,57,10,58],[11,65,11,77],[11,55,11,56],[11,57,11,58],[11,59,11,60],[5,29,5,37],[5,38,5,43],[5,44,5,52],[12,63,12,64],[12,65,12,77],[13,2,13,44],[13,45,13,46],[13,47,13,48],[13,49,13,50],[13,51,13,52],[13,53,13,54],[13,55,13,56],[13,57,13,58],[13,59,13,60],[13,61,13,62],[13,63,13,64],[13,65,13,77],[12,53,12,54],[12,55,12,56],[12,57,12,58],[12,59,12,60],[12,61,12,62],[12,43,12,44],[12,45,12,46],[8,45,9,46],[8,47,9,48],[8,49,9,50],[8,51,9,52],[8,53,9,54],[14,57,14,58],[14,59,14,60],[14,61,14,62],[14,43,14,44],[12,47,12,48],[12,49,12,50],[12,51,12,52],[12,30,12,32],[12,33,12,36],[12,37,12,38],[12,39,12,40],[12,41,12,42],[12,2,12,10],[12,11,12,20],[12,21,12,24],[12,25,12,27],[12,28,12,29],[3,2,3,77],[10,65,10,77],[7,30,7,36],[10,37,10,38],[10,30,10,32],[10,33,10,36],[10,59,10,60],[10,61,10,62],[10,63,10,64],[7,37,7,44],[10,45,10,46],[7,45,7,64],[10,47,10,48],[10,49,10,50],[10,51,10,52],[5,53,5,60],[5,2,5,8],[5,9,5,28],[10,2,10,10],[10,11,10,20],[8,21,9,24],[8,25,9,27],[11,2,11,44],[8,28,9,29],[10,39,10,40],[10,41,10,42],[8,33,9,36],[8,37,9,38],[8,39,9,40],[8,41,9,42],[8,43,9,44],[10,43,10,44],[10,21,10,24],[10,25,10,27],[11,45,11,46],[11,47,11,48],[11,49,11,50],[11,51,11,52],[8,2,8,10],[8,11,8,20],[9,2,9,10],[9,11,9,20],[8,30,9,32],[10,28,10,29],[8,65,9,77],[8,55,9,56],[16,51,16,52],[16,53,16,54],[16,55,16,56],[16,57,16,58],[16,59,16,60],[16,61,16,62],[16,63,16,64],[16,65,16,77],[17,2,17,44],[17,45,17,46],[17,47,17,48],[17,49,17,50],[17,51,17,52],[17,53,17,54],[17,55,17,56],[17,57,17,58],[17,59,17,60],[17,61,17,62],[17,63,17,64],[17,65,17,77],[16,30,16,32],[16,33,16,36],[16,37,16,38],[16,39,16,40],[16,41,16,42],[16,43,16,44],[16,45,16,46],[16,47,16,48],[16,49,16,50],[14,2,14,10],[14,11,14,20],[14,21,14,24],[14,25,14,27],[14,28,14,29],[16,2,16,10],[16,11,16,20],[16,21,16,24],[16,25,16,27],[16,28,16,29],[14,45,14,46],[14,47,14,48],[14,49,14,50],[14,51,14,52],[14,30,14,32],[14,33,14,36],[14,37,14,38],[14,39,14,40],[14,41,14,42],[14,63,14,64],[14,65,14,77],[15,2,15,44],[15,45,15,46],[15,47,15,48],[15,49,15,50],[15,51,15,52],[15,53,15,54],[15,55,15,56],[15,57,15,58],[15,59,15,60],[15,61,15,62],[15,63,15,64],[15,65,15,77],[14,53,14,54],[14,55,14,56],[18,59,18,60],[18,61,18,62],[18,63,18,64],[18,65,18,77],[19,2,19,44],[19,45,19,46],[19,47,19,48],[19,49,19,50],[19,51,19,52],[19,53,19,54],[19,55,19,56],[19,57,19,58],[19,59,19,60],[19,61,19,62],[19,63,19,64],[19,65,19,77],[18,41,18,42],[18,43,18,44],[18,45,18,46],[18,47,18,48],[18,49,18,50],[18,51,18,52],[18,53,18,54],[18,55,18,56],[18,57,18,58],[18,2,18,10],[18,11,18,20],[18,21,18,24],[18,25,18,27],[18,28,18,29],[18,30,18,32],[18,33,18,36],[18,37,18,38],[18,39,18,40],[20,59,20,60],[20,61,20,62],[20,63,20,64],[20,65,20,77],[21,2,21,44],[21,45,21,46],[21,47,21,48],[21,49,21,50],[21,51,21,52],[21,53,21,54],[21,55,21,56],[21,57,21,58],[21,59,21,60],[21,61,21,62],[21,63,21,64],[21,65,21,77],[20,41,20,42],[20,43,20,44],[20,45,20,46],[20,47,20,48],[20,49,20,50],[20,51,20,52],[20,53,20,54],[20,55,20,56],[20,57,20,58],[20,2,20,10],[20,11,20,20],[20,21,20,24],[20,25,20,27],[20,28,20,29],[20,30,20,32],[20,33,20,36],[20,37,20,38],[20,39,20,40],[22,59,22,60],[22,61,22,62],[22,63,22,64],[22,65,22,77],[23,2,23,44],[23,45,23,46],[23,47,23,48],[23,49,23,50],[23,51,23,52],[23,53,23,54],[23,55,23,56],[23,57,23,58],[23,59,23,60],[23,61,23,62],[23,63,23,64],[23,65,23,77],[22,41,22,42],[22,43,22,44],[22,45,22,46],[22,47,22,48],[22,49,22,50],[22,51,22,52],[22,53,22,54],[22,55,22,56],[22,57,22,58],[22,2,22,10],[22,11,22,20],[22,21,22,24],[22,25,22,27],[22,28,22,29],[22,30,22,32],[22,33,22,36],[22,37,22,38],[22,39,22,40],[24,59,24,60],[24,61,24,62],[24,63,24,64],[24,65,24,77],[25,2,25,44],[25,45,25,46],[25,47,25,48],[25,49,25,50],[25,51,25,52],[25,53,25,54],[25,55,25,56],[25,57,25,58],[25,59,25,60],[25,61,25,62],[25,63,25,64],[25,65,25,77],[24,41,24,42],[24,43,24,44],[24,45,24,46],[24,47,24,48],[24,49,24,50],[24,51,24,52],[24,53,24,54],[24,55,24,56],[24,57,24,58],[24,2,24,10],[24,11,24,20],[24,21,24,24],[24,25,24,27],[24,28,24,29],[24,30,24,32],[24,33,24,36],[24,37,24,38],[24,39,24,40],[26,59,26,60],[26,61,26,62],[26,63,26,64],[26,65,26,77],[27,2,27,44],[27,45,27,46],[27,47,27,48],[27,49,27,50],[27,51,27,52],[27,53,27,54],[27,55,27,56],[27,57,27,58],[27,59,27,60],[27,61,27,62],[27,63,27,64],[27,65,27,77],[26,41,26,42],[26,43,26,44],[26,45,26,46],[26,47,26,48],[26,49,26,50],[26,51,26,52],[26,53,26,54],[26,55,26,56],[26,57,26,58],[26,2,26,10],[26,11,26,20],[26,21,26,24],[26,25,26,27],[26,28,26,29],[26,30,26,32],[26,33,26,36],[26,37,26,38],[26,39,26,40],[28,59,28,60],[28,61,28,62],[28,63,28,64],[28,65,28,77],[29,2,29,44],[29,45,29,46],[29,47,29,48],[29,49,29,50],[29,51,29,52],[29,53,29,54],[29,55,29,56],[29,57,29,58],[29,59,29,60],[29,61,29,62],[29,63,29,64],[29,65,29,77],[28,41,28,42],[28,43,28,44],[28,45,28,46],[28,47,28,48],[28,49,28,50],[28,51,28,52],[28,53,28,54],[28,55,28,56],[28,57,28,58],[28,2,28,10],[28,11,28,20],[28,21,28,24],[28,25,28,27],[28,28,28,29],[28,30,28,32],[28,33,28,36],[28,37,28,38],[28,39,28,40],[30,59,30,60],[30,61,30,62],[30,63,30,64],[30,65,30,77],[31,2,31,44],[31,45,31,46],[31,47,31,48],[31,49,31,50],[31,51,31,52],[31,53,31,54],[31,55,31,56],[31,57,31,58],[31,59,31,60],[31,61,31,62],[31,63,31,64],[31,65,31,77],[30,41,30,42],[30,43,30,44],[30,45,30,46],[30,47,30,48],[30,49,30,50],[30,51,30,52],[30,53,30,54],[30,55,30,56],[30,57,30,58],[30,2,30,10],[30,11,30,20],[30,21,30,24],[30,25,30,27],[30,28,30,29],[30,30,30,32],[30,33,30,36],[30,37,30,38],[30,39,30,40],[32,59,32,60],[32,61,32,62],[32,63,32,64],[32,65,32,77],[33,2,33,44],[33,45,33,46],[33,47,33,48],[33,49,33,50],[33,51,33,52],[33,53,33,54],[33,55,33,56],[33,57,33,58],[33,59,33,60],[33,61,33,62],[33,63,33,64],[33,65,33,77],[32,41,32,42],[32,43,32,44],[32,45,32,46],[32,47,32,48],[32,49,32,50],[32,51,32,52],[32,53,32,54],[32,55,32,56],[32,57,32,58],[32,2,32,10],[32,11,32,20],[32,21,32,24],[32,25,32,27],[32,28,32,29],[32,30,32,32],[32,33,32,36],[32,37,32,38],[32,39,32,40],[34,59,34,60],[34,61,34,62],[34,63,34,64],[34,65,34,77],[35,2,35,44],[35,45,35,46],[35,47,35,48],[35,49,35,50],[35,51,35,52],[35,53,35,54],[35,55,35,56],[35,57,35,58],[35,59,35,60],[35,61,35,62],[35,63,35,64],[35,65,35,77],[34,41,34,42],[34,43,34,44],[34,45,34,46],[34,47,34,48],[34,49,34,50],[34,51,34,52],[34,53,34,54],[34,55,34,56],[34,57,34,58],[34,2,34,10],[34,11,34,20],[34,21,34,24],[34,25,34,27],[34,28,34,29],[34,30,34,32],[34,33,34,36],[34,37,34,38],[34,39,34,40],[36,59,36,60],[36,61,36,62],[36,63,36,64],[36,65,36,77],[37,2,37,44],[37,45,37,46],[37,47,37,48],[37,49,37,50],[37,51,37,52],[37,53,37,54],[37,55,37,56],[37,57,37,58],[37,59,37,60],[37,61,37,62],[37,63,37,64],[37,65,37,77],[36,41,36,42],[36,43,36,44],[36,45,36,46],[36,47,36,48],[36,49,36,50],[36,51,36,52],[36,53,36,54],[36,55,36,56],[36,57,36,58],[36,2,36,10],[36,11,36,20],[36,21,36,24],[36,25,36,27],[36,28,36,29],[36,30,36,32],[36,33,36,36],[36,37,36,38],[36,39,36,40],[38,59,38,60],[38,61,38,62],[38,63,38,64],[38,65,38,77],[39,2,39,44],[39,45,39,46],[39,47,39,48],[39,49,39,50],[39,51,39,52],[39,53,39,54],[39,55,39,56],[39,57,39,58],[39,59,39,60],[39,61,39,62],[39,63,39,64],[39,65,39,77],[38,41,38,42],[38,43,38,44],[38,45,38,46],[38,47,38,48],[38,49,38,50],[38,51,38,52],[38,53,38,54],[38,55,38,56],[38,57,38,58],[38,2,38,10],[38,11,38,20],[38,21,38,24],[38,25,38,27],[38,28,38,29],[38,30,38,32],[38,33,38,36],[38,37,38,38],[38,39,38,40],[40,59,40,60],[40,61,40,62],[40,63,40,64],[40,65,40,77],[41,2,41,44],[41,45,41,46],[41,47,41,48],[41,49,41,50],[41,51,41,52],[41,53,41,54],[41,55,41,56],[41,57,41,58],[41,59,41,60],[41,61,41,62],[41,63,41,64],[41,65,41,77],[40,41,40,42],[40,43,40,44],[40,45,40,46],[40,47,40,48],[40,49,40,50],[40,51,40,52],[40,53,40,54],[40,55,40,56],[40,57,40,58],[40,2,40,10],[40,11,40,20],[40,21,40,24],[40,25,40,27],[40,28,40,29],[40,30,40,32],[40,33,40,36],[40,37,40,38],[40,39,40,40],[42,59,42,60],[42,61,42,62],[42,63,42,64],[42,65,42,77],[43,2,43,44],[43,45,43,46],[43,47,43,48],[43,49,43,50],[43,51,43,52],[43,53,43,54],[43,55,43,56],[43,57,43,58],[43,59,43,60],[43,61,43,62],[43,63,43,64],[43,65,43,77],[42,41,42,42],[42,43,42,44],[42,45,42,46],[42,47,42,48],[42,49,42,50],[42,51,42,52],[42,53,42,54],[42,55,42,56],[42,57,42,58],[42,2,42,10],[42,11,42,20],[42,21,42,24],[42,25,42,27],[42,28,42,29],[42,30,42,32],[42,33,42,36],[42,37,42,38],[42,39,42,40],[44,59,44,60],[44,61,44,62],[44,63,44,64],[44,65,44,77],[45,2,45,44],[45,45,45,46],[45,47,45,48],[45,49,45,50],[45,51,45,52],[45,53,45,54],[45,55,45,56],[45,57,45,58],[45,59,45,60],[45,61,45,62],[45,63,45,64],[45,65,45,77],[44,41,44,42],[44,43,44,44],[44,45,44,46],[44,47,44,48],[44,49,44,50],[44,51,44,52],[44,53,44,54],[44,55,44,56],[44,57,44,58],[44,2,44,10],[44,11,44,20],[44,21,44,24],[44,25,44,27],[44,28,44,29],[44,30,44,32],[44,33,44,36],[44,37,44,38],[44,39,44,40],[46,59,46,60],[46,61,46,62],[46,63,46,64],[46,65,46,77],[47,2,47,44],[47,45,47,46],[47,47,47,48],[47,49,47,50],[47,51,47,52],[47,53,47,54],[47,55,47,56],[47,57,47,58],[47,59,47,60],[47,61,47,62],[47,63,47,64],[47,65,47,77],[46,41,46,42],[46,43,46,44],[46,45,46,46],[46,47,46,48],[46,49,46,50],[46,51,46,52],[46,53,46,54],[46,55,46,56],[46,57,46,58],[46,2,46,10],[46,11,46,20],[46,21,46,24],[46,25,46,27],[46,28,46,29],[46,30,46,32],[46,33,46,36],[46,37,46,38],[46,39,46,40],[48,59,48,60],[48,61,48,62],[48,63,48,64],[48,65,48,77],[49,2,49,44],[49,45,49,46],[49,47,49,48],[49,49,49,50],[49,51,49,52],[49,53,49,54],[49,55,49,56],[49,57,49,58],[49,59,49,60],[49,61,49,62],[49,63,49,64],[49,65,49,77],[48,41,48,42],[48,43,48,44],[48,45,48,46],[48,47,48,48],[48,49,48,50],[48,51,48,52],[48,53,48,54],[48,55,48,56],[48,57,48,58],[48,2,48,10],[48,11,48,20],[48,21,48,24],[48,25,48,27],[48,28,48,29],[48,30,48,32],[48,33,48,36],[48,37,48,38],[48,39,48,40],[50,59,50,60],[50,61,50,62],[50,63,50,64],[50,65,50,77],[51,2,51,44],[51,45,51,46],[51,47,51,48],[51,49,51,50],[51,51,51,52],[51,53,51,54],[51,55,51,56],[51,57,51,58],[51,59,51,60],[51,61,51,62],[51,63,51,64],[51,65,51,77],[50,41,50,42],[50,43,50,44],[50,45,50,46],[50,47,50,48],[50,49,50,50],[50,51,50,52],[50,53,50,54],[50,55,50,56],[50,57,50,58],[50,2,50,10],[50,11,50,20],[50,21,50,24],[50,25,50,27],[50,28,50,29],[50,30,50,32],[50,33,50,36],[50,37,50,38],[50,39,50,40],[52,59,52,60],[52,61,52,62],[52,63,52,64],[52,65,52,77],[53,2,53,44],[53,45,53,46],[53,47,53,48],[53,49,53,50],[53,51,53,52],[53,53,53,54],[53,55,53,56],[53,57,53,58],[53,59,53,60],[53,61,53,62],[53,63,53,64],[53,65,53,77],[52,41,52,42],[52,43,52,44],[52,45,52,46],[52,47,52,48],[52,49,52,50],[52,51,52,52],[52,53,52,54],[52,55,52,56],[52,57,52,58],[52,2,52,10],[52,11,52,20],[52,21,52,24],[52,25,52,27],[52,28,52,29],[52,30,52,32],[52,33,52,36],[52,37,52,38],[52,39,52,40],[54,59,54,60],[54,61,54,62],[54,63,54,64],[54,65,54,77],[55,2,55,44],[55,45,55,46],[55,47,55,48],[55,49,55,50],[55,51,55,52],[55,53,55,54],[55,55,55,56],[55,57,55,58],[55,59,55,60],[55,61,55,62],[55,63,55,64],[55,65,55,77],[54,41,54,42],[54,43,54,44],[54,45,54,46],[54,47,54,48],[54,49,54,50],[54,51,54,52],[54,53,54,54],[54,55,54,56],[54,57,54,58],[54,2,54,10],[54,11,54,20],[54,21,54,24],[54,25,54,27],[54,28,54,29],[54,30,54,32],[54,33,54,36],[54,37,54,38],[54,39,54,40],[56,59,56,60],[56,61,56,62],[56,63,56,64],[56,65,56,77],[57,2,57,44],[57,45,57,46],[57,47,57,48],[57,49,57,50],[57,51,57,52],[57,53,57,54],[57,55,57,56],[57,57,57,58],[57,59,57,60],[57,61,57,62],[57,63,57,64],[57,65,57,77],[56,41,56,42],[56,43,56,44],[56,45,56,46],[56,47,56,48],[56,49,56,50],[56,51,56,52],[56,53,56,54],[56,55,56,56],[56,57,56,58],[56,2,56,10],[56,11,56,20],[56,21,56,24],[56,25,56,27],[56,28,56,29],[56,30,56,32],[56,33,56,36],[56,37,56,38],[56,39,56,40],[58,59,58,60],[58,61,58,62],[58,63,58,64],[58,65,58,77],[59,2,59,44],[59,45,59,46],[59,47,59,48],[59,49,59,50],[59,51,59,52],[59,53,59,54],[59,55,59,56],[59,57,59,58],[59,59,59,60],[59,61,59,62],[59,63,59,64],[59,65,59,77],[58,41,58,42],[58,43,58,44],[58,45,58,46],[58,47,58,48],[58,49,58,50],[58,51,58,52],[58,53,58,54],[58,55,58,56],[58,57,58,58],[58,2,58,10],[58,11,58,20],[58,21,58,24],[58,25,58,27],[58,28,58,29],[58,30,58,32],[58,33,58,36],[58,37,58,38],[58,39,58,40],[60,59,60,60],[60,61,60,62],[60,63,60,64],[60,65,60,77],[61,2,61,44],[61,45,61,46],[61,47,61,48],[61,49,61,50],[61,51,61,52],[61,53,61,54],[61,55,61,56],[61,57,61,58],[61,59,61,60],[61,61,61,62],[61,63,61,64],[61,65,61,77],[60,41,60,42],[60,43,60,44],[60,45,60,46],[60,47,60,48],[60,49,60,50],[60,51,60,52],[60,53,60,54],[60,55,60,56],[60,57,60,58],[60,2,60,10],[60,11,60,20],[60,21,60,24],[60,25,60,27],[60,28,60,29],[60,30,60,32],[60,33,60,36],[60,37,60,38],[60,39,60,40],[62,59,62,60],[62,61,62,62],[62,63,62,64],[62,65,62,77],[63,2,63,44],[63,45,63,46],[63,47,63,48],[63,49,63,50],[63,51,63,52],[63,53,63,54],[63,55,63,56],[63,57,63,58],[63,59,63,60],[63,61,63,62],[63,63,63,64],[63,65,63,77],[62,41,62,42],[62,43,62,44],[62,45,62,46],[62,47,62,48],[62,49,62,50],[62,51,62,52],[62,53,62,54],[62,55,62,56],[62,57,62,58],[62,2,62,10],[62,11,62,20],[62,21,62,24],[62,25,62,27],[62,28,62,29],[62,30,62,32],[62,33,62,36],[62,37,62,38],[62,39,62,40],[64,59,64,60],[64,61,64,62],[64,63,64,64],[64,65,64,77],[65,2,65,44],[65,45,65,46],[65,47,65,48],[65,49,65,50],[65,51,65,52],[65,53,65,54],[65,55,65,56],[65,57,65,58],[65,59,65,60],[65,61,65,62],[65,63,65,64],[65,65,65,77],[64,41,64,42],[64,43,64,44],[64,45,64,46],[64,47,64,48],[64,49,64,50],[64,51,64,52],[64,53,64,54],[64,55,64,56],[64,57,64,58],[64,2,64,10],[64,11,64,20],[64,21,64,24],[64,25,64,27],[64,28,64,29],[64,30,64,32],[64,33,64,36],[64,37,64,38],[64,39,64,40],[66,59,66,60],[66,61,66,62],[66,63,66,64],[66,65,66,77],[67,2,67,44],[67,45,67,46],[67,47,67,48],[67,49,67,50],[67,51,67,52],[67,53,67,54],[67,55,67,56],[67,57,67,58]],"merged_total":34036,"flags":["merged_cut"]}
[]
[null,null,null,null,null,null,null,null,null,null,null,null,null,null,null,null,null,null,null,null,null,null,null,null,null,null,null,null,"INTER-AMERICAN TROPICAL TUNA COMMISSION",null,null,null,null,null,null,null,null,null,null,null,null,null,null,null,null,null,null,null,null,null,null,null,null,null,null,null,null,null,null,null,null,null,null,null,null,null,null,null,null,{"$f":"Instructions!CQ2","v":"Ver. 2023-12 v5"}]
[]
[null,null,"ACTIVITY ON FADS"]
[]
[null,null,"Vessel name",null,null,null,null,null,null,{"$f":"IF('Utilized-Interacted FAD-beacons'!J6=\"\",\"\",'Utilized-Interacted FAD-beacons'!J6)","v":""},null,null,null,null,null,null,null,null,null,null,null,null,null,null,null,null,null,null,null," IATTC vessel no.",null,null,null,null,null,null,null,null,{"$f":"IF('Utilized-Interacted FAD-beacons'!AM6=\"\",\"\",'Utilized-Interacted FAD-beacons'!AM6)","v":""},null,null,null,null,null,"Trip start date",null,null,null,null,null,null,null,null,{"$f":"IF('Utilized-Interacted FAD-beacons'!BB6=\"\",\"\",'Utilized-Interacted FAD-beacons'!BB6)","v":""}]
[]
[null,null,null,null,null,null,null,null,null,null,null,null,null,null,null,null,null,null,null,null,null,null,null,null,null,null,null,null,null,null,"Position",null,null,null,null,null,null,"Tuna catch (t)",null,null,null,null,null,null,null,"Bycatch: number [N] or tonnage [t]."]
[null,null,"FAD ID",null,null,null,null,null,null,null,null,"Replacement ID \n(only if beacon is changed)",null,null,null,null,null,null,null,null,null,"Date",null,null,null,"Time",null,null,"Act.",null,"Latitude",null,null,"Longitude",null,null,null,"YFT",null,"BET",null,"SKJ",null,"OTR",null,"SHK",null,"N/t",null,"TURT",null,"N/t",null,"BIL",null,"N/t",null,"RAY",null,"N/t",null,"OTR",null,"N/t",null,"Comments / Observations"]
[null,null,"Code + Serial No.",null,null,null,null,null,null,null,null,"Code + Serial No."]
[null,1]
[null,null,"BYCATCH RELEASED ALIVE:"]
[null,{"$f":"IF(B11=\"\",\"\",B11+1)","v":2}]
[null,{"$f":"IF(B12=\"\",\"\",B12+1)","v":""},"BYCATCH RELEASED ALIVE:"]
[null,3]
[null,"","BYCATCH RELEASED ALIVE:"]
[null,4]
[null,"","BYCATCH RELEASED ALIVE:"]
[null,5]
[null,"","BYCATCH RELEASED ALIVE:"]
[null,6]
[null,"","BYCATCH RELEASED ALIVE:"]
[null,7]
[null,"","BYCATCH RELEASED ALIVE:"]
[null,8]
[null,"","BYCATCH RELEASED ALIVE:"]
[null,9]
[null,"","BYCATCH RELEASED ALIVE:"]
[null,10]
[null,"","BYCATCH RELEASED ALIVE:"]
[null,11]
[null,"","BYCATCH RELEASED ALIVE:"]
[null,12]
[null,"","BYCATCH RELEASED ALIVE:"]
[null,13]
[null,"","BYCATCH RELEASED ALIVE:"]
[null,14]
[null,"","BYCATCH RELEASED ALIVE:"]
[null,15]
[null,"","BYCATCH RELEASED ALIVE:"]
[null,16]
[null,"","BYCATCH RELEASED ALIVE:"]
[null,17]
[null,"","BYCATCH RELEASED ALIVE:"]
[null,18]
[null,"","BYCATCH RELEASED ALIVE:"]
[null,19]
[null,"","BYCATCH RELEASED ALIVE:"]
[null,20]
[null,"","BYCATCH RELEASED ALIVE:"]
[null,21]
[null,"","BYCATCH RELEASED ALIVE:"]
[null,22]
[null,"","BYCATCH RELEASED ALIVE:"]
[null,23]
[null,"","BYCATCH RELEASED ALIVE:"]
[null,24]
[null,"","BYCATCH RELEASED ALIVE:"]
[null,25]
[null,"","BYCATCH RELEASED ALIVE:"]
[null,26]
[null,"","BYCATCH RELEASED ALIVE:"]
[null,27]
[null,"","BYCATCH RELEASED ALIVE:"]
[null,28]
[null,"","BYCATCH RELEASED ALIVE:"]
[null,29]
[null,"","BYCATCH RELEASED ALIVE:"]
[null,30]
[null,"","BYCATCH RELEASED ALIVE:"]
[null,31]
[null,"","BYCATCH RELEASED ALIVE:"]
[null,32]
[null,"","BYCATCH RELEASED ALIVE:"]
[null,33]
[null,"","BYCATCH RELEASED ALIVE:"]
[null,34]
[null,{"$f":"IF(B76=\"\",\"\",B76+1)","v":""},"BYCATCH RELEASED ALIVE:"]
[null,35]
[null,"","BYCATCH RELEASED ALIVE:"]
[null,36]
[null,"","BYCATCH RELEASED ALIVE:"]
[null,37]
[null,"","BYCATCH RELEASED ALIVE:"]
[null,38]
[null,"","BYCATCH RELEASED ALIVE:"]
[null,39]
[null,"","BYCATCH RELEASED ALIVE:"]
[null,40]
[null,"","BYCATCH RELEASED ALIVE:"]
[null,41]
[null,"","BYCATCH RELEASED ALIVE:"]
[null,42]
[null,"","BYCATCH RELEASED ALIVE:"]
[null,43]
[null,"","BYCATCH RELEASED ALIVE:"]
[null,44]
[null,"","BYCATCH RELEASED ALIVE:"]
[null,45]
[null,"","BYCATCH RELEASED ALIVE:"]
[null,46]
[null,"","BYCATCH RELEASED ALIVE:"]
[null,47]
[null,"","BYCATCH RELEASED ALIVE:"]
[null,48]
[null,"","BYCATCH RELEASED ALIVE:"]
[null,49]
[null,"","BYCATCH RELEASED ALIVE:"]
[null,50]
[null,"","BYCATCH RELEASED ALIVE:"]
[null,51]
[null,"","BYCATCH RELEASED ALIVE:"]
[null,52]
[null,"","BYCATCH RELEASED ALIVE:"]
[null,53]
[null,"","BYCATCH RELEASED ALIVE:"]
[null,54]
[null,"","BYCATCH RELEASED ALIVE:"]
[null,55]
[null,"","BYCATCH RELEASED ALIVE:"]
[null,56]
[null,"","BYCATCH RELEASED ALIVE:"]
[null,57]
[null,"","BYCATCH RELEASED ALIVE:"]
[null,58]
[null,"","BYCATCH RELEASED ALIVE:"]
[null,59]
[null,"","BYCATCH RELEASED ALIVE:"]
[null,60]
[null,"","BYCATCH RELEASED ALIVE:"]
[null,61]
[null,"","BYCATCH RELEASED ALIVE:"]
[null,62]
[null,"","BYCATCH RELEASED ALIVE:"]
[null,63]
[null,"","BYCATCH RELEASED ALIVE:"]
[null,64]
[null,"","BYCATCH RELEASED ALIVE:"]
[null,65]
[null,"","BYCATCH RELEASED ALIVE:"]
[null,66]
[null,{"$f":"IF(B140=\"\",\"\",B140+1)","v":""},"BYCATCH RELEASED ALIVE:"]
[null,67]
[null,"","BYCATCH RELEASED ALIVE:"]
[null,68]
[null,"","BYCATCH RELEASED ALIVE:"]
[null,69]
[null,"","BYCATCH RELEASED ALIVE:"]
[null,70]
[null,"","BYCATCH RELEASED ALIVE:"]
[null,71]
[null,"","BYCATCH RELEASED ALIVE:"]
[null,72]
[null,"","BYCATCH RELEASED ALIVE:"]
[null,73]
[null,"","BYCATCH RELEASED ALIVE:"]
[null,74]
[null,"","BYCATCH RELEASED ALIVE:"]
[null,75]
[null,"","BYCATCH RELEASED ALIVE:"]
[null,76]
[null,"","BYCATCH RELEASED ALIVE:"]
[null,77]
[null,"","BYCATCH RELEASED ALIVE:"]
[null,78]
[null,"","BYCATCH RELEASED ALIVE:"]
[null,79]
[null,"","BYCATCH RELEASED ALIVE:"]
[null,80]
[null,"","BYCATCH RELEASED ALIVE:"]
[null,81]
[null,"","BYCATCH RELEASED ALIVE:"]
[null,82]
[null,"","BYCATCH RELEASED ALIVE:"]
[null,83]
[null,"","BYCATCH RELEASED ALIVE:"]
[null,84]
[null,"","BYCATCH RELEASED ALIVE:"]
[null,85]
[null,"","BYCATCH RELEASED ALIVE:"]
[null,86]
[null,"","BYCATCH RELEASED ALIVE:"]
[null,87]
[null,"","BYCATCH RELEASED ALIVE:"]
[null,88]
[null,"","BYCATCH RELEASED ALIVE:"]
[null,89]
[null,"","BYCATCH RELEASED ALIVE:"]
[null,90]
[null,"","BYCATCH RELEASED ALIVE:"]
[null,91]
[null,"","BYCATCH RELEASED ALIVE:"]
[null,92]
[null,"","BYCATCH RELEASED ALIVE:"]
[null,93]
[null,"","BYCATCH RELEASED ALIVE:"]
[null,94]
[null,"","BYCATCH RELEASED ALIVE:"]
[null,95]
[null,"","BYCATCH RELEASED ALIVE:"]
[null,96]
[null,"","BYCATCH RELEASED ALIVE:"]
[null,97]
[null,"","BYCATCH RELEASED ALIVE:"]
[null,98]
[null,{"$f":"IF(B204=\"\",\"\",B204+1)","v":""},"BYCATCH RELEASED ALIVE:"]
[null,99]
[null,"","BYCATCH RELEASED ALIVE:"]
[null,100]
[null,"","BYCATCH RELEASED ALIVE:"]
[null,101]
[null,"","BYCATCH RELEASED ALIVE:"]
[null,102]
[null,"","BYCATCH RELEASED ALIVE:"]
[null,103]
[null,"","BYCATCH RELEASED ALIVE:"]
[null,104]
[null,"","BYCATCH RELEASED ALIVE:"]
[null,105]
[null,"","BYCATCH RELEASED ALIVE:"]
[null,106]
[null,"","BYCATCH RELEASED ALIVE:"]
[null,107]
[null,"","BYCATCH RELEASED ALIVE:"]
[null,108]
[null,"","BYCATCH RELEASED ALIVE:"]
[null,109]
[null,"","BYCATCH RELEASED ALIVE:"]
[null,110]
[null,"","BYCATCH RELEASED ALIVE:"]
[null,111]
[null,"","BYCATCH RELEASED ALIVE:"]
[null,112]
[null,"","BYCATCH RELEASED ALIVE:"]
[null,113]
[null,"","BYCATCH RELEASED ALIVE:"]
[null,114]
[null,"","BYCATCH RELEASED ALIVE:"]
[null,115]
[null,"","BYCATCH RELEASED ALIVE:"]
[null,116]
[null,"","BYCATCH RELEASED ALIVE:"]
[null,117]
[null,"","BYCATCH RELEASED ALIVE:"]
[null,118]
[null,"","BYCATCH RELEASED ALIVE:"]
[null,119]
[null,"","BYCATCH RELEASED ALIVE:"]
[null,120]
[null,"","BYCATCH RELEASED ALIVE:"]
[null,121]
[null,"","BYCATCH RELEASED ALIVE:"]
[null,122]
[null,"","BYCATCH RELEASED ALIVE:"]
[null,123]
[null,"","BYCATCH RELEASED ALIVE:"]
[null,124]
[null,"","BYCATCH RELEASED ALIVE:"]
[null,125]
[null,"","BYCATCH RELEASED ALIVE:"]
[null,126]
[null,"","BYCATCH RELEASED ALIVE:"]
[null,127]
[null,"","BYCATCH RELEASED ALIVE:"]
[null,128]
[null,"","BYCATCH RELEASED ALIVE:"]
[null,129]
[null,"","BYCATCH RELEASED ALIVE:"]
[null,130]
[null,{"$f":"IF(B268=\"\",\"\",B268+1)","v":""},"BYCATCH RELEASED ALIVE:"]
[null,131]
[null,"","BYCATCH RELEASED ALIVE:"]
[null,132]
[null,"","BYCATCH RELEASED ALIVE:"]
[null,133]
[null,"","BYCATCH RELEASED ALIVE:"]
[null,134]
[null,"","BYCATCH RELEASED ALIVE:"]
[null,135]
[null,"","BYCATCH RELEASED ALIVE:"]
[null,136]
[null,"","BYCATCH RELEASED ALIVE:"]
[null,137]
[null,"","BYCATCH RELEASED ALIVE:"]
[null,138]
[null,"","BYCATCH RELEASED ALIVE:"]
[null,139]
[null,"","BYCATCH RELEASED ALIVE:"]
[null,140]
[null,"","BYCATCH RELEASED ALIVE:"]
[null,141]
[null,"","BYCATCH RELEASED ALIVE:"]
[null,142]
[null,"","BYCATCH RELEASED ALIVE:"]
[null,143]
[null,"","BYCATCH RELEASED ALIVE:"]
[null,144]
[null,"","BYCATCH RELEASED ALIVE:"]
[null,145]
[null,"","BYCATCH RELEASED ALIVE:"]
[null,146]
[null,"","BYCATCH RELEASED ALIVE:"]
[null,147]
[null,"","BYCATCH RELEASED ALIVE:"]
[null,148]
[null,"","BYCATCH RELEASED ALIVE:"]
[null,149]
[null,"","BYCATCH RELEASED ALIVE:"]
[null,150]
[null,"","BYCATCH RELEASED ALIVE:"]
[null,151]
[null,"","BYCATCH RELEASED ALIVE:"]
[null,152]
[null,"","BYCATCH RELEASED ALIVE:"]
[null,153]
[null,"","BYCATCH RELEASED ALIVE:"]
[null,154]
[null,"","BYCATCH RELEASED ALIVE:"]
[null,155]
[null,"","BYCATCH RELEASED ALIVE:"]
[null,156]
[null,"","BYCATCH RELEASED ALIVE:"]
[null,157]
[null,"","BYCATCH RELEASED ALIVE:"]
[null,158]
[null,"","BYCATCH RELEASED ALIVE:"]
[null,159]
[null,"","BYCATCH RELEASED ALIVE:"]
[null,160]
[null,"","BYCATCH RELEASED ALIVE:"]
[null,161]
[null,"","BYCATCH RELEASED ALIVE:"]
[null,162]
[null,{"$f":"IF(B332=\"\",\"\",B332+1)","v":""},"BYCATCH RELEASED ALIVE:"]
[null,163]
[null,"","BYCATCH RELEASED ALIVE:"]
[null,164]
[null,"","BYCATCH RELEASED ALIVE:"]
[null,165]
[null,"","BYCATCH RELEASED ALIVE:"]
[null,166]
[null,"","BYCATCH RELEASED ALIVE:"]
[null,167]
[null,"","BYCATCH RELEASED ALIVE:"]
[null,168]
[null,"","BYCATCH RELEASED ALIVE:"]
[null,169]
[null,"","BYCATCH RELEASED ALIVE:"]
[null,170]
[null,"","BYCATCH RELEASED ALIVE:"]
[null,171]
[null,"","BYCATCH RELEASED ALIVE:"]
[null,172]
[null,"","BYCATCH RELEASED ALIVE:"]
[null,173]
[null,"","BYCATCH RELEASED ALIVE:"]
[null,174]
[null,"","BYCATCH RELEASED ALIVE:"]
[null,175]
[null,"","BYCATCH RELEASED ALIVE:"]
[null,176]
[null,"","BYCATCH RELEASED ALIVE:"]
[null,177]
[null,"","BYCATCH RELEASED ALIVE:"]
[null,178]
[null,"","BYCATCH RELEASED ALIVE:"]
[null,179]
[null,"","BYCATCH RELEASED ALIVE:"]
[null,180]
[null,"","BYCATCH RELEASED ALIVE:"]
[null,181]
[null,"","BYCATCH RELEASED ALIVE:"]
[null,182]
[null,"","BYCATCH RELEASED ALIVE:"]
[null,183]
[null,"","BYCATCH RELEASED ALIVE:"]
[null,184]
[null,"","BYCATCH RELEASED ALIVE:"]
[null,185]
[null,"","BYCATCH RELEASED ALIVE:"]
[null,186]
[null,"","BYCATCH RELEASED ALIVE:"]
[null,187]
[null,"","BYCATCH RELEASED ALIVE:"]
[null,188]
[null,"","BYCATCH RELEASED ALIVE:"]
[null,189]
[null,"","BYCATCH RELEASED ALIVE:"]
[null,190]
[null,"","BYCATCH RELEASED ALIVE:"]
[null,191]
[null,"","BYCATCH RELEASED ALIVE:"]
[null,192]
[null,"","BYCATCH RELEASED ALIVE:"]
[null,193]
[null,"","BYCATCH RELEASED ALIVE:"]
[null,194]
[null,{"$f":"IF(B396=\"\",\"\",B396+1)","v":""},"BYCATCH RELEASED ALIVE:"]
[null,195]
[null,"","BYCATCH RELEASED ALIVE:"]
[null,196]
[null,"","BYCATCH RELEASED ALIVE:"]
[null,197]
[null,"","BYCATCH RELEASED ALIVE:"]
[null,198]
[null,"","BYCATCH RELEASED ALIVE:"]
[null,199]
[null,"","BYCATCH RELEASED ALIVE:"]
[null,200]
[null,"","BYCATCH RELEASED ALIVE:"]
[null,201]
[null,"","BYCATCH RELEASED ALIVE:"]
[null,202]
[null,"","BYCATCH RELEASED ALIVE:"]
[null,203]
[null,"","BYCATCH RELEASED ALIVE:"]
[null,204]
[null,"","BYCATCH RELEASED ALIVE:"]
[null,205]
[null,"","BYCATCH RELEASED ALIVE:"]
[null,206]
[null,"","BYCATCH RELEASED ALIVE:"]
[null,207]
[null,"","BYCATCH RELEASED ALIVE:"]
[null,208]
[null,"","BYCATCH RELEASED ALIVE:"]
[null,209]
[null,"","BYCATCH RELEASED ALIVE:"]
[null,210]
[null,"","BYCATCH RELEASED ALIVE:"]
[null,211]
[null,"","BYCATCH RELEASED ALIVE:"]
[null,212]
[null,"","BYCATCH RELEASED ALIVE:"]
[null,213]
[null,"","BYCATCH RELEASED ALIVE:"]
[null,214]
[null,"","BYCATCH RELEASED ALIVE:"]
[null,215]
[null,"","BYCATCH RELEASED ALIVE:"]
[null,216]
[null,"","BYCATCH RELEASED ALIVE:"]
[null,217]
[null,"","BYCATCH RELEASED ALIVE:"]
[null,218]
[null,"","BYCATCH RELEASED ALIVE:"]
[null,219]
[null,"","BYCATCH RELEASED ALIVE:"]
[null,220]
[null,"","BYCATCH RELEASED ALIVE:"]
[null,221]
[null,"","BYCATCH RELEASED ALIVE:"]
[null,222]
[null,"","BYCATCH RELEASED ALIVE:"]
[null,223]
[null,"","BYCATCH RELEASED ALIVE:"]
[null,224]
[null,"","BYCATCH RELEASED ALIVE:"]
[null,225]
[null,"","BYCATCH RELEASED ALIVE:"]
[null,226]
[null,{"$f":"IF(B460=\"\",\"\",B460+1)","v":""},"BYCATCH RELEASED ALIVE:"]
[null,227]
[null,"","BYCATCH RELEASED ALIVE:"]
[null,228]
[null,"","BYCATCH RELEASED ALIVE:"]
[null,229]
[null,"","BYCATCH RELEASED ALIVE:"]
[null,230]
[null,"","BYCATCH RELEASED ALIVE:"]
[null,231]
[null,"","BYCATCH RELEASED ALIVE:"]
[null,232]
[null,"","BYCATCH RELEASED ALIVE:"]
[null,233]
[null,"","BYCATCH RELEASED ALIVE:"]
[null,234]
[null,"","BYCATCH RELEASED ALIVE:"]
[null,235]
[null,"","BYCATCH RELEASED ALIVE:"]
[null,236]
[null,"","BYCATCH RELEASED ALIVE:"]
[null,237]
[null,"","BYCATCH RELEASED ALIVE:"]
[null,238]
[null,"","BYCATCH RELEASED ALIVE:"]
[null,239]
[null,"","BYCATCH RELEASED ALIVE:"]
[null,240]
[null,"","BYCATCH RELEASED ALIVE:"]
[null,241]
[null,"","BYCATCH RELEASED ALIVE:"]
[null,242]
[null,"","BYCATCH RELEASED ALIVE:"]
[null,243]
[null,"","BYCATCH RELEASED ALIVE:"]
[null,244]
[null,"","BYCATCH RELEASED ALIVE:"]
[null,245]
[null,"","BYCATCH RELEASED ALIVE:"]
[null,246]
[null,"","BYCATCH RELEASED ALIVE:"]
[null,247]
[null,"","BYCATCH RELEASED ALIVE:"]
[null,248]
[null,"","BYCATCH RELEASED ALIVE:"]
[null,249]
[null,"","BYCATCH RELEASED ALIVE:"]
[null,250]
[null,"","BYCATCH RELEASED ALIVE:"]
[null,251]
[null,"","BYCATCH RELEASED ALIVE:"]
[null,252]
[null,"","BYCATCH RELEASED ALIVE:"]
[null,253]
[null,"","BYCATCH RELEASED ALIVE:"]
[null,254]
[null,"","BYCATCH RELEASED ALIVE:"]
[null,255]
[null,"","BYCATCH RELEASED ALIVE:"]
[null,256]
[null,"","BYCATCH RELEASED ALIVE:"]
[null,257]
[null,"","BYCATCH RELEASED ALIVE:"]
[null,258]
[null,{"$f":"IF(B524=\"\",\"\",B524+1)","v":""},"BYCATCH RELEASED ALIVE:"]
[null,259]
[null,"","BYCATCH RELEASED ALIVE:"]
[null,260]
[null,"","BYCATCH RELEASED ALIVE:"]
[null,261]
[null,"","BYCATCH RELEASED ALIVE:"]
[null,262]
[null,"","BYCATCH RELEASED ALIVE:"]
[null,263]
[null,"","BYCATCH RELEASED ALIVE:"]
[null,264]
[null,"","BYCATCH RELEASED ALIVE:"]
[null,265]
[null,"","BYCATCH RELEASED ALIVE:"]
[null,266]
[null,"","BYCATCH RELEASED ALIVE:"]
[null,267]
[null,"","BYCATCH RELEASED ALIVE:"]
[null,268]
[null,"","BYCATCH RELEASED ALIVE:"]
[null,269]
[null,"","BYCATCH RELEASED ALIVE:"]
[null,270]
[null,"","BYCATCH RELEASED ALIVE:"]
[null,271]
[null,"","BYCATCH RELEASED ALIVE:"]
[null,272]
[null,"","BYCATCH RELEASED ALIVE:"]
[null,273]
[null,"","BYCATCH RELEASED ALIVE:"]
[null,274]
[null,"","BYCATCH RELEASED ALIVE:"]
[null,275]
[null,"","BYCATCH RELEASED ALIVE:"]
[null,276]
[null,"","BYCATCH RELEASED ALIVE:"]
[null,277]
[null,"","BYCATCH RELEASED ALIVE:"]
[null,278]
[null,"","BYCATCH RELEASED ALIVE:"]
[null,279]
[null,"","BYCATCH RELEASED ALIVE:"]
[null,280]
[null,"","BYCATCH RELEASED ALIVE:"]
[null,281]
[null,"","BYCATCH RELEASED ALIVE:"]
[null,282]
[null,"","BYCATCH RELEASED ALIVE:"]
[null,283]
[null,"","BYCATCH RELEASED ALIVE:"]
[null,284]
[null,"","BYCATCH RELEASED ALIVE:"]
[null,285]
[null,"","BYCATCH RELEASED ALIVE:"]
[null,286]
[null,"","BYCATCH RELEASED ALIVE:"]
[null,287]
[null,"","BYCATCH RELEASED ALIVE:"]
[null,288]
[null,"","BYCATCH RELEASED ALIVE:"]
[null,289]
[null,"","BYCATCH RELEASED ALIVE:"]
[null,290]
[null,{"$f":"IF(B588=\"\",\"\",B588+1)","v":""},"BYCATCH RELEASED ALIVE:"]
[null,291]
[null,"","BYCATCH RELEASED ALIVE:"]
[null,292]
[null,"","BYCATCH RELEASED ALIVE:"]
[null,293]
[null,"","BYCATCH RELEASED ALIVE:"]
[null,294]
[null,"","BYCATCH RELEASED ALIVE:"]
[null,295]
[null,"","BYCATCH RELEASED ALIVE:"]
[null,296]
[null,"","BYCATCH RELEASED ALIVE:"]
[null,297]
[null,"","BYCATCH RELEASED ALIVE:"]
[null,298]
[null,"","BYCATCH RELEASED ALIVE:"]
[null,299]
[null,"","BYCATCH RELEASED ALIVE:"]
[null,300]
[null,"","BYCATCH RELEASED ALIVE:"]
[null,301]
[null,"","BYCATCH RELEASED ALIVE:"]
[null,302]
[null,"","BYCATCH RELEASED ALIVE:"]
[null,303]
[null,"","BYCATCH RELEASED ALIVE:"]
[null,304]
[null,"","BYCATCH RELEASED ALIVE:"]
[null,305]
[null,"","BYCATCH RELEASED ALIVE:"]
[null,306]
[null,"","BYCATCH RELEASED ALIVE:"]
[null,307]
[null,"","BYCATCH RELEASED ALIVE:"]
[null,308]
[null,"","BYCATCH RELEASED ALIVE:"]
[null,309]
[null,"","BYCATCH RELEASED ALIVE:"]
[null,310]
[null,"","BYCATCH RELEASED ALIVE:"]
[null,311]
[null,"","BYCATCH RELEASED ALIVE:"]
[null,312]
[null,"","BYCATCH RELEASED ALIVE:"]
[null,313]
[null,"","BYCATCH RELEASED ALIVE:"]
[null,314]
[null,"","BYCATCH RELEASED ALIVE:"]
[null,315]
[null,"","BYCATCH RELEASED ALIVE:"]
[null,316]
[null,"","BYCATCH RELEASED ALIVE:"]
[null,317]
[null,"","BYCATCH RELEASED ALIVE:"]
[null,318]
[null,"","BYCATCH RELEASED ALIVE:"]
[null,319]
[null,"","BYCATCH RELEASED ALIVE:"]
[null,320]
[null,"","BYCATCH RELEASED ALIVE:"]
[null,321]
[null,"","BYCATCH RELEASED ALIVE:"]
[null,322]
[null,{"$f":"IF(B652=\"\",\"\",B652+1)","v":""},"BYCATCH RELEASED ALIVE:"]
[null,323]
[null,"","BYCATCH RELEASED ALIVE:"]
[null,324]
[null,"","BYCATCH RELEASED ALIVE:"]
[null,325]
[null,"","BYCATCH RELEASED ALIVE:"]
[null,326]
[null,"","BYCATCH RELEASED ALIVE:"]
[null,327]
[null,"","BYCATCH RELEASED ALIVE:"]
[null,328]
[null,"","BYCATCH RELEASED ALIVE:"]
[null,329]
[null,"","BYCATCH RELEASED ALIVE:"]
[null,330]
[null,"","BYCATCH RELEASED ALIVE:"]
[null,331]
[null,"","BYCATCH RELEASED ALIVE:"]
[null,332]
[null,"","BYCATCH RELEASED ALIVE:"]
[null,333]
[null,"","BYCATCH RELEASED ALIVE:"]
[null,334]
[null,"","BYCATCH RELEASED ALIVE:"]
[null,335]
[null,"","BYCATCH RELEASED ALIVE:"]
[null,336]
[null,"","BYCATCH RELEASED ALIVE:"]
[null,337]
[null,"","BYCATCH RELEASED ALIVE:"]
[null,338]
[null,"","BYCATCH RELEASED ALIVE:"]
[null,339]
[null,"","BYCATCH RELEASED ALIVE:"]
[null,340]
[null,"","BYCATCH RELEASED ALIVE:"]
[null,341]
[null,"","BYCATCH RELEASED ALIVE:"]
[null,342]
[null,"","BYCATCH RELEASED ALIVE:"]
[null,343]
[null,"","BYCATCH RELEASED ALIVE:"]
[null,344]
[null,"","BYCATCH RELEASED ALIVE:"]
[null,345]
[null,"","BYCATCH RELEASED ALIVE:"]
[null,346]
[null,"","BYCATCH RELEASED ALIVE:"]
[null,347]
[null,"","BYCATCH RELEASED ALIVE:"]
[null,348]
[null,"","BYCATCH RELEASED ALIVE:"]
[null,349]
[null,"","BYCATCH RELEASED ALIVE:"]
[null,350]
[null,"","BYCATCH RELEASED ALIVE:"]
[null,351]
[null,"","BYCATCH RELEASED ALIVE:"]
[null,352]
[null,"","BYCATCH RELEASED ALIVE:"]
[null,353]
[null,"","BYCATCH RELEASED ALIVE:"]
[null,354]
[null,{"$f":"IF(B716=\"\",\"\",B716+1)","v":""},"BYCATCH RELEASED ALIVE:"]
[null,355]
[null,"","BYCATCH RELEASED ALIVE:"]
[null,356]
[null,"","BYCATCH RELEASED ALIVE:"]
[null,357]
[null,"","BYCATCH RELEASED ALIVE:"]
[null,358]
[null,"","BYCATCH RELEASED ALIVE:"]
[null,359]
[null,"","BYCATCH RELEASED ALIVE:"]
[null,360]
[null,"","BYCATCH RELEASED ALIVE:"]
[null,361]
[null,"","BYCATCH RELEASED ALIVE:"]
[null,362]
[null,"","BYCATCH RELEASED ALIVE:"]
[null,363]
[null,"","BYCATCH RELEASED ALIVE:"]
[null,364]
[null,"","BYCATCH RELEASED ALIVE:"]
[null,365]
[null,"","BYCATCH RELEASED ALIVE:"]
[null,366]
[null,"","BYCATCH RELEASED ALIVE:"]
[null,367]
[null,"","BYCATCH RELEASED ALIVE:"]
[null,368]
[null,"","BYCATCH RELEASED ALIVE:"]
[null,369]
[null,"","BYCATCH RELEASED ALIVE:"]
[null,370]
[null,"","BYCATCH RELEASED ALIVE:"]
[null,371]
[null,"","BYCATCH RELEASED ALIVE:"]
[null,372]
[null,"","BYCATCH RELEASED ALIVE:"]
[null,373]
[null,"","BYCATCH RELEASED ALIVE:"]
[null,374]
[null,"","BYCATCH RELEASED ALIVE:"]
[null,375]
[null,"","BYCATCH RELEASED ALIVE:"]
[null,376]
[null,"","BYCATCH RELEASED ALIVE:"]
[null,377]
[null,"","BYCATCH RELEASED ALIVE:"]
[null,378]
[null,"","BYCATCH RELEASED ALIVE:"]
[null,379]
[null,"","BYCATCH RELEASED ALIVE:"]
[null,380]
[null,"","BYCATCH RELEASED ALIVE:"]
[null,381]
[null,"","BYCATCH RELEASED ALIVE:"]
[null,382]
[null,"","BYCATCH RELEASED ALIVE:"]
[null,383]
[null,"","BYCATCH RELEASED ALIVE:"]
[null,384]
[null,"","BYCATCH RELEASED ALIVE:"]
[null,385]
[null,"","BYCATCH RELEASED ALIVE:"]
[null,386]
[null,{"$f":"IF(B780=\"\",\"\",B780+1)","v":""},"BYCATCH RELEASED ALIVE:"]
[null,387]
[null,"","BYCATCH RELEASED ALIVE:"]
[null,388]
[null,"","BYCATCH RELEASED ALIVE:"]
[null,389]
[null,"","BYCATCH RELEASED ALIVE:"]
[null,390]
[null,"","BYCATCH RELEASED ALIVE:"]
[null,391]
[null,"","BYCATCH RELEASED ALIVE:"]
[null,392]
[null,"","BYCATCH RELEASED ALIVE:"]
[null,393]
[null,"","BYCATCH RELEASED ALIVE:"]
[null,394]
[null,"","BYCATCH RELEASED ALIVE:"]
[null,395]
[null,"","BYCATCH RELEASED ALIVE:"]
[null,396]
[null,"","BYCATCH RELEASED ALIVE:"]
[null,397]
[null,"","BYCATCH RELEASED ALIVE:"]
[null,398]
[null,"","BYCATCH RELEASED ALIVE:"]
[null,399]
[null,"","BYCATCH RELEASED ALIVE:"]
[null,400]
[null,"","BYCATCH RELEASED ALIVE:"]
[null,401]
[null,"","BYCATCH RELEASED ALIVE:"]
[null,402]
[null,"","BYCATCH RELEASED ALIVE:"]
[null,403]
[null,"","BYCATCH RELEASED ALIVE:"]
[null,404]
[null,"","BYCATCH RELEASED ALIVE:"]
[null,405]
[null,"","BYCATCH RELEASED ALIVE:"]
[null,406]
[null,"","BYCATCH RELEASED ALIVE:"]
[null,407]
[null,"","BYCATCH RELEASED ALIVE:"]
[null,408]
[null,"","BYCATCH RELEASED ALIVE:"]
[null,409]
[null,"","BYCATCH RELEASED ALIVE:"]
[null,410]
[null,"","BYCATCH RELEASED ALIVE:"]
[null,411]
[null,"","BYCATCH RELEASED ALIVE:"]
[null,412]
[null,"","BYCATCH RELEASED ALIVE:"]
[null,413]
[null,"","BYCATCH RELEASED ALIVE:"]
[null,414]
[null,"","BYCATCH RELEASED ALIVE:"]
[null,415]
[null,"","BYCATCH RELEASED ALIVE:"]
[null,416]
[null,"","BYCATCH RELEASED ALIVE:"]
[null,417]
[null,"","BYCATCH RELEASED ALIVE:"]
[null,418]
[null,{"$f":"IF(B844=\"\",\"\",B844+1)","v":""},"BYCATCH RELEASED ALIVE:"]
[null,419]
[null,"","BYCATCH RELEASED ALIVE:"]
[null,420]
[null,"","BYCATCH RELEASED ALIVE:"]
[null,421]
[null,"","BYCATCH RELEASED ALIVE:"]
[null,422]
[null,"","BYCATCH RELEASED ALIVE:"]
[null,423]
[null,"","BYCATCH RELEASED ALIVE:"]
[null,424]
[null,"","BYCATCH RELEASED ALIVE:"]
[null,425]
[null,"","BYCATCH RELEASED ALIVE:"]
[null,426]
[null,"","BYCATCH RELEASED ALIVE:"]
[null,427]
[null,"","BYCATCH RELEASED ALIVE:"]
[null,428]
[null,"","BYCATCH RELEASED ALIVE:"]
[null,429]
[null,"","BYCATCH RELEASED ALIVE:"]
[null,430]
[null,"","BYCATCH RELEASED ALIVE:"]
[null,431]
[null,"","BYCATCH RELEASED ALIVE:"]
[null,432]
[null,"","BYCATCH RELEASED ALIVE:"]
[null,433]
[null,"","BYCATCH RELEASED ALIVE:"]
[null,434]
[null,"","BYCATCH RELEASED ALIVE:"]
[null,435]
[null,"","BYCATCH RELEASED ALIVE:"]
[null,436]
[null,"","BYCATCH RELEASED ALIVE:"]
[null,437]
[null,"","BYCATCH RELEASED ALIVE:"]
[null,438]
[null,"","BYCATCH RELEASED ALIVE:"]
[null,439]
[null,"","BYCATCH RELEASED ALIVE:"]
[null,440]
[null,"","BYCATCH RELEASED ALIVE:"]
[null,441]
[null,"","BYCATCH RELEASED ALIVE:"]
[null,442]
[null,"","BYCATCH RELEASED ALIVE:"]
[null,443]
[null,"","BYCATCH RELEASED ALIVE:"]
[null,444]
[null,"","BYCATCH RELEASED ALIVE:"]
[null,445]
[null,"","BYCATCH RELEASED ALIVE:"]
[null,446]
[null,"","BYCATCH RELEASED ALIVE:"]
[null,447]
[null,"","BYCATCH RELEASED ALIVE:"]
[null,448]
[null,"","BYCATCH RELEASED ALIVE:"]
[null,449]
[null,"","BYCATCH RELEASED ALIVE:"]
[null,450]
[null,{"$f":"IF(B908=\"\",\"\",B908+1)","v":""},"BYCATCH RELEASED ALIVE:"]
[null,451]
[null,"","BYCATCH RELEASED ALIVE:"]
[null,452]
[null,"","BYCATCH RELEASED ALIVE:"]
[null,453]
[null,"","BYCATCH RELEASED ALIVE:"]
[null,454]
[null,"","BYCATCH RELEASED ALIVE:"]
[null,455]
[null,"","BYCATCH RELEASED ALIVE:"]
[null,456]
[null,"","BYCATCH RELEASED ALIVE:"]
[null,457]
[null,"","BYCATCH RELEASED ALIVE:"]
[null,458]
[null,"","BYCATCH RELEASED ALIVE:"]
[null,459]
[null,"","BYCATCH RELEASED ALIVE:"]
[null,460]
[null,"","BYCATCH RELEASED ALIVE:"]
[null,461]
[null,"","BYCATCH RELEASED ALIVE:"]
[null,462]
[null,"","BYCATCH RELEASED ALIVE:"]
[null,463]
[null,"","BYCATCH RELEASED ALIVE:"]
[null,464]
[null,"","BYCATCH RELEASED ALIVE:"]
[null,465]
[null,"","BYCATCH RELEASED ALIVE:"]
[null,466]
[null,"","BYCATCH RELEASED ALIVE:"]
[null,467]
[null,"","BYCATCH RELEASED ALIVE:"]
[null,468]
[null,"","BYCATCH RELEASED ALIVE:"]
[null,469]
[null,"","BYCATCH RELEASED ALIVE:"]
[null,470]
[null,"","BYCATCH RELEASED ALIVE:"]
[null,471]
[null,"","BYCATCH RELEASED ALIVE:"]
[null,472]
[null,"","BYCATCH RELEASED ALIVE:"]
[null,473]
[null,"","BYCATCH RELEASED ALIVE:"]
[null,474]
[null,"","BYCATCH RELEASED ALIVE:"]
[null,475]
[null,"","BYCATCH RELEASED ALIVE:"]
[null,476]
[null,"","BYCATCH RELEASED ALIVE:"]
[null,477]
[null,"","BYCATCH RELEASED ALIVE:"]
[null,478]
[null,"","BYCATCH RELEASED ALIVE:"]
[null,479]
[null,"","BYCATCH RELEASED ALIVE:"]
[null,480]
[null,"","BYCATCH RELEASED ALIVE:"]
[null,481]
[null,"","BYCATCH RELEASED ALIVE:"]
[null,482]
[null,{"$f":"IF(B972=\"\",\"\",B972+1)","v":""},"BYCATCH RELEASED ALIVE:"]
[null,483]
[null,"","BYCATCH RELEASED ALIVE:"]
[null,484]
[null,"","BYCATCH RELEASED ALIVE:"]
[null,485]
[null,"","BYCATCH RELEASED ALIVE:"]
[null,486]
[null,"","BYCATCH RELEASED ALIVE:"]
[null,487]
[null,"","BYCATCH RELEASED ALIVE:"]
[null,488]
[null,"","BYCATCH RELEASED ALIVE:"]
[null,489]
[null,"","BYCATCH RELEASED ALIVE:"]
[null,490]
[null,"","BYCATCH RELEASED ALIVE:"]
[null,491]
[null,"","BYCATCH RELEASED ALIVE:"]
[null,492]
[null,"","BYCATCH RELEASED ALIVE:"]
[null,493]
[null,"","BYCATCH RELEASED ALIVE:"]
[null,494]
[null,"","BYCATCH RELEASED ALIVE:"]
[null,495]
[null,"","BYCATCH RELEASED ALIVE:"]
[null,496]
[null,"","BYCATCH RELEASED ALIVE:"]
[null,497]
[null,"","BYCATCH RELEASED ALIVE:"]
[null,498]
[null,"","BYCATCH RELEASED ALIVE:"]
[null,499]
[null,"","BYCATCH RELEASED ALIVE:"]
[null,500]
[null,"","BYCATCH RELEASED ALIVE:"]
[null,501]
[null,"","BYCATCH RELEASED ALIVE:"]
[null,502]
[null,"","BYCATCH RELEASED ALIVE:"]
[null,503]
[null,"","BYCATCH RELEASED ALIVE:"]
[null,504]
[null,"","BYCATCH RELEASED ALIVE:"]
[null,505]
[null,"","BYCATCH RELEASED ALIVE:"]
[null,506]
[null,"","BYCATCH RELEASED ALIVE:"]
[null,507]
[null,"","BYCATCH RELEASED ALIVE:"]
[null,508]
[null,"","BYCATCH RELEASED ALIVE:"]
[null,509]
[null,"","BYCATCH RELEASED ALIVE:"]
[null,510]
[null,"","BYCATCH RELEASED ALIVE:"]
[null,511]
[null,"","BYCATCH RELEASED ALIVE:"]
[null,512]
[null,"","BYCATCH RELEASED ALIVE:"]
[null,513]
[null,"","BYCATCH RELEASED ALIVE:"]
[null,514]
[null,{"$f":"IF(B1036=\"\",\"\",B1036+1)","v":""},"BYCATCH RELEASED ALIVE:"]
[null,515]
[null,"","BYCATCH RELEASED ALIVE:"]
[null,516]
[null,"","BYCATCH RELEASED ALIVE:"]
[null,517]
[null,"","BYCATCH RELEASED ALIVE:"]
[null,518]
[null,"","BYCATCH RELEASED ALIVE:"]
[null,519]
[null,"","BYCATCH RELEASED ALIVE:"]
[null,520]
[null,"","BYCATCH RELEASED ALIVE:"]
[null,521]
[null,"","BYCATCH RELEASED ALIVE:"]
[null,522]
[null,"","BYCATCH RELEASED ALIVE:"]
[null,523]
[null,"","BYCATCH RELEASED ALIVE:"]
[null,524]
[null,"","BYCATCH RELEASED ALIVE:"]
[null,525]
[null,"","BYCATCH RELEASED ALIVE:"]
[null,526]
[null,"","BYCATCH RELEASED ALIVE:"]
[null,527]
[null,"","BYCATCH RELEASED ALIVE:"]
[null,528]
[null,"","BYCATCH RELEASED ALIVE:"]
[null,529]
[null,"","BYCATCH RELEASED ALIVE:"]
[null,530]
[null,"","BYCATCH RELEASED ALIVE:"]
[null,531]
[null,"","BYCATCH RELEASED ALIVE:"]
[null,532]
[null,"","BYCATCH RELEASED ALIVE:"]
[null,533]
[null,"","BYCATCH RELEASED ALIVE:"]
[null,534]
[null,"","BYCATCH RELEASED ALIVE:"]
[null,535]
[null,"","BYCATCH RELEASED ALIVE:"]
[null,536]
[null,"","BYCATCH RELEASED ALIVE:"]
[null,537]
[null,"","BYCATCH RELEASED ALIVE:"]
[null,538]
[null,"","BYCATCH RELEASED ALIVE:"]
[null,539]
[null,"","BYCATCH RELEASED ALIVE:"]
[null,540]
[null,"","BYCATCH RELEASED ALIVE:"]
[null,541]
[null,"","BYCATCH RELEASED ALIVE:"]
[null,542]
[null,"","BYCATCH RELEASED ALIVE:"]
[null,543]
[null,"","BYCATCH RELEASED ALIVE:"]
[null,544]
[null,"","BYCATCH RELEASED ALIVE:"]
[null,545]
[null,"","BYCATCH RELEASED ALIVE:"]
[null,546]
[null,{"$f":"IF(B1100=\"\",\"\",B1100+1)","v":""},"BYCATCH RELEASED ALIVE:"]
[null,547]
[null,"","BYCATCH RELEASED ALIVE:"]
[null,548]
[null,"","BYCATCH RELEASED ALIVE:"]
[null,549]
[null,"","BYCATCH RELEASED ALIVE:"]
[null,550]
[null,"","BYCATCH RELEASED ALIVE:"]
[null,551]
[null,"","BYCATCH RELEASED ALIVE:"]
[null,552]
[null,"","BYCATCH RELEASED ALIVE:"]
[null,553]
[null,"","BYCATCH RELEASED ALIVE:"]
[null,554]
[null,"","BYCATCH RELEASED ALIVE:"]
[null,555]
[null,"","BYCATCH RELEASED ALIVE:"]
[null,556]
[null,"","BYCATCH RELEASED ALIVE:"]
[null,557]
[null,"","BYCATCH RELEASED ALIVE:"]
[null,558]
[null,"","BYCATCH RELEASED ALIVE:"]
[null,559]
[null,"","BYCATCH RELEASED ALIVE:"]
[null,560]
[null,"","BYCATCH RELEASED ALIVE:"]
[null,561]
[null,"","BYCATCH RELEASED ALIVE:"]
[null,562]
[null,"","BYCATCH RELEASED ALIVE:"]
[null,563]
[null,"","BYCATCH RELEASED ALIVE:"]
[null,564]
[null,"","BYCATCH RELEASED ALIVE:"]
[null,565]
[null,"","BYCATCH RELEASED ALIVE:"]
[null,566]
[null,"","BYCATCH RELEASED ALIVE:"]
[null,567]
[null,"","BYCATCH RELEASED ALIVE:"]
[null,568]
[null,"","BYCATCH RELEASED ALIVE:"]
[null,569]
[null,"","BYCATCH RELEASED ALIVE:"]
[null,570]
[null,"","BYCATCH RELEASED ALIVE:"]
[null,571]
[null,"","BYCATCH RELEASED ALIVE:"]
[null,572]
[null,"","BYCATCH RELEASED ALIVE:"]
[null,573]
[null,"","BYCATCH RELEASED ALIVE:"]
[null,574]
[null,"","BYCATCH RELEASED ALIVE:"]
[null,575]
[null,"","BYCATCH RELEASED ALIVE:"]
[null,576]
[null,"","BYCATCH RELEASED ALIVE:"]
[null,577]
[null,"","BYCATCH RELEASED ALIVE:"]
[null,578]
[null,{"$f":"IF(B1164=\"\",\"\",B1164+1)","v":""},"BYCATCH RELEASED ALIVE:"]
[null,579]
[null,"","BYCATCH RELEASED ALIVE:"]
[null,580]
[null,"","BYCATCH RELEASED ALIVE:"]
[null,581]
[null,"","BYCATCH RELEASED ALIVE:"]
[null,582]
[null,"","BYCATCH RELEASED ALIVE:"]
[null,583]
[null,"","BYCATCH RELEASED ALIVE:"]
[null,584]
[null,"","BYCATCH RELEASED ALIVE:"]
[null,585]
[null,"","BYCATCH RELEASED ALIVE:"]
[null,586]
[null,"","BYCATCH RELEASED ALIVE:"]
[null,587]
[null,"","BYCATCH RELEASED ALIVE:"]
[null,588]
[null,"","BYCATCH RELEASED ALIVE:"]
[null,589]
[null,"","BYCATCH RELEASED ALIVE:"]
[null,590]
[null,"","BYCATCH RELEASED ALIVE:"]
[null,591]
[null,"","BYCATCH RELEASED ALIVE:"]
[null,592]
[null,"","BYCATCH RELEASED ALIVE:"]
[null,593]
[null,"","BYCATCH RELEASED ALIVE:"]
[null,594]
[null,"","BYCATCH RELEASED ALIVE:"]
[null,595]
[null,"","BYCATCH RELEASED ALIVE:"]
[null,596]
[null,"","BYCATCH RELEASED ALIVE:"]
[null,597]
[null,"","BYCATCH RELEASED ALIVE:"]
[null,598]
[null,"","BYCATCH RELEASED ALIVE:"]
[null,599]
[null,"","BYCATCH RELEASED ALIVE:"]
[null,600]
[null,"","BYCATCH RELEASED ALIVE:"]
[null,601]
[null,"","BYCATCH RELEASED ALIVE:"]
[null,602]
[null,"","BYCATCH RELEASED ALIVE:"]
[null,603]
[null,"","BYCATCH RELEASED ALIVE:"]
[null,604]
[null,"","BYCATCH RELEASED ALIVE:"]
[null,605]
[null,"","BYCATCH RELEASED ALIVE:"]
[null,606]
[null,"","BYCATCH RELEASED ALIVE:"]
[null,607]
[null,"","BYCATCH RELEASED ALIVE:"]
[null,608]
[null,"","BYCATCH RELEASED ALIVE:"]
[null,609]
[null,"","BYCATCH RELEASED ALIVE:"]
[null,610]
[null,{"$f":"IF(B1228=\"\",\"\",B1228+1)","v":""},"BYCATCH RELEASED ALIVE:"]
[null,611]
[null,"","BYCATCH RELEASED ALIVE:"]
[null,612]
[null,"","BYCATCH RELEASED ALIVE:"]
[null,613]
[null,"","BYCATCH RELEASED ALIVE:"]
[null,614]
[null,"","BYCATCH RELEASED ALIVE:"]
[null,615]
[null,"","BYCATCH RELEASED ALIVE:"]
[null,616]
[null,"","BYCATCH RELEASED ALIVE:"]
[null,617]
[null,"","BYCATCH RELEASED ALIVE:"]
[null,618]
[null,"","BYCATCH RELEASED ALIVE:"]
[null,619]
[null,"","BYCATCH RELEASED ALIVE:"]
[null,620]
[null,"","BYCATCH RELEASED ALIVE:"]
[null,621]
[null,"","BYCATCH RELEASED ALIVE:"]
[null,622]
[null,"","BYCATCH RELEASED ALIVE:"]
[null,623]
[null,"","BYCATCH RELEASED ALIVE:"]
[null,624]
[null,"","BYCATCH RELEASED ALIVE:"]
[null,625]
[null,"","BYCATCH RELEASED ALIVE:"]
[null,626]
[null,"","BYCATCH RELEASED ALIVE:"]
[null,627]
[null,"","BYCATCH RELEASED ALIVE:"]
[null,628]
[null,"","BYCATCH RELEASED ALIVE:"]
[null,629]
[null,"","BYCATCH RELEASED ALIVE:"]
[null,630]
[null,"","BYCATCH RELEASED ALIVE:"]
[null,631]
[null,"","BYCATCH RELEASED ALIVE:"]
[null,632]
[null,"","BYCATCH RELEASED ALIVE:"]
[null,633]
[null,"","BYCATCH RELEASED ALIVE:"]
[null,634]
[null,"","BYCATCH RELEASED ALIVE:"]
[null,635]
[null,"","BYCATCH RELEASED ALIVE:"]
[null,636]
[null,"","BYCATCH RELEASED ALIVE:"]
[null,637]
[null,"","BYCATCH RELEASED ALIVE:"]
[null,638]
[null,"","BYCATCH RELEASED ALIVE:"]
[null,639]
[null,"","BYCATCH RELEASED ALIVE:"]
[null,640]
[null,"","BYCATCH RELEASED ALIVE:"]
[null,641]
[null,"","BYCATCH RELEASED ALIVE:"]
[null,642]
[null,{"$f":"IF(B1292=\"\",\"\",B1292+1)","v":""},"BYCATCH RELEASED ALIVE:"]
[null,643]
[null,"","BYCATCH RELEASED ALIVE:"]
[null,644]
[null,"","BYCATCH RELEASED ALIVE:"]
[null,645]
[null,"","BYCATCH RELEASED ALIVE:"]
[null,646]
[null,"","BYCATCH RELEASED ALIVE:"]
[null,647]
[null,"","BYCATCH RELEASED ALIVE:"]
[null,648]
[null,"","BYCATCH RELEASED ALIVE:"]
[null,649]
[null,"","BYCATCH RELEASED ALIVE:"]
[null,650]
[null,"","BYCATCH RELEASED ALIVE:"]
[null,651]
[null,"","BYCATCH RELEASED ALIVE:"]
[null,652]
[null,"","BYCATCH RELEASED ALIVE:"]
[null,653]
[null,"","BYCATCH RELEASED ALIVE:"]
[null,654]
[null,"","BYCATCH RELEASED ALIVE:"]
[null,655]
[null,"","BYCATCH RELEASED ALIVE:"]
[null,656]
[null,"","BYCATCH RELEASED ALIVE:"]
[null,657]
[null,"","BYCATCH RELEASED ALIVE:"]
[null,658]
[null,"","BYCATCH RELEASED ALIVE:"]
[null,659]
[null,"","BYCATCH RELEASED ALIVE:"]
[null,660]
[null,"","BYCATCH RELEASED ALIVE:"]
[null,661]
[null,"","BYCATCH RELEASED ALIVE:"]
[null,662]
[null,"","BYCATCH RELEASED ALIVE:"]
[null,663]
[null,"","BYCATCH RELEASED ALIVE:"]
[null,664]
[null,"","BYCATCH RELEASED ALIVE:"]
[null,665]
[null,"","BYCATCH RELEASED ALIVE:"]
[null,666]
[null,"","BYCATCH RELEASED ALIVE:"]
[null,667]
[null,"","BYCATCH RELEASED ALIVE:"]
[null,668]
[null,"","BYCATCH RELEASED ALIVE:"]
[null,669]
[null,"","BYCATCH RELEASED ALIVE:"]
[null,670]
[null,"","BYCATCH RELEASED ALIVE:"]
[null,671]
[null,"","BYCATCH RELEASED ALIVE:"]
[null,672]
[null,"","BYCATCH RELEASED ALIVE:"]
[null,673]
[null,"","BYCATCH RELEASED ALIVE:"]
[null,674]
[null,{"$f":"IF(B1356=\"\",\"\",B1356+1)","v":""},"BYCATCH RELEASED ALIVE:"]
[null,675]
[null,"","BYCATCH RELEASED ALIVE:"]
[null,676]
[null,"","BYCATCH RELEASED ALIVE:"]
[null,677]
[null,"","BYCATCH RELEASED ALIVE:"]
[null,678]
[null,"","BYCATCH RELEASED ALIVE:"]
[null,679]
[null,"","BYCATCH RELEASED ALIVE:"]
[null,680]
[null,"","BYCATCH RELEASED ALIVE:"]
[null,681]
[null,"","BYCATCH RELEASED ALIVE:"]
[null,682]
[null,"","BYCATCH RELEASED ALIVE:"]
[null,683]
[null,"","BYCATCH RELEASED ALIVE:"]
[null,684]
[null,"","BYCATCH RELEASED ALIVE:"]
[null,685]
[null,"","BYCATCH RELEASED ALIVE:"]
[null,686]
[null,"","BYCATCH RELEASED ALIVE:"]
[null,687]
[null,"","BYCATCH RELEASED ALIVE:"]
[null,688]
[null,"","BYCATCH RELEASED ALIVE:"]
[null,689]
[null,"","BYCATCH RELEASED ALIVE:"]
[null,690]
[null,"","BYCATCH RELEASED ALIVE:"]
[null,691]
[null,"","BYCATCH RELEASED ALIVE:"]
[null,692]
[null,"","BYCATCH RELEASED ALIVE:"]
[null,693]
[null,"","BYCATCH RELEASED ALIVE:"]
[null,694]
[null,"","BYCATCH RELEASED ALIVE:"]
[null,695]
[null,"","BYCATCH RELEASED ALIVE:"]
[null,696]
[null,"","BYCATCH RELEASED ALIVE:"]
[null,697]
[null,"","BYCATCH RELEASED ALIVE:"]
[null,698]
[null,"","BYCATCH RELEASED ALIVE:"]
[null,699]
[null,"","BYCATCH RELEASED ALIVE:"]
[null,700]
[null,"","BYCATCH RELEASED ALIVE:"]
[null,701]
[null,"","BYCATCH RELEASED ALIVE:"]
[null,702]
[null,"","BYCATCH RELEASED ALIVE:"]
[null,703]
[null,"","BYCATCH RELEASED ALIVE:"]
[null,704]
[null,"","BYCATCH RELEASED ALIVE:"]
[null,705]
[null,"","BYCATCH RELEASED ALIVE:"]
[null,706]
[null,{"$f":"IF(B1420=\"\",\"\",B1420+1)","v":""},"BYCATCH RELEASED ALIVE:"]
[null,707]
[null,"","BYCATCH RELEASED ALIVE:"]
[null,708]
[null,"","BYCATCH RELEASED ALIVE:"]
[null,709]
[null,"","BYCATCH RELEASED ALIVE:"]
[null,710]
[null,"","BYCATCH RELEASED ALIVE:"]
[null,711]
[null,"","BYCATCH RELEASED ALIVE:"]
[null,712]
[null,"","BYCATCH RELEASED ALIVE:"]
[null,713]
[null,"","BYCATCH RELEASED ALIVE:"]
[null,714]
[null,"","BYCATCH RELEASED ALIVE:"]
[null,715]
[null,"","BYCATCH RELEASED ALIVE:"]
[null,716]
[null,"","BYCATCH RELEASED ALIVE:"]
[null,717]
[null,"","BYCATCH RELEASED ALIVE:"]
[null,718]
[null,"","BYCATCH RELEASED ALIVE:"]
[null,719]
[null,"","BYCATCH RELEASED ALIVE:"]
[null,720]
[null,"","BYCATCH RELEASED ALIVE:"]
[null,721]
[null,"","BYCATCH RELEASED ALIVE:"]
[null,722]
[null,"","BYCATCH RELEASED ALIVE:"]
[null,723]
[null,"","BYCATCH RELEASED ALIVE:"]
[null,724]
[null,"","BYCATCH RELEASED ALIVE:"]
[null,725]
[null,"","BYCATCH RELEASED ALIVE:"]
[null,726]
[null,"","BYCATCH RELEASED ALIVE:"]
[null,727]
[null,"","BYCATCH RELEASED ALIVE:"]
[null,728]
[null,"","BYCATCH RELEASED ALIVE:"]
[null,729]
[null,"","BYCATCH RELEASED ALIVE:"]
[null,730]
[null,"","BYCATCH RELEASED ALIVE:"]
[null,731]
[null,"","BYCATCH RELEASED ALIVE:"]
[null,732]
[null,"","BYCATCH RELEASED ALIVE:"]
[null,733]
[null,"","BYCATCH RELEASED ALIVE:"]
[null,734]
[null,"","BYCATCH RELEASED ALIVE:"]
[null,735]
[null,"","BYCATCH RELEASED ALIVE:"]
[null,736]
[null,"","BYCATCH RELEASED ALIVE:"]
[null,737]
[null,"","BYCATCH RELEASED ALIVE:"]
[null,738]
[null,{"$f":"IF(B1484=\"\",\"\",B1484+1)","v":""},"BYCATCH RELEASED ALIVE:"]
[null,739]
[null,"","BYCATCH RELEASED ALIVE:"]
[null,740]
[null,"","BYCATCH RELEASED ALIVE:"]
[null,741]
[null,"","BYCATCH RELEASED ALIVE:"]
[null,742]
[null,"","BYCATCH RELEASED ALIVE:"]
[null,743]
[null,"","BYCATCH RELEASED ALIVE:"]
[null,744]
[null,"","BYCATCH RELEASED ALIVE:"]
[null,745]
[null,"","BYCATCH RELEASED ALIVE:"]
[null,746]
[null,"","BYCATCH RELEASED ALIVE:"]
[null,747]
[null,"","BYCATCH RELEASED ALIVE:"]
[null,748]
[null,"","BYCATCH RELEASED ALIVE:"]
[null,749]
[null,"","BYCATCH RELEASED ALIVE:"]
[null,750]
[null,"","BYCATCH RELEASED ALIVE:"]
[null,751]
[null,"","BYCATCH RELEASED ALIVE:"]
[null,752]
[null,"","BYCATCH RELEASED ALIVE:"]
[null,753]
[null,"","BYCATCH RELEASED ALIVE:"]
[null,754]
[null,"","BYCATCH RELEASED ALIVE:"]
[null,755]
[null,"","BYCATCH RELEASED ALIVE:"]
[null,756]
[null,"","BYCATCH RELEASED ALIVE:"]
[null,757]
[null,"","BYCATCH RELEASED ALIVE:"]
[null,758]
[null,"","BYCATCH RELEASED ALIVE:"]
[null,759]
[null,"","BYCATCH RELEASED ALIVE:"]
[null,760]
[null,"","BYCATCH RELEASED ALIVE:"]
[null,761]
[null,"","BYCATCH RELEASED ALIVE:"]
[null,762]
[null,"","BYCATCH RELEASED ALIVE:"]
[null,763]
[null,"","BYCATCH RELEASED ALIVE:"]
[null,764]
[null,"","BYCATCH RELEASED ALIVE:"]
[null,765]
[null,"","BYCATCH RELEASED ALIVE:"]
[null,766]
[null,"","BYCATCH RELEASED ALIVE:"]
[null,767]
[null,"","BYCATCH RELEASED ALIVE:"]
[null,768]
[null,"","BYCATCH RELEASED ALIVE:"]
[null,769]
[null,"","BYCATCH RELEASED ALIVE:"]
[null,770]
[null,{"$f":"IF(B1548=\"\",\"\",B1548+1)","v":""},"BYCATCH RELEASED ALIVE:"]
[null,771]
[null,"","BYCATCH RELEASED ALIVE:"]
[null,772]
[null,"","BYCATCH RELEASED ALIVE:"]
[null,773]
[null,"","BYCATCH RELEASED ALIVE:"]
[null,774]
[null,"","BYCATCH RELEASED ALIVE:"]
[null,775]
[null,"","BYCATCH RELEASED ALIVE:"]
[null,776]
[null,"","BYCATCH RELEASED ALIVE:"]
[null,777]
[null,"","BYCATCH RELEASED ALIVE:"]
[null,778]
[null,"","BYCATCH RELEASED ALIVE:"]
[null,779]
[null,"","BYCATCH RELEASED ALIVE:"]
[null,780]
[null,"","BYCATCH RELEASED ALIVE:"]
[null,781]
[null,"","BYCATCH RELEASED ALIVE:"]
[null,782]
[null,"","BYCATCH RELEASED ALIVE:"]
[null,783]
[null,"","BYCATCH RELEASED ALIVE:"]
[null,784]
[null,"","BYCATCH RELEASED ALIVE:"]
[null,785]
[null,"","BYCATCH RELEASED ALIVE:"]
[null,786]
[null,"","BYCATCH RELEASED ALIVE:"]
[null,787]
[null,"","BYCATCH RELEASED ALIVE:"]
[null,788]
[null,"","BYCATCH RELEASED ALIVE:"]
[null,789]
[null,"","BYCATCH RELEASED ALIVE:"]
[null,790]
[null,"","BYCATCH RELEASED ALIVE:"]
[null,791]
[null,"","BYCATCH RELEASED ALIVE:"]
[null,792]
[null,"","BYCATCH RELEASED ALIVE:"]
[null,793]
[null,"","BYCATCH RELEASED ALIVE:"]
[null,794]
[null,"","BYCATCH RELEASED ALIVE:"]
[null,795]
[null,"","BYCATCH RELEASED ALIVE:"]
[null,796]
[null,"","BYCATCH RELEASED ALIVE:"]
[null,797]
[null,"","BYCATCH RELEASED ALIVE:"]
[null,798]
[null,"","BYCATCH RELEASED ALIVE:"]
[null,799]
[null,"","BYCATCH RELEASED ALIVE:"]
[null,800]
[null,"","BYCATCH RELEASED ALIVE:"]
[null,801]
[null,"","BYCATCH RELEASED ALIVE:"]
[null,802]
[null,{"$f":"IF(B1612=\"\",\"\",B1612+1)","v":""},"BYCATCH RELEASED ALIVE:"]
[null,803]
[null,"","BYCATCH RELEASED ALIVE:"]
[null,804]
[null,"","BYCATCH RELEASED ALIVE:"]
[null,805]
[null,"","BYCATCH RELEASED ALIVE:"]
[null,806]
[null,"","BYCATCH RELEASED ALIVE:"]
[null,807]
[null,"","BYCATCH RELEASED ALIVE:"]
[null,808]
[null,"","BYCATCH RELEASED ALIVE:"]
[null,809]
[null,"","BYCATCH RELEASED ALIVE:"]
[null,810]
[null,"","BYCATCH RELEASED ALIVE:"]
[null,811]
[null,"","BYCATCH RELEASED ALIVE:"]
[null,812]
[null,"","BYCATCH RELEASED ALIVE:"]
[null,813]
[null,"","BYCATCH RELEASED ALIVE:"]
[null,814]
[null,"","BYCATCH RELEASED ALIVE:"]
[null,815]
[null,"","BYCATCH RELEASED ALIVE:"]
[null,816]
[null,"","BYCATCH RELEASED ALIVE:"]
[null,817]
[null,"","BYCATCH RELEASED ALIVE:"]
[null,818]
[null,"","BYCATCH RELEASED ALIVE:"]
[null,819]
[null,"","BYCATCH RELEASED ALIVE:"]
[null,820]
[null,"","BYCATCH RELEASED ALIVE:"]
[null,821]
[null,"","BYCATCH RELEASED ALIVE:"]
[null,822]
[null,"","BYCATCH RELEASED ALIVE:"]
[null,823]
[null,"","BYCATCH RELEASED ALIVE:"]
[null,824]
[null,"","BYCATCH RELEASED ALIVE:"]
[null,825]
[null,"","BYCATCH RELEASED ALIVE:"]
[null,826]
[null,"","BYCATCH RELEASED ALIVE:"]
[null,827]
[null,"","BYCATCH RELEASED ALIVE:"]
[null,828]
[null,"","BYCATCH RELEASED ALIVE:"]
[null,829]
[null,"","BYCATCH RELEASED ALIVE:"]
[null,830]
[null,"","BYCATCH RELEASED ALIVE:"]
[null,831]
[null,"","BYCATCH RELEASED ALIVE:"]
[null,832]
[null,"","BYCATCH RELEASED ALIVE:"]
[null,833]
[null,"","BYCATCH RELEASED ALIVE:"]
[null,834]
[null,{"$f":"IF(B1676=\"\",\"\",B1676+1)","v":""},"BYCATCH RELEASED ALIVE:"]
[null,835]
[null,"","BYCATCH RELEASED ALIVE:"]
[null,836]
[null,"","BYCATCH RELEASED ALIVE:"]
[null,837]
[null,"","BYCATCH RELEASED ALIVE:"]
[null,838]
[null,"","BYCATCH RELEASED ALIVE:"]
[null,839]
[null,"","BYCATCH RELEASED ALIVE:"]
[null,840]
[null,"","BYCATCH RELEASED ALIVE:"]
[null,841]
[null,"","BYCATCH RELEASED ALIVE:"]
[null,842]
[null,"","BYCATCH RELEASED ALIVE:"]
[null,843]
[null,"","BYCATCH RELEASED ALIVE:"]
[null,844]
[null,"","BYCATCH RELEASED ALIVE:"]
[null,845]
[null,"","BYCATCH RELEASED ALIVE:"]
[null,846]
[null,"","BYCATCH RELEASED ALIVE:"]
[null,847]
[null,"","BYCATCH RELEASED ALIVE:"]
[null,848]
[null,"","BYCATCH RELEASED ALIVE:"]
[null,849]
[null,"","BYCATCH RELEASED ALIVE:"]
[null,850]
[null,"","BYCATCH RELEASED ALIVE:"]
[null,851]
[null,"","BYCATCH RELEASED ALIVE:"]
[null,852]
[null,"","BYCATCH RELEASED ALIVE:"]
[null,853]
[null,"","BYCATCH RELEASED ALIVE:"]
[null,854]
[null,"","BYCATCH RELEASED ALIVE:"]
[null,855]
[null,"","BYCATCH RELEASED ALIVE:"]
[null,856]
[null,"","BYCATCH RELEASED ALIVE:"]
[null,857]
[null,"","BYCATCH RELEASED ALIVE:"]
[null,858]
[null,"","BYCATCH RELEASED ALIVE:"]
[null,859]
[null,"","BYCATCH RELEASED ALIVE:"]
[null,860]
[null,"","BYCATCH RELEASED ALIVE:"]
[null,861]
[null,"","BYCATCH RELEASED ALIVE:"]
[null,862]
[null,"","BYCATCH RELEASED ALIVE:"]
[null,863]
[null,"","BYCATCH RELEASED ALIVE:"]
[null,864]
[null,"","BYCATCH RELEASED ALIVE:"]
[null,865]
[null,"","BYCATCH RELEASED ALIVE:"]
[null,866]
[null,{"$f":"IF(B1740=\"\",\"\",B1740+1)","v":""},"BYCATCH RELEASED ALIVE:"]
[null,867]
[null,"","BYCATCH RELEASED ALIVE:"]
[null,868]
[null,"","BYCATCH RELEASED ALIVE:"]
[null,869]
[null,"","BYCATCH RELEASED ALIVE:"]
[null,870]
[null,"","BYCATCH RELEASED ALIVE:"]
[null,871]
[null,"","BYCATCH RELEASED ALIVE:"]
[null,872]
[null,"","BYCATCH RELEASED ALIVE:"]
[null,873]
[null,"","BYCATCH RELEASED ALIVE:"]
[null,874]
[null,"","BYCATCH RELEASED ALIVE:"]
[null,875]
[null,"","BYCATCH RELEASED ALIVE:"]
[null,876]
[null,"","BYCATCH RELEASED ALIVE:"]
[null,877]
[null,"","BYCATCH RELEASED ALIVE:"]
[null,878]
[null,"","BYCATCH RELEASED ALIVE:"]
[null,879]
[null,"","BYCATCH RELEASED ALIVE:"]
[null,880]
[null,"","BYCATCH RELEASED ALIVE:"]
[null,881]
[null,"","BYCATCH RELEASED ALIVE:"]
[null,882]
[null,"","BYCATCH RELEASED ALIVE:"]
[null,883]
[null,"","BYCATCH RELEASED ALIVE:"]
[null,884]
[null,"","BYCATCH RELEASED ALIVE:"]
[null,885]
[null,"","BYCATCH RELEASED ALIVE:"]
[null,886]
[null,"","BYCATCH RELEASED ALIVE:"]
[null,887]
[null,"","BYCATCH RELEASED ALIVE:"]
[null,888]
[null,"","BYCATCH RELEASED ALIVE:"]
[null,889]
[null,"","BYCATCH RELEASED ALIVE:"]
[null,890]
[null,"","BYCATCH RELEASED ALIVE:"]
[null,891]
[null,"","BYCATCH RELEASED ALIVE:"]
[null,892]
[null,"","BYCATCH RELEASED ALIVE:"]
[null,893]
[null,"","BYCATCH RELEASED ALIVE:"]
[null,894]
[null,"","BYCATCH RELEASED ALIVE:"]
[null,895]
[null,"","BYCATCH RELEASED ALIVE:"]
[null,896]
[null,"","BYCATCH RELEASED ALIVE:"]
[null,897]
[null,"","BYCATCH RELEASED ALIVE:"]
[null,898]
[null,{"$f":"IF(B1804=\"\",\"\",B1804+1)","v":""},"BYCATCH RELEASED ALIVE:"]
[null,899]
[null,"","BYCATCH RELEASED ALIVE:"]
[null,900]
[null,"","BYCATCH RELEASED ALIVE:"]
[null,901]
[null,"","BYCATCH RELEASED ALIVE:"]
[null,902]
[null,"","BYCATCH RELEASED ALIVE:"]
[null,903]
[null,"","BYCATCH RELEASED ALIVE:"]
[null,904]
[null,"","BYCATCH RELEASED ALIVE:"]
[null,905]
[null,"","BYCATCH RELEASED ALIVE:"]
[null,906]
[null,"","BYCATCH RELEASED ALIVE:"]
[null,907]
[null,"","BYCATCH RELEASED ALIVE:"]
[null,908]
[null,"","BYCATCH RELEASED ALIVE:"]
[null,909]
[null,"","BYCATCH RELEASED ALIVE:"]
[null,910]
[null,"","BYCATCH RELEASED ALIVE:"]
[null,911]
[null,"","BYCATCH RELEASED ALIVE:"]
[null,912]
[null,"","BYCATCH RELEASED ALIVE:"]
[null,913]
[null,"","BYCATCH RELEASED ALIVE:"]
[null,914]
[null,"","BYCATCH RELEASED ALIVE:"]
[null,915]
[null,"","BYCATCH RELEASED ALIVE:"]
[null,916]
[null,"","BYCATCH RELEASED ALIVE:"]
[null,917]
[null,"","BYCATCH RELEASED ALIVE:"]
[null,918]
[null,"","BYCATCH RELEASED ALIVE:"]
[null,919]
[null,"","BYCATCH RELEASED ALIVE:"]
[null,920]
[null,"","BYCATCH RELEASED ALIVE:"]
[null,921]
[null,"","BYCATCH RELEASED ALIVE:"]
[null,922]
[null,"","BYCATCH RELEASED ALIVE:"]
[null,923]
[null,"","BYCATCH RELEASED ALIVE:"]
[null,924]
[null,"","BYCATCH RELEASED ALIVE:"]
[null,925]
[null,"","BYCATCH RELEASED ALIVE:"]
[null,926]
[null,"","BYCATCH RELEASED ALIVE:"]
[null,927]
[null,"","BYCATCH RELEASED ALIVE:"]
[null,928]
[null,"","BYCATCH RELEASED ALIVE:"]
[null,929]
[null,"","BYCATCH RELEASED ALIVE:"]
[null,930]
[null,{"$f":"IF(B1868=\"\",\"\",B1868+1)","v":""},"BYCATCH RELEASED ALIVE:"]
[null,931]
[null,"","BYCATCH RELEASED ALIVE:"]
[null,932]
[null,"","BYCATCH RELEASED ALIVE:"]
[null,933]
[null,"","BYCATCH RELEASED ALIVE:"]
[null,934]
[null,"","BYCATCH RELEASED ALIVE:"]
[null,935]
[null,"","BYCATCH RELEASED ALIVE:"]
[null,936]
[null,"","BYCATCH RELEASED ALIVE:"]
[null,937]
[null,"","BYCATCH RELEASED ALIVE:"]
[null,938]
[null,"","BYCATCH RELEASED ALIVE:"]
[null,939]
[null,"","BYCATCH RELEASED ALIVE:"]
[null,940]
[null,"","BYCATCH RELEASED ALIVE:"]
[null,941]
[null,"","BYCATCH RELEASED ALIVE:"]
[null,942]
[null,"","BYCATCH RELEASED ALIVE:"]
[null,943]
[null,"","BYCATCH RELEASED ALIVE:"]
[null,944]
[null,"","BYCATCH RELEASED ALIVE:"]
[null,945]
[null,"","BYCATCH RELEASED ALIVE:"]
[null,946]
[null,"","BYCATCH RELEASED ALIVE:"]
[null,947]
[null,"","BYCATCH RELEASED ALIVE:"]
[null,948]
[null,"","BYCATCH RELEASED ALIVE:"]
[null,949]
[null,"","BYCATCH RELEASED ALIVE:"]
[null,950]
[null,"","BYCATCH RELEASED ALIVE:"]
[null,951]
[null,"","BYCATCH RELEASED ALIVE:"]
[null,952]
[null,"","BYCATCH RELEASED ALIVE:"]
[null,953]
[null,"","BYCATCH RELEASED ALIVE:"]
[null,954]
[null,"","BYCATCH RELEASED ALIVE:"]
[null,955]
[null,"","BYCATCH RELEASED ALIVE:"]
[null,956]
[null,"","BYCATCH RELEASED ALIVE:"]
[null,957]
[null,"","BYCATCH RELEASED ALIVE:"]
[null,958]
[null,"","BYCATCH RELEASED ALIVE:"]
[null,959]
[null,"","BYCATCH RELEASED ALIVE:"]
[null,960]
[null,"","BYCATCH RELEASED ALIVE:"]
[null,961]
[null,"","BYCATCH RELEASED ALIVE:"]
[null,962]
[null,{"$f":"IF(B1932=\"\",\"\",B1932+1)","v":""},"BYCATCH RELEASED ALIVE:"]
[null,963]
[null,"","BYCATCH RELEASED ALIVE:"]
[null,964]
[null,"","BYCATCH RELEASED ALIVE:"]
[null,965]
[null,"","BYCATCH RELEASED ALIVE:"]
[null,966]
[null,"","BYCATCH RELEASED ALIVE:"]
[null,967]
[null,"","BYCATCH RELEASED ALIVE:"]
[null,968]
[null,"","BYCATCH RELEASED ALIVE:"]
[null,969]
[null,"","BYCATCH RELEASED ALIVE:"]
[null,970]
[null,"","BYCATCH RELEASED ALIVE:"]
[null,971]
[null,"","BYCATCH RELEASED ALIVE:"]
[null,972]
[null,"","BYCATCH RELEASED ALIVE:"]
[null,973]
[null,"","BYCATCH RELEASED ALIVE:"]
[null,974]
[null,"","BYCATCH RELEASED ALIVE:"]
[null,975]
[null,"","BYCATCH RELEASED ALIVE:"]
[null,976]
[null,"","BYCATCH RELEASED ALIVE:"]
[null,977]
[null,"","BYCATCH RELEASED ALIVE:"]
[null,978]
[null,"","BYCATCH RELEASED ALIVE:"]
[null,979]
[null,"","BYCATCH RELEASED ALIVE:"]
[null,980]
[null,"","BYCATCH RELEASED ALIVE:"]
[null,981]
[null,"","BYCATCH RELEASED ALIVE:"]
[null,982]
[null,"","BYCATCH RELEASED ALIVE:"]
[null,983]
[null,"","BYCATCH RELEASED ALIVE:"]
[null,984]
[null,"","BYCATCH RELEASED ALIVE:"]
[null,985]
[null,"","BYCATCH RELEASED ALIVE:"]
[null,986]
[null,"","BYCATCH RELEASED ALIVE:"]
[null,987]
[null,"","BYCATCH RELEASED ALIVE:"]
[null,988]
[null,"","BYCATCH RELEASED ALIVE:"]
[null,989]
[null,"","BYCATCH RELEASED ALIVE:"]
[null,990]
[null,"","BYCATCH RELEASED ALIVE:"]
[null,991]
[null,"","BYCATCH RELEASED ALIVE:"]
[null,992]
[null,"","BYCATCH RELEASED ALIVE:"]
[null,993]
[null,"","BYCATCH RELEASED ALIVE:"]
[null,994]
[null,{"$f":"IF(B1996=\"\",\"\",B1996+1)","v":""},"BYCATCH RELEASED ALIVE:"]
[null,995]
[null,"","BYCATCH RELEASED ALIVE:"]
[null,996]
[null,"","BYCATCH RELEASED ALIVE:"]
[null,997]
[null,"","BYCATCH RELEASED ALIVE:"]
[null,998]
[null,"","BYCATCH RELEASED ALIVE:"]
[null,999]
[null,"","BYCATCH RELEASED ALIVE:"]
[null,1000]
[null,"","BYCATCH RELEASED ALIVE:"]

{"sheet":"Tablas","index":3,"n_rows":1005,"n_cols":29,"rows_kept":1005,"cut":false,"hidden":true,"merged":[[5,2,13,2],[14,2,20,2],[21,2,31,2]]}
[]
[]
[]
[]
[null,null,null,"Modelo","CodigoBaliza ",null,"Cuatro",null,"Cinco",null,"Seis",null,"Código Fabricante","No Orden","Copia Cod.","Reordenar","CodBal",null,"Código Fabricante","No Orden","Copia Cod.","Reordenar","IATTC",null,"Código Fabricante","No Orden","Copia Cod.","Reordenar","Reorde"]
[null,null,"NAUTICAL","MDP","MDP",null,1,null,1,null,1,null,{"$f":"IF('Utilized-Interacted FAD-beacons'!C11<>\"\",'Utilized-Interacted FAD-beacons'!C11,0)","v":0},1,{"$f":"M6","v":0},{"$f":"IF(O6=0,MAX($N$6:$N$1005)+1,N6)","v":1001},{"$f":"IFERROR(VLOOKUP(SMALL($P$6:$P$1005,N6),$N$6:$O$1005,2,FALSE),\" \")","v":" "},null,{"$f":"IF('Utilized-Interacted FAD-beacons'!J11<>\"\",'Utilized-Interacted FAD-beacons'!J11,0)","v":0},1,{"$f":"S6","v":0},{"$f":"IF(U6=0,MAX($T$6:$T$1005)+1,T6)","v":1001},{"$f":"IFERROR(VLOOKUP(SMALL($V$6:$V$1005,T6),$T$6:$U$1005,2,FALSE),\" \")","v":" "},null,{"$f":"IF(AND(M6=0,S6=0),0,IF(AND(M6<>0,S6=0),M6,IF(AND(M6=0,S6<>0),S6,IF(AND(M6<>0,S6<>0),(CONCATENATE(M6,S6))))))","v":0},1,{"$f":"Y6","v":0},{"$f":"IF(AA6=0,MAX($Z$6:$Z$1005)+1,Z6)","v":1001},{"$f":"IFERROR(VLOOKUP(SMALL($AB$6:$AB$1005,Z6),$Z$6:$AA$1005,2,FALSE),\" \")","v":" "}]
[null,null,null,"MDS","MDS",null,2,null,2,null,2,null,{"$f":"IF('Utilized-Interacted FAD-beacons'!C12<>\"\",'Utilized-Interacted FAD-beacons'!C12,0)","v":0},2,{"$f":"M7","v":0},{"$f":"IF(O7=0,MAX($N$6:$N$1005)+1,N7)","v":1001}," ",null,{"$f":"IF('Utilized-Interacted FAD-beacons'!J12<>\"\",'Utilized-Interacted FAD-beacons'!J12,0)","v":0},2,{"$f":"S7","v":0},{"$f":"IF(U7=0,MAX($T$6:$T$1005)+1,T7)","v":1001}," ",null,{"$f":"IF(AND(M7=0,S7=0),0,IF(AND(M7<>0,S7=0),M7,IF(AND(M7=0,S7<>0),S7,IF(AND(M7<>0,S7<>0),(CONCATENATE(M7,S7))))))","v":0},2,{"$f":"Y7","v":0},{"$f":"IF(AA7=0,MAX($Z$6:$Z$1005)+1,Z7)","v":1001}," "]
[null,null,null,"M2D","M2D",null,3,null,3,null,3,null,{"$f":"IF('Utilized-Interacted FAD-beacons'!C13<>\"\",'Utilized-Interacted FAD-beacons'!C13,0)","v":0},3,0,1001," ",null,{"$f":"IF('Utilized-Interacted FAD-beacons'!J13<>\"\",'Utilized-Interacted FAD-beacons'!J13,0)","v":0},3,0,1001," ",null,0,3,0,1001," "]
[null,null,null,"MSI","MSI",null,4,null,4,null,4,null,{"$f":"IF('Utilized-Interacted FAD-beacons'!C14<>\"\",'Utilized-Interacted FAD-beacons'!C14,0)","v":0},4,0,1001," ",null,{"$f":"IF('Utilized-Interacted FAD-beacons'!J14<>\"\",'Utilized-Interacted FAD-beacons'!J14,0)","v":0},4,0,1001," ",null,0,4,0,1001," "]
[null,null,null,"M3i","M3I",null,null,null,5,null,5,null,{"$f":"IF('Utilized-Interacted FAD-beacons'!C15<>\"\",'Utilized-Interacted FAD-beacons'!C15,0)","v":0},5,0,1001," ",null,{"$f":"IF('Utilized-Interacted FAD-beacons'!J15<>\"\",'Utilized-Interacted FAD-beacons'!J15,0)","v":0},5,0,1001," ",null,0,5,0,1001," "]
[null,null,null,"M3i+","M3+",null,null,null,null,null,6,null,{"$f":"IF('Utilized-Interacted FAD-beacons'!C16<>\"\",'Utilized-Interacted FAD-beacons'!C16,0)","v":0},6,0,1001," ",null,{"$f":"IF('Utilized-Interacted FAD-beacons'!J16<>\"\",'Utilized-Interacted FAD-beacons'!J16,0)","v":0},6,0,1001," ",null,0,6,0,1001," "]
[null,null,null,"M4I","M4I",null,null,null,null,null,null,null,{"$f":"IF('Utilized-Interacted FAD-beacons'!C17<>\"\",'Utilized-Interacted FAD-beacons'!C17,0)","v":0},7,0,1001," ",null,{"$f":"IF('Utilized-Interacted FAD-beacons'!J17<>\"\",'Utilized-Interacted FAD-beacons'!J17,0)","v":0},7,0,1001," ",null,0,7,0,1001," "]
[null,null,null,"M4i+","M4+",null,null,null,null,null,null,null,{"$f":"IF('Utilized-Interacted FAD-beacons'!C18<>\"\",'Utilized-Interacted FAD-beacons'!C18,0)","v":0},8,0,1001," ",null,{"$f":"IF('Utilized-Interacted FAD-beacons'!J18<>\"\",'Utilized-Interacted FAD-beacons'!J18,0)","v":0},8,0,1001," ",null,0,8,0,1001," "]
[null,null,null,"M3iGO","MGO",null,null,null,null,null,null,null,{"$f":"IF('Utilized-Interacted FAD-beacons'!C19<>\"\",'Utilized-Interacted FAD-beacons'!C19,0)","v":0},9,0,1001," ",null,{"$f":"IF('Utilized-Interacted FAD-beacons'!J19<>\"\",'Utilized-Interacted FAD-beacons'!J19,0)","v":0},9,0,1001," ",null,0,9,0,1001," "]
[null,null,"SATLINK","D+ pila","D+",null,null,null,null,null,null,null,{"$f":"IF('Utilized-Interacted FAD-beacons'!C20<>\"\",'Utilized-Interacted FAD-beacons'!C20,0)","v":0},10,0,1001," ",null,{"$f":"IF('Utilized-Interacted FAD-beacons'!J20<>\"\",'Utilized-Interacted FAD-beacons'!J20,0)","v":0},10,0,1001," ",null,0,10,0,1001," "]
[null,null,null,"D+ pila con sonda","DS+",null,null,null,null,null,null,null,{"$f":"IF('Utilized-Interacted FAD-beacons'!C21<>\"\",'Utilized-Interacted FAD-beacons'!C21,0)","v":0},11,0,1001," ",null,{"$f":"IF('Utilized-Interacted FAD-beacons'!J21<>\"\",'Utilized-Interacted FAD-beacons'!J21,0)","v":0},11,0,1001," ",null,0,11,0,1001," "]
[null,null,null,"D+ solar","DL+",null,null,null,null,null,null,null,{"$f":"IF('Utilized-Interacted FAD-beacons'!C22<>\"\",'Utilized-Interacted FAD-beacons'!C22,0)","v":0},12,0,1001," ",null,{"$f":"IF('Utilized-Interacted FAD-beacons'!J22<>\"\",'Utilized-Interacted FAD-beacons'!J22,0)","v":0},12,0,1001," ",null,0,12,0,1001," "]
[null,null,null,"D+ solar con sonda","DSL+",null,null,null,null,null,null,null,{"$f":"IF('Utilized-Interacted FAD-beacons'!C23<>\"\",'Utilized-Interacted FAD-beacons'!C23,0)","v":0},13,0,1001," ",null,{"$f":"IF('Utilized-Interacted FAD-beacons'!J23<>\"\",'Utilized-Interacted FAD-beacons'!J23,0)","v":0},13,0,1001," ",null,0,13,0,1001," "]
[null,null,null,"IDP solar con sonda","ISL+",null,null,null,null,null,null,null,{"$f":"IF('Utilized-Interacted FAD-beacons'!C24<>\"\",'Utilized-Interacted FAD-beacons'!C24,0)","v":0},14,0,1001," ",null,{"$f":"IF('Utilized-Interacted FAD-beacons'!J24<>\"\",'Utilized-Interacted FAD-beacons'!J24,0)","v":0},14,0,1001," ",null,0,14,0,1001," "]
[null,null,null,"IDP solar disc. con sonda","ISD+",null,null,null,null,null,null,null,{"$f":"IF('Utilized-Interacted FAD-beacons'!C25<>\"\",'Utilized-Interacted FAD-beacons'!C25,0)","v":0},15,0,1001," ",null,{"$f":"IF('Utilized-Interacted FAD-beacons'!J25<>\"\",'Utilized-Interacted FAD-beacons'!J25,0)","v":0},15,0,1001," ",null,0,15,0,1001," "]
[null,null,null,"SLX solar \"ECO\"","SLX+",null,null,null,null,null,null,null,{"$f":"IF('Utilized-Interacted FAD-beacons'!C26<>\"\",'Utilized-Interacted FAD-beacons'!C26,0)","v":0},16,0,1001," ",null,{"$f":"IF('Utilized-Interacted FAD-beacons'!J26<>\"\",'Utilized-Interacted FAD-beacons'!J26,0)","v":0},16,0,1001," ",null,0,16,0,1001," "]
[null,null,"ZUNIBAL","Tunabal-7","T07",null,null,null,null,null,null,null,{"$f":"IF('Utilized-Interacted FAD-beacons'!C27<>\"\",'Utilized-Interacted FAD-beacons'!C27,0)","v":0},17,0,1001," ",null,{"$f":"IF('Utilized-Interacted FAD-beacons'!J27<>\"\",'Utilized-Interacted FAD-beacons'!J27,0)","v":0},17,0,1001," ",null,0,17,0,1001," "]
[null,null,null,"Tunabal-e7","Te7",null,null,null,null,null,null,null,{"$f":"IF('Utilized-Interacted FAD-beacons'!C28<>\"\",'Utilized-Interacted FAD-beacons'!C28,0)","v":0},18,0,1001," ",null,{"$f":"IF('Utilized-Interacted FAD-beacons'!J28<>\"\",'Utilized-Interacted FAD-beacons'!J28,0)","v":0},18,0,1001," ",null,0,18,0,1001," "]
[null,null,null,"Tunabal-e7+","T7+",null,null,null,null,null,null,null,{"$f":"IF('Utilized-Interacted FAD-beacons'!C29<>\"\",'Utilized-Interacted FAD-beacons'!C29,0)","v":0},19,0,1001," ",null,{"$f":"IF('Utilized-Interacted FAD-beacons'!J29<>\"\",'Utilized-Interacted FAD-beacons'!J29,0)","v":0},19,0,1001," ",null,0,19,0,1001," "]
[null,null,null,"Tuna8 Explorer","T8E",null,null,null,null,null,null,null,{"$f":"IF('Utilized-Interacted FAD-beacons'!C30<>\"\",'Utilized-Interacted FAD-beacons'!C30,0)","v":0},20,0,1001," ",null,{"$f":"IF('Utilized-Interacted FAD-beacons'!J30<>\"\",'Utilized-Interacted FAD-beacons'!J30,0)","v":0},20,0,1001," ",null,0,20,0,1001," "]
[null,null,null,"Tuna8 Xtreme","T8X",null,null,null,null,null,null,null,{"$f":"IF('Utilized-Interacted FAD-beacons'!C31<>\"\",'Utilized-Interacted FAD-beacons'!C31,0)","v":0},21,0,1001," ",null,{"$f":"IF('Utilized-Interacted FAD-beacons'!J31<>\"\",'Utilized-Interacted FAD-beacons'!J31,0)","v":0},21,0,1001," ",null,0,21,0,1001," "]
[null,null,null,"Tunabal-7 (F series)","F07",null,null,null,null,null,null,null,{"$f":"IF('Utilized-Interacted FAD-beacons'!C32<>\"\",'Utilized-Interacted FAD-beacons'!C32,0)","v":0},22,0,1001," ",null,{"$f":"IF('Utilized-Interacted FAD-beacons'!J32<>\"\",'Utilized-Interacted FAD-beacons'!J32,0)","v":0},22,0,1001," ",null,0,22,0,1001," "]
[null,null,null,"Tunabal-e7 (F series)","Fe7",null,null,null,null,null,null,null,{"$f":"IF('Utilized-Interacted FAD-beacons'!C33<>\"\",'Utilized-Interacted FAD-beacons'!C33,0)","v":0},23,0,1001," ",null,{"$f":"IF('Utilized-Interacted FAD-beacons'!J33<>\"\",'Utilized-Interacted FAD-beacons'!J33,0)","v":0},23,0,1001," ",null,0,23,0,1001," "]
[null,null,null,"Tunabal-e7+ (F-series)","F7+",null,null,null,null,null,null,null,{"$f":"IF('Utilized-Interacted FAD-beacons'!C34<>\"\",'Utilized-Interacted FAD-beacons'!C34,0)","v":0},24,0,1001," ",null,{"$f":"IF('Utilized-Interacted FAD-beacons'!J34<>\"\",'Utilized-Interacted FAD-beacons'!J34,0)","v":0},24,0,1001," ",null,0,24,0,1001," "]
[null,null,null,"Tuna8 Explorer (F-series)","F8E",null,null,null,null,null,null,null,{"$f":"IF('Utilized-Interacted FAD-beacons'!C35<>\"\",'Utilized-Interacted FAD-beacons'!C35,0)","v":0},25,0,1001," ",null,{"$f":"IF('Utilized-Interacted FAD-beacons'!J35<>\"\",'Utilized-Interacted FAD-beacons'!J35,0)","v":0},25,0,1001," ",null,0,25,0,1001," "]
[null,null,null,"Zuni sin sonda","Z07",null,null,null,null,null,null,null,{"$f":"IF('Utilized-Interacted FAD-beacons'!C36<>\"\",'Utilized-Interacted FAD-beacons'!C36,0)","v":0},26,0,1001," ",null,{"$f":"IF('Utilized-Interacted FAD-beacons'!J36<>\"\",'Utilized-Interacted FAD-beacons'!J36,0)","v":0},26,0,1001," ",null,0,26,0,1001," "]
[null,null,null,"Zuni sin sonda","Ze7",null,null,null,null,null,null,null,{"$f":"IF('Utilized-Interacted FAD-beacons'!C37<>\"\",'Utilized-Interacted FAD-beacons'!C37,0)","v":0},27,0,1001," ",null,{"$f":"IF('Utilized-Interacted FAD-beacons'!J37<>\"\",'Utilized-Interacted FAD-beacons'!J37,0)","v":0},27,0,1001," ",null,0,27,0,1001," "]
[null,null,null,null,null,null,null,null,null,null,null,null,{"$f":"IF('Utilized-Interacted FAD-beacons'!C38<>\"\",'Utilized-Interacted FAD-beacons'!C38,0)","v":0},28,0,1001," ",null,{"$f":"IF('Utilized-Interacted FAD-beacons'!J38<>\"\",'Utilized-Interacted FAD-beacons'!J38,0)","v":0},28,0,1001," ",null,0,28,0,1001," "]
[null,null,null,null,null,null,null,null,null,null,null,null,{"$f":"IF('Utilized-Interacted FAD-beacons'!C39<>\"\",'Utilized-Interacted FAD-beacons'!C39,0)","v":0},29,0,1001," ",null,{"$f":"IF('Utilized-Interacted FAD-beacons'!J39<>\"\",'Utilized-Interacted FAD-beacons'!J39,0)","v":0},29,0,1001," ",null,0,29,0,1001," "]
[null,null,null,null,null,null,null,null,null,null,null,null,{"$f":"IF('Utilized-Interacted FAD-beacons'!C40<>\"\",'Utilized-Interacted FAD-beacons'!C40,0)","v":0},30,0,1001," ",null,{"$f":"IF('Utilized-Interacted FAD-beacons'!J40<>\"\",'Utilized-Interacted FAD-beacons'!J40,0)","v":0},30,0,1001," ",null,0,30,0,1001," "]
[null,null,null,null,null,null,null,null,null,null,null,null,{"$f":"IF('Utilized-Interacted FAD-beacons'!C41<>\"\",'Utilized-Interacted FAD-beacons'!C41,0)","v":0},31,0,1001," ",null,{"$f":"IF('Utilized-Interacted FAD-beacons'!J41<>\"\",'Utilized-Interacted FAD-beacons'!J41,0)","v":0},31,0,1001," ",null,0,31,0,1001," "]
[null,null,null,null,null,null,null,null,null,null,null,null,{"$f":"IF('Utilized-Interacted FAD-beacons'!C42<>\"\",'Utilized-Interacted FAD-beacons'!C42,0)","v":0},32,0,1001," ",null,{"$f":"IF('Utilized-Interacted FAD-beacons'!J42<>\"\",'Utilized-Interacted FAD-beacons'!J42,0)","v":0},32,0,1001," ",null,0,32,0,1001," "]
[null,null,null,null,null,null,null,null,null,null,null,null,{"$f":"IF('Utilized-Interacted FAD-beacons'!C43<>\"\",'Utilized-Interacted FAD-beacons'!C43,0)","v":0},33,0,1001," ",null,{"$f":"IF('Utilized-Interacted FAD-beacons'!J43<>\"\",'Utilized-Interacted FAD-beacons'!J43,0)","v":0},33,0,1001," ",null,0,33,0,1001," "]
[null,null,null,null,null,null,null,null,null,null,null,null,{"$f":"IF('Utilized-Interacted FAD-beacons'!C44<>\"\",'Utilized-Interacted FAD-beacons'!C44,0)","v":0},34,0,1001," ",null,{"$f":"IF('Utilized-Interacted FAD-beacons'!J44<>\"\",'Utilized-Interacted FAD-beacons'!J44,0)","v":0},34,0,1001," ",null,0,34,0,1001," "]
[null,null,null,null,null,null,null,null,null,null,null,null,{"$f":"IF('Utilized-Interacted FAD-beacons'!C45<>\"\",'Utilized-Interacted FAD-beacons'!C45,0)","v":0},35,0,1001," ",null,{"$f":"IF('Utilized-Interacted FAD-beacons'!J45<>\"\",'Utilized-Interacted FAD-beacons'!J45,0)","v":0},35,0,1001," ",null,0,35,0,1001," "]
[null,null,null,null,null,null,null,null,null,null,null,null,{"$f":"IF('Utilized-Interacted FAD-beacons'!C46<>\"\",'Utilized-Interacted FAD-beacons'!C46,0)","v":0},36,0,1001," ",null,{"$f":"IF('Utilized-Interacted FAD-beacons'!J46<>\"\",'Utilized-Interacted FAD-beacons'!J46,0)","v":0},36,0,1001," ",null,0,36,0,1001," "]
[null,null,null,null,null,null,null,null,null,null,null,null,{"$f":"IF('Utilized-Interacted FAD-beacons'!C47<>\"\",'Utilized-Interacted FAD-beacons'!C47,0)","v":0},37,0,1001," ",null,{"$f":"IF('Utilized-Interacted FAD-beacons'!J47<>\"\",'Utilized-Interacted FAD-beacons'!J47,0)","v":0},37,0,1001," ",null,0,37,0,1001," "]
[null,null,null,null,null,null,null,null,null,null,null,null,{"$f":"IF('Utilized-Interacted FAD-beacons'!C48<>\"\",'Utilized-Interacted FAD-beacons'!C48,0)","v":0},38,0,1001," ",null,{"$f":"IF('Utilized-Interacted FAD-beacons'!J48<>\"\",'Utilized-Interacted FAD-beacons'!J48,0)","v":0},38,0,1001," ",null,0,38,0,1001," "]
[null,null,null,null,null,null,null,null,null,null,null,null,{"$f":"IF('Utilized-Interacted FAD-beacons'!C49<>\"\",'Utilized-Interacted FAD-beacons'!C49,0)","v":0},39,0,1001," ",null,{"$f":"IF('Utilized-Interacted FAD-beacons'!J49<>\"\",'Utilized-Interacted FAD-beacons'!J49,0)","v":0},39,0,1001," ",null,0,39,0,1001," "]
[null,null,null,null,null,null,null,null,null,null,null,null,{"$f":"IF('Utilized-Interacted FAD-beacons'!C50<>\"\",'Utilized-Interacted FAD-beacons'!C50,0)","v":0},40,0,1001," ",null,{"$f":"IF('Utilized-Interacted FAD-beacons'!J50<>\"\",'Utilized-Interacted FAD-beacons'!J50,0)","v":0},40,0,1001," ",null,0,40,0,1001," "]
[null,null,null,null,null,null,null,null,null,null,null,null,{"$f":"IF('Utilized-Interacted FAD-beacons'!C51<>\"\",'Utilized-Interacted FAD-beacons'!C51,0)","v":0},41,0,1001," ",null,{"$f":"IF('Utilized-Interacted FAD-beacons'!J51<>\"\",'Utilized-Interacted FAD-beacons'!J51,0)","v":0},41,0,1001," ",null,0,41,0,1001," "]
[null,null,null,null,null,null,null,null,null,null,null,null,{"$f":"IF('Utilized-Interacted FAD-beacons'!C52<>\"\",'Utilized-Interacted FAD-beacons'!C52,0)","v":0},42,0,1001," ",null,{"$f":"IF('Utilized-Interacted FAD-beacons'!J52<>\"\",'Utilized-Interacted FAD-beacons'!J52,0)","v":0},42,0,1001," ",null,0,42,0,1001," "]
[null,null,null,null,null,null,null,null,null,null,null,null,{"$f":"IF('Utilized-Interacted FAD-beacons'!C53<>\"\",'Utilized-Interacted FAD-beacons'!C53,0)","v":0},43,0,1001," ",null,{"$f":"IF('Utilized-Interacted FAD-beacons'!J53<>\"\",'Utilized-Interacted FAD-beacons'!J53,0)","v":0},43,0,1001," ",null,0,43,0,1001," "]
[null,null,null,null,null,null,null,null,null,null,null,null,{"$f":"IF('Utilized-Interacted FAD-beacons'!C54<>\"\",'Utilized-Interacted FAD-beacons'!C54,0)","v":0},44,0,1001," ",null,{"$f":"IF('Utilized-Interacted FAD-beacons'!J54<>\"\",'Utilized-Interacted FAD-beacons'!J54,0)","v":0},44,0,1001," ",null,0,44,0,1001," "]
[null,null,null,null,null,null,null,null,null,null,null,null,{"$f":"IF('Utilized-Interacted FAD-beacons'!C55<>\"\",'Utilized-Interacted FAD-beacons'!C55,0)","v":0},45,0,1001," ",null,{"$f":"IF('Utilized-Interacted FAD-beacons'!J55<>\"\",'Utilized-Interacted FAD-beacons'!J55,0)","v":0},45,0,1001," ",null,0,45,0,1001," "]
[null,null,null,null,null,null,null,null,null,null,null,null,{"$f":"IF('Utilized-Interacted FAD-beacons'!C56<>\"\",'Utilized-Interacted FAD-beacons'!C56,0)","v":0},46,0,1001," ",null,{"$f":"IF('Utilized-Interacted FAD-beacons'!J56<>\"\",'Utilized-Interacted FAD-beacons'!J56,0)","v":0},46,0,1001," ",null,0,46,0,1001," "]
[null,null,null,null,null,null,null,null,null,null,null,null,{"$f":"IF('Utilized-Interacted FAD-beacons'!C57<>\"\",'Utilized-Interacted FAD-beacons'!C57,0)","v":0},47,0,1001," ",null,{"$f":"IF('Utilized-Interacted FAD-beacons'!J57<>\"\",'Utilized-Interacted FAD-beacons'!J57,0)","v":0},47,0,1001," ",null,0,47,0,1001," "]
[null,null,null,null,null,null,null,null,null,null,null,null,{"$f":"IF('Utilized-Interacted FAD-beacons'!C58<>\"\",'Utilized-Interacted FAD-beacons'!C58,0)","v":0},48,0,1001," ",null,{"$f":"IF('Utilized-Interacted FAD-beacons'!J58<>\"\",'Utilized-Interacted FAD-beacons'!J58,0)","v":0},48,0,1001," ",null,0,48,0,1001," "]
[null,null,null,null,null,null,null,null,null,null,null,null,{"$f":"IF('Utilized-Interacted FAD-beacons'!C59<>\"\",'Utilized-Interacted FAD-beacons'!C59,0)","v":0},49,0,1001," ",null,{"$f":"IF('Utilized-Interacted FAD-beacons'!J59<>\"\",'Utilized-Interacted FAD-beacons'!J59,0)","v":0},49,0,1001," ",null,0,49,0,1001," "]
[null,null,null,null,null,null,null,null,null,null,null,null,{"$f":"IF('Utilized-Interacted FAD-beacons'!C60<>\"\",'Utilized-Interacted FAD-beacons'!C60,0)","v":0},50,0,1001," ",null,{"$f":"IF('Utilized-Interacted FAD-beacons'!J60<>\"\",'Utilized-Interacted FAD-beacons'!J60,0)","v":0},50,0,1001," ",null,0,50,0,1001," "]
[null,null,null,null,null,null,null,null,null,null,null,null,{"$f":"IF('Utilized-Interacted FAD-beacons'!C61<>\"\",'Utilized-Interacted FAD-beacons'!C61,0)","v":0},51,0,1001," ",null,{"$f":"IF('Utilized-Interacted FAD-beacons'!J61<>\"\",'Utilized-Interacted FAD-beacons'!J61,0)","v":0},51,0,1001," ",null,0,51,0,1001," "]
[null,null,null,null,null,null,null,null,null,null,null,null,{"$f":"IF('Utilized-Interacted FAD-beacons'!C62<>\"\",'Utilized-Interacted FAD-beacons'!C62,0)","v":0},52,0,1001," ",null,{"$f":"IF('Utilized-Interacted FAD-beacons'!J62<>\"\",'Utilized-Interacted FAD-beacons'!J62,0)","v":0},52,0,1001," ",null,0,52,0,1001," "]
[null,null,null,null,null,null,null,null,null,null,null,null,{"$f":"IF('Utilized-Interacted FAD-beacons'!C63<>\"\",'Utilized-Interacted FAD-beacons'!C63,0)","v":0},53,0,1001," ",null,{"$f":"IF('Utilized-Interacted FAD-beacons'!J63<>\"\",'Utilized-Interacted FAD-beacons'!J63,0)","v":0},53,0,1001," ",null,0,53,0,1001," "]
[null,null,null,null,null,null,null,null,null,null,null,null,{"$f":"IF('Utilized-Interacted FAD-beacons'!C64<>\"\",'Utilized-Interacted FAD-beacons'!C64,0)","v":0},54,0,1001," ",null,{"$f":"IF('Utilized-Interacted FAD-beacons'!J64<>\"\",'Utilized-Interacted FAD-beacons'!J64,0)","v":0},54,0,1001," ",null,0,54,0,1001," "]
[null,null,null,null,null,null,null,null,null,null,null,null,{"$f":"IF('Utilized-Interacted FAD-beacons'!C65<>\"\",'Utilized-Interacted FAD-beacons'!C65,0)","v":0},55,0,1001," ",null,{"$f":"IF('Utilized-Interacted FAD-beacons'!J65<>\"\",'Utilized-Interacted FAD-beacons'!J65,0)","v":0},55,0,1001," ",null,0,55,0,1001," "]
[null,null,null,null,null,null,null,null,null,null,null,null,{"$f":"IF('Utilized-Interacted FAD-beacons'!C66<>\"\",'Utilized-Interacted FAD-beacons'!C66,0)","v":0},56,0,1001," ",null,{"$f":"IF('Utilized-Interacted FAD-beacons'!J66<>\"\",'Utilized-Interacted FAD-beacons'!J66,0)","v":0},56,0,1001," ",null,0,56,0,1001," "]
[null,null,null,null,null,null,null,null,null,null,null,null,{"$f":"IF('Utilized-Interacted FAD-beacons'!C67<>\"\",'Utilized-Interacted FAD-beacons'!C67,0)","v":0},57,0,1001," ",null,{"$f":"IF('Utilized-Interacted FAD-beacons'!J67<>\"\",'Utilized-Interacted FAD-beacons'!J67,0)","v":0},57,0,1001," ",null,0,57,0,1001," "]
[null,null,null,null,null,null,null,null,null,null,null,null,{"$f":"IF('Utilized-Interacted FAD-beacons'!C68<>\"\",'Utilized-Interacted FAD-beacons'!C68,0)","v":0},58,0,1001," ",null,{"$f":"IF('Utilized-Interacted FAD-beacons'!J68<>\"\",'Utilized-Interacted FAD-beacons'!J68,0)","v":0},58,0,1001," ",null,0,58,0,1001," "]
[null,null,null,null,null,null,null,null,null,null,null,null,{"$f":"IF('Utilized-Interacted FAD-beacons'!C69<>\"\",'Utilized-Interacted FAD-beacons'!C69,0)","v":0},59,0,1001," ",null,{"$f":"IF('Utilized-Interacted FAD-beacons'!J69<>\"\",'Utilized-Interacted FAD-beacons'!J69,0)","v":0},59,0,1001," ",null,0,59,0,1001," "]
[null,null,null,null,null,null,null,null,null,null,null,null,{"$f":"IF('Utilized-Interacted FAD-beacons'!C70<>\"\",'Utilized-Interacted FAD-beacons'!C70,0)","v":0},60,0,1001," ",null,{"$f":"IF('Utilized-Interacted FAD-beacons'!J70<>\"\",'Utilized-Interacted FAD-beacons'!J70,0)","v":0},60,0,1001," ",null,0,60,0,1001," "]
[null,null,null,null,null,null,null,null,null,null,null,null,{"$f":"IF('Utilized-Interacted FAD-beacons'!C71<>\"\",'Utilized-Interacted FAD-beacons'!C71,0)","v":0},61,0,1001," ",null,{"$f":"IF('Utilized-Interacted FAD-beacons'!J71<>\"\",'Utilized-Interacted FAD-beacons'!J71,0)","v":0},61,0,1001," ",null,0,61,0,1001," "]
[null,null,null,null,null,null,null,null,null,null,null,null,{"$f":"IF('Utilized-Interacted FAD-beacons'!C72<>\"\",'Utilized-Interacted FAD-beacons'!C72,0)","v":0},62,0,1001," ",null,{"$f":"IF('Utilized-Interacted FAD-beacons'!J72<>\"\",'Utilized-Interacted FAD-beacons'!J72,0)","v":0},62,0,1001," ",null,0,62,0,1001," "]
[null,null,null,null,null,null,null,null,null,null,null,null,{"$f":"IF('Utilized-Interacted FAD-beacons'!C73<>\"\",'Utilized-Interacted FAD-beacons'!C73,0)","v":0},63,0,1001," ",null,{"$f":"IF('Utilized-Interacted FAD-beacons'!J73<>\"\",'Utilized-Interacted FAD-beacons'!J73,0)","v":0},63,0,1001," ",null,0,63,0,1001," "]
[null,null,null,null,null,null,null,null,null,null,null,null,{"$f":"IF('Utilized-Interacted FAD-beacons'!C74<>\"\",'Utilized-Interacted FAD-beacons'!C74,0)","v":0},64,0,1001," ",null,{"$f":"IF('Utilized-Interacted FAD-beacons'!J74<>\"\",'Utilized-Interacted FAD-beacons'!J74,0)","v":0},64,0,1001," ",null,0,64,0,1001," "]
[null,null,null,null,null,null,null,null,null,null,null,null,{"$f":"IF('Utilized-Interacted FAD-beacons'!C75<>\"\",'Utilized-Interacted FAD-beacons'!C75,0)","v":0},65,0,1001,{"$f":"IFERROR(VLOOKUP(SMALL($P$6:$P$1005,N70),$N$6:$O$1005,2,FALSE),\" \")","v":" "},null,{"$f":"IF('Utilized-Interacted FAD-beacons'!J75<>\"\",'Utilized-Interacted FAD-beacons'!J75,0)","v":0},65,0,1001,{"$f":"IFERROR(VLOOKUP(SMALL($V$6:$V$1005,T70),$T$6:$U$1005,2,FALSE),\" \")","v":" "},null,0,65,0,1001,{"$f":"IFERROR(VLOOKUP(SMALL($AB$6:$AB$1005,Z70),$Z$6:$AA$1005,2,FALSE),\" \")","v":" "}]
[null,null,null,null,null,null,null,null,null,null,null,null,{"$f":"IF('Utilized-Interacted FAD-beacons'!C76<>\"\",'Utilized-Interacted FAD-beacons'!C76,0)","v":0},66,{"$f":"M71","v":0},{"$f":"IF(O71=0,MAX($N$6:$N$1005)+1,N71)","v":1001}," ",null,{"$f":"IF('Utilized-Interacted FAD-beacons'!J76<>\"\",'Utilized-Interacted FAD-beacons'!J76,0)","v":0},66,{"$f":"S71","v":0},{"$f":"IF(U71=0,MAX($T$6:$T$1005)+1,T71)","v":1001}," ",null,{"$f":"IF(AND(M71=0,S71=0),0,IF(AND(M71<>0,S71=0),M71,IF(AND(M71=0,S71<>0),S71,IF(AND(M71<>0,S71<>0),(CONCATENATE(M71,S71))))))","v":0},66,{"$f":"Y71","v":0},{"$f":"IF(AA71=0,MAX($Z$6:$Z$1005)+1,Z71)","v":1001}," "]
[null,null,null,null,null,null,null,null,null,null,null,null,{"$f":"IF('Utilized-Interacted FAD-beacons'!C77<>\"\",'Utilized-Interacted FAD-beacons'!C77,0)","v":0},67,0,1001," ",null,{"$f":"IF('Utilized-Interacted FAD-beacons'!J77<>\"\",'Utilized-Interacted FAD-beacons'!J77,0)","v":0},67,0,1001," ",null,0,67,0,1001," "]
[null,null,null,null,null,null,null,null,null,null,null,null,{"$f":"IF('Utilized-Interacted FAD-beacons'!C78<>\"\",'Utilized-Interacted FAD-beacons'!C78,0)","v":0},68,0,1001," ",null,{"$f":"IF('Utilized-Interacted FAD-beacons'!J78<>\"\",'Utilized-Interacted FAD-beacons'!J78,0)","v":0},68,0,1001," ",null,0,68,0,1001," "]
[null,null,null,null,null,null,null,null,null,null,null,null,{"$f":"IF('Utilized-Interacted FAD-beacons'!C79<>\"\",'Utilized-Interacted FAD-beacons'!C79,0)","v":0},69,0,1001," ",null,{"$f":"IF('Utilized-Interacted FAD-beacons'!J79<>\"\",'Utilized-Interacted FAD-beacons'!J79,0)","v":0},69,0,1001," ",null,0,69,0,1001," "]
[null,null,null,null,null,null,null,null,null,null,null,null,{"$f":"IF('Utilized-Interacted FAD-beacons'!C80<>\"\",'Utilized-Interacted FAD-beacons'!C80,0)","v":0},70,0,1001," ",null,{"$f":"IF('Utilized-Interacted FAD-beacons'!J80<>\"\",'Utilized-Interacted FAD-beacons'!J80,0)","v":0},70,0,1001," ",null,0,70,0,1001," "]
[null,null,null,null,null,null,null,null,null,null,null,null,{"$f":"IF('Utilized-Interacted FAD-beacons'!C81<>\"\",'Utilized-Interacted FAD-beacons'!C81,0)","v":0},71,0,1001," ",null,{"$f":"IF('Utilized-Interacted FAD-beacons'!J81<>\"\",'Utilized-Interacted FAD-beacons'!J81,0)","v":0},71,0,1001," ",null,0,71,0,1001," "]
[null,null,null,null,null,null,null,null,null,null,null,null,{"$f":"IF('Utilized-Interacted FAD-beacons'!C82<>\"\",'Utilized-Interacted FAD-beacons'!C82,0)","v":0},72,0,1001," ",null,{"$f":"IF('Utilized-Interacted FAD-beacons'!J82<>\"\",'Utilized-Interacted FAD-beacons'!J82,0)","v":0},72,0,1001," ",null,0,72,0,1001," "]
[null,null,null,null,null,null,null,null,null,null,null,null,{"$f":"IF('Utilized-Interacted FAD-beacons'!C83<>\"\",'Utilized-Interacted FAD-beacons'!C83,0)","v":0},73,0,1001," ",null,{"$f":"IF('Utilized-Interacted FAD-beacons'!J83<>\"\",'Utilized-Interacted FAD-beacons'!J83,0)","v":0},73,0,1001," ",null,0,73,0,1001," "]
[null,null,null,null,null,null,null,null,null,null,null,null,{"$f":"IF('Utilized-Interacted FAD-beacons'!C84<>\"\",'Utilized-Interacted FAD-beacons'!C84,0)","v":0},74,0,1001," ",null,{"$f":"IF('Utilized-Interacted FAD-beacons'!J84<>\"\",'Utilized-Interacted FAD-beacons'!J84,0)","v":0},74,0,1001," ",null,0,74,0,1001," "]
[null,null,null,null,null,null,null,null,null,null,null,null,{"$f":"IF('Utilized-Interacted FAD-beacons'!C85<>\"\",'Utilized-Interacted FAD-beacons'!C85,0)","v":0},75,0,1001," ",null,{"$f":"IF('Utilized-Interacted FAD-beacons'!J85<>\"\",'Utilized-Interacted FAD-beacons'!J85,0)","v":0},75,0,1001," ",null,0,75,0,1001," "]
[null,null,null,null,null,null,null,null,null,null,null,null,{"$f":"IF('Utilized-Interacted FAD-beacons'!C86<>\"\",'Utilized-Interacted FAD-beacons'!C86,0)","v":0},76,0,1001," ",null,{"$f":"IF('Utilized-Interacted FAD-beacons'!J86<>\"\",'Utilized-Interacted FAD-beacons'!J86,0)","v":0},76,0,1001," ",null,0,76,0,1001," "]
[null,null,null,null,null,null,null,null,null,null,null,null,{"$f":"IF('Utilized-Interacted FAD-beacons'!C87<>\"\",'Utilized-Interacted FAD-beacons'!C87,0)","v":0},77,0,1001," ",null,{"$f":"IF('Utilized-Interacted FAD-beacons'!J87<>\"\",'Utilized-Interacted FAD-beacons'!J87,0)","v":0},77,0,1001," ",null,0,77,0,1001," "]
[null,null,null,null,null,null,null,null,null,null,null,null,{"$f":"IF('Utilized-Interacted FAD-beacons'!C88<>\"\",'Utilized-Interacted FAD-beacons'!C88,0)","v":0},78,0,1001," ",null,{"$f":"IF('Utilized-Interacted FAD-beacons'!J88<>\"\",'Utilized-Interacted FAD-beacons'!J88,0)","v":0},78,0,1001," ",null,0,78,0,1001," "]
[null,null,null,null,null,null,null,null,null,null,null,null,{"$f":"IF('Utilized-Interacted FAD-beacons'!C89<>\"\",'Utilized-Interacted FAD-beacons'!C89,0)","v":0},79,0,1001," ",null,{"$f":"IF('Utilized-Interacted FAD-beacons'!J89<>\"\",'Utilized-Interacted FAD-beacons'!J89,0)","v":0},79,0,1001," ",null,0,79,0,1001," "]
[null,null,null,null,null,null,null,null,null,null,null,null,{"$f":"IF('Utilized-Interacted FAD-beacons'!C90<>\"\",'Utilized-Interacted FAD-beacons'!C90,0)","v":0},80,0,1001," ",null,{"$f":"IF('Utilized-Interacted FAD-beacons'!J90<>\"\",'Utilized-Interacted FAD-beacons'!J90,0)","v":0},80,0,1001," ",null,0,80,0,1001," "]
[null,null,null,null,null,null,null,null,null,null,null,null,{"$f":"IF('Utilized-Interacted FAD-beacons'!C91<>\"\",'Utilized-Interacted FAD-beacons'!C91,0)","v":0},81,0,1001," ",null,{"$f":"IF('Utilized-Interacted FAD-beacons'!J91<>\"\",'Utilized-Interacted FAD-beacons'!J91,0)","v":0},81,0,1001," ",null,0,81,0,1001," "]
[null,null,null,null,null,null,null,null,null,null,null,null,{"$f":"IF('Utilized-Interacted FAD-beacons'!C92<>\"\",'Utilized-Interacted FAD-beacons'!C92,0)","v":0},82,0,1001," ",null,{"$f":"IF('Utilized-Interacted FAD-beacons'!J92<>\"\",'Utilized-Interacted FAD-beacons'!J92,0)","v":0},82,0,1001," ",null,0,82,0,1001," "]
[null,null,null,null,null,null,null,null,null,null,null,null,{"$f":"IF('Utilized-Interacted FAD-beacons'!C93<>\"\",'Utilized-Interacted FAD-beacons'!C93,0)","v":0},83,0,1001," ",null,{"$f":"IF('Utilized-Interacted FAD-beacons'!J93<>\"\",'Utilized-Interacted FAD-beacons'!J93,0)","v":0},83,0,1001," ",null,0,83,0,1001," "]
[null,null,null,null,null,null,null,null,null,null,null,null,{"$f":"IF('Utilized-Interacted FAD-beacons'!C94<>\"\",'Utilized-Interacted FAD-beacons'!C94,0)","v":0},84,0,1001," ",null,{"$f":"IF('Utilized-Interacted FAD-beacons'!J94<>\"\",'Utilized-Interacted FAD-beacons'!J94,0)","v":0},84,0,1001," ",null,0,84,0,1001," "]
[null,null,null,null,null,null,null,null,null,null,null,null,{"$f":"IF('Utilized-Interacted FAD-beacons'!C95<>\"\",'Utilized-Interacted FAD-beacons'!C95,0)","v":0},85,0,1001," ",null,{"$f":"IF('Utilized-Interacted FAD-beacons'!J95<>\"\",'Utilized-Interacted FAD-beacons'!J95,0)","v":0},85,0,1001," ",null,0,85,0,1001," "]
[null,null,null,null,null,null,null,null,null,null,null,null,{"$f":"IF('Utilized-Interacted FAD-beacons'!C96<>\"\",'Utilized-Interacted FAD-beacons'!C96,0)","v":0},86,0,1001," ",null,{"$f":"IF('Utilized-Interacted FAD-beacons'!J96<>\"\",'Utilized-Interacted FAD-beacons'!J96,0)","v":0},86,0,1001," ",null,0,86,0,1001," "]
[null,null,null,null,null,null,null,null,null,null,null,null,{"$f":"IF('Utilized-Interacted FAD-beacons'!C97<>\"\",'Utilized-Interacted FAD-beacons'!C97,0)","v":0},87,0,1001," ",null,{"$f":"IF('Utilized-Interacted FAD-beacons'!J97<>\"\",'Utilized-Interacted FAD-beacons'!J97,0)","v":0},87,0,1001," ",null,0,87,0,1001," "]
[null,null,null,null,null,null,null,null,null,null,null,null,{"$f":"IF('Utilized-Interacted FAD-beacons'!C98<>\"\",'Utilized-Interacted FAD-beacons'!C98,0)","v":0},88,0,1001," ",null,{"$f":"IF('Utilized-Interacted FAD-beacons'!J98<>\"\",'Utilized-Interacted FAD-beacons'!J98,0)","v":0},88,0,1001," ",null,0,88,0,1001," "]
[null,null,null,null,null,null,null,null,null,null,null,null,{"$f":"IF('Utilized-Interacted FAD-beacons'!C99<>\"\",'Utilized-Interacted FAD-beacons'!C99,0)","v":0},89,0,1001," ",null,{"$f":"IF('Utilized-Interacted FAD-beacons'!J99<>\"\",'Utilized-Interacted FAD-beacons'!J99,0)","v":0},89,0,1001," ",null,0,89,0,1001," "]
[null,null,null,null,null,null,null,null,null,null,null,null,{"$f":"IF('Utilized-Interacted FAD-beacons'!C100<>\"\",'Utilized-Interacted FAD-beacons'!C100,0)","v":0},90,0,1001," ",null,{"$f":"IF('Utilized-Interacted FAD-beacons'!J100<>\"\",'Utilized-Interacted FAD-beacons'!J100,0)","v":0},90,0,1001," ",null,0,90,0,1001," "]
[null,null,null,null,null,null,null,null,null,null,null,null,{"$f":"IF('Utilized-Interacted FAD-beacons'!C101<>\"\",'Utilized-Interacted FAD-beacons'!C101,0)","v":0},91,0,1001," ",null,{"$f":"IF('Utilized-Interacted FAD-beacons'!J101<>\"\",'Utilized-Interacted FAD-beacons'!J101,0)","v":0},91,0,1001," ",null,0,91,0,1001," "]
[null,null,null,null,null,null,null,null,null,null,null,null,{"$f":"IF('Utilized-Interacted FAD-beacons'!C102<>\"\",'Utilized-Interacted FAD-beacons'!C102,0)","v":0},92,0,1001," ",null,{"$f":"IF('Utilized-Interacted FAD-beacons'!J102<>\"\",'Utilized-Interacted FAD-beacons'!J102,0)","v":0},92,0,1001," ",null,0,92,0,1001," "]
[null,null,null,null,null,null,null,null,null,null,null,null,{"$f":"IF('Utilized-Interacted FAD-beacons'!C103<>\"\",'Utilized-Interacted FAD-beacons'!C103,0)","v":0},93,0,1001," ",null,{"$f":"IF('Utilized-Interacted FAD-beacons'!J103<>\"\",'Utilized-Interacted FAD-beacons'!J103,0)","v":0},93,0,1001," ",null,0,93,0,1001," "]
[null,null,null,null,null,null,null,null,null,null,null,null,{"$f":"IF('Utilized-Interacted FAD-beacons'!C104<>\"\",'Utilized-Interacted FAD-beacons'!C104,0)","v":0},94,0,1001," ",null,{"$f":"IF('Utilized-Interacted FAD-beacons'!J104<>\"\",'Utilized-Interacted FAD-beacons'!J104,0)","v":0},94,0,1001," ",null,0,94,0,1001," "]
[null,null,null,null,null,null,null,null,null,null,null,null,{"$f":"IF('Utilized-Interacted FAD-beacons'!C105<>\"\",'Utilized-Interacted FAD-beacons'!C105,0)","v":0},95,0,1001," ",null,{"$f":"IF('Utilized-Interacted FAD-beacons'!J105<>\"\",'Utilized-Interacted FAD-beacons'!J105,0)","v":0},95,0,1001," ",null,0,95,0,1001," "]
[null,null,null,null,null,null,null,null,null,null,null,null,{"$f":"IF('Utilized-Interacted FAD-beacons'!C106<>\"\",'Utilized-Interacted FAD-beacons'!C106,0)","v":0},96,0,1001," ",null,{"$f":"IF('Utilized-Interacted FAD-beacons'!J106<>\"\",'Utilized-Interacted FAD-beacons'!J106,0)","v":0},96,0,1001," ",null,0,96,0,1001," "]
[null,null,null,null,null,null,null,null,null,null,null,null,{"$f":"IF('Utilized-Interacted FAD-beacons'!C107<>\"\",'Utilized-Interacted FAD-beacons'!C107,0)","v":0},97,0,1001," ",null,{"$f":"IF('Utilized-Interacted FAD-beacons'!J107<>\"\",'Utilized-Interacted FAD-beacons'!J107,0)","v":0},97,0,1001," ",null,0,97,0,1001," "]
[null,null,null,null,null,null,null,null,null,null,null,null,{"$f":"IF('Utilized-Interacted FAD-beacons'!C108<>\"\",'Utilized-Interacted FAD-beacons'!C108,0)","v":0},98,0,1001," ",null,{"$f":"IF('Utilized-Interacted FAD-beacons'!J108<>\"\",'Utilized-Interacted FAD-beacons'!J108,0)","v":0},98,0,1001," ",null,0,98,0,1001," "]
[null,null,null,null,null,null,null,null,null,null,null,null,{"$f":"IF('Utilized-Interacted FAD-beacons'!C109<>\"\",'Utilized-Interacted FAD-beacons'!C109,0)","v":0},99,0,1001," ",null,{"$f":"IF('Utilized-Interacted FAD-beacons'!J109<>\"\",'Utilized-Interacted FAD-beacons'!J109,0)","v":0},99,0,1001," ",null,0,99,0,1001," "]
[null,null,null,null,null,null,null,null,null,null,null,null,{"$f":"IF('Utilized-Interacted FAD-beacons'!C110<>\"\",'Utilized-Interacted FAD-beacons'!C110,0)","v":0},100,0,1001," ",null,{"$f":"IF('Utilized-Interacted FAD-beacons'!J110<>\"\",'Utilized-Interacted FAD-beacons'!J110,0)","v":0},100,0,1001," ",null,0,100,0,1001," "]
[null,null,null,null,null,null,null,null,null,null,null,null,{"$f":"IF('Utilized-Interacted FAD-beacons'!C111<>\"\",'Utilized-Interacted FAD-beacons'!C111,0)","v":0},101,0,1001," ",null,{"$f":"IF('Utilized-Interacted FAD-beacons'!J111<>\"\",'Utilized-Interacted FAD-beacons'!J111,0)","v":0},101,0,1001," ",null,0,101,0,1001," "]
[null,null,null,null,null,null,null,null,null,null,null,null,{"$f":"IF('Utilized-Interacted FAD-beacons'!C112<>\"\",'Utilized-Interacted FAD-beacons'!C112,0)","v":0},102,0,1001," ",null,{"$f":"IF('Utilized-Interacted FAD-beacons'!J112<>\"\",'Utilized-Interacted FAD-beacons'!J112,0)","v":0},102,0,1001," ",null,0,102,0,1001," "]
[null,null,null,null,null,null,null,null,null,null,null,null,{"$f":"IF('Utilized-Interacted FAD-beacons'!C113<>\"\",'Utilized-Interacted FAD-beacons'!C113,0)","v":0},103,0,1001," ",null,{"$f":"IF('Utilized-Interacted FAD-beacons'!J113<>\"\",'Utilized-Interacted FAD-beacons'!J113,0)","v":0},103,0,1001," ",null,0,103,0,1001," "]
[null,null,null,null,null,null,null,null,null,null,null,null,{"$f":"IF('Utilized-Interacted FAD-beacons'!C114<>\"\",'Utilized-Interacted FAD-beacons'!C114,0)","v":0},104,0,1001," ",null,{"$f":"IF('Utilized-Interacted FAD-beacons'!J114<>\"\",'Utilized-Interacted FAD-beacons'!J114,0)","v":0},104,0,1001," ",null,0,104,0,1001," "]
[null,null,null,null,null,null,null,null,null,null,null,null,{"$f":"IF('Utilized-Interacted FAD-beacons'!C115<>\"\",'Utilized-Interacted FAD-beacons'!C115,0)","v":0},105,0,1001," ",null,{"$f":"IF('Utilized-Interacted FAD-beacons'!J115<>\"\",'Utilized-Interacted FAD-beacons'!J115,0)","v":0},105,0,1001," ",null,0,105,0,1001," "]
[null,null,null,null,null,null,null,null,null,null,null,null,{"$f":"IF('Utilized-Interacted FAD-beacons'!C116<>\"\",'Utilized-Interacted FAD-beacons'!C116,0)","v":0},106,0,1001," ",null,{"$f":"IF('Utilized-Interacted FAD-beacons'!J116<>\"\",'Utilized-Interacted FAD-beacons'!J116,0)","v":0},106,0,1001," ",null,0,106,0,1001," "]
[null,null,null,null,null,null,null,null,null,null,null,null,{"$f":"IF('Utilized-Interacted FAD-beacons'!C117<>\"\",'Utilized-Interacted FAD-beacons'!C117,0)","v":0},107,0,1001," ",null,{"$f":"IF('Utilized-Interacted FAD-beacons'!J117<>\"\",'Utilized-Interacted FAD-beacons'!J117,0)","v":0},107,0,1001," ",null,0,107,0,1001," "]
[null,null,null,null,null,null,null,null,null,null,null,null,{"$f":"IF('Utilized-Interacted FAD-beacons'!C118<>\"\",'Utilized-Interacted FAD-beacons'!C118,0)","v":0},108,0,1001," ",null,{"$f":"IF('Utilized-Interacted FAD-beacons'!J118<>\"\",'Utilized-Interacted FAD-beacons'!J118,0)","v":0},108,0,1001," ",null,0,108,0,1001," "]
[null,null,null,null,null,null,null,null,null,null,null,null,{"$f":"IF('Utilized-Interacted FAD-beacons'!C119<>\"\",'Utilized-Interacted FAD-beacons'!C119,0)","v":0},109,0,1001," ",null,{"$f":"IF('Utilized-Interacted FAD-beacons'!J119<>\"\",'Utilized-Interacted FAD-beacons'!J119,0)","v":0},109,0,1001," ",null,0,109,0,1001," "]
[null,null,null,null,null,null,null,null,null,null,null,null,{"$f":"IF('Utilized-Interacted FAD-beacons'!C120<>\"\",'Utilized-Interacted FAD-beacons'!C120,0)","v":0},110,0,1001," ",null,{"$f":"IF('Utilized-Interacted FAD-beacons'!J120<>\"\",'Utilized-Interacted FAD-beacons'!J120,0)","v":0},110,0,1001," ",null,0,110,0,1001," "]
[null,null,null,null,null,null,null,null,null,null,null,null,{"$f":"IF('Utilized-Interacted FAD-beacons'!C121<>\"\",'Utilized-Interacted FAD-beacons'!C121,0)","v":0},111,0,1001," ",null,{"$f":"IF('Utilized-Interacted FAD-beacons'!J121<>\"\",'Utilized-Interacted FAD-beacons'!J121,0)","v":0},111,0,1001," ",null,0,111,0,1001," "]
[null,null,null,null,null,null,null,null,null,null,null,null,{"$f":"IF('Utilized-Interacted FAD-beacons'!C122<>\"\",'Utilized-Interacted FAD-beacons'!C122,0)","v":0},112,0,1001," ",null,{"$f":"IF('Utilized-Interacted FAD-beacons'!J122<>\"\",'Utilized-Interacted FAD-beacons'!J122,0)","v":0},112,0,1001," ",null,0,112,0,1001," "]
[null,null,null,null,null,null,null,null,null,null,null,null,{"$f":"IF('Utilized-Interacted FAD-beacons'!C123<>\"\",'Utilized-Interacted FAD-beacons'!C123,0)","v":0},113,0,1001," ",null,{"$f":"IF('Utilized-Interacted FAD-beacons'!J123<>\"\",'Utilized-Interacted FAD-beacons'!J123,0)","v":0},113,0,1001," ",null,0,113,0,1001," "]
[null,null,null,null,null,null,null,null,null,null,null,null,{"$f":"IF('Utilized-Interacted FAD-beacons'!C124<>\"\",'Utilized-Interacted FAD-beacons'!C124,0)","v":0},114,0,1001," ",null,{"$f":"IF('Utilized-Interacted FAD-beacons'!J124<>\"\",'Utilized-Interacted FAD-beacons'!J124,0)","v":0},114,0,1001," ",null,0,114,0,1001," "]
[null,null,null,null,null,null,null,null,null,null,null,null,{"$f":"IF('Utilized-Interacted FAD-beacons'!C125<>\"\",'Utilized-Interacted FAD-beacons'!C125,0)","v":0},115,0,1001," ",null,{"$f":"IF('Utilized-Interacted FAD-beacons'!J125<>\"\",'Utilized-Interacted FAD-beacons'!J125,0)","v":0},115,0,1001," ",null,0,115,0,1001," "]
[null,null,null,null,null,null,null,null,null,null,null,null,{"$f":"IF('Utilized-Interacted FAD-beacons'!C126<>\"\",'Utilized-Interacted FAD-beacons'!C126,0)","v":0},116,0,1001," ",null,{"$f":"IF('Utilized-Interacted FAD-beacons'!J126<>\"\",'Utilized-Interacted FAD-beacons'!J126,0)","v":0},116,0,1001," ",null,0,116,0,1001," "]
[null,null,null,null,null,null,null,null,null,null,null,null,{"$f":"IF('Utilized-Interacted FAD-beacons'!C127<>\"\",'Utilized-Interacted FAD-beacons'!C127,0)","v":0},117,0,1001," ",null,{"$f":"IF('Utilized-Interacted FAD-beacons'!J127<>\"\",'Utilized-Interacted FAD-beacons'!J127,0)","v":0},117,0,1001," ",null,0,117,0,1001," "]
[null,null,null,null,null,null,null,null,null,null,null,null,{"$f":"IF('Utilized-Interacted FAD-beacons'!C128<>\"\",'Utilized-Interacted FAD-beacons'!C128,0)","v":0},118,0,1001," ",null,{"$f":"IF('Utilized-Interacted FAD-beacons'!J128<>\"\",'Utilized-Interacted FAD-beacons'!J128,0)","v":0},118,0,1001," ",null,0,118,0,1001," "]
[null,null,null,null,null,null,null,null,null,null,null,null,{"$f":"IF('Utilized-Interacted FAD-beacons'!C129<>\"\",'Utilized-Interacted FAD-beacons'!C129,0)","v":0},119,0,1001," ",null,{"$f":"IF('Utilized-Interacted FAD-beacons'!J129<>\"\",'Utilized-Interacted FAD-beacons'!J129,0)","v":0},119,0,1001," ",null,0,119,0,1001," "]
[null,null,null,null,null,null,null,null,null,null,null,null,{"$f":"IF('Utilized-Interacted FAD-beacons'!C130<>\"\",'Utilized-Interacted FAD-beacons'!C130,0)","v":0},120,0,1001," ",null,{"$f":"IF('Utilized-Interacted FAD-beacons'!J130<>\"\",'Utilized-Interacted FAD-beacons'!J130,0)","v":0},120,0,1001," ",null,0,120,0,1001," "]
[null,null,null,null,null,null,null,null,null,null,null,null,{"$f":"IF('Utilized-Interacted FAD-beacons'!C131<>\"\",'Utilized-Interacted FAD-beacons'!C131,0)","v":0},121,0,1001," ",null,{"$f":"IF('Utilized-Interacted FAD-beacons'!J131<>\"\",'Utilized-Interacted FAD-beacons'!J131,0)","v":0},121,0,1001," ",null,0,121,0,1001," "]
[null,null,null,null,null,null,null,null,null,null,null,null,{"$f":"IF('Utilized-Interacted FAD-beacons'!C132<>\"\",'Utilized-Interacted FAD-beacons'!C132,0)","v":0},122,0,1001," ",null,{"$f":"IF('Utilized-Interacted FAD-beacons'!J132<>\"\",'Utilized-Interacted FAD-beacons'!J132,0)","v":0},122,0,1001," ",null,0,122,0,1001," "]
[null,null,null,null,null,null,null,null,null,null,null,null,{"$f":"IF('Utilized-Interacted FAD-beacons'!C133<>\"\",'Utilized-Interacted FAD-beacons'!C133,0)","v":0},123,0,1001," ",null,{"$f":"IF('Utilized-Interacted FAD-beacons'!J133<>\"\",'Utilized-Interacted FAD-beacons'!J133,0)","v":0},123,0,1001," ",null,0,123,0,1001," "]
[null,null,null,null,null,null,null,null,null,null,null,null,{"$f":"IF('Utilized-Interacted FAD-beacons'!C134<>\"\",'Utilized-Interacted FAD-beacons'!C134,0)","v":0},124,0,1001," ",null,{"$f":"IF('Utilized-Interacted FAD-beacons'!J134<>\"\",'Utilized-Interacted FAD-beacons'!J134,0)","v":0},124,0,1001," ",null,0,124,0,1001," "]
[null,null,null,null,null,null,null,null,null,null,null,null,{"$f":"IF('Utilized-Interacted FAD-beacons'!C135<>\"\",'Utilized-Interacted FAD-beacons'!C135,0)","v":0},125,0,1001," ",null,{"$f":"IF('Utilized-Interacted FAD-beacons'!J135<>\"\",'Utilized-Interacted FAD-beacons'!J135,0)","v":0},125,0,1001," ",null,0,125,0,1001," "]
[null,null,null,null,null,null,null,null,null,null,null,null,{"$f":"IF('Utilized-Interacted FAD-beacons'!C136<>\"\",'Utilized-Interacted FAD-beacons'!C136,0)","v":0},126,0,1001," ",null,{"$f":"IF('Utilized-Interacted FAD-beacons'!J136<>\"\",'Utilized-Interacted FAD-beacons'!J136,0)","v":0},126,0,1001," ",null,0,126,0,1001," "]
[null,null,null,null,null,null,null,null,null,null,null,null,{"$f":"IF('Utilized-Interacted FAD-beacons'!C137<>\"\",'Utilized-Interacted FAD-beacons'!C137,0)","v":0},127,0,1001," ",null,{"$f":"IF('Utilized-Interacted FAD-beacons'!J137<>\"\",'Utilized-Interacted FAD-beacons'!J137,0)","v":0},127,0,1001," ",null,0,127,0,1001," "]
[null,null,null,null,null,null,null,null,null,null,null,null,{"$f":"IF('Utilized-Interacted FAD-beacons'!C138<>\"\",'Utilized-Interacted FAD-beacons'!C138,0)","v":0},128,0,1001," ",null,{"$f":"IF('Utilized-Interacted FAD-beacons'!J138<>\"\",'Utilized-Interacted FAD-beacons'!J138,0)","v":0},128,0,1001," ",null,0,128,0,1001," "]
[null,null,null,null,null,null,null,null,null,null,null,null,{"$f":"IF('Utilized-Interacted FAD-beacons'!C139<>\"\",'Utilized-Interacted FAD-beacons'!C139,0)","v":0},129,0,1001,{"$f":"IFERROR(VLOOKUP(SMALL($P$6:$P$1005,N134),$N$6:$O$1005,2,FALSE),\" \")","v":" "},null,{"$f":"IF('Utilized-Interacted FAD-beacons'!J139<>\"\",'Utilized-Interacted FAD-beacons'!J139,0)","v":0},129,0,1001,{"$f":"IFERROR(VLOOKUP(SMALL($V$6:$V$1005,T134),$T$6:$U$1005,2,FALSE),\" \")","v":" "},null,0,129,0,1001,{"$f":"IFERROR(VLOOKUP(SMALL($AB$6:$AB$1005,Z134),$Z$6:$AA$1005,2,FALSE),\" \")","v":" "}]
[null,null,null,null,null,null,null,null,null,null,null,null,{"$f":"IF('Utilized-Interacted FAD-beacons'!C140<>\"\",'Utilized-Interacted FAD-beacons'!C140,0)","v":0},130,{"$f":"M135","v":0},{"$f":"IF(O135=0,MAX($N$6:$N$1005)+1,N135)","v":1001}," ",null,{"$f":"IF('Utilized-Interacted FAD-beacons'!J140<>\"\",'Utilized-Interacted FAD-beacons'!J140,0)","v":0},130,{"$f":"S135","v":0},{"$f":"IF(U135=0,MAX($T$6:$T$1005)+1,T135)","v":1001}," ",null,{"$f":"IF(AND(M135=0,S135=0),0,IF(AND(M135<>0,S135=0),M135,IF(AND(M135=0,S135<>0),S135,IF(AND(M135<>0,S135<>0),(CONCATENATE(M135,S135))))))","v":0},130,{"$f":"Y135","v":0},{"$f":"IF(AA135=0,MAX($Z$6:$Z$1005)+1,Z135)","v":1001}," "]
[null,null,null,null,null,null,null,null,null,null,null,null,{"$f":"IF('Utilized-Interacted FAD-beacons'!C141<>\"\",'Utilized-Interacted FAD-beacons'!C141,0)","v":0},131,0,1001," ",null,{"$f":"IF('Utilized-Interacted FAD-beacons'!J141<>\"\",'Utilized-Interacted FAD-beacons'!J141,0)","v":0},131,0,1001," ",null,0,131,0,1001," "]
[null,null,null,null,null,null,null,null,null,null,null,null,{"$f":"IF('Utilized-Interacted FAD-beacons'!C142<>\"\",'Utilized-Interacted FAD-beacons'!C142,0)","v":0},132,0,1001," ",null,{"$f":"IF('Utilized-Interacted FAD-beacons'!J142<>\"\",'Utilized-Interacted FAD-beacons'!J142,0)","v":0},132,0,1001," ",null,0,132,0,1001," "]
[null,null,null,null,null,null,null,null,null,null,null,null,{"$f":"IF('Utilized-Interacted FAD-beacons'!C143<>\"\",'Utilized-Interacted FAD-beacons'!C143,0)","v":0},133,0,1001," ",null,{"$f":"IF('Utilized-Interacted FAD-beacons'!J143<>\"\",'Utilized-Interacted FAD-beacons'!J143,0)","v":0},133,0,1001," ",null,0,133,0,1001," "]
[null,null,null,null,null,null,null,null,null,null,null,null,{"$f":"IF('Utilized-Interacted FAD-beacons'!C144<>\"\",'Utilized-Interacted FAD-beacons'!C144,0)","v":0},134,0,1001," ",null,{"$f":"IF('Utilized-Interacted FAD-beacons'!J144<>\"\",'Utilized-Interacted FAD-beacons'!J144,0)","v":0},134,0,1001," ",null,0,134,0,1001," "]
[null,null,null,null,null,null,null,null,null,null,null,null,{"$f":"IF('Utilized-Interacted FAD-beacons'!C145<>\"\",'Utilized-Interacted FAD-beacons'!C145,0)","v":0},135,0,1001," ",null,{"$f":"IF('Utilized-Interacted FAD-beacons'!J145<>\"\",'Utilized-Interacted FAD-beacons'!J145,0)","v":0},135,0,1001," ",null,0,135,0,1001," "]
[null,null,null,null,null,null,null,null,null,null,null,null,{"$f":"IF('Utilized-Interacted FAD-beacons'!C146<>\"\",'Utilized-Interacted FAD-beacons'!C146,0)","v":0},136,0,1001," ",null,{"$f":"IF('Utilized-Interacted FAD-beacons'!J146<>\"\",'Utilized-Interacted FAD-beacons'!J146,0)","v":0},136,0,1001," ",null,0,136,0,1001," "]
[null,null,null,null,null,null,null,null,null,null,null,null,{"$f":"IF('Utilized-Interacted FAD-beacons'!C147<>\"\",'Utilized-Interacted FAD-beacons'!C147,0)","v":0},137,0,1001," ",null,{"$f":"IF('Utilized-Interacted FAD-beacons'!J147<>\"\",'Utilized-Interacted FAD-beacons'!J147,0)","v":0},137,0,1001," ",null,0,137,0,1001," "]
[null,null,null,null,null,null,null,null,null,null,null,null,{"$f":"IF('Utilized-Interacted FAD-beacons'!C148<>\"\",'Utilized-Interacted FAD-beacons'!C148,0)","v":0},138,0,1001," ",null,{"$f":"IF('Utilized-Interacted FAD-beacons'!J148<>\"\",'Utilized-Interacted FAD-beacons'!J148,0)","v":0},138,0,1001," ",null,0,138,0,1001," "]
[null,null,null,null,null,null,null,null,null,null,null,null,{"$f":"IF('Utilized-Interacted FAD-beacons'!C149<>\"\",'Utilized-Interacted FAD-beacons'!C149,0)","v":0},139,0,1001," ",null,{"$f":"IF('Utilized-Interacted FAD-beacons'!J149<>\"\",'Utilized-Interacted FAD-beacons'!J149,0)","v":0},139,0,1001," ",null,0,139,0,1001," "]
[null,null,null,null,null,null,null,null,null,null,null,null,{"$f":"IF('Utilized-Interacted FAD-beacons'!C150<>\"\",'Utilized-Interacted FAD-beacons'!C150,0)","v":0},140,0,1001," ",null,{"$f":"IF('Utilized-Interacted FAD-beacons'!J150<>\"\",'Utilized-Interacted FAD-beacons'!J150,0)","v":0},140,0,1001," ",null,0,140,0,1001," "]
[null,null,null,null,null,null,null,null,null,null,null,null,{"$f":"IF('Utilized-Interacted FAD-beacons'!C151<>\"\",'Utilized-Interacted FAD-beacons'!C151,0)","v":0},141,0,1001," ",null,{"$f":"IF('Utilized-Interacted FAD-beacons'!J151<>\"\",'Utilized-Interacted FAD-beacons'!J151,0)","v":0},141,0,1001," ",null,0,141,0,1001," "]
[null,null,null,null,null,null,null,null,null,null,null,null,{"$f":"IF('Utilized-Interacted FAD-beacons'!C152<>\"\",'Utilized-Interacted FAD-beacons'!C152,0)","v":0},142,0,1001," ",null,{"$f":"IF('Utilized-Interacted FAD-beacons'!J152<>\"\",'Utilized-Interacted FAD-beacons'!J152,0)","v":0},142,0,1001," ",null,0,142,0,1001," "]
[null,null,null,null,null,null,null,null,null,null,null,null,{"$f":"IF('Utilized-Interacted FAD-beacons'!C153<>\"\",'Utilized-Interacted FAD-beacons'!C153,0)","v":0},143,0,1001," ",null,{"$f":"IF('Utilized-Interacted FAD-beacons'!J153<>\"\",'Utilized-Interacted FAD-beacons'!J153,0)","v":0},143,0,1001," ",null,0,143,0,1001," "]
[null,null,null,null,null,null,null,null,null,null,null,null,{"$f":"IF('Utilized-Interacted FAD-beacons'!C154<>\"\",'Utilized-Interacted FAD-beacons'!C154,0)","v":0},144,0,1001," ",null,{"$f":"IF('Utilized-Interacted FAD-beacons'!J154<>\"\",'Utilized-Interacted FAD-beacons'!J154,0)","v":0},144,0,1001," ",null,0,144,0,1001," "]
[null,null,null,null,null,null,null,null,null,null,null,null,{"$f":"IF('Utilized-Interacted FAD-beacons'!C155<>\"\",'Utilized-Interacted FAD-beacons'!C155,0)","v":0},145,0,1001," ",null,{"$f":"IF('Utilized-Interacted FAD-beacons'!J155<>\"\",'Utilized-Interacted FAD-beacons'!J155,0)","v":0},145,0,1001," ",null,0,145,0,1001," "]
[null,null,null,null,null,null,null,null,null,null,null,null,{"$f":"IF('Utilized-Interacted FAD-beacons'!C156<>\"\",'Utilized-Interacted FAD-beacons'!C156,0)","v":0},146,0,1001," ",null,{"$f":"IF('Utilized-Interacted FAD-beacons'!J156<>\"\",'Utilized-Interacted FAD-beacons'!J156,0)","v":0},146,0,1001," ",null,0,146,0,1001," "]
[null,null,null,null,null,null,null,null,null,null,null,null,{"$f":"IF('Utilized-Interacted FAD-beacons'!C157<>\"\",'Utilized-Interacted FAD-beacons'!C157,0)","v":0},147,0,1001," ",null,{"$f":"IF('Utilized-Interacted FAD-beacons'!J157<>\"\",'Utilized-Interacted FAD-beacons'!J157,0)","v":0},147,0,1001," ",null,0,147,0,1001," "]
[null,null,null,null,null,null,null,null,null,null,null,null,{"$f":"IF('Utilized-Interacted FAD-beacons'!C158<>\"\",'Utilized-Interacted FAD-beacons'!C158,0)","v":0},148,0,1001," ",null,{"$f":"IF('Utilized-Interacted FAD-beacons'!J158<>\"\",'Utilized-Interacted FAD-beacons'!J158,0)","v":0},148,0,1001," ",null,0,148,0,1001," "]
[null,null,null,null,null,null,null,null,null,null,null,null,{"$f":"IF('Utilized-Interacted FAD-beacons'!C159<>\"\",'Utilized-Interacted FAD-beacons'!C159,0)","v":0},149,0,1001," ",null,{"$f":"IF('Utilized-Interacted FAD-beacons'!J159<>\"\",'Utilized-Interacted FAD-beacons'!J159,0)","v":0},149,0,1001," ",null,0,149,0,1001," "]
[null,null,null,null,null,null,null,null,null,null,null,null,{"$f":"IF('Utilized-Interacted FAD-beacons'!C160<>\"\",'Utilized-Interacted FAD-beacons'!C160,0)","v":0},150,0,1001," ",null,{"$f":"IF('Utilized-Interacted FAD-beacons'!J160<>\"\",'Utilized-Interacted FAD-beacons'!J160,0)","v":0},150,0,1001," ",null,0,150,0,1001," "]
[null,null,null,null,null,null,null,null,null,null,null,null,{"$f":"IF('Utilized-Interacted FAD-beacons'!C161<>\"\",'Utilized-Interacted FAD-beacons'!C161,0)","v":0},151,0,1001," ",null,{"$f":"IF('Utilized-Interacted FAD-beacons'!J161<>\"\",'Utilized-Interacted FAD-beacons'!J161,0)","v":0},151,0,1001," ",null,0,151,0,1001," "]
[null,null,null,null,null,null,null,null,null,null,null,null,{"$f":"IF('Utilized-Interacted FAD-beacons'!C162<>\"\",'Utilized-Interacted FAD-beacons'!C162,0)","v":0},152,0,1001," ",null,{"$f":"IF('Utilized-Interacted FAD-beacons'!J162<>\"\",'Utilized-Interacted FAD-beacons'!J162,0)","v":0},152,0,1001," ",null,0,152,0,1001," "]
[null,null,null,null,null,null,null,null,null,null,null,null,{"$f":"IF('Utilized-Interacted FAD-beacons'!C163<>\"\",'Utilized-Interacted FAD-beacons'!C163,0)","v":0},153,0,1001," ",null,{"$f":"IF('Utilized-Interacted FAD-beacons'!J163<>\"\",'Utilized-Interacted FAD-beacons'!J163,0)","v":0},153,0,1001," ",null,0,153,0,1001," "]
[null,null,null,null,null,null,null,null,null,null,null,null,{"$f":"IF('Utilized-Interacted FAD-beacons'!C164<>\"\",'Utilized-Interacted FAD-beacons'!C164,0)","v":0},154,0,1001," ",null,{"$f":"IF('Utilized-Interacted FAD-beacons'!J164<>\"\",'Utilized-Interacted FAD-beacons'!J164,0)","v":0},154,0,1001," ",null,0,154,0,1001," "]
[null,null,null,null,null,null,null,null,null,null,null,null,{"$f":"IF('Utilized-Interacted FAD-beacons'!C165<>\"\",'Utilized-Interacted FAD-beacons'!C165,0)","v":0},155,0,1001," ",null,{"$f":"IF('Utilized-Interacted FAD-beacons'!J165<>\"\",'Utilized-Interacted FAD-beacons'!J165,0)","v":0},155,0,1001," ",null,0,155,0,1001," "]
[null,null,null,null,null,null,null,null,null,null,null,null,{"$f":"IF('Utilized-Interacted FAD-beacons'!C166<>\"\",'Utilized-Interacted FAD-beacons'!C166,0)","v":0},156,0,1001," ",null,{"$f":"IF('Utilized-Interacted FAD-beacons'!J166<>\"\",'Utilized-Interacted FAD-beacons'!J166,0)","v":0},156,0,1001," ",null,0,156,0,1001," "]
[null,null,null,null,null,null,null,null,null,null,null,null,{"$f":"IF('Utilized-Interacted FAD-beacons'!C167<>\"\",'Utilized-Interacted FAD-beacons'!C167,0)","v":0},157,0,1001," ",null,{"$f":"IF('Utilized-Interacted FAD-beacons'!J167<>\"\",'Utilized-Interacted FAD-beacons'!J167,0)","v":0},157,0,1001," ",null,0,157,0,1001," "]
[null,null,null,null,null,null,null,null,null,null,null,null,{"$f":"IF('Utilized-Interacted FAD-beacons'!C168<>\"\",'Utilized-Interacted FAD-beacons'!C168,0)","v":0},158,0,1001," ",null,{"$f":"IF('Utilized-Interacted FAD-beacons'!J168<>\"\",'Utilized-Interacted FAD-beacons'!J168,0)","v":0},158,0,1001," ",null,0,158,0,1001," "]
[null,null,null,null,null,null,null,null,null,null,null,null,{"$f":"IF('Utilized-Interacted FAD-beacons'!C169<>\"\",'Utilized-Interacted FAD-beacons'!C169,0)","v":0},159,0,1001," ",null,{"$f":"IF('Utilized-Interacted FAD-beacons'!J169<>\"\",'Utilized-Interacted FAD-beacons'!J169,0)","v":0},159,0,1001," ",null,0,159,0,1001," "]
[null,null,null,null,null,null,null,null,null,null,null,null,{"$f":"IF('Utilized-Interacted FAD-beacons'!C170<>\"\",'Utilized-Interacted FAD-beacons'!C170,0)","v":0},160,0,1001," ",null,{"$f":"IF('Utilized-Interacted FAD-beacons'!J170<>\"\",'Utilized-Interacted FAD-beacons'!J170,0)","v":0},160,0,1001," ",null,0,160,0,1001," "]
[null,null,null,null,null,null,null,null,null,null,null,null,{"$f":"IF('Utilized-Interacted FAD-beacons'!C171<>\"\",'Utilized-Interacted FAD-beacons'!C171,0)","v":0},161,0,1001," ",null,{"$f":"IF('Utilized-Interacted FAD-beacons'!J171<>\"\",'Utilized-Interacted FAD-beacons'!J171,0)","v":0},161,0,1001," ",null,0,161,0,1001," "]
[null,null,null,null,null,null,null,null,null,null,null,null,{"$f":"IF('Utilized-Interacted FAD-beacons'!C172<>\"\",'Utilized-Interacted FAD-beacons'!C172,0)","v":0},162,0,1001," ",null,{"$f":"IF('Utilized-Interacted FAD-beacons'!J172<>\"\",'Utilized-Interacted FAD-beacons'!J172,0)","v":0},162,0,1001," ",null,0,162,0,1001," "]
[null,null,null,null,null,null,null,null,null,null,null,null,{"$f":"IF('Utilized-Interacted FAD-beacons'!C173<>\"\",'Utilized-Interacted FAD-beacons'!C173,0)","v":0},163,0,1001," ",null,{"$f":"IF('Utilized-Interacted FAD-beacons'!J173<>\"\",'Utilized-Interacted FAD-beacons'!J173,0)","v":0},163,0,1001," ",null,0,163,0,1001," "]
[null,null,null,null,null,null,null,null,null,null,null,null,{"$f":"IF('Utilized-Interacted FAD-beacons'!C174<>\"\",'Utilized-Interacted FAD-beacons'!C174,0)","v":0},164,0,1001," ",null,{"$f":"IF('Utilized-Interacted FAD-beacons'!J174<>\"\",'Utilized-Interacted FAD-beacons'!J174,0)","v":0},164,0,1001," ",null,0,164,0,1001," "]
[null,null,null,null,null,null,null,null,null,null,null,null,{"$f":"IF('Utilized-Interacted FAD-beacons'!C175<>\"\",'Utilized-Interacted FAD-beacons'!C175,0)","v":0},165,0,1001," ",null,{"$f":"IF('Utilized-Interacted FAD-beacons'!J175<>\"\",'Utilized-Interacted FAD-beacons'!J175,0)","v":0},165,0,1001," ",null,0,165,0,1001," "]
[null,null,null,null,null,null,null,null,null,null,null,null,{"$f":"IF('Utilized-Interacted FAD-beacons'!C176<>\"\",'Utilized-Interacted FAD-beacons'!C176,0)","v":0},166,0,1001," ",null,{"$f":"IF('Utilized-Interacted FAD-beacons'!J176<>\"\",'Utilized-Interacted FAD-beacons'!J176,0)","v":0},166,0,1001," ",null,0,166,0,1001," "]
[null,null,null,null,null,null,null,null,null,null,null,null,{"$f":"IF('Utilized-Interacted FAD-beacons'!C177<>\"\",'Utilized-Interacted FAD-beacons'!C177,0)","v":0},167,0,1001," ",null,{"$f":"IF('Utilized-Interacted FAD-beacons'!J177<>\"\",'Utilized-Interacted FAD-beacons'!J177,0)","v":0},167,0,1001," ",null,0,167,0,1001," "]
[null,null,null,null,null,null,null,null,null,null,null,null,{"$f":"IF('Utilized-Interacted FAD-beacons'!C178<>\"\",'Utilized-Interacted FAD-beacons'!C178,0)","v":0},168,0,1001," ",null,{"$f":"IF('Utilized-Interacted FAD-beacons'!J178<>\"\",'Utilized-Interacted FAD-beacons'!J178,0)","v":0},168,0,1001," ",null,0,168,0,1001," "]
[null,null,null,null,null,null,null,null,null,null,null,null,{"$f":"IF('Utilized-Interacted FAD-beacons'!C179<>\"\",'Utilized-Interacted FAD-beacons'!C179,0)","v":0},169,0,1001," ",null,{"$f":"IF('Utilized-Interacted FAD-beacons'!J179<>\"\",'Utilized-Interacted FAD-beacons'!J179,0)","v":0},169,0,1001," ",null,0,169,0,1001," "]
[null,null,null,null,null,null,null,null,null,null,null,null,{"$f":"IF('Utilized-Interacted FAD-beacons'!C180<>\"\",'Utilized-Interacted FAD-beacons'!C180,0)","v":0},170,0,1001," ",null,{"$f":"IF('Utilized-Interacted FAD-beacons'!J180<>\"\",'Utilized-Interacted FAD-beacons'!J180,0)","v":0},170,0,1001," ",null,0,170,0,1001," "]
[null,null,null,null,null,null,null,null,null,null,null,null,{"$f":"IF('Utilized-Interacted FAD-beacons'!C181<>\"\",'Utilized-Interacted FAD-beacons'!C181,0)","v":0},171,0,1001," ",null,{"$f":"IF('Utilized-Interacted FAD-beacons'!J181<>\"\",'Utilized-Interacted FAD-beacons'!J181,0)","v":0},171,0,1001," ",null,0,171,0,1001," "]
[null,null,null,null,null,null,null,null,null,null,null,null,{"$f":"IF('Utilized-Interacted FAD-beacons'!C182<>\"\",'Utilized-Interacted FAD-beacons'!C182,0)","v":0},172,0,1001," ",null,{"$f":"IF('Utilized-Interacted FAD-beacons'!J182<>\"\",'Utilized-Interacted FAD-beacons'!J182,0)","v":0},172,0,1001," ",null,0,172,0,1001," "]
[null,null,null,null,null,null,null,null,null,null,null,null,{"$f":"IF('Utilized-Interacted FAD-beacons'!C183<>\"\",'Utilized-Interacted FAD-beacons'!C183,0)","v":0},173,0,1001," ",null,{"$f":"IF('Utilized-Interacted FAD-beacons'!J183<>\"\",'Utilized-Interacted FAD-beacons'!J183,0)","v":0},173,0,1001," ",null,0,173,0,1001," "]
[null,null,null,null,null,null,null,null,null,null,null,null,{"$f":"IF('Utilized-Interacted FAD-beacons'!C184<>\"\",'Utilized-Interacted FAD-beacons'!C184,0)","v":0},174,0,1001," ",null,{"$f":"IF('Utilized-Interacted FAD-beacons'!J184<>\"\",'Utilized-Interacted FAD-beacons'!J184,0)","v":0},174,0,1001," ",null,0,174,0,1001," "]
[null,null,null,null,null,null,null,null,null,null,null,null,{"$f":"IF('Utilized-Interacted FAD-beacons'!C185<>\"\",'Utilized-Interacted FAD-beacons'!C185,0)","v":0},175,0,1001," ",null,{"$f":"IF('Utilized-Interacted FAD-beacons'!J185<>\"\",'Utilized-Interacted FAD-beacons'!J185,0)","v":0},175,0,1001," ",null,0,175,0,1001," "]
[null,null,null,null,null,null,null,null,null,null,null,null,{"$f":"IF('Utilized-Interacted FAD-beacons'!C186<>\"\",'Utilized-Interacted FAD-beacons'!C186,0)","v":0},176,0,1001," ",null,{"$f":"IF('Utilized-Interacted FAD-beacons'!J186<>\"\",'Utilized-Interacted FAD-beacons'!J186,0)","v":0},176,0,1001," ",null,0,176,0,1001," "]
[null,null,null,null,null,null,null,null,null,null,null,null,{"$f":"IF('Utilized-Interacted FAD-beacons'!C187<>\"\",'Utilized-Interacted FAD-beacons'!C187,0)","v":0},177,0,1001," ",null,{"$f":"IF('Utilized-Interacted FAD-beacons'!J187<>\"\",'Utilized-Interacted FAD-beacons'!J187,0)","v":0},177,0,1001," ",null,0,177,0,1001," "]
[null,null,null,null,null,null,null,null,null,null,null,null,{"$f":"IF('Utilized-Interacted FAD-beacons'!C188<>\"\",'Utilized-Interacted FAD-beacons'!C188,0)","v":0},178,0,1001," ",null,{"$f":"IF('Utilized-Interacted FAD-beacons'!J188<>\"\",'Utilized-Interacted FAD-beacons'!J188,0)","v":0},178,0,1001," ",null,0,178,0,1001," "]
[null,null,null,null,null,null,null,null,null,null,null,null,{"$f":"IF('Utilized-Interacted FAD-beacons'!C189<>\"\",'Utilized-Interacted FAD-beacons'!C189,0)","v":0},179,0,1001," ",null,{"$f":"IF('Utilized-Interacted FAD-beacons'!J189<>\"\",'Utilized-Interacted FAD-beacons'!J189,0)","v":0},179,0,1001," ",null,0,179,0,1001," "]
[null,null,null,null,null,null,null,null,null,null,null,null,{"$f":"IF('Utilized-Interacted FAD-beacons'!C190<>\"\",'Utilized-Interacted FAD-beacons'!C190,0)","v":0},180,0,1001," ",null,{"$f":"IF('Utilized-Interacted FAD-beacons'!J190<>\"\",'Utilized-Interacted FAD-beacons'!J190,0)","v":0},180,0,1001," ",null,0,180,0,1001," "]
[null,null,null,null,null,null,null,null,null,null,null,null,{"$f":"IF('Utilized-Interacted FAD-beacons'!C191<>\"\",'Utilized-Interacted FAD-beacons'!C191,0)","v":0},181,0,1001," ",null,{"$f":"IF('Utilized-Interacted FAD-beacons'!J191<>\"\",'Utilized-Interacted FAD-beacons'!J191,0)","v":0},181,0,1001," ",null,0,181,0,1001," "]
[null,null,null,null,null,null,null,null,null,null,null,null,{"$f":"IF('Utilized-Interacted FAD-beacons'!C192<>\"\",'Utilized-Interacted FAD-beacons'!C192,0)","v":0},182,0,1001," ",null,{"$f":"IF('Utilized-Interacted FAD-beacons'!J192<>\"\",'Utilized-Interacted FAD-beacons'!J192,0)","v":0},182,0,1001," ",null,0,182,0,1001," "]
[null,null,null,null,null,null,null,null,null,null,null,null,{"$f":"IF('Utilized-Interacted FAD-beacons'!C193<>\"\",'Utilized-Interacted FAD-beacons'!C193,0)","v":0},183,0,1001," ",null,{"$f":"IF('Utilized-Interacted FAD-beacons'!J193<>\"\",'Utilized-Interacted FAD-beacons'!J193,0)","v":0},183,0,1001," ",null,0,183,0,1001," "]
[null,null,null,null,null,null,null,null,null,null,null,null,{"$f":"IF('Utilized-Interacted FAD-beacons'!C194<>\"\",'Utilized-Interacted FAD-beacons'!C194,0)","v":0},184,0,1001," ",null,{"$f":"IF('Utilized-Interacted FAD-beacons'!J194<>\"\",'Utilized-Interacted FAD-beacons'!J194,0)","v":0},184,0,1001," ",null,0,184,0,1001," "]
[null,null,null,null,null,null,null,null,null,null,null,null,{"$f":"IF('Utilized-Interacted FAD-beacons'!C195<>\"\",'Utilized-Interacted FAD-beacons'!C195,0)","v":0},185,0,1001," ",null,{"$f":"IF('Utilized-Interacted FAD-beacons'!J195<>\"\",'Utilized-Interacted FAD-beacons'!J195,0)","v":0},185,0,1001," ",null,0,185,0,1001," "]
[null,null,null,null,null,null,null,null,null,null,null,null,{"$f":"IF('Utilized-Interacted FAD-beacons'!C196<>\"\",'Utilized-Interacted FAD-beacons'!C196,0)","v":0},186,0,1001," ",null,{"$f":"IF('Utilized-Interacted FAD-beacons'!J196<>\"\",'Utilized-Interacted FAD-beacons'!J196,0)","v":0},186,0,1001," ",null,0,186,0,1001," "]
[null,null,null,null,null,null,null,null,null,null,null,null,{"$f":"IF('Utilized-Interacted FAD-beacons'!C197<>\"\",'Utilized-Interacted FAD-beacons'!C197,0)","v":0},187,0,1001," ",null,{"$f":"IF('Utilized-Interacted FAD-beacons'!J197<>\"\",'Utilized-Interacted FAD-beacons'!J197,0)","v":0},187,0,1001," ",null,0,187,0,1001," "]
[null,null,null,null,null,null,null,null,null,null,null,null,{"$f":"IF('Utilized-Interacted FAD-beacons'!C198<>\"\",'Utilized-Interacted FAD-beacons'!C198,0)","v":0},188,0,1001," ",null,{"$f":"IF('Utilized-Interacted FAD-beacons'!J198<>\"\",'Utilized-Interacted FAD-beacons'!J198,0)","v":0},188,0,1001," ",null,0,188,0,1001," "]
[null,null,null,null,null,null,null,null,null,null,null,null,{"$f":"IF('Utilized-Interacted FAD-beacons'!C199<>\"\",'Utilized-Interacted FAD-beacons'!C199,0)","v":0},189,0,1001," ",null,{"$f":"IF('Utilized-Interacted FAD-beacons'!J199<>\"\",'Utilized-Interacted FAD-beacons'!J199,0)","v":0},189,0,1001," ",null,0,189,0,1001," "]
[null,null,null,null,null,null,null,null,null,null,null,null,{"$f":"IF('Utilized-Interacted FAD-beacons'!C200<>\"\",'Utilized-Interacted FAD-beacons'!C200,0)","v":0},190,0,1001," ",null,{"$f":"IF('Utilized-Interacted FAD-beacons'!J200<>\"\",'Utilized-Interacted FAD-beacons'!J200,0)","v":0},190,0,1001," ",null,0,190,0,1001," "]
[null,null,null,null,null,null,null,null,null,null,null,null,{"$f":"IF('Utilized-Interacted FAD-beacons'!C201<>\"\",'Utilized-Interacted FAD-beacons'!C201,0)","v":0},191,0,1001," ",null,{"$f":"IF('Utilized-Interacted FAD-beacons'!J201<>\"\",'Utilized-Interacted FAD-beacons'!J201,0)","v":0},191,0,1001," ",null,0,191,0,1001," "]
[null,null,null,null,null,null,null,null,null,null,null,null,{"$f":"IF('Utilized-Interacted FAD-beacons'!C202<>\"\",'Utilized-Interacted FAD-beacons'!C202,0)","v":0},192,0,1001," ",null,{"$f":"IF('Utilized-Interacted FAD-beacons'!J202<>\"\",'Utilized-Interacted FAD-beacons'!J202,0)","v":0},192,0,1001," ",null,0,192,0,1001," "]
[null,null,null,null,null,null,null,null,null,null,null,null,{"$f":"IF('Utilized-Interacted FAD-beacons'!C203<>\"\",'Utilized-Interacted FAD-beacons'!C203,0)","v":0},193,0,1001,{"$f":"IFERROR(VLOOKUP(SMALL($P$6:$P$1005,N198),$N$6:$O$1005,2,FALSE),\" \")","v":" "},null,{"$f":"IF('Utilized-Interacted FAD-beacons'!J203<>\"\",'Utilized-Interacted FAD-beacons'!J203,0)","v":0},193,0,1001,{"$f":"IFERROR(VLOOKUP(SMALL($V$6:$V$1005,T198),$T$6:$U$1005,2,FALSE),\" \")","v":" "},null,0,193,0,1001,{"$f":"IFERROR(VLOOKUP(SMALL($AB$6:$AB$1005,Z198),$Z$6:$AA$1005,2,FALSE),\" \")","v":" "}]
[null,null,null,null,null,null,null,null,null,null,null,null,{"$f":"IF('Utilized-Interacted FAD-beacons'!C204<>\"\",'Utilized-Interacted FAD-beacons'!C204,0)","v":0},194,{"$f":"M199","v":0},{"$f":"IF(O199=0,MAX($N$6:$N$1005)+1,N199)","v":1001}," ",null,{"$f":"IF('Utilized-Interacted FAD-beacons'!J204<>\"\",'Utilized-Interacted FAD-beacons'!J204,0)","v":0},194,{"$f":"S199","v":0},{"$f":"IF(U199=0,MAX($T$6:$T$1005)+1,T199)","v":1001}," ",null,{"$f":"IF(AND(M199=0,S199=0),0,IF(AND(M199<>0,S199=0),M199,IF(AND(M199=0,S199<>0),S199,IF(AND(M199<>0,S199<>0),(CONCATENATE(M199,S199))))))","v":0},194,{"$f":"Y199","v":0},{"$f":"IF(AA199=0,MAX($Z$6:$Z$1005)+1,Z199)","v":1001}," "]
[null,null,null,null,null,null,null,null,null,null,null,null,{"$f":"IF('Utilized-Interacted FAD-beacons'!C205<>\"\",'Utilized-Interacted FAD-beacons'!C205,0)","v":0},195,0,1001," ",null,{"$f":"IF('Utilized-Interacted FAD-beacons'!J205<>\"\",'Utilized-Interacted FAD-beacons'!J205,0)","v":0},195,0,1001," ",null,0,195,0,1001," "]
[null,null,null,null,null,null,null,null,null,null,null,null,{"$f":"IF('Utilized-Interacted FAD-beacons'!C206<>\"\",'Utilized-Interacted FAD-beacons'!C206,0)","v":0},196,0,1001," ",null,{"$f":"IF('Utilized-Interacted FAD-beacons'!J206<>\"\",'Utilized-Interacted FAD-beacons'!J206,0)","v":0},196,0,1001," ",null,0,196,0,1001," "]
[null,null,null,null,null,null,null,null,null,null,null,null,{"$f":"IF('Utilized-Interacted FAD-beacons'!C207<>\"\",'Utilized-Interacted FAD-beacons'!C207,0)","v":0},197,0,1001," ",null,{"$f":"IF('Utilized-Interacted FAD-beacons'!J207<>\"\",'Utilized-Interacted FAD-beacons'!J207,0)","v":0},197,0,1001," ",null,0,197,0,1001," "]
[null,null,null,null,null,null,null,null,null,null,null,null,{"$f":"IF('Utilized-Interacted FAD-beacons'!C208<>\"\",'Utilized-Interacted FAD-beacons'!C208,0)","v":0},198,0,1001," ",null,{"$f":"IF('Utilized-Interacted FAD-beacons'!J208<>\"\",'Utilized-Interacted FAD-beacons'!J208,0)","v":0},198,0,1001," ",null,0,198,0,1001," "]
[null,null,null,null,null,null,null,null,null,null,null,null,{"$f":"IF('Utilized-Interacted FAD-beacons'!C209<>\"\",'Utilized-Interacted FAD-beacons'!C209,0)","v":0},199,0,1001," ",null,{"$f":"IF('Utilized-Interacted FAD-beacons'!J209<>\"\",'Utilized-Interacted FAD-beacons'!J209,0)","v":0},199,0,1001," ",null,0,199,0,1001," "]
[null,null,null,null,null,null,null,null,null,null,null,null,{"$f":"IF('Utilized-Interacted FAD-beacons'!C210<>\"\",'Utilized-Interacted FAD-beacons'!C210,0)","v":0},200,0,1001," ",null,{"$f":"IF('Utilized-Interacted FAD-beacons'!J210<>\"\",'Utilized-Interacted FAD-beacons'!J210,0)","v":0},200,0,1001," ",null,0,200,0,1001," "]
[null,null,null,null,null,null,null,null,null,null,null,null,{"$f":"IF('Utilized-Interacted FAD-beacons'!C211<>\"\",'Utilized-Interacted FAD-beacons'!C211,0)","v":0},201,0,1001," ",null,{"$f":"IF('Utilized-Interacted FAD-beacons'!J211<>\"\",'Utilized-Interacted FAD-beacons'!J211,0)","v":0},201,0,1001," ",null,0,201,0,1001," "]
[null,null,null,null,null,null,null,null,null,null,null,null,{"$f":"IF('Utilized-Interacted FAD-beacons'!C212<>\"\",'Utilized-Interacted FAD-beacons'!C212,0)","v":0},202,0,1001," ",null,{"$f":"IF('Utilized-Interacted FAD-beacons'!J212<>\"\",'Utilized-Interacted FAD-beacons'!J212,0)","v":0},202,0,1001," ",null,0,202,0,1001," "]
[null,null,null,null,null,null,null,null,null,null,null,null,{"$f":"IF('Utilized-Interacted FAD-beacons'!C213<>\"\",'Utilized-Interacted FAD-beacons'!C213,0)","v":0},203,0,1001," ",null,{"$f":"IF('Utilized-Interacted FAD-beacons'!J213<>\"\",'Utilized-Interacted FAD-beacons'!J213,0)","v":0},203,0,1001," ",null,0,203,0,1001," "]
[null,null,null,null,null,null,null,null,null,null,null,null,{"$f":"IF('Utilized-Interacted FAD-beacons'!C214<>\"\",'Utilized-Interacted FAD-beacons'!C214,0)","v":0},204,0,1001," ",null,{"$f":"IF('Utilized-Interacted FAD-beacons'!J214<>\"\",'Utilized-Interacted FAD-beacons'!J214,0)","v":0},204,0,1001," ",null,0,204,0,1001," "]
[null,null,null,null,null,null,null,null,null,null,null,null,{"$f":"IF('Utilized-Interacted FAD-beacons'!C215<>\"\",'Utilized-Interacted FAD-beacons'!C215,0)","v":0},205,0,1001," ",null,{"$f":"IF('Utilized-Interacted FAD-beacons'!J215<>\"\",'Utilized-Interacted FAD-beacons'!J215,0)","v":0},205,0,1001," ",null,0,205,0,1001," "]
[null,null,null,null,null,null,null,null,null,null,null,null,{"$f":"IF('Utilized-Interacted FAD-beacons'!C216<>\"\",'Utilized-Interacted FAD-beacons'!C216,0)","v":0},206,0,1001," ",null,{"$f":"IF('Utilized-Interacted FAD-beacons'!J216<>\"\",'Utilized-Interacted FAD-beacons'!J216,0)","v":0},206,0,1001," ",null,0,206,0,1001," "]
[null,null,null,null,null,null,null,null,null,null,null,null,{"$f":"IF('Utilized-Interacted FAD-beacons'!C217<>\"\",'Utilized-Interacted FAD-beacons'!C217,0)","v":0},207,0,1001," ",null,{"$f":"IF('Utilized-Interacted FAD-beacons'!J217<>\"\",'Utilized-Interacted FAD-beacons'!J217,0)","v":0},207,0,1001," ",null,0,207,0,1001," "]
[null,null,null,null,null,null,null,null,null,null,null,null,{"$f":"IF('Utilized-Interacted FAD-beacons'!C218<>\"\",'Utilized-Interacted FAD-beacons'!C218,0)","v":0},208,0,1001," ",null,{"$f":"IF('Utilized-Interacted FAD-beacons'!J218<>\"\",'Utilized-Interacted FAD-beacons'!J218,0)","v":0},208,0,1001," ",null,0,208,0,1001," "]
[null,null,null,null,null,null,null,null,null,null,null,null,{"$f":"IF('Utilized-Interacted FAD-beacons'!C219<>\"\",'Utilized-Interacted FAD-beacons'!C219,0)","v":0},209,0,1001," ",null,{"$f":"IF('Utilized-Interacted FAD-beacons'!J219<>\"\",'Utilized-Interacted FAD-beacons'!J219,0)","v":0},209,0,1001," ",null,0,209,0,1001," "]
[null,null,null,null,null,null,null,null,null,null,null,null,{"$f":"IF('Utilized-Interacted FAD-beacons'!C220<>\"\",'Utilized-Interacted FAD-beacons'!C220,0)","v":0},210,0,1001," ",null,{"$f":"IF('Utilized-Interacted FAD-beacons'!J220<>\"\",'Utilized-Interacted FAD-beacons'!J220,0)","v":0},210,0,1001," ",null,0,210,0,1001," "]
[null,null,null,null,null,null,null,null,null,null,null,null,{"$f":"IF('Utilized-Interacted FAD-beacons'!C221<>\"\",'Utilized-Interacted FAD-beacons'!C221,0)","v":0},211,0,1001," ",null,{"$f":"IF('Utilized-Interacted FAD-beacons'!J221<>\"\",'Utilized-Interacted FAD-beacons'!J221,0)","v":0},211,0,1001," ",null,0,211,0,1001," "]
[null,null,null,null,null,null,null,null,null,null,null,null,{"$f":"IF('Utilized-Interacted FAD-beacons'!C222<>\"\",'Utilized-Interacted FAD-beacons'!C222,0)","v":0},212,0,1001," ",null,{"$f":"IF('Utilized-Interacted FAD-beacons'!J222<>\"\",'Utilized-Interacted FAD-beacons'!J222,0)","v":0},212,0,1001," ",null,0,212,0,1001," "]
[null,null,null,null,null,null,null,null,null,null,null,null,{"$f":"IF('Utilized-Interacted FAD-beacons'!C223<>\"\",'Utilized-Interacted FAD-beacons'!C223,0)","v":0},213,0,1001," ",null,{"$f":"IF('Utilized-Interacted FAD-beacons'!J223<>\"\",'Utilized-Interacted FAD-beacons'!J223,0)","v":0},213,0,1001," ",null,0,213,0,1001," "]
[null,null,null,null,null,null,null,null,null,null,null,null,{"$f":"IF('Utilized-Interacted FAD-beacons'!C224<>\"\",'Utilized-Interacted FAD-beacons'!C224,0)","v":0},214,0,1001," ",null,{"$f":"IF('Utilized-Interacted FAD-beacons'!J224<>\"\",'Utilized-Interacted FAD-beacons'!J224,0)","v":0},214,0,1001," ",null,0,214,0,1001," "]
[null,null,null,null,null,null,null,null,null,null,null,null,{"$f":"IF('Utilized-Interacted FAD-beacons'!C225<>\"\",'Utilized-Interacted FAD-beacons'!C225,0)","v":0},215,0,1001," ",null,{"$f":"IF('Utilized-Interacted FAD-beacons'!J225<>\"\",'Utilized-Interacted FAD-beacons'!J225,0)","v":0},215,0,1001," ",null,0,215,0,1001," "]
[null,null,null,null,null,null,null,null,null,null,null,null,{"$f":"IF('Utilized-Interacted FAD-beacons'!C226<>\"\",'Utilized-Interacted FAD-beacons'!C226,0)","v":0},216,0,1001," ",null,{"$f":"IF('Utilized-Interacted FAD-beacons'!J226<>\"\",'Utilized-Interacted FAD-beacons'!J226,0)","v":0},216,0,1001," ",null,0,216,0,1001," "]
[null,null,null,null,null,null,null,null,null,null,null,null,{"$f":"IF('Utilized-Interacted FAD-beacons'!C227<>\"\",'Utilized-Interacted FAD-beacons'!C227,0)","v":0},217,0,1001," ",null,{"$f":"IF('Utilized-Interacted FAD-beacons'!J227<>\"\",'Utilized-Interacted FAD-beacons'!J227,0)","v":0},217,0,1001," ",null,0,217,0,1001," "]
[null,null,null,null,null,null,null,null,null,null,null,null,{"$f":"IF('Utilized-Interacted FAD-beacons'!C228<>\"\",'Utilized-Interacted FAD-beacons'!C228,0)","v":0},218,0,1001," ",null,{"$f":"IF('Utilized-Interacted FAD-beacons'!J228<>\"\",'Utilized-Interacted FAD-beacons'!J228,0)","v":0},218,0,1001," ",null,0,218,0,1001," "]
[null,null,null,null,null,null,null,null,null,null,null,null,{"$f":"IF('Utilized-Interacted FAD-beacons'!C229<>\"\",'Utilized-Interacted FAD-beacons'!C229,0)","v":0},219,0,1001," ",null,{"$f":"IF('Utilized-Interacted FAD-beacons'!J229<>\"\",'Utilized-Interacted FAD-beacons'!J229,0)","v":0},219,0,1001," ",null,0,219,0,1001," "]
[null,null,null,null,null,null,null,null,null,null,null,null,{"$f":"IF('Utilized-Interacted FAD-beacons'!C230<>\"\",'Utilized-Interacted FAD-beacons'!C230,0)","v":0},220,0,1001," ",null,{"$f":"IF('Utilized-Interacted FAD-beacons'!J230<>\"\",'Utilized-Interacted FAD-beacons'!J230,0)","v":0},220,0,1001," ",null,0,220,0,1001," "]
[null,null,null,null,null,null,null,null,null,null,null,null,{"$f":"IF('Utilized-Interacted FAD-beacons'!C231<>\"\",'Utilized-Interacted FAD-beacons'!C231,0)","v":0},221,0,1001," ",null,{"$f":"IF('Utilized-Interacted FAD-beacons'!J231<>\"\",'Utilized-Interacted FAD-beacons'!J231,0)","v":0},221,0,1001," ",null,0,221,0,1001," "]
[null,null,null,null,null,null,null,null,null,null,null,null,{"$f":"IF('Utilized-Interacted FAD-beacons'!C232<>\"\",'Utilized-Interacted FAD-beacons'!C232,0)","v":0},222,0,1001," ",null,{"$f":"IF('Utilized-Interacted FAD-beacons'!J232<>\"\",'Utilized-Interacted FAD-beacons'!J232,0)","v":0},222,0,1001," ",null,0,222,0,1001," "]
[null,null,null,null,null,null,null,null,null,null,null,null,{"$f":"IF('Utilized-Interacted FAD-beacons'!C233<>\"\",'Utilized-Interacted FAD-beacons'!C233,0)","v":0},223,0,1001," ",null,{"$f":"IF('Utilized-Interacted FAD-beacons'!J233<>\"\",'Utilized-Interacted FAD-beacons'!J233,0)","v":0},223,0,1001," ",null,0,223,0,1001," "]
[null,null,null,null,null,null,null,null,null,null,null,null,{"$f":"IF('Utilized-Interacted FAD-beacons'!C234<>\"\",'Utilized-Interacted FAD-beacons'!C234,0)","v":0},224,0,1001," ",null,{"$f":"IF('Utilized-Interacted FAD-beacons'!J234<>\"\",'Utilized-Interacted FAD-beacons'!J234,0)","v":0},224,0,1001," ",null,0,224,0,1001," "]
[null,null,null,null,null,null,null,null,null,null,null,null,{"$f":"IF('Utilized-Interacted FAD-beacons'!C235<>\"\",'Utilized-Interacted FAD-beacons'!C235,0)","v":0},225,0,1001," ",null,{"$f":"IF('Utilized-Interacted FAD-beacons'!J235<>\"\",'Utilized-Interacted FAD-beacons'!J235,0)","v":0},225,0,1001," ",null,0,225,0,1001," "]
[null,null,null,null,null,null,null,null,null,null,null,null,{"$f":"IF('Utilized-Interacted FAD-beacons'!C236<>\"\",'Utilized-Interacted FAD-beacons'!C236,0)","v":0},226,0,1001," ",null,{"$f":"IF('Utilized-Interacted FAD-beacons'!J236<>\"\",'Utilized-Interacted FAD-beacons'!J236,0)","v":0},226,0,1001," ",null,0,226,0,1001," "]
[null,null,null,null,null,null,null,null,null,null,null,null,{"$f":"IF('Utilized-Interacted FAD-beacons'!C237<>\"\",'Utilized-Interacted FAD-beacons'!C237,0)","v":0},227,0,1001," ",null,{"$f":"IF('Utilized-Interacted FAD-beacons'!J237<>\"\",'Utilized-Interacted FAD-beacons'!J237,0)","v":0},227,0,1001," ",null,0,227,0,1001," "]
[null,null,null,null,null,null,null,null,null,null,null,null,{"$f":"IF('Utilized-Interacted FAD-beacons'!C238<>\"\",'Utilized-Interacted FAD-beacons'!C238,0)","v":0},228,0,1001," ",null,{"$f":"IF('Utilized-Interacted FAD-beacons'!J238<>\"\",'Utilized-Interacted FAD-beacons'!J238,0)","v":0},228,0,1001," ",null,0,228,0,1001," "]
[null,null,null,null,null,null,null,null,null,null,null,null,{"$f":"IF('Utilized-Interacted FAD-beacons'!C239<>\"\",'Utilized-Interacted FAD-beacons'!C239,0)","v":0},229,0,1001," ",null,{"$f":"IF('Utilized-Interacted FAD-beacons'!J239<>\"\",'Utilized-Interacted FAD-beacons'!J239,0)","v":0},229,0,1001," ",null,0,229,0,1001," "]
[null,null,null,null,null,null,null,null,null,null,null,null,{"$f":"IF('Utilized-Interacted FAD-beacons'!C240<>\"\",'Utilized-Interacted FAD-beacons'!C240,0)","v":0},230,0,1001," ",null,{"$f":"IF('Utilized-Interacted FAD-beacons'!J240<>\"\",'Utilized-Interacted FAD-beacons'!J240,0)","v":0},230,0,1001," ",null,0,230,0,1001," "]
[null,null,null,null,null,null,null,null,null,null,null,null,{"$f":"IF('Utilized-Interacted FAD-beacons'!C241<>\"\",'Utilized-Interacted FAD-beacons'!C241,0)","v":0},231,0,1001," ",null,{"$f":"IF('Utilized-Interacted FAD-beacons'!J241<>\"\",'Utilized-Interacted FAD-beacons'!J241,0)","v":0},231,0,1001," ",null,0,231,0,1001," "]
[null,null,null,null,null,null,null,null,null,null,null,null,{"$f":"IF('Utilized-Interacted FAD-beacons'!C242<>\"\",'Utilized-Interacted FAD-beacons'!C242,0)","v":0},232,0,1001," ",null,{"$f":"IF('Utilized-Interacted FAD-beacons'!J242<>\"\",'Utilized-Interacted FAD-beacons'!J242,0)","v":0},232,0,1001," ",null,0,232,0,1001," "]
[null,null,null,null,null,null,null,null,null,null,null,null,{"$f":"IF('Utilized-Interacted FAD-beacons'!C243<>\"\",'Utilized-Interacted FAD-beacons'!C243,0)","v":0},233,0,1001," ",null,{"$f":"IF('Utilized-Interacted FAD-beacons'!J243<>\"\",'Utilized-Interacted FAD-beacons'!J243,0)","v":0},233,0,1001," ",null,0,233,0,1001," "]
[null,null,null,null,null,null,null,null,null,null,null,null,{"$f":"IF('Utilized-Interacted FAD-beacons'!C244<>\"\",'Utilized-Interacted FAD-beacons'!C244,0)","v":0},234,0,1001," ",null,{"$f":"IF('Utilized-Interacted FAD-beacons'!J244<>\"\",'Utilized-Interacted FAD-beacons'!J244,0)","v":0},234,0,1001," ",null,0,234,0,1001," "]
[null,null,null,null,null,null,null,null,null,null,null,null,{"$f":"IF('Utilized-Interacted FAD-beacons'!C245<>\"\",'Utilized-Interacted FAD-beacons'!C245,0)","v":0},235,0,1001," ",null,{"$f":"IF('Utilized-Interacted FAD-beacons'!J245<>\"\",'Utilized-Interacted FAD-beacons'!J245,0)","v":0},235,0,1001," ",null,0,235,0,1001," "]
[null,null,null,null,null,null,null,null,null,null,null,null,{"$f":"IF('Utilized-Interacted FAD-beacons'!C246<>\"\",'Utilized-Interacted FAD-beacons'!C246,0)","v":0},236,0,1001," ",null,{"$f":"IF('Utilized-Interacted FAD-beacons'!J246<>\"\",'Utilized-Interacted FAD-beacons'!J246,0)","v":0},236,0,1001," ",null,0,236,0,1001," "]
[null,null,null,null,null,null,null,null,null,null,null,null,{"$f":"IF('Utilized-Interacted FAD-beacons'!C247<>\"\",'Utilized-Interacted FAD-beacons'!C247,0)","v":0},237,0,1001," ",null,{"$f":"IF('Utilized-Interacted FAD-beacons'!J247<>\"\",'Utilized-Interacted FAD-beacons'!J247,0)","v":0},237,0,1001," ",null,0,237,0,1001," "]
[null,null,null,null,null,null,null,null,null,null,null,null,{"$f":"IF('Utilized-Interacted FAD-beacons'!C248<>\"\",'Utilized-Interacted FAD-beacons'!C248,0)","v":0},238,0,1001," ",null,{"$f":"IF('Utilized-Interacted FAD-beacons'!J248<>\"\",'Utilized-Interacted FAD-beacons'!J248,0)","v":0},238,0,1001," ",null,0,238,0,1001," "]
[null,null,null,null,null,null,null,null,null,null,null,null,{"$f":"IF('Utilized-Interacted FAD-beacons'!C249<>\"\",'Utilized-Interacted FAD-beacons'!C249,0)","v":0},239,0,1001," ",null,{"$f":"IF('Utilized-Interacted FAD-beacons'!J249<>\"\",'Utilized-Interacted FAD-beacons'!J249,0)","v":0},239,0,1001," ",null,0,239,0,1001," "]
[null,null,null,null,null,null,null,null,null,null,null,null,{"$f":"IF('Utilized-Interacted FAD-beacons'!C250<>\"\",'Utilized-Interacted FAD-beacons'!C250,0)","v":0},240,0,1001," ",null,{"$f":"IF('Utilized-Interacted FAD-beacons'!J250<>\"\",'Utilized-Interacted FAD-beacons'!J250,0)","v":0},240,0,1001," ",null,0,240,0,1001," "]
[null,null,null,null,null,null,null,null,null,null,null,null,{"$f":"IF('Utilized-Interacted FAD-beacons'!C251<>\"\",'Utilized-Interacted FAD-beacons'!C251,0)","v":0},241,0,1001," ",null,{"$f":"IF('Utilized-Interacted FAD-beacons'!J251<>\"\",'Utilized-Interacted FAD-beacons'!J251,0)","v":0},241,0,1001," ",null,0,241,0,1001," "]
[null,null,null,null,null,null,null,null,null,null,null,null,{"$f":"IF('Utilized-Interacted FAD-beacons'!C252<>\"\",'Utilized-Interacted FAD-beacons'!C252,0)","v":0},242,0,1001," ",null,{"$f":"IF('Utilized-Interacted FAD-beacons'!J252<>\"\",'Utilized-Interacted FAD-beacons'!J252,0)","v":0},242,0,1001," ",null,0,242,0,1001," "]
[null,null,null,null,null,null,null,null,null,null,null,null,{"$f":"IF('Utilized-Interacted FAD-beacons'!C253<>\"\",'Utilized-Interacted FAD-beacons'!C253,0)","v":0},243,0,1001," ",null,{"$f":"IF('Utilized-Interacted FAD-beacons'!J253<>\"\",'Utilized-Interacted FAD-beacons'!J253,0)","v":0},243,0,1001," ",null,0,243,0,1001," "]
[null,null,null,null,null,null,null,null,null,null,null,null,{"$f":"IF('Utilized-Interacted FAD-beacons'!C254<>\"\",'Utilized-Interacted FAD-beacons'!C254,0)","v":0},244,0,1001," ",null,{"$f":"IF('Utilized-Interacted FAD-beacons'!J254<>\"\",'Utilized-Interacted FAD-beacons'!J254,0)","v":0},244,0,1001," ",null,0,244,0,1001," "]
[null,null,null,null,null,null,null,null,null,null,null,null,{"$f":"IF('Utilized-Interacted FAD-beacons'!C255<>\"\",'Utilized-Interacted FAD-beacons'!C255,0)","v":0},245,0,1001," ",null,{"$f":"IF('Utilized-Interacted FAD-beacons'!J255<>\"\",'Utilized-Interacted FAD-beacons'!J255,0)","v":0},245,0,1001," ",null,0,245,0,1001," "]
[null,null,null,null,null,null,null,null,null,null,null,null,{"$f":"IF('Utilized-Interacted FAD-beacons'!C256<>\"\",'Utilized-Interacted FAD-beacons'!C256,0)","v":0},246,0,1001," ",null,{"$f":"IF('Utilized-Interacted FAD-beacons'!J256<>\"\",'Utilized-Interacted FAD-beacons'!J256,0)","v":0},246,0,1001," ",null,0,246,0,1001," "]
[null,null,null,null,null,null,null,null,null,null,null,null,{"$f":"IF('Utilized-Interacted FAD-beacons'!C257<>\"\",'Utilized-Interacted FAD-beacons'!C257,0)","v":0},247,0,1001," ",null,{"$f":"IF('Utilized-Interacted FAD-beacons'!J257<>\"\",'Utilized-Interacted FAD-beacons'!J257,0)","v":0},247,0,1001," ",null,0,247,0,1001," "]
[null,null,null,null,null,null,null,null,null,null,null,null,{"$f":"IF('Utilized-Interacted FAD-beacons'!C258<>\"\",'Utilized-Interacted FAD-beacons'!C258,0)","v":0},248,0,1001," ",null,{"$f":"IF('Utilized-Interacted FAD-beacons'!J258<>\"\",'Utilized-Interacted FAD-beacons'!J258,0)","v":0},248,0,1001," ",null,0,248,0,1001," "]
[null,null,null,null,null,null,null,null,null,null,null,null,{"$f":"IF('Utilized-Interacted FAD-beacons'!C259<>\"\",'Utilized-Interacted FAD-beacons'!C259,0)","v":0},249,0,1001," ",null,{"$f":"IF('Utilized-Interacted FAD-beacons'!J259<>\"\",'Utilized-Interacted FAD-beacons'!J259,0)","v":0},249,0,1001," ",null,0,249,0,1001," "]
[null,null,null,null,null,null,null,null,null,null,null,null,{"$f":"IF('Utilized-Interacted FAD-beacons'!C260<>\"\",'Utilized-Interacted FAD-beacons'!C260,0)","v":0},250,0,1001," ",null,{"$f":"IF('Utilized-Interacted FAD-beacons'!J260<>\"\",'Utilized-Interacted FAD-beacons'!J260,0)","v":0},250,0,1001," ",null,0,250,0,1001," "]
[null,null,null,null,null,null,null,null,null,null,null,null,{"$f":"IF('Utilized-Interacted FAD-beacons'!C261<>\"\",'Utilized-Interacted FAD-beacons'!C261,0)","v":0},251,0,1001," ",null,{"$f":"IF('Utilized-Interacted FAD-beacons'!J261<>\"\",'Utilized-Interacted FAD-beacons'!J261,0)","v":0},251,0,1001," ",null,0,251,0,1001," "]
[null,null,null,null,null,null,null,null,null,null,null,null,{"$f":"IF('Utilized-Interacted FAD-beacons'!C262<>\"\",'Utilized-Interacted FAD-beacons'!C262,0)","v":0},252,0,1001," ",null,{"$f":"IF('Utilized-Interacted FAD-beacons'!J262<>\"\",'Utilized-Interacted FAD-beacons'!J262,0)","v":0},252,0,1001," ",null,0,252,0,1001," "]
[null,null,null,null,null,null,null,null,null,null,null,null,{"$f":"IF('Utilized-Interacted FAD-beacons'!C263<>\"\",'Utilized-Interacted FAD-beacons'!C263,0)","v":0},253,0,1001," ",null,{"$f":"IF('Utilized-Interacted FAD-beacons'!J263<>\"\",'Utilized-Interacted FAD-beacons'!J263,0)","v":0},253,0,1001," ",null,0,253,0,1001," "]
[null,null,null,null,null,null,null,null,null,null,null,null,{"$f":"IF('Utilized-Interacted FAD-beacons'!C264<>\"\",'Utilized-Interacted FAD-beacons'!C264,0)","v":0},254,0,1001," ",null,{"$f":"IF('Utilized-Interacted FAD-beacons'!J264<>\"\",'Utilized-Interacted FAD-beacons'!J264,0)","v":0},254,0,1001," ",null,0,254,0,1001," "]
[null,null,null,null,null,null,null,null,null,null,null,null,{"$f":"IF('Utilized-Interacted FAD-beacons'!C265<>\"\",'Utilized-Interacted FAD-beacons'!C265,0)","v":0},255,0,1001," ",null,{"$f":"IF('Utilized-Interacted FAD-beacons'!J265<>\"\",'Utilized-Interacted FAD-beacons'!J265,0)","v":0},255,0,1001," ",null,0,255,0,1001," "]
[null,null,null,null,null,null,null,null,null,null,null,null,{"$f":"IF('Utilized-Interacted FAD-beacons'!C266<>\"\",'Utilized-Interacted FAD-beacons'!C266,0)","v":0},256,0,1001," ",null,{"$f":"IF('Utilized-Interacted FAD-beacons'!J266<>\"\",'Utilized-Interacted FAD-beacons'!J266,0)","v":0},256,0,1001," ",null,0,256,0,1001," "]
[null,null,null,null,null,null,null,null,null,null,null,null,{"$f":"IF('Utilized-Interacted FAD-beacons'!C267<>\"\",'Utilized-Interacted FAD-beacons'!C267,0)","v":0},257,0,1001,{"$f":"IFERROR(VLOOKUP(SMALL($P$6:$P$1005,N262),$N$6:$O$1005,2,FALSE),\" \")","v":" "},null,{"$f":"IF('Utilized-Interacted FAD-beacons'!J267<>\"\",'Utilized-Interacted FAD-beacons'!J267,0)","v":0},257,0,1001,{"$f":"IFERROR(VLOOKUP(SMALL($V$6:$V$1005,T262),$T$6:$U$1005,2,FALSE),\" \")","v":" "},null,0,257,0,1001,{"$f":"IFERROR(VLOOKUP(SMALL($AB$6:$AB$1005,Z262),$Z$6:$AA$1005,2,FALSE),\" \")","v":" "}]
[null,null,null,null,null,null,null,null,null,null,null,null,{"$f":"IF('Utilized-Interacted FAD-beacons'!C268<>\"\",'Utilized-Interacted FAD-beacons'!C268,0)","v":0},258,{"$f":"M263","v":0},{"$f":"IF(O263=0,MAX($N$6:$N$1005)+1,N263)","v":1001}," ",null,{"$f":"IF('Utilized-Interacted FAD-beacons'!J268<>\"\",'Utilized-Interacted FAD-beacons'!J268,0)","v":0},258,{"$f":"S263","v":0},{"$f":"IF(U263=0,MAX($T$6:$T$1005)+1,T263)","v":1001}," ",null,{"$f":"IF(AND(M263=0,S263=0),0,IF(AND(M263<>0,S263=0),M263,IF(AND(M263=0,S263<>0),S263,IF(AND(M263<>0,S263<>0),(CONCATENATE(M263,S263))))))","v":0},258,{"$f":"Y263","v":0},{"$f":"IF(AA263=0,MAX($Z$6:$Z$1005)+1,Z263)","v":1001}," "]
[null,null,null,null,null,null,null,null,null,null,null,null,{"$f":"IF('Utilized-Interacted FAD-beacons'!C269<>\"\",'Utilized-Interacted FAD-beacons'!C269,0)","v":0},259,0,1001," ",null,{"$f":"IF('Utilized-Interacted FAD-beacons'!J269<>\"\",'Utilized-Interacted FAD-beacons'!J269,0)","v":0},259,0,1001," ",null,0,259,0,1001," "]
[null,null,null,null,null,null,null,null,null,null,null,null,{"$f":"IF('Utilized-Interacted FAD-beacons'!C270<>\"\",'Utilized-Interacted FAD-beacons'!C270,0)","v":0},260,0,1001," ",null,{"$f":"IF('Utilized-Interacted FAD-beacons'!J270<>\"\",'Utilized-Interacted FAD-beacons'!J270,0)","v":0},260,0,1001," ",null,0,260,0,1001," "]
[null,null,null,null,null,null,null,null,null,null,null,null,{"$f":"IF('Utilized-Interacted FAD-beacons'!C271<>\"\",'Utilized-Interacted FAD-beacons'!C271,0)","v":0},261,0,1001," ",null,{"$f":"IF('Utilized-Interacted FAD-beacons'!J271<>\"\",'Utilized-Interacted FAD-beacons'!J271,0)","v":0},261,0,1001," ",null,0,261,0,1001," "]
[null,null,null,null,null,null,null,null,null,null,null,null,{"$f":"IF('Utilized-Interacted FAD-beacons'!C272<>\"\",'Utilized-Interacted FAD-beacons'!C272,0)","v":0},262,0,1001," ",null,{"$f":"IF('Utilized-Interacted FAD-beacons'!J272<>\"\",'Utilized-Interacted FAD-beacons'!J272,0)","v":0},262,0,1001," ",null,0,262,0,1001," "]
[null,null,null,null,null,null,null,null,null,null,null,null,{"$f":"IF('Utilized-Interacted FAD-beacons'!C273<>\"\",'Utilized-Interacted FAD-beacons'!C273,0)","v":0},263,0,1001," ",null,{"$f":"IF('Utilized-Interacted FAD-beacons'!J273<>\"\",'Utilized-Interacted FAD-beacons'!J273,0)","v":0},263,0,1001," ",null,0,263,0,1001," "]
[null,null,null,null,null,null,null,null,null,null,null,null,{"$f":"IF('Utilized-Interacted FAD-beacons'!C274<>\"\",'Utilized-Interacted FAD-beacons'!C274,0)","v":0},264,0,1001," ",null,{"$f":"IF('Utilized-Interacted FAD-beacons'!J274<>\"\",'Utilized-Interacted FAD-beacons'!J274,0)","v":0},264,0,1001," ",null,0,264,0,1001," "]
[null,null,null,null,null,null,null,null,null,null,null,null,{"$f":"IF('Utilized-Interacted FAD-beacons'!C275<>\"\",'Utilized-Interacted FAD-beacons'!C275,0)","v":0},265,0,1001," ",null,{"$f":"IF('Utilized-Interacted FAD-beacons'!J275<>\"\",'Utilized-Interacted FAD-beacons'!J275,0)","v":0},265,0,1001," ",null,0,265,0,1001," "]
[null,null,null,null,null,null,null,null,null,null,null,null,{"$f":"IF('Utilized-Interacted FAD-beacons'!C276<>\"\",'Utilized-Interacted FAD-beacons'!C276,0)","v":0},266,0,1001," ",null,{"$f":"IF('Utilized-Interacted FAD-beacons'!J276<>\"\",'Utilized-Interacted FAD-beacons'!J276,0)","v":0},266,0,1001," ",null,0,266,0,1001," "]
[null,null,null,null,null,null,null,null,null,null,null,null,{"$f":"IF('Utilized-Interacted FAD-beacons'!C277<>\"\",'Utilized-Interacted FAD-beacons'!C277,0)","v":0},267,0,1001," ",null,{"$f":"IF('Utilized-Interacted FAD-beacons'!J277<>\"\",'Utilized-Interacted FAD-beacons'!J277,0)","v":0},267,0,1001," ",null,0,267,0,1001," "]
[null,null,null,null,null,null,null,null,null,null,null,null,{"$f":"IF('Utilized-Interacted FAD-beacons'!C278<>\"\",'Utilized-Interacted FAD-beacons'!C278,0)","v":0},268,0,1001," ",null,{"$f":"IF('Utilized-Interacted FAD-beacons'!J278<>\"\",'Utilized-Interacted FAD-beacons'!J278,0)","v":0},268,0,1001," ",null,0,268,0,1001," "]
[null,null,null,null,null,null,null,null,null,null,null,null,{"$f":"IF('Utilized-Interacted FAD-beacons'!C279<>\"\",'Utilized-Interacted FAD-beacons'!C279,0)","v":0},269,0,1001," ",null,{"$f":"IF('Utilized-Interacted FAD-beacons'!J279<>\"\",'Utilized-Interacted FAD-beacons'!J279,0)","v":0},269,0,1001," ",null,0,269,0,1001," "]
[null,null,null,null,null,null,null,null,null,null,null,null,{"$f":"IF('Utilized-Interacted FAD-beacons'!C280<>\"\",'Utilized-Interacted FAD-beacons'!C280,0)","v":0},270,0,1001," ",null,{"$f":"IF('Utilized-Interacted FAD-beacons'!J280<>\"\",'Utilized-Interacted FAD-beacons'!J280,0)","v":0},270,0,1001," ",null,0,270,0,1001," "]
[null,null,null,null,null,null,null,null,null,null,null,null,{"$f":"IF('Utilized-Interacted FAD-beacons'!C281<>\"\",'Utilized-Interacted FAD-beacons'!C281,0)","v":0},271,0,1001," ",null,{"$f":"IF('Utilized-Interacted FAD-beacons'!J281<>\"\",'Utilized-Interacted FAD-beacons'!J281,0)","v":0},271,0,1001," ",null,0,271,0,1001," "]
[null,null,null,null,null,null,null,null,null,null,null,null,{"$f":"IF('Utilized-Interacted FAD-beacons'!C282<>\"\",'Utilized-Interacted FAD-beacons'!C282,0)","v":0},272,0,1001," ",null,{"$f":"IF('Utilized-Interacted FAD-beacons'!J282<>\"\",'Utilized-Interacted FAD-beacons'!J282,0)","v":0},272,0,1001," ",null,0,272,0,1001," "]
[null,null,null,null,null,null,null,null,null,null,null,null,{"$f":"IF('Utilized-Interacted FAD-beacons'!C283<>\"\",'Utilized-Interacted FAD-beacons'!C283,0)","v":0},273,0,1001," ",null,{"$f":"IF('Utilized-Interacted FAD-beacons'!J283<>\"\",'Utilized-Interacted FAD-beacons'!J283,0)","v":0},273,0,1001," ",null,0,273,0,1001," "]
[null,null,null,null,null,null,null,null,null,null,null,null,{"$f":"IF('Utilized-Interacted FAD-beacons'!C284<>\"\",'Utilized-Interacted FAD-beacons'!C284,0)","v":0},274,0,1001," ",null,{"$f":"IF('Utilized-Interacted FAD-beacons'!J284<>\"\",'Utilized-Interacted FAD-beacons'!J284,0)","v":0},274,0,1001," ",null,0,274,0,1001," "]
[null,null,null,null,null,null,null,null,null,null,null,null,{"$f":"IF('Utilized-Interacted FAD-beacons'!C285<>\"\",'Utilized-Interacted FAD-beacons'!C285,0)","v":0},275,0,1001," ",null,{"$f":"IF('Utilized-Interacted FAD-beacons'!J285<>\"\",'Utilized-Interacted FAD-beacons'!J285,0)","v":0},275,0,1001," ",null,0,275,0,1001," "]
[null,null,null,null,null,null,null,null,null,null,null,null,{"$f":"IF('Utilized-Interacted FAD-beacons'!C286<>\"\",'Utilized-Interacted FAD-beacons'!C286,0)","v":0},276,0,1001," ",null,{"$f":"IF('Utilized-Interacted FAD-beacons'!J286<>\"\",'Utilized-Interacted FAD-beacons'!J286,0)","v":0},276,0,1001," ",null,0,276,0,1001," "]
[null,null,null,null,null,null,null,null,null,null,null,null,{"$f":"IF('Utilized-Interacted FAD-beacons'!C287<>\"\",'Utilized-Interacted FAD-beacons'!C287,0)","v":0},277,0,1001," ",null,{"$f":"IF('Utilized-Interacted FAD-beacons'!J287<>\"\",'Utilized-Interacted FAD-beacons'!J287,0)","v":0},277,0,1001," ",null,0,277,0,1001," "]
[null,null,null,null,null,null,null,null,null,null,null,null,{"$f":"IF('Utilized-Interacted FAD-beacons'!C288<>\"\",'Utilized-Interacted FAD-beacons'!C288,0)","v":0},278,0,1001," ",null,{"$f":"IF('Utilized-Interacted FAD-beacons'!J288<>\"\",'Utilized-Interacted FAD-beacons'!J288,0)","v":0},278,0,1001," ",null,0,278,0,1001," "]
[null,null,null,null,null,null,null,null,null,null,null,null,{"$f":"IF('Utilized-Interacted FAD-beacons'!C289<>\"\",'Utilized-Interacted FAD-beacons'!C289,0)","v":0},279,0,1001," ",null,{"$f":"IF('Utilized-Interacted FAD-beacons'!J289<>\"\",'Utilized-Interacted FAD-beacons'!J289,0)","v":0},279,0,1001," ",null,0,279,0,1001," "]
[null,null,null,null,null,null,null,null,null,null,null,null,{"$f":"IF('Utilized-Interacted FAD-beacons'!C290<>\"\",'Utilized-Interacted FAD-beacons'!C290,0)","v":0},280,0,1001," ",null,{"$f":"IF('Utilized-Interacted FAD-beacons'!J290<>\"\",'Utilized-Interacted FAD-beacons'!J290,0)","v":0},280,0,1001," ",null,0,280,0,1001," "]
[null,null,null,null,null,null,null,null,null,null,null,null,{"$f":"IF('Utilized-Interacted FAD-beacons'!C291<>\"\",'Utilized-Interacted FAD-beacons'!C291,0)","v":0},281,0,1001," ",null,{"$f":"IF('Utilized-Interacted FAD-beacons'!J291<>\"\",'Utilized-Interacted FAD-beacons'!J291,0)","v":0},281,0,1001," ",null,0,281,0,1001," "]
[null,null,null,null,null,null,null,null,null,null,null,null,{"$f":"IF('Utilized-Interacted FAD-beacons'!C292<>\"\",'Utilized-Interacted FAD-beacons'!C292,0)","v":0},282,0,1001," ",null,{"$f":"IF('Utilized-Interacted FAD-beacons'!J292<>\"\",'Utilized-Interacted FAD-beacons'!J292,0)","v":0},282,0,1001," ",null,0,282,0,1001," "]
[null,null,null,null,null,null,null,null,null,null,null,null,{"$f":"IF('Utilized-Interacted FAD-beacons'!C293<>\"\",'Utilized-Interacted FAD-beacons'!C293,0)","v":0},283,0,1001," ",null,{"$f":"IF('Utilized-Interacted FAD-beacons'!J293<>\"\",'Utilized-Interacted FAD-beacons'!J293,0)","v":0},283,0,1001," ",null,0,283,0,1001," "]
[null,null,null,null,null,null,null,null,null,null,null,null,{"$f":"IF('Utilized-Interacted FAD-beacons'!C294<>\"\",'Utilized-Interacted FAD-beacons'!C294,0)","v":0},284,0,1001," ",null,{"$f":"IF('Utilized-Interacted FAD-beacons'!J294<>\"\",'Utilized-Interacted FAD-beacons'!J294,0)","v":0},284,0,1001," ",null,0,284,0,1001," "]
[null,null,null,null,null,null,null,null,null,null,null,null,{"$f":"IF('Utilized-Interacted FAD-beacons'!C295<>\"\",'Utilized-Interacted FAD-beacons'!C295,0)","v":0},285,0,1001," ",null,{"$f":"IF('Utilized-Interacted FAD-beacons'!J295<>\"\",'Utilized-Interacted FAD-beacons'!J295,0)","v":0},285,0,1001," ",null,0,285,0,1001," "]
[null,null,null,null,null,null,null,null,null,null,null,null,{"$f":"IF('Utilized-Interacted FAD-beacons'!C296<>\"\",'Utilized-Interacted FAD-beacons'!C296,0)","v":0},286,0,1001," ",null,{"$f":"IF('Utilized-Interacted FAD-beacons'!J296<>\"\",'Utilized-Interacted FAD-beacons'!J296,0)","v":0},286,0,1001," ",null,0,286,0,1001," "]
[null,null,null,null,null,null,null,null,null,null,null,null,{"$f":"IF('Utilized-Interacted FAD-beacons'!C297<>\"\",'Utilized-Interacted FAD-beacons'!C297,0)","v":0},287,0,1001," ",null,{"$f":"IF('Utilized-Interacted FAD-beacons'!J297<>\"\",'Utilized-Interacted FAD-beacons'!J297,0)","v":0},287,0,1001," ",null,0,287,0,1001," "]
[null,null,null,null,null,null,null,null,null,null,null,null,{"$f":"IF('Utilized-Interacted FAD-beacons'!C298<>\"\",'Utilized-Interacted FAD-beacons'!C298,0)","v":0},288,0,1001," ",null,{"$f":"IF('Utilized-Interacted FAD-beacons'!J298<>\"\",'Utilized-Interacted FAD-beacons'!J298,0)","v":0},288,0,1001," ",null,0,288,0,1001," "]
[null,null,null,null,null,null,null,null,null,null,null,null,{"$f":"IF('Utilized-Interacted FAD-beacons'!C299<>\"\",'Utilized-Interacted FAD-beacons'!C299,0)","v":0},289,0,1001," ",null,{"$f":"IF('Utilized-Interacted FAD-beacons'!J299<>\"\",'Utilized-Interacted FAD-beacons'!J299,0)","v":0},289,0,1001," ",null,0,289,0,1001," "]
[null,null,null,null,null,null,null,null,null,null,null,null,{"$f":"IF('Utilized-Interacted FAD-beacons'!C300<>\"\",'Utilized-Interacted FAD-beacons'!C300,0)","v":0},290,0,1001," ",null,{"$f":"IF('Utilized-Interacted FAD-beacons'!J300<>\"\",'Utilized-Interacted FAD-beacons'!J300,0)","v":0},290,0,1001," ",null,0,290,0,1001," "]
[null,null,null,null,null,null,null,null,null,null,null,null,{"$f":"IF('Utilized-Interacted FAD-beacons'!C301<>\"\",'Utilized-Interacted FAD-beacons'!C301,0)","v":0},291,0,1001," ",null,{"$f":"IF('Utilized-Interacted FAD-beacons'!J301<>\"\",'Utilized-Interacted FAD-beacons'!J301,0)","v":0},291,0,1001," ",null,0,291,0,1001," "]
[null,null,null,null,null,null,null,null,null,null,null,null,{"$f":"IF('Utilized-Interacted FAD-beacons'!C302<>\"\",'Utilized-Interacted FAD-beacons'!C302,0)","v":0},292,0,1001," ",null,{"$f":"IF('Utilized-Interacted FAD-beacons'!J302<>\"\",'Utilized-Interacted FAD-beacons'!J302,0)","v":0},292,0,1001," ",null,0,292,0,1001," "]
[null,null,null,null,null,null,null,null,null,null,null,null,{"$f":"IF('Utilized-Interacted FAD-beacons'!C303<>\"\",'Utilized-Interacted FAD-beacons'!C303,0)","v":0},293,0,1001," ",null,{"$f":"IF('Utilized-Interacted FAD-beacons'!J303<>\"\",'Utilized-Interacted FAD-beacons'!J303,0)","v":0},293,0,1001," ",null,0,293,0,1001," "]
[null,null,null,null,null,null,null,null,null,null,null,null,{"$f":"IF('Utilized-Interacted FAD-beacons'!C304<>\"\",'Utilized-Interacted FAD-beacons'!C304,0)","v":0},294,0,1001," ",null,{"$f":"IF('Utilized-Interacted FAD-beacons'!J304<>\"\",'Utilized-Interacted FAD-beacons'!J304,0)","v":0},294,0,1001," ",null,0,294,0,1001," "]
[null,null,null,null,null,null,null,null,null,null,null,null,{"$f":"IF('Utilized-Interacted FAD-beacons'!C305<>\"\",'Utilized-Interacted FAD-beacons'!C305,0)","v":0},295,0,1001," ",null,{"$f":"IF('Utilized-Interacted FAD-beacons'!J305<>\"\",'Utilized-Interacted FAD-beacons'!J305,0)","v":0},295,0,1001," ",null,0,295,0,1001," "]
[null,null,null,null,null,null,null,null,null,null,null,null,{"$f":"IF('Utilized-Interacted FAD-beacons'!C306<>\"\",'Utilized-Interacted FAD-beacons'!C306,0)","v":0},296,0,1001," ",null,{"$f":"IF('Utilized-Interacted FAD-beacons'!J306<>\"\",'Utilized-Interacted FAD-beacons'!J306,0)","v":0},296,0,1001," ",null,0,296,0,1001," "]
[null,null,null,null,null,null,null,null,null,null,null,null,{"$f":"IF('Utilized-Interacted FAD-beacons'!C307<>\"\",'Utilized-Interacted FAD-beacons'!C307,0)","v":0},297,0,1001," ",null,{"$f":"IF('Utilized-Interacted FAD-beacons'!J307<>\"\",'Utilized-Interacted FAD-beacons'!J307,0)","v":0},297,0,1001," ",null,0,297,0,1001," "]
[null,null,null,null,null,null,null,null,null,null,null,null,{"$f":"IF('Utilized-Interacted FAD-beacons'!C308<>\"\",'Utilized-Interacted FAD-beacons'!C308,0)","v":0},298,0,1001," ",null,{"$f":"IF('Utilized-Interacted FAD-beacons'!J308<>\"\",'Utilized-Interacted FAD-beacons'!J308,0)","v":0},298,0,1001," ",null,0,298,0,1001," "]
[null,null,null,null,null,null,null,null,null,null,null,null,{"$f":"IF('Utilized-Interacted FAD-beacons'!C309<>\"\",'Utilized-Interacted FAD-beacons'!C309,0)","v":0},299,0,1001," ",null,{"$f":"IF('Utilized-Interacted FAD-beacons'!J309<>\"\",'Utilized-Interacted FAD-beacons'!J309,0)","v":0},299,0,1001," ",null,0,299,0,1001," "]
[null,null,null,null,null,null,null,null,null,null,null,null,{"$f":"IF('Utilized-Interacted FAD-beacons'!C310<>\"\",'Utilized-Interacted FAD-beacons'!C310,0)","v":0},300,0,1001," ",null,{"$f":"IF('Utilized-Interacted FAD-beacons'!J310<>\"\",'Utilized-Interacted FAD-beacons'!J310,0)","v":0},300,0,1001," ",null,0,300,0,1001," "]
[null,null,null,null,null,null,null,null,null,null,null,null,{"$f":"IF('Utilized-Interacted FAD-beacons'!C311<>\"\",'Utilized-Interacted FAD-beacons'!C311,0)","v":0},301,0,1001," ",null,{"$f":"IF('Utilized-Interacted FAD-beacons'!J311<>\"\",'Utilized-Interacted FAD-beacons'!J311,0)","v":0},301,0,1001," ",null,0,301,0,1001," "]
[null,null,null,null,null,null,null,null,null,null,null,null,{"$f":"IF('Utilized-Interacted FAD-beacons'!C312<>\"\",'Utilized-Interacted FAD-beacons'!C312,0)","v":0},302,0,1001," ",null,{"$f":"IF('Utilized-Interacted FAD-beacons'!J312<>\"\",'Utilized-Interacted FAD-beacons'!J312,0)","v":0},302,0,1001," ",null,0,302,0,1001," "]
[null,null,null,null,null,null,null,null,null,null,null,null,{"$f":"IF('Utilized-Interacted FAD-beacons'!C313<>\"\",'Utilized-Interacted FAD-beacons'!C313,0)","v":0},303,0,1001," ",null,{"$f":"IF('Utilized-Interacted FAD-beacons'!J313<>\"\",'Utilized-Interacted FAD-beacons'!J313,0)","v":0},303,0,1001," ",null,0,303,0,1001," "]
[null,null,null,null,null,null,null,null,null,null,null,null,{"$f":"IF('Utilized-Interacted FAD-beacons'!C314<>\"\",'Utilized-Interacted FAD-beacons'!C314,0)","v":0},304,0,1001," ",null,{"$f":"IF('Utilized-Interacted FAD-beacons'!J314<>\"\",'Utilized-Interacted FAD-beacons'!J314,0)","v":0},304,0,1001," ",null,0,304,0,1001," "]
[null,null,null,null,null,null,null,null,null,null,null,null,{"$f":"IF('Utilized-Interacted FAD-beacons'!C315<>\"\",'Utilized-Interacted FAD-beacons'!C315,0)","v":0},305,0,1001," ",null,{"$f":"IF('Utilized-Interacted FAD-beacons'!J315<>\"\",'Utilized-Interacted FAD-beacons'!J315,0)","v":0},305,0,1001," ",null,0,305,0,1001," "]
[null,null,null,null,null,null,null,null,null,null,null,null,{"$f":"IF('Utilized-Interacted FAD-beacons'!C316<>\"\",'Utilized-Interacted FAD-beacons'!C316,0)","v":0},306,0,1001," ",null,{"$f":"IF('Utilized-Interacted FAD-beacons'!J316<>\"\",'Utilized-Interacted FAD-beacons'!J316,0)","v":0},306,0,1001," ",null,0,306,0,1001," "]
[null,null,null,null,null,null,null,null,null,null,null,null,{"$f":"IF('Utilized-Interacted FAD-beacons'!C317<>\"\",'Utilized-Interacted FAD-beacons'!C317,0)","v":0},307,0,1001," ",null,{"$f":"IF('Utilized-Interacted FAD-beacons'!J317<>\"\",'Utilized-Interacted FAD-beacons'!J317,0)","v":0},307,0,1001," ",null,0,307,0,1001," "]
[null,null,null,null,null,null,null,null,null,null,null,null,{"$f":"IF('Utilized-Interacted FAD-beacons'!C318<>\"\",'Utilized-Interacted FAD-beacons'!C318,0)","v":0},308,0,1001," ",null,{"$f":"IF('Utilized-Interacted FAD-beacons'!J318<>\"\",'Utilized-Interacted FAD-beacons'!J318,0)","v":0},308,0,1001," ",null,0,308,0,1001," "]
[null,null,null,null,null,null,null,null,null,null,null,null,{"$f":"IF('Utilized-Interacted FAD-beacons'!C319<>\"\",'Utilized-Interacted FAD-beacons'!C319,0)","v":0},309,0,1001," ",null,{"$f":"IF('Utilized-Interacted FAD-beacons'!J319<>\"\",'Utilized-Interacted FAD-beacons'!J319,0)","v":0},309,0,1001," ",null,0,309,0,1001," "]
[null,null,null,null,null,null,null,null,null,null,null,null,{"$f":"IF('Utilized-Interacted FAD-beacons'!C320<>\"\",'Utilized-Interacted FAD-beacons'!C320,0)","v":0},310,0,1001," ",null,{"$f":"IF('Utilized-Interacted FAD-beacons'!J320<>\"\",'Utilized-Interacted FAD-beacons'!J320,0)","v":0},310,0,1001," ",null,0,310,0,1001," "]
[null,null,null,null,null,null,null,null,null,null,null,null,{"$f":"IF('Utilized-Interacted FAD-beacons'!C321<>\"\",'Utilized-Interacted FAD-beacons'!C321,0)","v":0},311,0,1001," ",null,{"$f":"IF('Utilized-Interacted FAD-beacons'!J321<>\"\",'Utilized-Interacted FAD-beacons'!J321,0)","v":0},311,0,1001," ",null,0,311,0,1001," "]
[null,null,null,null,null,null,null,null,null,null,null,null,{"$f":"IF('Utilized-Interacted FAD-beacons'!C322<>\"\",'Utilized-Interacted FAD-beacons'!C322,0)","v":0},312,0,1001," ",null,{"$f":"IF('Utilized-Interacted FAD-beacons'!J322<>\"\",'Utilized-Interacted FAD-beacons'!J322,0)","v":0},312,0,1001," ",null,0,312,0,1001," "]
[null,null,null,null,null,null,null,null,null,null,null,null,{"$f":"IF('Utilized-Interacted FAD-beacons'!C323<>\"\",'Utilized-Interacted FAD-beacons'!C323,0)","v":0},313,0,1001," ",null,{"$f":"IF('Utilized-Interacted FAD-beacons'!J323<>\"\",'Utilized-Interacted FAD-beacons'!J323,0)","v":0},313,0,1001," ",null,0,313,0,1001," "]
[null,null,null,null,null,null,null,null,null,null,null,null,{"$f":"IF('Utilized-Interacted FAD-beacons'!C324<>\"\",'Utilized-Interacted FAD-beacons'!C324,0)","v":0},314,0,1001," ",null,{"$f":"IF('Utilized-Interacted FAD-beacons'!J324<>\"\",'Utilized-Interacted FAD-beacons'!J324,0)","v":0},314,0,1001," ",null,0,314,0,1001," "]
[null,null,null,null,null,null,null,null,null,null,null,null,{"$f":"IF('Utilized-Interacted FAD-beacons'!C325<>\"\",'Utilized-Interacted FAD-beacons'!C325,0)","v":0},315,0,1001," ",null,{"$f":"IF('Utilized-Interacted FAD-beacons'!J325<>\"\",'Utilized-Interacted FAD-beacons'!J325,0)","v":0},315,0,1001," ",null,0,315,0,1001," "]
[null,null,null,null,null,null,null,null,null,null,null,null,{"$f":"IF('Utilized-Interacted FAD-beacons'!C326<>\"\",'Utilized-Interacted FAD-beacons'!C326,0)","v":0},316,0,1001," ",null,{"$f":"IF('Utilized-Interacted FAD-beacons'!J326<>\"\",'Utilized-Interacted FAD-beacons'!J326,0)","v":0},316,0,1001," ",null,0,316,0,1001," "]
[null,null,null,null,null,null,null,null,null,null,null,null,{"$f":"IF('Utilized-Interacted FAD-beacons'!C327<>\"\",'Utilized-Interacted FAD-beacons'!C327,0)","v":0},317,0,1001," ",null,{"$f":"IF('Utilized-Interacted FAD-beacons'!J327<>\"\",'Utilized-Interacted FAD-beacons'!J327,0)","v":0},317,0,1001," ",null,0,317,0,1001," "]
[null,null,null,null,null,null,null,null,null,null,null,null,{"$f":"IF('Utilized-Interacted FAD-beacons'!C328<>\"\",'Utilized-Interacted FAD-beacons'!C328,0)","v":0},318,0,1001," ",null,{"$f":"IF('Utilized-Interacted FAD-beacons'!J328<>\"\",'Utilized-Interacted FAD-beacons'!J328,0)","v":0},318,0,1001," ",null,0,318,0,1001," "]
[null,null,null,null,null,null,null,null,null,null,null,null,{"$f":"IF('Utilized-Interacted FAD-beacons'!C329<>\"\",'Utilized-Interacted FAD-beacons'!C329,0)","v":0},319,0,1001," ",null,{"$f":"IF('Utilized-Interacted FAD-beacons'!J329<>\"\",'Utilized-Interacted FAD-beacons'!J329,0)","v":0},319,0,1001," ",null,0,319,0,1001," "]
[null,null,null,null,null,null,null,null,null,null,null,null,{"$f":"IF('Utilized-Interacted FAD-beacons'!C330<>\"\",'Utilized-Interacted FAD-beacons'!C330,0)","v":0},320,0,1001," ",null,{"$f":"IF('Utilized-Interacted FAD-beacons'!J330<>\"\",'Utilized-Interacted FAD-beacons'!J330,0)","v":0},320,0,1001," ",null,0,320,0,1001," "]
[null,null,null,null,null,null,null,null,null,null,null,null,{"$f":"IF('Utilized-Interacted FAD-beacons'!C331<>\"\",'Utilized-Interacted FAD-beacons'!C331,0)","v":0},321,0,1001,{"$f":"IFERROR(VLOOKUP(SMALL($P$6:$P$1005,N326),$N$6:$O$1005,2,FALSE),\" \")","v":" "},null,{"$f":"IF('Utilized-Interacted FAD-beacons'!J331<>\"\",'Utilized-Interacted FAD-beacons'!J331,0)","v":0},321,0,1001,{"$f":"IFERROR(VLOOKUP(SMALL($V$6:$V$1005,T326),$T$6:$U$1005,2,FALSE),\" \")","v":" "},null,0,321,0,1001,{"$f":"IFERROR(VLOOKUP(SMALL($AB$6:$AB$1005,Z326),$Z$6:$AA$1005,2,FALSE),\" \")","v":" "}]
[null,null,null,null,null,null,null,null,null,null,null,null,{"$f":"IF('Utilized-Interacted FAD-beacons'!C332<>\"\",'Utilized-Interacted FAD-beacons'!C332,0)","v":0},322,{"$f":"M327","v":0},{"$f":"IF(O327=0,MAX($N$6:$N$1005)+1,N327)","v":1001}," ",null,{"$f":"IF('Utilized-Interacted FAD-beacons'!J332<>\"\",'Utilized-Interacted FAD-beacons'!J332,0)","v":0},322,{"$f":"S327","v":0},{"$f":"IF(U327=0,MAX($T$6:$T$1005)+1,T327)","v":1001}," ",null,{"$f":"IF(AND(M327=0,S327=0),0,IF(AND(M327<>0,S327=0),M327,IF(AND(M327=0,S327<>0),S327,IF(AND(M327<>0,S327<>0),(CONCATENATE(M327,S327))))))","v":0},322,{"$f":"Y327","v":0},{"$f":"IF(AA327=0,MAX($Z$6:$Z$1005)+1,Z327)","v":1001}," "]
[null,null,null,null,null,null,null,null,null,null,null,null,{"$f":"IF('Utilized-Interacted FAD-beacons'!C333<>\"\",'Utilized-Interacted FAD-beacons'!C333,0)","v":0},323,0,1001," ",null,{"$f":"IF('Utilized-Interacted FAD-beacons'!J333<>\"\",'Utilized-Interacted FAD-beacons'!J333,0)","v":0},323,0,1001," ",null,0,323,0,1001," "]
[null,null,null,null,null,null,null,null,null,null,null,null,{"$f":"IF('Utilized-Interacted FAD-beacons'!C334<>\"\",'Utilized-Interacted FAD-beacons'!C334,0)","v":0},324,0,1001," ",null,{"$f":"IF('Utilized-Interacted FAD-beacons'!J334<>\"\",'Utilized-Interacted FAD-beacons'!J334,0)","v":0},324,0,1001," ",null,0,324,0,1001," "]
[null,null,null,null,null,null,null,null,null,null,null,null,{"$f":"IF('Utilized-Interacted FAD-beacons'!C335<>\"\",'Utilized-Interacted FAD-beacons'!C335,0)","v":0},325,0,1001," ",null,{"$f":"IF('Utilized-Interacted FAD-beacons'!J335<>\"\",'Utilized-Interacted FAD-beacons'!J335,0)","v":0},325,0,1001," ",null,0,325,0,1001," "]
[null,null,null,null,null,null,null,null,null,null,null,null,{"$f":"IF('Utilized-Interacted FAD-beacons'!C336<>\"\",'Utilized-Interacted FAD-beacons'!C336,0)","v":0},326,0,1001," ",null,{"$f":"IF('Utilized-Interacted FAD-beacons'!J336<>\"\",'Utilized-Interacted FAD-beacons'!J336,0)","v":0},326,0,1001," ",null,0,326,0,1001," "]
[null,null,null,null,null,null,null,null,null,null,null,null,{"$f":"IF('Utilized-Interacted FAD-beacons'!C337<>\"\",'Utilized-Interacted FAD-beacons'!C337,0)","v":0},327,0,1001," ",null,{"$f":"IF('Utilized-Interacted FAD-beacons'!J337<>\"\",'Utilized-Interacted FAD-beacons'!J337,0)","v":0},327,0,1001," ",null,0,327,0,1001," "]
[null,null,null,null,null,null,null,null,null,null,null,null,{"$f":"IF('Utilized-Interacted FAD-beacons'!C338<>\"\",'Utilized-Interacted FAD-beacons'!C338,0)","v":0},328,0,1001," ",null,{"$f":"IF('Utilized-Interacted FAD-beacons'!J338<>\"\",'Utilized-Interacted FAD-beacons'!J338,0)","v":0},328,0,1001," ",null,0,328,0,1001," "]
[null,null,null,null,null,null,null,null,null,null,null,null,{"$f":"IF('Utilized-Interacted FAD-beacons'!C339<>\"\",'Utilized-Interacted FAD-beacons'!C339,0)","v":0},329,0,1001," ",null,{"$f":"IF('Utilized-Interacted FAD-beacons'!J339<>\"\",'Utilized-Interacted FAD-beacons'!J339,0)","v":0},329,0,1001," ",null,0,329,0,1001," "]
[null,null,null,null,null,null,null,null,null,null,null,null,{"$f":"IF('Utilized-Interacted FAD-beacons'!C340<>\"\",'Utilized-Interacted FAD-beacons'!C340,0)","v":0},330,0,1001," ",null,{"$f":"IF('Utilized-Interacted FAD-beacons'!J340<>\"\",'Utilized-Interacted FAD-beacons'!J340,0)","v":0},330,0,1001," ",null,0,330,0,1001," "]
[null,null,null,null,null,null,null,null,null,null,null,null,{"$f":"IF('Utilized-Interacted FAD-beacons'!C341<>\"\",'Utilized-Interacted FAD-beacons'!C341,0)","v":0},331,0,1001," ",null,{"$f":"IF('Utilized-Interacted FAD-beacons'!J341<>\"\",'Utilized-Interacted FAD-beacons'!J341,0)","v":0},331,0,1001," ",null,0,331,0,1001," "]
[null,null,null,null,null,null,null,null,null,null,null,null,{"$f":"IF('Utilized-Interacted FAD-beacons'!C342<>\"\",'Utilized-Interacted FAD-beacons'!C342,0)","v":0},332,0,1001," ",null,{"$f":"IF('Utilized-Interacted FAD-beacons'!J342<>\"\",'Utilized-Interacted FAD-beacons'!J342,0)","v":0},332,0,1001," ",null,0,332,0,1001," "]
[null,null,null,null,null,null,null,null,null,null,null,null,{"$f":"IF('Utilized-Interacted FAD-beacons'!C343<>\"\",'Utilized-Interacted FAD-beacons'!C343,0)","v":0},333,0,1001," ",null,{"$f":"IF('Utilized-Interacted FAD-beacons'!J343<>\"\",'Utilized-Interacted FAD-beacons'!J343,0)","v":0},333,0,1001," ",null,0,333,0,1001," "]
[null,null,null,null,null,null,null,null,null,null,null,null,{"$f":"IF('Utilized-Interacted FAD-beacons'!C344<>\"\",'Utilized-Interacted FAD-beacons'!C344,0)","v":0},334,0,1001," ",null,{"$f":"IF('Utilized-Interacted FAD-beacons'!J344<>\"\",'Utilized-Interacted FAD-beacons'!J344,0)","v":0},334,0,1001," ",null,0,334,0,1001," "]
[null,null,null,null,null,null,null,null,null,null,null,null,{"$f":"IF('Utilized-Interacted FAD-beacons'!C345<>\"\",'Utilized-Interacted FAD-beacons'!C345,0)","v":0},335,0,1001," ",null,{"$f":"IF('Utilized-Interacted FAD-beacons'!J345<>\"\",'Utilized-Interacted FAD-beacons'!J345,0)","v":0},335,0,1001," ",null,0,335,0,1001," "]
[null,null,null,null,null,null,null,null,null,null,null,null,{"$f":"IF('Utilized-Interacted FAD-beacons'!C346<>\"\",'Utilized-Interacted FAD-beacons'!C346,0)","v":0},336,0,1001," ",null,{"$f":"IF('Utilized-Interacted FAD-beacons'!J346<>\"\",'Utilized-Interacted FAD-beacons'!J346,0)","v":0},336,0,1001," ",null,0,336,0,1001," "]
[null,null,null,null,null,null,null,null,null,null,null,null,{"$f":"IF('Utilized-Interacted FAD-beacons'!C347<>\"\",'Utilized-Interacted FAD-beacons'!C347,0)","v":0},337,0,1001," ",null,{"$f":"IF('Utilized-Interacted FAD-beacons'!J347<>\"\",'Utilized-Interacted FAD-beacons'!J347,0)","v":0},337,0,1001," ",null,0,337,0,1001," "]
[null,null,null,null,null,null,null,null,null,null,null,null,{"$f":"IF('Utilized-Interacted FAD-beacons'!C348<>\"\",'Utilized-Interacted FAD-beacons'!C348,0)","v":0},338,0,1001," ",null,{"$f":"IF('Utilized-Interacted FAD-beacons'!J348<>\"\",'Utilized-Interacted FAD-beacons'!J348,0)","v":0},338,0,1001," ",null,0,338,0,1001," "]
[null,null,null,null,null,null,null,null,null,null,null,null,{"$f":"IF('Utilized-Interacted FAD-beacons'!C349<>\"\",'Utilized-Interacted FAD-beacons'!C349,0)","v":0},339,0,1001," ",null,{"$f":"IF('Utilized-Interacted FAD-beacons'!J349<>\"\",'Utilized-Interacted FAD-beacons'!J349,0)","v":0},339,0,1001," ",null,0,339,0,1001," "]
[null,null,null,null,null,null,null,null,null,null,null,null,{"$f":"IF('Utilized-Interacted FAD-beacons'!C350<>\"\",'Utilized-Interacted FAD-beacons'!C350,0)","v":0},340,0,1001," ",null,{"$f":"IF('Utilized-Interacted FAD-beacons'!J350<>\"\",'Utilized-Interacted FAD-beacons'!J350,0)","v":0},340,0,1001," ",null,0,340,0,1001," "]
[null,null,null,null,null,null,null,null,null,null,null,null,{"$f":"IF('Utilized-Interacted FAD-beacons'!C351<>\"\",'Utilized-Interacted FAD-beacons'!C351,0)","v":0},341,0,1001," ",null,{"$f":"IF('Utilized-Interacted FAD-beacons'!J351<>\"\",'Utilized-Interacted FAD-beacons'!J351,0)","v":0},341,0,1001," ",null,0,341,0,1001," "]
[null,null,null,null,null,null,null,null,null,null,null,null,{"$f":"IF('Utilized-Interacted FAD-beacons'!C352<>\"\",'Utilized-Interacted FAD-beacons'!C352,0)","v":0},342,0,1001," ",null,{"$f":"IF('Utilized-Interacted FAD-beacons'!J352<>\"\",'Utilized-Interacted FAD-beacons'!J352,0)","v":0},342,0,1001," ",null,0,342,0,1001," "]
[null,null,null,null,null,null,null,null,null,null,null,null,{"$f":"IF('Utilized-Interacted FAD-beacons'!C353<>\"\",'Utilized-Interacted FAD-beacons'!C353,0)","v":0},343,0,1001," ",null,{"$f":"IF('Utilized-Interacted FAD-beacons'!J353<>\"\",'Utilized-Interacted FAD-beacons'!J353,0)","v":0},343,0,1001," ",null,0,343,0,1001," "]
[null,null,null,null,null,null,null,null,null,null,null,null,{"$f":"IF('Utilized-Interacted FAD-beacons'!C354<>\"\",'Utilized-Interacted FAD-beacons'!C354,0)","v":0},344,0,1001," ",null,{"$f":"IF('Utilized-Interacted FAD-beacons'!J354<>\"\",'Utilized-Interacted FAD-beacons'!J354,0)","v":0},344,0,1001," ",null,0,344,0,1001," "]
[null,null,null,null,null,null,null,null,null,null,null,null,{"$f":"IF('Utilized-Interacted FAD-beacons'!C355<>\"\",'Utilized-Interacted FAD-beacons'!C355,0)","v":0},345,0,1001," ",null,{"$f":"IF('Utilized-Interacted FAD-beacons'!J355<>\"\",'Utilized-Interacted FAD-beacons'!J355,0)","v":0},345,0,1001," ",null,0,345,0,1001," "]
[null,null,null,null,null,null,null,null,null,null,null,null,{"$f":"IF('Utilized-Interacted FAD-beacons'!C356<>\"\",'Utilized-Interacted FAD-beacons'!C356,0)","v":0},346,0,1001," ",null,{"$f":"IF('Utilized-Interacted FAD-beacons'!J356<>\"\",'Utilized-Interacted FAD-beacons'!J356,0)","v":0},346,0,1001," ",null,0,346,0,1001," "]
[null,null,null,null,null,null,null,null,null,null,null,null,{"$f":"IF('Utilized-Interacted FAD-beacons'!C357<>\"\",'Utilized-Interacted FAD-beacons'!C357,0)","v":0},347,0,1001," ",null,{"$f":"IF('Utilized-Interacted FAD-beacons'!J357<>\"\",'Utilized-Interacted FAD-beacons'!J357,0)","v":0},347,0,1001," ",null,0,347,0,1001," "]
[null,null,null,null,null,null,null,null,null,null,null,null,{"$f":"IF('Utilized-Interacted FAD-beacons'!C358<>\"\",'Utilized-Interacted FAD-beacons'!C358,0)","v":0},348,0,1001," ",null,{"$f":"IF('Utilized-Interacted FAD-beacons'!J358<>\"\",'Utilized-Interacted FAD-beacons'!J358,0)","v":0},348,0,1001," ",null,0,348,0,1001," "]
[null,null,null,null,null,null,null,null,null,null,null,null,{"$f":"IF('Utilized-Interacted FAD-beacons'!C359<>\"\",'Utilized-Interacted FAD-beacons'!C359,0)","v":0},349,0,1001," ",null,{"$f":"IF('Utilized-Interacted FAD-beacons'!J359<>\"\",'Utilized-Interacted FAD-beacons'!J359,0)","v":0},349,0,1001," ",null,0,349,0,1001," "]
[null,null,null,null,null,null,null,null,null,null,null,null,{"$f":"IF('Utilized-Interacted FAD-beacons'!C360<>\"\",'Utilized-Interacted FAD-beacons'!C360,0)","v":0},350,0,1001," ",null,{"$f":"IF('Utilized-Interacted FAD-beacons'!J360<>\"\",'Utilized-Interacted FAD-beacons'!J360,0)","v":0},350,0,1001," ",null,0,350,0,1001," "]
[null,null,null,null,null,null,null,null,null,null,null,null,{"$f":"IF('Utilized-Interacted FAD-beacons'!C361<>\"\",'Utilized-Interacted FAD-beacons'!C361,0)","v":0},351,0,1001," ",null,{"$f":"IF('Utilized-Interacted FAD-beacons'!J361<>\"\",'Utilized-Interacted FAD-beacons'!J361,0)","v":0},351,0,1001," ",null,0,351,0,1001," "]
[null,null,null,null,null,null,null,null,null,null,null,null,{"$f":"IF('Utilized-Interacted FAD-beacons'!C362<>\"\",'Utilized-Interacted FAD-beacons'!C362,0)","v":0},352,0,1001," ",null,{"$f":"IF('Utilized-Interacted FAD-beacons'!J362<>\"\",'Utilized-Interacted FAD-beacons'!J362,0)","v":0},352,0,1001," ",null,0,352,0,1001," "]
[null,null,null,null,null,null,null,null,null,null,null,null,{"$f":"IF('Utilized-Interacted FAD-beacons'!C363<>\"\",'Utilized-Interacted FAD-beacons'!C363,0)","v":0},353,0,1001," ",null,{"$f":"IF('Utilized-Interacted FAD-beacons'!J363<>\"\",'Utilized-Interacted FAD-beacons'!J363,0)","v":0},353,0,1001," ",null,0,353,0,1001," "]
[null,null,null,null,null,null,null,null,null,null,null,null,{"$f":"IF('Utilized-Interacted FAD-beacons'!C364<>\"\",'Utilized-Interacted FAD-beacons'!C364,0)","v":0},354,0,1001," ",null,{"$f":"IF('Utilized-Interacted FAD-beacons'!J364<>\"\",'Utilized-Interacted FAD-beacons'!J364,0)","v":0},354,0,1001," ",null,0,354,0,1001," "]
[null,null,null,null,null,null,null,null,null,null,null,null,{"$f":"IF('Utilized-Interacted FAD-beacons'!C365<>\"\",'Utilized-Interacted FAD-beacons'!C365,0)","v":0},355,0,1001," ",null,{"$f":"IF('Utilized-Interacted FAD-beacons'!J365<>\"\",'Utilized-Interacted FAD-beacons'!J365,0)","v":0},355,0,1001," ",null,0,355,0,1001," "]
[null,null,null,null,null,null,null,null,null,null,null,null,{"$f":"IF('Utilized-Interacted FAD-beacons'!C366<>\"\",'Utilized-Interacted FAD-beacons'!C366,0)","v":0},356,0,1001," ",null,{"$f":"IF('Utilized-Interacted FAD-beacons'!J366<>\"\",'Utilized-Interacted FAD-beacons'!J366,0)","v":0},356,0,1001," ",null,0,356,0,1001," "]
[null,null,null,null,null,null,null,null,null,null,null,null,{"$f":"IF('Utilized-Interacted FAD-beacons'!C367<>\"\",'Utilized-Interacted FAD-beacons'!C367,0)","v":0},357,0,1001," ",null,{"$f":"IF('Utilized-Interacted FAD-beacons'!J367<>\"\",'Utilized-Interacted FAD-beacons'!J367,0)","v":0},357,0,1001," ",null,0,357,0,1001," "]
[null,null,null,null,null,null,null,null,null,null,null,null,{"$f":"IF('Utilized-Interacted FAD-beacons'!C368<>\"\",'Utilized-Interacted FAD-beacons'!C368,0)","v":0},358,0,1001," ",null,{"$f":"IF('Utilized-Interacted FAD-beacons'!J368<>\"\",'Utilized-Interacted FAD-beacons'!J368,0)","v":0},358,0,1001," ",null,0,358,0,1001," "]
[null,null,null,null,null,null,null,null,null,null,null,null,{"$f":"IF('Utilized-Interacted FAD-beacons'!C369<>\"\",'Utilized-Interacted FAD-beacons'!C369,0)","v":0},359,0,1001," ",null,{"$f":"IF('Utilized-Interacted FAD-beacons'!J369<>\"\",'Utilized-Interacted FAD-beacons'!J369,0)","v":0},359,0,1001," ",null,0,359,0,1001," "]
[null,null,null,null,null,null,null,null,null,null,null,null,{"$f":"IF('Utilized-Interacted FAD-beacons'!C370<>\"\",'Utilized-Interacted FAD-beacons'!C370,0)","v":0},360,0,1001," ",null,{"$f":"IF('Utilized-Interacted FAD-beacons'!J370<>\"\",'Utilized-Interacted FAD-beacons'!J370,0)","v":0},360,0,1001," ",null,0,360,0,1001," "]
[null,null,null,null,null,null,null,null,null,null,null,null,{"$f":"IF('Utilized-Interacted FAD-beacons'!C371<>\"\",'Utilized-Interacted FAD-beacons'!C371,0)","v":0},361,0,1001," ",null,{"$f":"IF('Utilized-Interacted FAD-beacons'!J371<>\"\",'Utilized-Interacted FAD-beacons'!J371,0)","v":0},361,0,1001," ",null,0,361,0,1001," "]
[null,null,null,null,null,null,null,null,null,null,null,null,{"$f":"IF('Utilized-Interacted FAD-beacons'!C372<>\"\",'Utilized-Interacted FAD-beacons'!C372,0)","v":0},362,0,1001," ",null,{"$f":"IF('Utilized-Interacted FAD-beacons'!J372<>\"\",'Utilized-Interacted FAD-beacons'!J372,0)","v":0},362,0,1001," ",null,0,362,0,1001," "]
[null,null,null,null,null,null,null,null,null,null,null,null,{"$f":"IF('Utilized-Interacted FAD-beacons'!C373<>\"\",'Utilized-Interacted FAD-beacons'!C373,0)","v":0},363,0,1001," ",null,{"$f":"IF('Utilized-Interacted FAD-beacons'!J373<>\"\",'Utilized-Interacted FAD-beacons'!J373,0)","v":0},363,0,1001," ",null,0,363,0,1001," "]
[null,null,null,null,null,null,null,null,null,null,null,null,{"$f":"IF('Utilized-Interacted FAD-beacons'!C374<>\"\",'Utilized-Interacted FAD-beacons'!C374,0)","v":0},364,0,1001," ",null,{"$f":"IF('Utilized-Interacted FAD-beacons'!J374<>\"\",'Utilized-Interacted FAD-beacons'!J374,0)","v":0},364,0,1001," ",null,0,364,0,1001," "]
[null,null,null,null,null,null,null,null,null,null,null,null,{"$f":"IF('Utilized-Interacted FAD-beacons'!C375<>\"\",'Utilized-Interacted FAD-beacons'!C375,0)","v":0},365,0,1001," ",null,{"$f":"IF('Utilized-Interacted FAD-beacons'!J375<>\"\",'Utilized-Interacted FAD-beacons'!J375,0)","v":0},365,0,1001," ",null,0,365,0,1001," "]
[null,null,null,null,null,null,null,null,null,null,null,null,{"$f":"IF('Utilized-Interacted FAD-beacons'!C376<>\"\",'Utilized-Interacted FAD-beacons'!C376,0)","v":0},366,0,1001," ",null,{"$f":"IF('Utilized-Interacted FAD-beacons'!J376<>\"\",'Utilized-Interacted FAD-beacons'!J376,0)","v":0},366,0,1001," ",null,0,366,0,1001," "]
[null,null,null,null,null,null,null,null,null,null,null,null,{"$f":"IF('Utilized-Interacted FAD-beacons'!C377<>\"\",'Utilized-Interacted FAD-beacons'!C377,0)","v":0},367,0,1001," ",null,{"$f":"IF('Utilized-Interacted FAD-beacons'!J377<>\"\",'Utilized-Interacted FAD-beacons'!J377,0)","v":0},367,0,1001," ",null,0,367,0,1001," "]
[null,null,null,null,null,null,null,null,null,null,null,null,{"$f":"IF('Utilized-Interacted FAD-beacons'!C378<>\"\",'Utilized-Interacted FAD-beacons'!C378,0)","v":0},368,0,1001," ",null,{"$f":"IF('Utilized-Interacted FAD-beacons'!J378<>\"\",'Utilized-Interacted FAD-beacons'!J378,0)","v":0},368,0,1001," ",null,0,368,0,1001," "]
[null,null,null,null,null,null,null,null,null,null,null,null,{"$f":"IF('Utilized-Interacted FAD-beacons'!C379<>\"\",'Utilized-Interacted FAD-beacons'!C379,0)","v":0},369,0,1001," ",null,{"$f":"IF('Utilized-Interacted FAD-beacons'!J379<>\"\",'Utilized-Interacted FAD-beacons'!J379,0)","v":0},369,0,1001," ",null,0,369,0,1001," "]
[null,null,null,null,null,null,null,null,null,null,null,null,{"$f":"IF('Utilized-Interacted FAD-beacons'!C380<>\"\",'Utilized-Interacted FAD-beacons'!C380,0)","v":0},370,0,1001," ",null,{"$f":"IF('Utilized-Interacted FAD-beacons'!J380<>\"\",'Utilized-Interacted FAD-beacons'!J380,0)","v":0},370,0,1001," ",null,0,370,0,1001," "]
[null,null,null,null,null,null,null,null,null,null,null,null,{"$f":"IF('Utilized-Interacted FAD-beacons'!C381<>\"\",'Utilized-Interacted FAD-beacons'!C381,0)","v":0},371,0,1001," ",null,{"$f":"IF('Utilized-Interacted FAD-beacons'!J381<>\"\",'Utilized-Interacted FAD-beacons'!J381,0)","v":0},371,0,1001," ",null,0,371,0,1001," "]
[null,null,null,null,null,null,null,null,null,null,null,null,{"$f":"IF('Utilized-Interacted FAD-beacons'!C382<>\"\",'Utilized-Interacted FAD-beacons'!C382,0)","v":0},372,0,1001," ",null,{"$f":"IF('Utilized-Interacted FAD-beacons'!J382<>\"\",'Utilized-Interacted FAD-beacons'!J382,0)","v":0},372,0,1001," ",null,0,372,0,1001," "]
[null,null,null,null,null,null,null,null,null,null,null,null,{"$f":"IF('Utilized-Interacted FAD-beacons'!C383<>\"\",'Utilized-Interacted FAD-beacons'!C383,0)","v":0},373,0,1001," ",null,{"$f":"IF('Utilized-Interacted FAD-beacons'!J383<>\"\",'Utilized-Interacted FAD-beacons'!J383,0)","v":0},373,0,1001," ",null,0,373,0,1001," "]
[null,null,null,null,null,null,null,null,null,null,null,null,{"$f":"IF('Utilized-Interacted FAD-beacons'!C384<>\"\",'Utilized-Interacted FAD-beacons'!C384,0)","v":0},374,0,1001," ",null,{"$f":"IF('Utilized-Interacted FAD-beacons'!J384<>\"\",'Utilized-Interacted FAD-beacons'!J384,0)","v":0},374,0,1001," ",null,0,374,0,1001," "]
[null,null,null,null,null,null,null,null,null,null,null,null,{"$f":"IF('Utilized-Interacted FAD-beacons'!C385<>\"\",'Utilized-Interacted FAD-beacons'!C385,0)","v":0},375,0,1001," ",null,{"$f":"IF('Utilized-Interacted FAD-beacons'!J385<>\"\",'Utilized-Interacted FAD-beacons'!J385,0)","v":0},375,0,1001," ",null,0,375,0,1001," "]
[null,null,null,null,null,null,null,null,null,null,null,null,{"$f":"IF('Utilized-Interacted FAD-beacons'!C386<>\"\",'Utilized-Interacted FAD-beacons'!C386,0)","v":0},376,0,1001," ",null,{"$f":"IF('Utilized-Interacted FAD-beacons'!J386<>\"\",'Utilized-Interacted FAD-beacons'!J386,0)","v":0},376,0,1001," ",null,0,376,0,1001," "]
[null,null,null,null,null,null,null,null,null,null,null,null,{"$f":"IF('Utilized-Interacted FAD-beacons'!C387<>\"\",'Utilized-Interacted FAD-beacons'!C387,0)","v":0},377,0,1001," ",null,{"$f":"IF('Utilized-Interacted FAD-beacons'!J387<>\"\",'Utilized-Interacted FAD-beacons'!J387,0)","v":0},377,0,1001," ",null,0,377,0,1001," "]
[null,null,null,null,null,null,null,null,null,null,null,null,{"$f":"IF('Utilized-Interacted FAD-beacons'!C388<>\"\",'Utilized-Interacted FAD-beacons'!C388,0)","v":0},378,0,1001," ",null,{"$f":"IF('Utilized-Interacted FAD-beacons'!J388<>\"\",'Utilized-Interacted FAD-beacons'!J388,0)","v":0},378,0,1001," ",null,0,378,0,1001," "]
[null,null,null,null,null,null,null,null,null,null,null,null,{"$f":"IF('Utilized-Interacted FAD-beacons'!C389<>\"\",'Utilized-Interacted FAD-beacons'!C389,0)","v":0},379,0,1001," ",null,{"$f":"IF('Utilized-Interacted FAD-beacons'!J389<>\"\",'Utilized-Interacted FAD-beacons'!J389,0)","v":0},379,0,1001," ",null,0,379,0,1001," "]
[null,null,null,null,null,null,null,null,null,null,null,null,{"$f":"IF('Utilized-Interacted FAD-beacons'!C390<>\"\",'Utilized-Interacted FAD-beacons'!C390,0)","v":0},380,0,1001," ",null,{"$f":"IF('Utilized-Interacted FAD-beacons'!J390<>\"\",'Utilized-Interacted FAD-beacons'!J390,0)","v":0},380,0,1001," ",null,0,380,0,1001," "]
[null,null,null,null,null,null,null,null,null,null,null,null,{"$f":"IF('Utilized-Interacted FAD-beacons'!C391<>\"\",'Utilized-Interacted FAD-beacons'!C391,0)","v":0},381,0,1001," ",null,{"$f":"IF('Utilized-Interacted FAD-beacons'!J391<>\"\",'Utilized-Interacted FAD-beacons'!J391,0)","v":0},381,0,1001," ",null,0,381,0,1001," "]
[null,null,null,null,null,null,null,null,null,null,null,null,{"$f":"IF('Utilized-Interacted FAD-beacons'!C392<>\"\",'Utilized-Interacted FAD-beacons'!C392,0)","v":0},382,0,1001," ",null,{"$f":"IF('Utilized-Interacted FAD-beacons'!J392<>\"\",'Utilized-Interacted FAD-beacons'!J392,0)","v":0},382,0,1001," ",null,0,382,0,1001," "]
[null,null,null,null,null,null,null,null,null,null,null,null,{"$f":"IF('Utilized-Interacted FAD-beacons'!C393<>\"\",'Utilized-Interacted FAD-beacons'!C393,0)","v":0},383,0,1001," ",null,{"$f":"IF('Utilized-Interacted FAD-beacons'!J393<>\"\",'Utilized-Interacted FAD-beacons'!J393,0)","v":0},383,0,1001," ",null,0,383,0,1001," "]
[null,null,null,null,null,null,null,null,null,null,null,null,{"$f":"IF('Utilized-Interacted FAD-beacons'!C394<>\"\",'Utilized-Interacted FAD-beacons'!C394,0)","v":0},384,0,1001," ",null,{"$f":"IF('Utilized-Interacted FAD-beacons'!J394<>\"\",'Utilized-Interacted FAD-beacons'!J394,0)","v":0},384,0,1001," ",null,0,384,0,1001," "]
[null,null,null,null,null,null,null,null,null,null,null,null,{"$f":"IF('Utilized-Interacted FAD-beacons'!C395<>\"\",'Utilized-Interacted FAD-beacons'!C395,0)","v":0},385,0,1001,{"$f":"IFERROR(VLOOKUP(SMALL($P$6:$P$1005,N390),$N$6:$O$1005,2,FALSE),\" \")","v":" "},null,{"$f":"IF('Utilized-Interacted FAD-beacons'!J395<>\"\",'Utilized-Interacted FAD-beacons'!J395,0)","v":0},385,0,1001,{"$f":"IFERROR(VLOOKUP(SMALL($V$6:$V$1005,T390),$T$6:$U$1005,2,FALSE),\" \")","v":" "},null,0,385,0,1001,{"$f":"IFERROR(VLOOKUP(SMALL($AB$6:$AB$1005,Z390),$Z$6:$AA$1005,2,FALSE),\" \")","v":" "}]
[null,null,null,null,null,null,null,null,null,null,null,null,{"$f":"IF('Utilized-Interacted FAD-beacons'!C396<>\"\",'Utilized-Interacted FAD-beacons'!C396,0)","v":0},386,{"$f":"M391","v":0},{"$f":"IF(O391=0,MAX($N$6:$N$1005)+1,N391)","v":1001}," ",null,{"$f":"IF('Utilized-Interacted FAD-beacons'!J396<>\"\",'Utilized-Interacted FAD-beacons'!J396,0)","v":0},386,{"$f":"S391","v":0},{"$f":"IF(U391=0,MAX($T$6:$T$1005)+1,T391)","v":1001}," ",null,{"$f":"IF(AND(M391=0,S391=0),0,IF(AND(M391<>0,S391=0),M391,IF(AND(M391=0,S391<>0),S391,IF(AND(M391<>0,S391<>0),(CONCATENATE(M391,S391))))))","v":0},386,{"$f":"Y391","v":0},{"$f":"IF(AA391=0,MAX($Z$6:$Z$1005)+1,Z391)","v":1001}," "]
[null,null,null,null,null,null,null,null,null,null,null,null,{"$f":"IF('Utilized-Interacted FAD-beacons'!C397<>\"\",'Utilized-Interacted FAD-beacons'!C397,0)","v":0},387,0,1001," ",null,{"$f":"IF('Utilized-Interacted FAD-beacons'!J397<>\"\",'Utilized-Interacted FAD-beacons'!J397,0)","v":0},387,0,1001," ",null,0,387,0,1001," "]
[null,null,null,null,null,null,null,null,null,null,null,null,{"$f":"IF('Utilized-Interacted FAD-beacons'!C398<>\"\",'Utilized-Interacted FAD-beacons'!C398,0)","v":0},388,0,1001," ",null,{"$f":"IF('Utilized-Interacted FAD-beacons'!J398<>\"\",'Utilized-Interacted FAD-beacons'!J398,0)","v":0},388,0,1001," ",null,0,388,0,1001," "]
[null,null,null,null,null,null,null,null,null,null,null,null,{"$f":"IF('Utilized-Interacted FAD-beacons'!C399<>\"\",'Utilized-Interacted FAD-beacons'!C399,0)","v":0},389,0,1001," ",null,{"$f":"IF('Utilized-Interacted FAD-beacons'!J399<>\"\",'Utilized-Interacted FAD-beacons'!J399,0)","v":0},389,0,1001," ",null,0,389,0,1001," "]
[null,null,null,null,null,null,null,null,null,null,null,null,{"$f":"IF('Utilized-Interacted FAD-beacons'!C400<>\"\",'Utilized-Interacted FAD-beacons'!C400,0)","v":0},390,0,1001," ",null,{"$f":"IF('Utilized-Interacted FAD-beacons'!J400<>\"\",'Utilized-Interacted FAD-beacons'!J400,0)","v":0},390,0,1001," ",null,0,390,0,1001," "]
[null,null,null,null,null,null,null,null,null,null,null,null,{"$f":"IF('Utilized-Interacted FAD-beacons'!C401<>\"\",'Utilized-Interacted FAD-beacons'!C401,0)","v":0},391,0,1001," ",null,{"$f":"IF('Utilized-Interacted FAD-beacons'!J401<>\"\",'Utilized-Interacted FAD-beacons'!J401,0)","v":0},391,0,1001," ",null,0,391,0,1001," "]
[null,null,null,null,null,null,null,null,null,null,null,null,{"$f":"IF('Utilized-Interacted FAD-beacons'!C402<>\"\",'Utilized-Interacted FAD-beacons'!C402,0)","v":0},392,0,1001," ",null,{"$f":"IF('Utilized-Interacted FAD-beacons'!J402<>\"\",'Utilized-Interacted FAD-beacons'!J402,0)","v":0},392,0,1001," ",null,0,392,0,1001," "]
[null,null,null,null,null,null,null,null,null,null,null,null,{"$f":"IF('Utilized-Interacted FAD-beacons'!C403<>\"\",'Utilized-Interacted FAD-beacons'!C403,0)","v":0},393,0,1001," ",null,{"$f":"IF('Utilized-Interacted FAD-beacons'!J403<>\"\",'Utilized-Interacted FAD-beacons'!J403,0)","v":0},393,0,1001," ",null,0,393,0,1001," "]
[null,null,null,null,null,null,null,null,null,null,null,null,{"$f":"IF('Utilized-Interacted FAD-beacons'!C404<>\"\",'Utilized-Interacted FAD-beacons'!C404,0)","v":0},394,0,1001," ",null,{"$f":"IF('Utilized-Interacted FAD-beacons'!J404<>\"\",'Utilized-Interacted FAD-beacons'!J404,0)","v":0},394,0,1001," ",null,0,394,0,1001," "]
[null,null,null,null,null,null,null,null,null,null,null,null,{"$f":"IF('Utilized-Interacted FAD-beacons'!C405<>\"\",'Utilized-Interacted FAD-beacons'!C405,0)","v":0},395,0,1001," ",null,{"$f":"IF('Utilized-Interacted FAD-beacons'!J405<>\"\",'Utilized-Interacted FAD-beacons'!J405,0)","v":0},395,0,1001," ",null,0,395,0,1001," "]
[null,null,null,null,null,null,null,null,null,null,null,null,{"$f":"IF('Utilized-Interacted FAD-beacons'!C406<>\"\",'Utilized-Interacted FAD-beacons'!C406,0)","v":0},396,0,1001," ",null,{"$f":"IF('Utilized-Interacted FAD-beacons'!J406<>\"\",'Utilized-Interacted FAD-beacons'!J406,0)","v":0},396,0,1001," ",null,0,396,0,1001," "]
[null,null,null,null,null,null,null,null,null,null,null,null,{"$f":"IF('Utilized-Interacted FAD-beacons'!C407<>\"\",'Utilized-Interacted FAD-beacons'!C407,0)","v":0},397,0,1001," ",null,{"$f":"IF('Utilized-Interacted FAD-beacons'!J407<>\"\",'Utilized-Interacted FAD-beacons'!J407,0)","v":0},397,0,1001," ",null,0,397,0,1001," "]
[null,null,null,null,null,null,null,null,null,null,null,null,{"$f":"IF('Utilized-Interacted FAD-beacons'!C408<>\"\",'Utilized-Interacted FAD-beacons'!C408,0)","v":0},398,0,1001," ",null,{"$f":"IF('Utilized-Interacted FAD-beacons'!J408<>\"\",'Utilized-Interacted FAD-beacons'!J408,0)","v":0},398,0,1001," ",null,0,398,0,1001," "]
[null,null,null,null,null,null,null,null,null,null,null,null,{"$f":"IF('Utilized-Interacted FAD-beacons'!C409<>\"\",'Utilized-Interacted FAD-beacons'!C409,0)","v":0},399,0,1001," ",null,{"$f":"IF('Utilized-Interacted FAD-beacons'!J409<>\"\",'Utilized-Interacted FAD-beacons'!J409,0)","v":0},399,0,1001," ",null,0,399,0,1001," "]
[null,null,null,null,null,null,null,null,null,null,null,null,{"$f":"IF('Utilized-Interacted FAD-beacons'!C410<>\"\",'Utilized-Interacted FAD-beacons'!C410,0)","v":0},400,0,1001," ",null,{"$f":"IF('Utilized-Interacted FAD-beacons'!J410<>\"\",'Utilized-Interacted FAD-beacons'!J410,0)","v":0},400,0,1001," ",null,0,400,0,1001," "]
[null,null,null,null,null,null,null,null,null,null,null,null,{"$f":"IF('Utilized-Interacted FAD-beacons'!C411<>\"\",'Utilized-Interacted FAD-beacons'!C411,0)","v":0},401,0,1001," ",null,{"$f":"IF('Utilized-Interacted FAD-beacons'!J411<>\"\",'Utilized-Interacted FAD-beacons'!J411,0)","v":0},401,0,1001," ",null,0,401,0,1001," "]
[null,null,null,null,null,null,null,null,null,null,null,null,{"$f":"IF('Utilized-Interacted FAD-beacons'!C412<>\"\",'Utilized-Interacted FAD-beacons'!C412,0)","v":0},402,0,1001," ",null,{"$f":"IF('Utilized-Interacted FAD-beacons'!J412<>\"\",'Utilized-Interacted FAD-beacons'!J412,0)","v":0},402,0,1001," ",null,0,402,0,1001," "]
[null,null,null,null,null,null,null,null,null,null,null,null,{"$f":"IF('Utilized-Interacted FAD-beacons'!C413<>\"\",'Utilized-Interacted FAD-beacons'!C413,0)","v":0},403,0,1001," ",null,{"$f":"IF('Utilized-Interacted FAD-beacons'!J413<>\"\",'Utilized-Interacted FAD-beacons'!J413,0)","v":0},403,0,1001," ",null,0,403,0,1001," "]
[null,null,null,null,null,null,null,null,null,null,null,null,{"$f":"IF('Utilized-Interacted FAD-beacons'!C414<>\"\",'Utilized-Interacted FAD-beacons'!C414,0)","v":0},404,0,1001," ",null,{"$f":"IF('Utilized-Interacted FAD-beacons'!J414<>\"\",'Utilized-Interacted FAD-beacons'!J414,0)","v":0},404,0,1001," ",null,0,404,0,1001," "]
[null,null,null,null,null,null,null,null,null,null,null,null,{"$f":"IF('Utilized-Interacted FAD-beacons'!C415<>\"\",'Utilized-Interacted FAD-beacons'!C415,0)","v":0},405,0,1001," ",null,{"$f":"IF('Utilized-Interacted FAD-beacons'!J415<>\"\",'Utilized-Interacted FAD-beacons'!J415,0)","v":0},405,0,1001," ",null,0,405,0,1001," "]
[null,null,null,null,null,null,null,null,null,null,null,null,{"$f":"IF('Utilized-Interacted FAD-beacons'!C416<>\"\",'Utilized-Interacted FAD-beacons'!C416,0)","v":0},406,0,1001," ",null,{"$f":"IF('Utilized-Interacted FAD-beacons'!J416<>\"\",'Utilized-Interacted FAD-beacons'!J416,0)","v":0},406,0,1001," ",null,0,406,0,1001," "]
[null,null,null,null,null,null,null,null,null,null,null,null,{"$f":"IF('Utilized-Interacted FAD-beacons'!C417<>\"\",'Utilized-Interacted FAD-beacons'!C417,0)","v":0},407,0,1001," ",null,{"$f":"IF('Utilized-Interacted FAD-beacons'!J417<>\"\",'Utilized-Interacted FAD-beacons'!J417,0)","v":0},407,0,1001," ",null,0,407,0,1001," "]
[null,null,null,null,null,null,null,null,null,null,null,null,{"$f":"IF('Utilized-Interacted FAD-beacons'!C418<>\"\",'Utilized-Interacted FAD-beacons'!C418,0)","v":0},408,0,1001," ",null,{"$f":"IF('Utilized-Interacted FAD-beacons'!J418<>\"\",'Utilized-Interacted FAD-beacons'!J418,0)","v":0},408,0,1001," ",null,0,408,0,1001," "]
[null,null,null,null,null,null,null,null,null,null,null,null,{"$f":"IF('Utilized-Interacted FAD-beacons'!C419<>\"\",'Utilized-Interacted FAD-beacons'!C419,0)","v":0},409,0,1001," ",null,{"$f":"IF('Utilized-Interacted FAD-beacons'!J419<>\"\",'Utilized-Interacted FAD-beacons'!J419,0)","v":0},409,0,1001," ",null,0,409,0,1001," "]
[null,null,null,null,null,null,null,null,null,null,null,null,{"$f":"IF('Utilized-Interacted FAD-beacons'!C420<>\"\",'Utilized-Interacted FAD-beacons'!C420,0)","v":0},410,0,1001," ",null,{"$f":"IF('Utilized-Interacted FAD-beacons'!J420<>\"\",'Utilized-Interacted FAD-beacons'!J420,0)","v":0},410,0,1001," ",null,0,410,0,1001," "]
[null,null,null,null,null,null,null,null,null,null,null,null,{"$f":"IF('Utilized-Interacted FAD-beacons'!C421<>\"\",'Utilized-Interacted FAD-beacons'!C421,0)","v":0},411,0,1001," ",null,{"$f":"IF('Utilized-Interacted FAD-beacons'!J421<>\"\",'Utilized-Interacted FAD-beacons'!J421,0)","v":0},411,0,1001," ",null,0,411,0,1001," "]
[null,null,null,null,null,null,null,null,null,null,null,null,{"$f":"IF('Utilized-Interacted FAD-beacons'!C422<>\"\",'Utilized-Interacted FAD-beacons'!C422,0)","v":0},412,0,1001," ",null,{"$f":"IF('Utilized-Interacted FAD-beacons'!J422<>\"\",'Utilized-Interacted FAD-beacons'!J422,0)","v":0},412,0,1001," ",null,0,412,0,1001," "]
[null,null,null,null,null,null,null,null,null,null,null,null,{"$f":"IF('Utilized-Interacted FAD-beacons'!C423<>\"\",'Utilized-Interacted FAD-beacons'!C423,0)","v":0},413,0,1001," ",null,{"$f":"IF('Utilized-Interacted FAD-beacons'!J423<>\"\",'Utilized-Interacted FAD-beacons'!J423,0)","v":0},413,0,1001," ",null,0,413,0,1001," "]
[null,null,null,null,null,null,null,null,null,null,null,null,{"$f":"IF('Utilized-Interacted FAD-beacons'!C424<>\"\",'Utilized-Interacted FAD-beacons'!C424,0)","v":0},414,0,1001," ",null,{"$f":"IF('Utilized-Interacted FAD-beacons'!J424<>\"\",'Utilized-Interacted FAD-beacons'!J424,0)","v":0},414,0,1001," ",null,0,414,0,1001," "]
[null,null,null,null,null,null,null,null,null,null,null,null,{"$f":"IF('Utilized-Interacted FAD-beacons'!C425<>\"\",'Utilized-Interacted FAD-beacons'!C425,0)","v":0},415,0,1001," ",null,{"$f":"IF('Utilized-Interacted FAD-beacons'!J425<>\"\",'Utilized-Interacted FAD-beacons'!J425,0)","v":0},415,0,1001," ",null,0,415,0,1001," "]
[null,null,null,null,null,null,null,null,null,null,null,null,{"$f":"IF('Utilized-Interacted FAD-beacons'!C426<>\"\",'Utilized-Interacted FAD-beacons'!C426,0)","v":0},416,0,1001," ",null,{"$f":"IF('Utilized-Interacted FAD-beacons'!J426<>\"\",'Utilized-Interacted FAD-beacons'!J426,0)","v":0},416,0,1001," ",null,0,416,0,1001," "]
[null,null,null,null,null,null,null,null,null,null,null,null,{"$f":"IF('Utilized-Interacted FAD-beacons'!C427<>\"\",'Utilized-Interacted FAD-beacons'!C427,0)","v":0},417,0,1001," ",null,{"$f":"IF('Utilized-Interacted FAD-beacons'!J427<>\"\",'Utilized-Interacted FAD-beacons'!J427,0)","v":0},417,0,1001," ",null,0,417,0,1001," "]
[null,null,null,null,null,null,null,null,null,null,null,null,{"$f":"IF('Utilized-Interacted FAD-beacons'!C428<>\"\",'Utilized-Interacted FAD-beacons'!C428,0)","v":0},418,0,1001," ",null,{"$f":"IF('Utilized-Interacted FAD-beacons'!J428<>\"\",'Utilized-Interacted FAD-beacons'!J428,0)","v":0},418,0,1001," ",null,0,418,0,1001," "]
[null,null,null,null,null,null,null,null,null,null,null,null,{"$f":"IF('Utilized-Interacted FAD-beacons'!C429<>\"\",'Utilized-Interacted FAD-beacons'!C429,0)","v":0},419,0,1001," ",null,{"$f":"IF('Utilized-Interacted FAD-beacons'!J429<>\"\",'Utilized-Interacted FAD-beacons'!J429,0)","v":0},419,0,1001," ",null,0,419,0,1001," "]
[null,null,null,null,null,null,null,null,null,null,null,null,{"$f":"IF('Utilized-Interacted FAD-beacons'!C430<>\"\",'Utilized-Interacted FAD-beacons'!C430,0)","v":0},420,0,1001," ",null,{"$f":"IF('Utilized-Interacted FAD-beacons'!J430<>\"\",'Utilized-Interacted FAD-beacons'!J430,0)","v":0},420,0,1001," ",null,0,420,0,1001," "]
[null,null,null,null,null,null,null,null,null,null,null,null,{"$f":"IF('Utilized-Interacted FAD-beacons'!C431<>\"\",'Utilized-Interacted FAD-beacons'!C431,0)","v":0},421,0,1001," ",null,{"$f":"IF('Utilized-Interacted FAD-beacons'!J431<>\"\",'Utilized-Interacted FAD-beacons'!J431,0)","v":0},421,0,1001," ",null,0,421,0,1001," "]
[null,null,null,null,null,null,null,null,null,null,null,null,{"$f":"IF('Utilized-Interacted FAD-beacons'!C432<>\"\",'Utilized-Interacted FAD-beacons'!C432,0)","v":0},422,0,1001," ",null,{"$f":"IF('Utilized-Interacted FAD-beacons'!J432<>\"\",'Utilized-Interacted FAD-beacons'!J432,0)","v":0},422,0,1001," ",null,0,422,0,1001," "]
[null,null,null,null,null,null,null,null,null,null,null,null,{"$f":"IF('Utilized-Interacted FAD-beacons'!C433<>\"\",'Utilized-Interacted FAD-beacons'!C433,0)","v":0},423,0,1001," ",null,{"$f":"IF('Utilized-Interacted FAD-beacons'!J433<>\"\",'Utilized-Interacted FAD-beacons'!J433,0)","v":0},423,0,1001," ",null,0,423,0,1001," "]
[null,null,null,null,null,null,null,null,null,null,null,null,{"$f":"IF('Utilized-Interacted FAD-beacons'!C434<>\"\",'Utilized-Interacted FAD-beacons'!C434,0)","v":0},424,0,1001," ",null,{"$f":"IF('Utilized-Interacted FAD-beacons'!J434<>\"\",'Utilized-Interacted FAD-beacons'!J434,0)","v":0},424,0,1001," ",null,0,424,0,1001," "]
[null,null,null,null,null,null,null,null,null,null,null,null,{"$f":"IF('Utilized-Interacted FAD-beacons'!C435<>\"\",'Utilized-Interacted FAD-beacons'!C435,0)","v":0},425,0,1001," ",null,{"$f":"IF('Utilized-Interacted FAD-beacons'!J435<>\"\",'Utilized-Interacted FAD-beacons'!J435,0)","v":0},425,0,1001," ",null,0,425,0,1001," "]
[null,null,null,null,null,null,null,null,null,null,null,null,{"$f":"IF('Utilized-Interacted FAD-beacons'!C436<>\"\",'Utilized-Interacted FAD-beacons'!C436,0)","v":0},426,0,1001," ",null,{"$f":"IF('Utilized-Interacted FAD-beacons'!J436<>\"\",'Utilized-Interacted FAD-beacons'!J436,0)","v":0},426,0,1001," ",null,0,426,0,1001," "]
[null,null,null,null,null,null,null,null,null,null,null,null,{"$f":"IF('Utilized-Interacted FAD-beacons'!C437<>\"\",'Utilized-Interacted FAD-beacons'!C437,0)","v":0},427,0,1001," ",null,{"$f":"IF('Utilized-Interacted FAD-beacons'!J437<>\"\",'Utilized-Interacted FAD-beacons'!J437,0)","v":0},427,0,1001," ",null,0,427,0,1001," "]
[null,null,null,null,null,null,null,null,null,null,null,null,{"$f":"IF('Utilized-Interacted FAD-beacons'!C438<>\"\",'Utilized-Interacted FAD-beacons'!C438,0)","v":0},428,0,1001," ",null,{"$f":"IF('Utilized-Interacted FAD-beacons'!J438<>\"\",'Utilized-Interacted FAD-beacons'!J438,0)","v":0},428,0,1001," ",null,0,428,0,1001," "]
[null,null,null,null,null,null,null,null,null,null,null,null,{"$f":"IF('Utilized-Interacted FAD-beacons'!C439<>\"\",'Utilized-Interacted FAD-beacons'!C439,0)","v":0},429,0,1001," ",null,{"$f":"IF('Utilized-Interacted FAD-beacons'!J439<>\"\",'Utilized-Interacted FAD-beacons'!J439,0)","v":0},429,0,1001," ",null,0,429,0,1001," "]
[null,null,null,null,null,null,null,null,null,null,null,null,{"$f":"IF('Utilized-Interacted FAD-beacons'!C440<>\"\",'Utilized-Interacted FAD-beacons'!C440,0)","v":0},430,0,1001," ",null,{"$f":"IF('Utilized-Interacted FAD-beacons'!J440<>\"\",'Utilized-Interacted FAD-beacons'!J440,0)","v":0},430,0,1001," ",null,0,430,0,1001," "]
[null,null,null,null,null,null,null,null,null,null,null,null,{"$f":"IF('Utilized-Interacted FAD-beacons'!C441<>\"\",'Utilized-Interacted FAD-beacons'!C441,0)","v":0},431,0,1001," ",null,{"$f":"IF('Utilized-Interacted FAD-beacons'!J441<>\"\",'Utilized-Interacted FAD-beacons'!J441,0)","v":0},431,0,1001," ",null,0,431,0,1001," "]
[null,null,null,null,null,null,null,null,null,null,null,null,{"$f":"IF('Utilized-Interacted FAD-beacons'!C442<>\"\",'Utilized-Interacted FAD-beacons'!C442,0)","v":0},432,0,1001," ",null,{"$f":"IF('Utilized-Interacted FAD-beacons'!J442<>\"\",'Utilized-Interacted FAD-beacons'!J442,0)","v":0},432,0,1001," ",null,0,432,0,1001," "]
[null,null,null,null,null,null,null,null,null,null,null,null,{"$f":"IF('Utilized-Interacted FAD-beacons'!C443<>\"\",'Utilized-Interacted FAD-beacons'!C443,0)","v":0},433,0,1001," ",null,{"$f":"IF('Utilized-Interacted FAD-beacons'!J443<>\"\",'Utilized-Interacted FAD-beacons'!J443,0)","v":0},433,0,1001," ",null,0,433,0,1001," "]
[null,null,null,null,null,null,null,null,null,null,null,null,{"$f":"IF('Utilized-Interacted FAD-beacons'!C444<>\"\",'Utilized-Interacted FAD-beacons'!C444,0)","v":0},434,0,1001," ",null,{"$f":"IF('Utilized-Interacted FAD-beacons'!J444<>\"\",'Utilized-Interacted FAD-beacons'!J444,0)","v":0},434,0,1001," ",null,0,434,0,1001," "]
[null,null,null,null,null,null,null,null,null,null,null,null,{"$f":"IF('Utilized-Interacted FAD-beacons'!C445<>\"\",'Utilized-Interacted FAD-beacons'!C445,0)","v":0},435,0,1001," ",null,{"$f":"IF('Utilized-Interacted FAD-beacons'!J445<>\"\",'Utilized-Interacted FAD-beacons'!J445,0)","v":0},435,0,1001," ",null,0,435,0,1001," "]
[null,null,null,null,null,null,null,null,null,null,null,null,{"$f":"IF('Utilized-Interacted FAD-beacons'!C446<>\"\",'Utilized-Interacted FAD-beacons'!C446,0)","v":0},436,0,1001," ",null,{"$f":"IF('Utilized-Interacted FAD-beacons'!J446<>\"\",'Utilized-Interacted FAD-beacons'!J446,0)","v":0},436,0,1001," ",null,0,436,0,1001," "]
[null,null,null,null,null,null,null,null,null,null,null,null,{"$f":"IF('Utilized-Interacted FAD-beacons'!C447<>\"\",'Utilized-Interacted FAD-beacons'!C447,0)","v":0},437,0,1001," ",null,{"$f":"IF('Utilized-Interacted FAD-beacons'!J447<>\"\",'Utilized-Interacted FAD-beacons'!J447,0)","v":0},437,0,1001," ",null,0,437,0,1001," "]
[null,null,null,null,null,null,null,null,null,null,null,null,{"$f":"IF('Utilized-Interacted FAD-beacons'!C448<>\"\",'Utilized-Interacted FAD-beacons'!C448,0)","v":0},438,0,1001," ",null,{"$f":"IF('Utilized-Interacted FAD-beacons'!J448<>\"\",'Utilized-Interacted FAD-beacons'!J448,0)","v":0},438,0,1001," ",null,0,438,0,1001," "]
[null,null,null,null,null,null,null,null,null,null,null,null,{"$f":"IF('Utilized-Interacted FAD-beacons'!C449<>\"\",'Utilized-Interacted FAD-beacons'!C449,0)","v":0},439,0,1001," ",null,{"$f":"IF('Utilized-Interacted FAD-beacons'!J449<>\"\",'Utilized-Interacted FAD-beacons'!J449,0)","v":0},439,0,1001," ",null,0,439,0,1001," "]
[null,null,null,null,null,null,null,null,null,null,null,null,{"$f":"IF('Utilized-Interacted FAD-beacons'!C450<>\"\",'Utilized-Interacted FAD-beacons'!C450,0)","v":0},440,0,1001," ",null,{"$f":"IF('Utilized-Interacted FAD-beacons'!J450<>\"\",'Utilized-Interacted FAD-beacons'!J450,0)","v":0},440,0,1001," ",null,0,440,0,1001," "]
[null,null,null,null,null,null,null,null,null,null,null,null,{"$f":"IF('Utilized-Interacted FAD-beacons'!C451<>\"\",'Utilized-Interacted FAD-beacons'!C451,0)","v":0},441,0,1001," ",null,{"$f":"IF('Utilized-Interacted FAD-beacons'!J451<>\"\",'Utilized-Interacted FAD-beacons'!J451,0)","v":0},441,0,1001," ",null,0,441,0,1001," "]
[null,null,null,null,null,null,null,null,null,null,null,null,{"$f":"IF('Utilized-Interacted FAD-beacons'!C452<>\"\",'Utilized-Interacted FAD-beacons'!C452,0)","v":0},442,0,1001," ",null,{"$f":"IF('Utilized-Interacted FAD-beacons'!J452<>\"\",'Utilized-Interacted FAD-beacons'!J452,0)","v":0},442,0,1001," ",null,0,442,0,1001," "]
[null,null,null,null,null,null,null,null,null,null,null,null,{"$f":"IF('Utilized-Interacted FAD-beacons'!C453<>\"\",'Utilized-Interacted FAD-beacons'!C453,0)","v":0},443,0,1001," ",null,{"$f":"IF('Utilized-Interacted FAD-beacons'!J453<>\"\",'Utilized-Interacted FAD-beacons'!J453,0)","v":0},443,0,1001," ",null,0,443,0,1001," "]
[null,null,null,null,null,null,null,null,null,null,null,null,{"$f":"IF('Utilized-Interacted FAD-beacons'!C454<>\"\",'Utilized-Interacted FAD-beacons'!C454,0)","v":0},444,0,1001," ",null,{"$f":"IF('Utilized-Interacted FAD-beacons'!J454<>\"\",'Utilized-Interacted FAD-beacons'!J454,0)","v":0},444,0,1001," ",null,0,444,0,1001," "]
[null,null,null,null,null,null,null,null,null,null,null,null,{"$f":"IF('Utilized-Interacted FAD-beacons'!C455<>\"\",'Utilized-Interacted FAD-beacons'!C455,0)","v":0},445,0,1001," ",null,{"$f":"IF('Utilized-Interacted FAD-beacons'!J455<>\"\",'Utilized-Interacted FAD-beacons'!J455,0)","v":0},445,0,1001," ",null,0,445,0,1001," "]
[null,null,null,null,null,null,null,null,null,null,null,null,{"$f":"IF('Utilized-Interacted FAD-beacons'!C456<>\"\",'Utilized-Interacted FAD-beacons'!C456,0)","v":0},446,0,1001," ",null,{"$f":"IF('Utilized-Interacted FAD-beacons'!J456<>\"\",'Utilized-Interacted FAD-beacons'!J456,0)","v":0},446,0,1001," ",null,0,446,0,1001," "]
[null,null,null,null,null,null,null,null,null,null,null,null,{"$f":"IF('Utilized-Interacted FAD-beacons'!C457<>\"\",'Utilized-Interacted FAD-beacons'!C457,0)","v":0},447,0,1001," ",null,{"$f":"IF('Utilized-Interacted FAD-beacons'!J457<>\"\",'Utilized-Interacted FAD-beacons'!J457,0)","v":0},447,0,1001," ",null,0,447,0,1001," "]
[null,null,null,null,null,null,null,null,null,null,null,null,{"$f":"IF('Utilized-Interacted FAD-beacons'!C458<>\"\",'Utilized-Interacted FAD-beacons'!C458,0)","v":0},448,0,1001," ",null,{"$f":"IF('Utilized-Interacted FAD-beacons'!J458<>\"\",'Utilized-Interacted FAD-beacons'!J458,0)","v":0},448,0,1001," ",null,0,448,0,1001," "]
[null,null,null,null,null,null,null,null,null,null,null,null,{"$f":"IF('Utilized-Interacted FAD-beacons'!C459<>\"\",'Utilized-Interacted FAD-beacons'!C459,0)","v":0},449,0,1001,{"$f":"IFERROR(VLOOKUP(SMALL($P$6:$P$1005,N454),$N$6:$O$1005,2,FALSE),\" \")","v":" "},null,{"$f":"IF('Utilized-Interacted FAD-beacons'!J459<>\"\",'Utilized-Interacted FAD-beacons'!J459,0)","v":0},449,0,1001,{"$f":"IFERROR(VLOOKUP(SMALL($V$6:$V$1005,T454),$T$6:$U$1005,2,FALSE),\" \")","v":" "},null,0,449,0,1001,{"$f":"IFERROR(VLOOKUP(SMALL($AB$6:$AB$1005,Z454),$Z$6:$AA$1005,2,FALSE),\" \")","v":" "}]
[null,null,null,null,null,null,null,null,null,null,null,null,{"$f":"IF('Utilized-Interacted FAD-beacons'!C460<>\"\",'Utilized-Interacted FAD-beacons'!C460,0)","v":0},450,{"$f":"M455","v":0},{"$f":"IF(O455=0,MAX($N$6:$N$1005)+1,N455)","v":1001}," ",null,{"$f":"IF('Utilized-Interacted FAD-beacons'!J460<>\"\",'Utilized-Interacted FAD-beacons'!J460,0)","v":0},450,{"$f":"S455","v":0},{"$f":"IF(U455=0,MAX($T$6:$T$1005)+1,T455)","v":1001}," ",null,{"$f":"IF(AND(M455=0,S455=0),0,IF(AND(M455<>0,S455=0),M455,IF(AND(M455=0,S455<>0),S455,IF(AND(M455<>0,S455<>0),(CONCATENATE(M455,S455))))))","v":0},450,{"$f":"Y455","v":0},{"$f":"IF(AA455=0,MAX($Z$6:$Z$1005)+1,Z455)","v":1001}," "]
[null,null,null,null,null,null,null,null,null,null,null,null,{"$f":"IF('Utilized-Interacted FAD-beacons'!C461<>\"\",'Utilized-Interacted FAD-beacons'!C461,0)","v":0},451,0,1001," ",null,{"$f":"IF('Utilized-Interacted FAD-beacons'!J461<>\"\",'Utilized-Interacted FAD-beacons'!J461,0)","v":0},451,0,1001," ",null,0,451,0,1001," "]
[null,null,null,null,null,null,null,null,null,null,null,null,{"$f":"IF('Utilized-Interacted FAD-beacons'!C462<>\"\",'Utilized-Interacted FAD-beacons'!C462,0)","v":0},452,0,1001," ",null,{"$f":"IF('Utilized-Interacted FAD-beacons'!J462<>\"\",'Utilized-Interacted FAD-beacons'!J462,0)","v":0},452,0,1001," ",null,0,452,0,1001," "]
[null,null,null,null,null,null,null,null,null,null,null,null,{"$f":"IF('Utilized-Interacted FAD-beacons'!C463<>\"\",'Utilized-Interacted FAD-beacons'!C463,0)","v":0},453,0,1001," ",null,{"$f":"IF('Utilized-Interacted FAD-beacons'!J463<>\"\",'Utilized-Interacted FAD-beacons'!J463,0)","v":0},453,0,1001," ",null,0,453,0,1001," "]
[null,null,null,null,null,null,null,null,null,null,null,null,{"$f":"IF('Utilized-Interacted FAD-beacons'!C464<>\"\",'Utilized-Interacted FAD-beacons'!C464,0)","v":0},454,0,1001," ",null,{"$f":"IF('Utilized-Interacted FAD-beacons'!J464<>\"\",'Utilized-Interacted FAD-beacons'!J464,0)","v":0},454,0,1001," ",null,0,454,0,1001," "]
[null,null,null,null,null,null,null,null,null,null,null,null,{"$f":"IF('Utilized-Interacted FAD-beacons'!C465<>\"\",'Utilized-Interacted FAD-beacons'!C465,0)","v":0},455,0,1001," ",null,{"$f":"IF('Utilized-Interacted FAD-beacons'!J465<>\"\",'Utilized-Interacted FAD-beacons'!J465,0)","v":0},455,0,1001," ",null,0,455,0,1001," "]
[null,null,null,null,null,null,null,null,null,null,null,null,{"$f":"IF('Utilized-Interacted FAD-beacons'!C466<>\"\",'Utilized-Interacted FAD-beacons'!C466,0)","v":0},456,0,1001," ",null,{"$f":"IF('Utilized-Interacted FAD-beacons'!J466<>\"\",'Utilized-Interacted FAD-beacons'!J466,0)","v":0},456,0,1001," ",null,0,456,0,1001," "]
[null,null,null,null,null,null,null,null,null,null,null,null,{"$f":"IF('Utilized-Interacted FAD-beacons'!C467<>\"\",'Utilized-Interacted FAD-beacons'!C467,0)","v":0},457,0,1001," ",null,{"$f":"IF('Utilized-Interacted FAD-beacons'!J467<>\"\",'Utilized-Interacted FAD-beacons'!J467,0)","v":0},457,0,1001," ",null,0,457,0,1001," "]
[null,null,null,null,null,null,null,null,null,null,null,null,{"$f":"IF('Utilized-Interacted FAD-beacons'!C468<>\"\",'Utilized-Interacted FAD-beacons'!C468,0)","v":0},458,0,1001," ",null,{"$f":"IF('Utilized-Interacted FAD-beacons'!J468<>\"\",'Utilized-Interacted FAD-beacons'!J468,0)","v":0},458,0,1001," ",null,0,458,0,1001," "]
[null,null,null,null,null,null,null,null,null,null,null,null,{"$f":"IF('Utilized-Interacted FAD-beacons'!C469<>\"\",'Utilized-Interacted FAD-beacons'!C469,0)","v":0},459,0,1001," ",null,{"$f":"IF('Utilized-Interacted FAD-beacons'!J469<>\"\",'Utilized-Interacted FAD-beacons'!J469,0)","v":0},459,0,1001," ",null,0,459,0,1001," "]
[null,null,null,null,null,null,null,null,null,null,null,null,{"$f":"IF('Utilized-Interacted FAD-beacons'!C470<>\"\",'Utilized-Interacted FAD-beacons'!C470,0)","v":0},460,0,1001," ",null,{"$f":"IF('Utilized-Interacted FAD-beacons'!J470<>\"\",'Utilized-Interacted FAD-beacons'!J470,0)","v":0},460,0,1001," ",null,0,460,0,1001," "]
[null,null,null,null,null,null,null,null,null,null,null,null,{"$f":"IF('Utilized-Interacted FAD-beacons'!C471<>\"\",'Utilized-Interacted FAD-beacons'!C471,0)","v":0},461,0,1001," ",null,{"$f":"IF('Utilized-Interacted FAD-beacons'!J471<>\"\",'Utilized-Interacted FAD-beacons'!J471,0)","v":0},461,0,1001," ",null,0,461,0,1001," "]
[null,null,null,null,null,null,null,null,null,null,null,null,{"$f":"IF('Utilized-Interacted FAD-beacons'!C472<>\"\",'Utilized-Interacted FAD-beacons'!C472,0)","v":0},462,0,1001," ",null,{"$f":"IF('Utilized-Interacted FAD-beacons'!J472<>\"\",'Utilized-Interacted FAD-beacons'!J472,0)","v":0},462,0,1001," ",null,0,462,0,1001," "]
[null,null,null,null,null,null,null,null,null,null,null,null,{"$f":"IF('Utilized-Interacted FAD-beacons'!C473<>\"\",'Utilized-Interacted FAD-beacons'!C473,0)","v":0},463,0,1001," ",null,{"$f":"IF('Utilized-Interacted FAD-beacons'!J473<>\"\",'Utilized-Interacted FAD-beacons'!J473,0)","v":0},463,0,1001," ",null,0,463,0,1001," "]
[null,null,null,null,null,null,null,null,null,null,null,null,{"$f":"IF('Utilized-Interacted FAD-beacons'!C474<>\"\",'Utilized-Interacted FAD-beacons'!C474,0)","v":0},464,0,1001," ",null,{"$f":"IF('Utilized-Interacted FAD-beacons'!J474<>\"\",'Utilized-Interacted FAD-beacons'!J474,0)","v":0},464,0,1001," ",null,0,464,0,1001," "]
[null,null,null,null,null,null,null,null,null,null,null,null,{"$f":"IF('Utilized-Interacted FAD-beacons'!C475<>\"\",'Utilized-Interacted FAD-beacons'!C475,0)","v":0},465,0,1001," ",null,{"$f":"IF('Utilized-Interacted FAD-beacons'!J475<>\"\",'Utilized-Interacted FAD-beacons'!J475,0)","v":0},465,0,1001," ",null,0,465,0,1001," "]
[null,null,null,null,null,null,null,null,null,null,null,null,{"$f":"IF('Utilized-Interacted FAD-beacons'!C476<>\"\",'Utilized-Interacted FAD-beacons'!C476,0)","v":0},466,0,1001," ",null,{"$f":"IF('Utilized-Interacted FAD-beacons'!J476<>\"\",'Utilized-Interacted FAD-beacons'!J476,0)","v":0},466,0,1001," ",null,0,466,0,1001," "]
[null,null,null,null,null,null,null,null,null,null,null,null,{"$f":"IF('Utilized-Interacted FAD-beacons'!C477<>\"\",'Utilized-Interacted FAD-beacons'!C477,0)","v":0},467,0,1001," ",null,{"$f":"IF('Utilized-Interacted FAD-beacons'!J477<>\"\",'Utilized-Interacted FAD-beacons'!J477,0)","v":0},467,0,1001," ",null,0,467,0,1001," "]
[null,null,null,null,null,null,null,null,null,null,null,null,{"$f":"IF('Utilized-Interacted FAD-beacons'!C478<>\"\",'Utilized-Interacted FAD-beacons'!C478,0)","v":0},468,0,1001," ",null,{"$f":"IF('Utilized-Interacted FAD-beacons'!J478<>\"\",'Utilized-Interacted FAD-beacons'!J478,0)","v":0},468,0,1001," ",null,0,468,0,1001," "]
[null,null,null,null,null,null,null,null,null,null,null,null,{"$f":"IF('Utilized-Interacted FAD-beacons'!C479<>\"\",'Utilized-Interacted FAD-beacons'!C479,0)","v":0},469,0,1001," ",null,{"$f":"IF('Utilized-Interacted FAD-beacons'!J479<>\"\",'Utilized-Interacted FAD-beacons'!J479,0)","v":0},469,0,1001," ",null,0,469,0,1001," "]
[null,null,null,null,null,null,null,null,null,null,null,null,{"$f":"IF('Utilized-Interacted FAD-beacons'!C480<>\"\",'Utilized-Interacted FAD-beacons'!C480,0)","v":0},470,0,1001," ",null,{"$f":"IF('Utilized-Interacted FAD-beacons'!J480<>\"\",'Utilized-Interacted FAD-beacons'!J480,0)","v":0},470,0,1001," ",null,0,470,0,1001," "]
[null,null,null,null,null,null,null,null,null,null,null,null,{"$f":"IF('Utilized-Interacted FAD-beacons'!C481<>\"\",'Utilized-Interacted FAD-beacons'!C481,0)","v":0},471,0,1001," ",null,{"$f":"IF('Utilized-Interacted FAD-beacons'!J481<>\"\",'Utilized-Interacted FAD-beacons'!J481,0)","v":0},471,0,1001," ",null,0,471,0,1001," "]
[null,null,null,null,null,null,null,null,null,null,null,null,{"$f":"IF('Utilized-Interacted FAD-beacons'!C482<>\"\",'Utilized-Interacted FAD-beacons'!C482,0)","v":0},472,0,1001," ",null,{"$f":"IF('Utilized-Interacted FAD-beacons'!J482<>\"\",'Utilized-Interacted FAD-beacons'!J482,0)","v":0},472,0,1001," ",null,0,472,0,1001," "]
[null,null,null,null,null,null,null,null,null,null,null,null,{"$f":"IF('Utilized-Interacted FAD-beacons'!C483<>\"\",'Utilized-Interacted FAD-beacons'!C483,0)","v":0},473,0,1001," ",null,{"$f":"IF('Utilized-Interacted FAD-beacons'!J483<>\"\",'Utilized-Interacted FAD-beacons'!J483,0)","v":0},473,0,1001," ",null,0,473,0,1001," "]
[null,null,null,null,null,null,null,null,null,null,null,null,{"$f":"IF('Utilized-Interacted FAD-beacons'!C484<>\"\",'Utilized-Interacted FAD-beacons'!C484,0)","v":0},474,0,1001," ",null,{"$f":"IF('Utilized-Interacted FAD-beacons'!J484<>\"\",'Utilized-Interacted FAD-beacons'!J484,0)","v":0},474,0,1001," ",null,0,474,0,1001," "]
[null,null,null,null,null,null,null,null,null,null,null,null,{"$f":"IF('Utilized-Interacted FAD-beacons'!C485<>\"\",'Utilized-Interacted FAD-beacons'!C485,0)","v":0},475,0,1001," ",null,{"$f":"IF('Utilized-Interacted FAD-beacons'!J485<>\"\",'Utilized-Interacted FAD-beacons'!J485,0)","v":0},475,0,1001," ",null,0,475,0,1001," "]
[null,null,null,null,null,null,null,null,null,null,null,null,{"$f":"IF('Utilized-Interacted FAD-beacons'!C486<>\"\",'Utilized-Interacted FAD-beacons'!C486,0)","v":0},476,0,1001," ",null,{"$f":"IF('Utilized-Interacted FAD-beacons'!J486<>\"\",'Utilized-Interacted FAD-beacons'!J486,0)","v":0},476,0,1001," ",null,0,476,0,1001," "]
[null,null,null,null,null,null,null,null,null,null,null,null,{"$f":"IF('Utilized-Interacted FAD-beacons'!C487<>\"\",'Utilized-Interacted FAD-beacons'!C487,0)","v":0},477,0,1001," ",null,{"$f":"IF('Utilized-Interacted FAD-beacons'!J487<>\"\",'Utilized-Interacted FAD-beacons'!J487,0)","v":0},477,0,1001," ",null,0,477,0,1001," "]
[null,null,null,null,null,null,null,null,null,null,null,null,{"$f":"IF('Utilized-Interacted FAD-beacons'!C488<>\"\",'Utilized-Interacted FAD-beacons'!C488,0)","v":0},478,0,1001," ",null,{"$f":"IF('Utilized-Interacted FAD-beacons'!J488<>\"\",'Utilized-Interacted FAD-beacons'!J488,0)","v":0},478,0,1001," ",null,0,478,0,1001," "]
[null,null,null,null,null,null,null,null,null,null,null,null,{"$f":"IF('Utilized-Interacted FAD-beacons'!C489<>\"\",'Utilized-Interacted FAD-beacons'!C489,0)","v":0},479,0,1001," ",null,{"$f":"IF('Utilized-Interacted FAD-beacons'!J489<>\"\",'Utilized-Interacted FAD-beacons'!J489,0)","v":0},479,0,1001," ",null,0,479,0,1001," "]
[null,null,null,null,null,null,null,null,null,null,null,null,{"$f":"IF('Utilized-Interacted FAD-beacons'!C490<>\"\",'Utilized-Interacted FAD-beacons'!C490,0)","v":0},480,0,1001," ",null,{"$f":"IF('Utilized-Interacted FAD-beacons'!J490<>\"\",'Utilized-Interacted FAD-beacons'!J490,0)","v":0},480,0,1001," ",null,0,480,0,1001," "]
[null,null,null,null,null,null,null,null,null,null,null,null,{"$f":"IF('Utilized-Interacted FAD-beacons'!C491<>\"\",'Utilized-Interacted FAD-beacons'!C491,0)","v":0},481,0,1001," ",null,{"$f":"IF('Utilized-Interacted FAD-beacons'!J491<>\"\",'Utilized-Interacted FAD-beacons'!J491,0)","v":0},481,0,1001," ",null,0,481,0,1001," "]
[null,null,null,null,null,null,null,null,null,null,null,null,{"$f":"IF('Utilized-Interacted FAD-beacons'!C492<>\"\",'Utilized-Interacted FAD-beacons'!C492,0)","v":0},482,0,1001," ",null,{"$f":"IF('Utilized-Interacted FAD-beacons'!J492<>\"\",'Utilized-Interacted FAD-beacons'!J492,0)","v":0},482,0,1001," ",null,0,482,0,1001," "]
[null,null,null,null,null,null,null,null,null,null,null,null,{"$f":"IF('Utilized-Interacted FAD-beacons'!C493<>\"\",'Utilized-Interacted FAD-beacons'!C493,0)","v":0},483,0,1001," ",null,{"$f":"IF('Utilized-Interacted FAD-beacons'!J493<>\"\",'Utilized-Interacted FAD-beacons'!J493,0)","v":0},483,0,1001," ",null,0,483,0,1001," "]
[null,null,null,null,null,null,null,null,null,null,null,null,{"$f":"IF('Utilized-Interacted FAD-beacons'!C494<>\"\",'Utilized-Interacted FAD-beacons'!C494,0)","v":0},484,0,1001," ",null,{"$f":"IF('Utilized-Interacted FAD-beacons'!J494<>\"\",'Utilized-Interacted FAD-beacons'!J494,0)","v":0},484,0,1001," ",null,0,484,0,1001," "]
[null,null,null,null,null,null,null,null,null,null,null,null,{"$f":"IF('Utilized-Interacted FAD-beacons'!C495<>\"\",'Utilized-Interacted FAD-beacons'!C495,0)","v":0},485,0,1001," ",null,{"$f":"IF('Utilized-Interacted FAD-beacons'!J495<>\"\",'Utilized-Interacted FAD-beacons'!J495,0)","v":0},485,0,1001," ",null,0,485,0,1001," "]
[null,null,null,null,null,null,null,null,null,null,null,null,{"$f":"IF('Utilized-Interacted FAD-beacons'!C496<>\"\",'Utilized-Interacted FAD-beacons'!C496,0)","v":0},486,0,1001," ",null,{"$f":"IF('Utilized-Interacted FAD-beacons'!J496<>\"\",'Utilized-Interacted FAD-beacons'!J496,0)","v":0},486,0,1001," ",null,0,486,0,1001," "]
[null,null,null,null,null,null,null,null,null,null,null,null,{"$f":"IF('Utilized-Interacted FAD-beacons'!C497<>\"\",'Utilized-Interacted FAD-beacons'!C497,0)","v":0},487,0,1001," ",null,{"$f":"IF('Utilized-Interacted FAD-beacons'!J497<>\"\",'Utilized-Interacted FAD-beacons'!J497,0)","v":0},487,0,1001," ",null,0,487,0,1001," "]
[null,null,null,null,null,null,null,null,null,null,null,null,{"$f":"IF('Utilized-Interacted FAD-beacons'!C498<>\"\",'Utilized-Interacted FAD-beacons'!C498,0)","v":0},488,0,1001," ",null,{"$f":"IF('Utilized-Interacted FAD-beacons'!J498<>\"\",'Utilized-Interacted FAD-beacons'!J498,0)","v":0},488,0,1001," ",null,0,488,0,1001," "]
[null,null,null,null,null,null,null,null,null,null,null,null,{"$f":"IF('Utilized-Interacted FAD-beacons'!C499<>\"\",'Utilized-Interacted FAD-beacons'!C499,0)","v":0},489,0,1001," ",null,{"$f":"IF('Utilized-Interacted FAD-beacons'!J499<>\"\",'Utilized-Interacted FAD-beacons'!J499,0)","v":0},489,0,1001," ",null,0,489,0,1001," "]
[null,null,null,null,null,null,null,null,null,null,null,null,{"$f":"IF('Utilized-Interacted FAD-beacons'!C500<>\"\",'Utilized-Interacted FAD-beacons'!C500,0)","v":0},490,0,1001," ",null,{"$f":"IF('Utilized-Interacted FAD-beacons'!J500<>\"\",'Utilized-Interacted FAD-beacons'!J500,0)","v":0},490,0,1001," ",null,0,490,0,1001," "]
[null,null,null,null,null,null,null,null,null,null,null,null,{"$f":"IF('Utilized-Interacted FAD-beacons'!C501<>\"\",'Utilized-Interacted FAD-beacons'!C501,0)","v":0},491,0,1001," ",null,{"$f":"IF('Utilized-Interacted FAD-beacons'!J501<>\"\",'Utilized-Interacted FAD-beacons'!J501,0)","v":0},491,0,1001," ",null,0,491,0,1001," "]
[null,null,null,null,null,null,null,null,null,null,null,null,{"$f":"IF('Utilized-Interacted FAD-beacons'!C502<>\"\",'Utilized-Interacted FAD-beacons'!C502,0)","v":0},492,0,1001," ",null,{"$f":"IF('Utilized-Interacted FAD-beacons'!J502<>\"\",'Utilized-Interacted FAD-beacons'!J502,0)","v":0},492,0,1001," ",null,0,492,0,1001," "]
[null,null,null,null,null,null,null,null,null,null,null,null,{"$f":"IF('Utilized-Interacted FAD-beacons'!C503<>\"\",'Utilized-Interacted FAD-beacons'!C503,0)","v":0},493,0,1001," ",null,{"$f":"IF('Utilized-Interacted FAD-beacons'!J503<>\"\",'Utilized-Interacted FAD-beacons'!J503,0)","v":0},493,0,1001," ",null,0,493,0,1001," "]
[null,null,null,null,null,null,null,null,null,null,null,null,{"$f":"IF('Utilized-Interacted FAD-beacons'!C504<>\"\",'Utilized-Interacted FAD-beacons'!C504,0)","v":0},494,0,1001," ",null,{"$f":"IF('Utilized-Interacted FAD-beacons'!J504<>\"\",'Utilized-Interacted FAD-beacons'!J504,0)","v":0},494,0,1001," ",null,0,494,0,1001," "]
[null,null,null,null,null,null,null,null,null,null,null,null,{"$f":"IF('Utilized-Interacted FAD-beacons'!C505<>\"\",'Utilized-Interacted FAD-beacons'!C505,0)","v":0},495,0,1001," ",null,{"$f":"IF('Utilized-Interacted FAD-beacons'!J505<>\"\",'Utilized-Interacted FAD-beacons'!J505,0)","v":0},495,0,1001," ",null,0,495,0,1001," "]
[null,null,null,null,null,null,null,null,null,null,null,null,{"$f":"IF('Utilized-Interacted FAD-beacons'!C506<>\"\",'Utilized-Interacted FAD-beacons'!C506,0)","v":0},496,0,1001," ",null,{"$f":"IF('Utilized-Interacted FAD-beacons'!J506<>\"\",'Utilized-Interacted FAD-beacons'!J506,0)","v":0},496,0,1001," ",null,0,496,0,1001," "]
[null,null,null,null,null,null,null,null,null,null,null,null,{"$f":"IF('Utilized-Interacted FAD-beacons'!C507<>\"\",'Utilized-Interacted FAD-beacons'!C507,0)","v":0},497,0,1001," ",null,{"$f":"IF('Utilized-Interacted FAD-beacons'!J507<>\"\",'Utilized-Interacted FAD-beacons'!J507,0)","v":0},497,0,1001," ",null,0,497,0,1001," "]
[null,null,null,null,null,null,null,null,null,null,null,null,{"$f":"IF('Utilized-Interacted FAD-beacons'!C508<>\"\",'Utilized-Interacted FAD-beacons'!C508,0)","v":0},498,0,1001," ",null,{"$f":"IF('Utilized-Interacted FAD-beacons'!J508<>\"\",'Utilized-Interacted FAD-beacons'!J508,0)","v":0},498,0,1001," ",null,0,498,0,1001," "]
[null,null,null,null,null,null,null,null,null,null,null,null,{"$f":"IF('Utilized-Interacted FAD-beacons'!C509<>\"\",'Utilized-Interacted FAD-beacons'!C509,0)","v":0},499,0,1001," ",null,{"$f":"IF('Utilized-Interacted FAD-beacons'!J509<>\"\",'Utilized-Interacted FAD-beacons'!J509,0)","v":0},499,0,1001," ",null,0,499,0,1001," "]
[null,null,null,null,null,null,null,null,null,null,null,null,{"$f":"IF('Utilized-Interacted FAD-beacons'!C510<>\"\",'Utilized-Interacted FAD-beacons'!C510,0)","v":0},500,0,1001," ",null,{"$f":"IF('Utilized-Interacted FAD-beacons'!J510<>\"\",'Utilized-Interacted FAD-beacons'!J510,0)","v":0},500,0,1001," ",null,0,500,0,1001," "]
[null,null,null,null,null,null,null,null,null,null,null,null,{"$f":"IF('Utilized-Interacted FAD-beacons'!C511<>\"\",'Utilized-Interacted FAD-beacons'!C511,0)","v":0},501,0,1001," ",null,{"$f":"IF('Utilized-Interacted FAD-beacons'!J511<>\"\",'Utilized-Interacted FAD-beacons'!J511,0)","v":0},501,0,1001," ",null,0,501,0,1001," "]
[null,null,null,null,null,null,null,null,null,null,null,null,{"$f":"IF('Utilized-Interacted FAD-beacons'!C512<>\"\",'Utilized-Interacted FAD-beacons'!C512,0)","v":0},502,0,1001," ",null,{"$f":"IF('Utilized-Interacted FAD-beacons'!J512<>\"\",'Utilized-Interacted FAD-beacons'!J512,0)","v":0},502,0,1001," ",null,0,502,0,1001," "]
[null,null,null,null,null,null,null,null,null,null,null,null,{"$f":"IF('Utilized-Interacted FAD-beacons'!C513<>\"\",'Utilized-Interacted FAD-beacons'!C513,0)","v":0},503,0,1001," ",null,{"$f":"IF('Utilized-Interacted FAD-beacons'!J513<>\"\",'Utilized-Interacted FAD-beacons'!J513,0)","v":0},503,0,1001," ",null,0,503,0,1001," "]
[null,null,null,null,null,null,null,null,null,null,null,null,{"$f":"IF('Utilized-Interacted FAD-beacons'!C514<>\"\",'Utilized-Interacted FAD-beacons'!C514,0)","v":0},504,0,1001," ",null,{"$f":"IF('Utilized-Interacted FAD-beacons'!J514<>\"\",'Utilized-Interacted FAD-beacons'!J514,0)","v":0},504,0,1001," ",null,0,504,0,1001," "]
[null,null,null,null,null,null,null,null,null,null,null,null,{"$f":"IF('Utilized-Interacted FAD-beacons'!C515<>\"\",'Utilized-Interacted FAD-beacons'!C515,0)","v":0},505,0,1001," ",null,{"$f":"IF('Utilized-Interacted FAD-beacons'!J515<>\"\",'Utilized-Interacted FAD-beacons'!J515,0)","v":0},505,0,1001," ",null,0,505,0,1001," "]
[null,null,null,null,null,null,null,null,null,null,null,null,{"$f":"IF('Utilized-Interacted FAD-beacons'!C516<>\"\",'Utilized-Interacted FAD-beacons'!C516,0)","v":0},506,0,1001," ",null,{"$f":"IF('Utilized-Interacted FAD-beacons'!J516<>\"\",'Utilized-Interacted FAD-beacons'!J516,0)","v":0},506,0,1001," ",null,0,506,0,1001," "]
[null,null,null,null,null,null,null,null,null,null,null,null,{"$f":"IF('Utilized-Interacted FAD-beacons'!C517<>\"\",'Utilized-Interacted FAD-beacons'!C517,0)","v":0},507,0,1001," ",null,{"$f":"IF('Utilized-Interacted FAD-beacons'!J517<>\"\",'Utilized-Interacted FAD-beacons'!J517,0)","v":0},507,0,1001," ",null,0,507,0,1001," "]
[null,null,null,null,null,null,null,null,null,null,null,null,{"$f":"IF('Utilized-Interacted FAD-beacons'!C518<>\"\",'Utilized-Interacted FAD-beacons'!C518,0)","v":0},508,0,1001," ",null,{"$f":"IF('Utilized-Interacted FAD-beacons'!J518<>\"\",'Utilized-Interacted FAD-beacons'!J518,0)","v":0},508,0,1001," ",null,0,508,0,1001," "]
[null,null,null,null,null,null,null,null,null,null,null,null,{"$f":"IF('Utilized-Interacted FAD-beacons'!C519<>\"\",'Utilized-Interacted FAD-beacons'!C519,0)","v":0},509,0,1001," ",null,{"$f":"IF('Utilized-Interacted FAD-beacons'!J519<>\"\",'Utilized-Interacted FAD-beacons'!J519,0)","v":0},509,0,1001," ",null,0,509,0,1001," "]
[null,null,null,null,null,null,null,null,null,null,null,null,{"$f":"IF('Utilized-Interacted FAD-beacons'!C520<>\"\",'Utilized-Interacted FAD-beacons'!C520,0)","v":0},510,0,1001," ",null,{"$f":"IF('Utilized-Interacted FAD-beacons'!J520<>\"\",'Utilized-Interacted FAD-beacons'!J520,0)","v":0},510,0,1001," ",null,0,510,0,1001," "]
[null,null,null,null,null,null,null,null,null,null,null,null,{"$f":"IF('Utilized-Interacted FAD-beacons'!C521<>\"\",'Utilized-Interacted FAD-beacons'!C521,0)","v":0},511,0,1001," ",null,{"$f":"IF('Utilized-Interacted FAD-beacons'!J521<>\"\",'Utilized-Interacted FAD-beacons'!J521,0)","v":0},511,0,1001," ",null,0,511,0,1001," "]
[null,null,null,null,null,null,null,null,null,null,null,null,{"$f":"IF('Utilized-Interacted FAD-beacons'!C522<>\"\",'Utilized-Interacted FAD-beacons'!C522,0)","v":0},512,0,1001," ",null,{"$f":"IF('Utilized-Interacted FAD-beacons'!J522<>\"\",'Utilized-Interacted FAD-beacons'!J522,0)","v":0},512,0,1001," ",null,0,512,0,1001," "]
[null,null,null,null,null,null,null,null,null,null,null,null,{"$f":"IF('Utilized-Interacted FAD-beacons'!C523<>\"\",'Utilized-Interacted FAD-beacons'!C523,0)","v":0},513,0,1001,{"$f":"IFERROR(VLOOKUP(SMALL($P$6:$P$1005,N518),$N$6:$O$1005,2,FALSE),\" \")","v":" "},null,{"$f":"IF('Utilized-Interacted FAD-beacons'!J523<>\"\",'Utilized-Interacted FAD-beacons'!J523,0)","v":0},513,0,1001,{"$f":"IFERROR(VLOOKUP(SMALL($V$6:$V$1005,T518),$T$6:$U$1005,2,FALSE),\" \")","v":" "},null,0,513,0,1001,{"$f":"IFERROR(VLOOKUP(SMALL($AB$6:$AB$1005,Z518),$Z$6:$AA$1005,2,FALSE),\" \")","v":" "}]
[null,null,null,null,null,null,null,null,null,null,null,null,{"$f":"IF('Utilized-Interacted FAD-beacons'!C524<>\"\",'Utilized-Interacted FAD-beacons'!C524,0)","v":0},514,{"$f":"M519","v":0},{"$f":"IF(O519=0,MAX($N$6:$N$1005)+1,N519)","v":1001}," ",null,{"$f":"IF('Utilized-Interacted FAD-beacons'!J524<>\"\",'Utilized-Interacted FAD-beacons'!J524,0)","v":0},514,{"$f":"S519","v":0},{"$f":"IF(U519=0,MAX($T$6:$T$1005)+1,T519)","v":1001}," ",null,{"$f":"IF(AND(M519=0,S519=0),0,IF(AND(M519<>0,S519=0),M519,IF(AND(M519=0,S519<>0),S519,IF(AND(M519<>0,S519<>0),(CONCATENATE(M519,S519))))))","v":0},514,{"$f":"Y519","v":0},{"$f":"IF(AA519=0,MAX($Z$6:$Z$1005)+1,Z519)","v":1001}," "]
[null,null,null,null,null,null,null,null,null,null,null,null,{"$f":"IF('Utilized-Interacted FAD-beacons'!C525<>\"\",'Utilized-Interacted FAD-beacons'!C525,0)","v":0},515,0,1001," ",null,{"$f":"IF('Utilized-Interacted FAD-beacons'!J525<>\"\",'Utilized-Interacted FAD-beacons'!J525,0)","v":0},515,0,1001," ",null,0,515,0,1001," "]
[null,null,null,null,null,null,null,null,null,null,null,null,{"$f":"IF('Utilized-Interacted FAD-beacons'!C526<>\"\",'Utilized-Interacted FAD-beacons'!C526,0)","v":0},516,0,1001," ",null,{"$f":"IF('Utilized-Interacted FAD-beacons'!J526<>\"\",'Utilized-Interacted FAD-beacons'!J526,0)","v":0},516,0,1001," ",null,0,516,0,1001," "]
[null,null,null,null,null,null,null,null,null,null,null,null,{"$f":"IF('Utilized-Interacted FAD-beacons'!C527<>\"\",'Utilized-Interacted FAD-beacons'!C527,0)","v":0},517,0,1001," ",null,{"$f":"IF('Utilized-Interacted FAD-beacons'!J527<>\"\",'Utilized-Interacted FAD-beacons'!J527,0)","v":0},517,0,1001," ",null,0,517,0,1001," "]
[null,null,null,null,null,null,null,null,null,null,null,null,{"$f":"IF('Utilized-Interacted FAD-beacons'!C528<>\"\",'Utilized-Interacted FAD-beacons'!C528,0)","v":0},518,0,1001," ",null,{"$f":"IF('Utilized-Interacted FAD-beacons'!J528<>\"\",'Utilized-Interacted FAD-beacons'!J528,0)","v":0},518,0,1001," ",null,0,518,0,1001," "]
[null,null,null,null,null,null,null,null,null,null,null,null,{"$f":"IF('Utilized-Interacted FAD-beacons'!C529<>\"\",'Utilized-Interacted FAD-beacons'!C529,0)","v":0},519,0,1001," ",null,{"$f":"IF('Utilized-Interacted FAD-beacons'!J529<>\"\",'Utilized-Interacted FAD-beacons'!J529,0)","v":0},519,0,1001," ",null,0,519,0,1001," "]
[null,null,null,null,null,null,null,null,null,null,null,null,{"$f":"IF('Utilized-Interacted FAD-beacons'!C530<>\"\",'Utilized-Interacted FAD-beacons'!C530,0)","v":0},520,0,1001," ",null,{"$f":"IF('Utilized-Interacted FAD-beacons'!J530<>\"\",'Utilized-Interacted FAD-beacons'!J530,0)","v":0},520,0,1001," ",null,0,520,0,1001," "]
[null,null,null,null,null,null,null,null,null,null,null,null,{"$f":"IF('Utilized-Interacted FAD-beacons'!C531<>\"\",'Utilized-Interacted FAD-beacons'!C531,0)","v":0},521,0,1001," ",null,{"$f":"IF('Utilized-Interacted FAD-beacons'!J531<>\"\",'Utilized-Interacted FAD-beacons'!J531,0)","v":0},521,0,1001," ",null,0,521,0,1001," "]
[null,null,null,null,null,null,null,null,null,null,null,null,{"$f":"IF('Utilized-Interacted FAD-beacons'!C532<>\"\",'Utilized-Interacted FAD-beacons'!C532,0)","v":0},522,0,1001," ",null,{"$f":"IF('Utilized-Interacted FAD-beacons'!J532<>\"\",'Utilized-Interacted FAD-beacons'!J532,0)","v":0},522,0,1001," ",null,0,522,0,1001," "]
[null,null,null,null,null,null,null,null,null,null,null,null,{"$f":"IF('Utilized-Interacted FAD-beacons'!C533<>\"\",'Utilized-Interacted FAD-beacons'!C533,0)","v":0},523,0,1001," ",null,{"$f":"IF('Utilized-Interacted FAD-beacons'!J533<>\"\",'Utilized-Interacted FAD-beacons'!J533,0)","v":0},523,0,1001," ",null,0,523,0,1001," "]
[null,null,null,null,null,null,null,null,null,null,null,null,{"$f":"IF('Utilized-Interacted FAD-beacons'!C534<>\"\",'Utilized-Interacted FAD-beacons'!C534,0)","v":0},524,0,1001," ",null,{"$f":"IF('Utilized-Interacted FAD-beacons'!J534<>\"\",'Utilized-Interacted FAD-beacons'!J534,0)","v":0},524,0,1001," ",null,0,524,0,1001," "]
[null,null,null,null,null,null,null,null,null,null,null,null,{"$f":"IF('Utilized-Interacted FAD-beacons'!C535<>\"\",'Utilized-Interacted FAD-beacons'!C535,0)","v":0},525,0,1001," ",null,{"$f":"IF('Utilized-Interacted FAD-beacons'!J535<>\"\",'Utilized-Interacted FAD-beacons'!J535,0)","v":0},525,0,1001," ",null,0,525,0,1001," "]
[null,null,null,null,null,null,null,null,null,null,null,null,{"$f":"IF('Utilized-Interacted FAD-beacons'!C536<>\"\",'Utilized-Interacted FAD-beacons'!C536,0)","v":0},526,0,1001," ",null,{"$f":"IF('Utilized-Interacted FAD-beacons'!J536<>\"\",'Utilized-Interacted FAD-beacons'!J536,0)","v":0},526,0,1001," ",null,0,526,0,1001," "]
[null,null,null,null,null,null,null,null,null,null,null,null,{"$f":"IF('Utilized-Interacted FAD-beacons'!C537<>\"\",'Utilized-Interacted FAD-beacons'!C537,0)","v":0},527,0,1001," ",null,{"$f":"IF('Utilized-Interacted FAD-beacons'!J537<>\"\",'Utilized-Interacted FAD-beacons'!J537,0)","v":0},527,0,1001," ",null,0,527,0,1001," "]
[null,null,null,null,null,null,null,null,null,null,null,null,{"$f":"IF('Utilized-Interacted FAD-beacons'!C538<>\"\",'Utilized-Interacted FAD-beacons'!C538,0)","v":0},528,0,1001," ",null,{"$f":"IF('Utilized-Interacted FAD-beacons'!J538<>\"\",'Utilized-Interacted FAD-beacons'!J538,0)","v":0},528,0,1001," ",null,0,528,0,1001," "]
[null,null,null,null,null,null,null,null,null,null,null,null,{"$f":"IF('Utilized-Interacted FAD-beacons'!C539<>\"\",'Utilized-Interacted FAD-beacons'!C539,0)","v":0},529,0,1001," ",null,{"$f":"IF('Utilized-Interacted FAD-beacons'!J539<>\"\",'Utilized-Interacted FAD-beacons'!J539,0)","v":0},529,0,1001," ",null,0,529,0,1001," "]
[null,null,null,null,null,null,null,null,null,null,null,null,{"$f":"IF('Utilized-Interacted FAD-beacons'!C540<>\"\",'Utilized-Interacted FAD-beacons'!C540,0)","v":0},530,0,1001," ",null,{"$f":"IF('Utilized-Interacted FAD-beacons'!J540<>\"\",'Utilized-Interacted FAD-beacons'!J540,0)","v":0},530,0,1001," ",null,0,530,0,1001," "]
[null,null,null,null,null,null,null,null,null,null,null,null,{"$f":"IF('Utilized-Interacted FAD-beacons'!C541<>\"\",'Utilized-Interacted FAD-beacons'!C541,0)","v":0},531,0,1001," ",null,{"$f":"IF('Utilized-Interacted FAD-beacons'!J541<>\"\",'Utilized-Interacted FAD-beacons'!J541,0)","v":0},531,0,1001," ",null,0,531,0,1001," "]
[null,null,null,null,null,null,null,null,null,null,null,null,{"$f":"IF('Utilized-Interacted FAD-beacons'!C542<>\"\",'Utilized-Interacted FAD-beacons'!C542,0)","v":0},532,0,1001," ",null,{"$f":"IF('Utilized-Interacted FAD-beacons'!J542<>\"\",'Utilized-Interacted FAD-beacons'!J542,0)","v":0},532,0,1001," ",null,0,532,0,1001," "]
[null,null,null,null,null,null,null,null,null,null,null,null,{"$f":"IF('Utilized-Interacted FAD-beacons'!C543<>\"\",'Utilized-Interacted FAD-beacons'!C543,0)","v":0},533,0,1001," ",null,{"$f":"IF('Utilized-Interacted FAD-beacons'!J543<>\"\",'Utilized-Interacted FAD-beacons'!J543,0)","v":0},533,0,1001," ",null,0,533,0,1001," "]
[null,null,null,null,null,null,null,null,null,null,null,null,{"$f":"IF('Utilized-Interacted FAD-beacons'!C544<>\"\",'Utilized-Interacted FAD-beacons'!C544,0)","v":0},534,0,1001," ",null,{"$f":"IF('Utilized-Interacted FAD-beacons'!J544<>\"\",'Utilized-Interacted FAD-beacons'!J544,0)","v":0},534,0,1001," ",null,0,534,0,1001," "]
[null,null,null,null,null,null,null,null,null,null,null,null,{"$f":"IF('Utilized-Interacted FAD-beacons'!C545<>\"\",'Utilized-Interacted FAD-beacons'!C545,0)","v":0},535,0,1001," ",null,{"$f":"IF('Utilized-Interacted FAD-beacons'!J545<>\"\",'Utilized-Interacted FAD-beacons'!J545,0)","v":0},535,0,1001," ",null,0,535,0,1001," "]
[null,null,null,null,null,null,null,null,null,null,null,null,{"$f":"IF('Utilized-Interacted FAD-beacons'!C546<>\"\",'Utilized-Interacted FAD-beacons'!C546,0)","v":0},536,0,1001," ",null,{"$f":"IF('Utilized-Interacted FAD-beacons'!J546<>\"\",'Utilized-Interacted FAD-beacons'!J546,0)","v":0},536,0,1001," ",null,0,536,0,1001," "]
[null,null,null,null,null,null,null,null,null,null,null,null,{"$f":"IF('Utilized-Interacted FAD-beacons'!C547<>\"\",'Utilized-Interacted FAD-beacons'!C547,0)","v":0},537,0,1001," ",null,{"$f":"IF('Utilized-Interacted FAD-beacons'!J547<>\"\",'Utilized-Interacted FAD-beacons'!J547,0)","v":0},537,0,1001," ",null,0,537,0,1001," "]
[null,null,null,null,null,null,null,null,null,null,null,null,{"$f":"IF('Utilized-Interacted FAD-beacons'!C548<>\"\",'Utilized-Interacted FAD-beacons'!C548,0)","v":0},538,0,1001," ",null,{"$f":"IF('Utilized-Interacted FAD-beacons'!J548<>\"\",'Utilized-Interacted FAD-beacons'!J548,0)","v":0},538,0,1001," ",null,0,538,0,1001," "]
[null,null,null,null,null,null,null,null,null,null,null,null,{"$f":"IF('Utilized-Interacted FAD-beacons'!C549<>\"\",'Utilized-Interacted FAD-beacons'!C549,0)","v":0},539,0,1001," ",null,{"$f":"IF('Utilized-Interacted FAD-beacons'!J549<>\"\",'Utilized-Interacted FAD-beacons'!J549,0)","v":0},539,0,1001," ",null,0,539,0,1001," "]
[null,null,null,null,null,null,null,null,null,null,null,null,{"$f":"IF('Utilized-Interacted FAD-beacons'!C550<>\"\",'Utilized-Interacted FAD-beacons'!C550,0)","v":0},540,0,1001," ",null,{"$f":"IF('Utilized-Interacted FAD-beacons'!J550<>\"\",'Utilized-Interacted FAD-beacons'!J550,0)","v":0},540,0,1001," ",null,0,540,0,1001," "]
[null,null,null,null,null,null,null,null,null,null,null,null,{"$f":"IF('Utilized-Interacted FAD-beacons'!C551<>\"\",'Utilized-Interacted FAD-beacons'!C551,0)","v":0},541,0,1001," ",null,{"$f":"IF('Utilized-Interacted FAD-beacons'!J551<>\"\",'Utilized-Interacted FAD-beacons'!J551,0)","v":0},541,0,1001," ",null,0,541,0,1001," "]
[null,null,null,null,null,null,null,null,null,null,null,null,{"$f":"IF('Utilized-Interacted FAD-beacons'!C552<>\"\",'Utilized-Interacted FAD-beacons'!C552,0)","v":0},542,0,1001," ",null,{"$f":"IF('Utilized-Interacted FAD-beacons'!J552<>\"\",'Utilized-Interacted FAD-beacons'!J552,0)","v":0},542,0,1001," ",null,0,542,0,1001," "]
[null,null,null,null,null,null,null,null,null,null,null,null,{"$f":"IF('Utilized-Interacted FAD-beacons'!C553<>\"\",'Utilized-Interacted FAD-beacons'!C553,0)","v":0},543,0,1001," ",null,{"$f":"IF('Utilized-Interacted FAD-beacons'!J553<>\"\",'Utilized-Interacted FAD-beacons'!J553,0)","v":0},543,0,1001," ",null,0,543,0,1001," "]
[null,null,null,null,null,null,null,null,null,null,null,null,{"$f":"IF('Utilized-Interacted FAD-beacons'!C554<>\"\",'Utilized-Interacted FAD-beacons'!C554,0)","v":0},544,0,1001," ",null,{"$f":"IF('Utilized-Interacted FAD-beacons'!J554<>\"\",'Utilized-Interacted FAD-beacons'!J554,0)","v":0},544,0,1001," ",null,0,544,0,1001," "]
[null,null,null,null,null,null,null,null,null,null,null,null,{"$f":"IF('Utilized-Interacted FAD-beacons'!C555<>\"\",'Utilized-Interacted FAD-beacons'!C555,0)","v":0},545,0,1001," ",null,{"$f":"IF('Utilized-Interacted FAD-beacons'!J555<>\"\",'Utilized-Interacted FAD-beacons'!J555,0)","v":0},545,0,1001," ",null,0,545,0,1001," "]
[null,null,null,null,null,null,null,null,null,null,null,null,{"$f":"IF('Utilized-Interacted FAD-beacons'!C556<>\"\",'Utilized-Interacted FAD-beacons'!C556,0)","v":0},546,0,1001," ",null,{"$f":"IF('Utilized-Interacted FAD-beacons'!J556<>\"\",'Utilized-Interacted FAD-beacons'!J556,0)","v":0},546,0,1001," ",null,0,546,0,1001," "]
[null,null,null,null,null,null,null,null,null,null,null,null,{"$f":"IF('Utilized-Interacted FAD-beacons'!C557<>\"\",'Utilized-Interacted FAD-beacons'!C557,0)","v":0},547,0,1001," ",null,{"$f":"IF('Utilized-Interacted FAD-beacons'!J557<>\"\",'Utilized-Interacted FAD-beacons'!J557,0)","v":0},547,0,1001," ",null,0,547,0,1001," "]
[null,null,null,null,null,null,null,null,null,null,null,null,{"$f":"IF('Utilized-Interacted FAD-beacons'!C558<>\"\",'Utilized-Interacted FAD-beacons'!C558,0)","v":0},548,0,1001," ",null,{"$f":"IF('Utilized-Interacted FAD-beacons'!J558<>\"\",'Utilized-Interacted FAD-beacons'!J558,0)","v":0},548,0,1001," ",null,0,548,0,1001," "]
[null,null,null,null,null,null,null,null,null,null,null,null,{"$f":"IF('Utilized-Interacted FAD-beacons'!C559<>\"\",'Utilized-Interacted FAD-beacons'!C559,0)","v":0},549,0,1001," ",null,{"$f":"IF('Utilized-Interacted FAD-beacons'!J559<>\"\",'Utilized-Interacted FAD-beacons'!J559,0)","v":0},549,0,1001," ",null,0,549,0,1001," "]
[null,null,null,null,null,null,null,null,null,null,null,null,{"$f":"IF('Utilized-Interacted FAD-beacons'!C560<>\"\",'Utilized-Interacted FAD-beacons'!C560,0)","v":0},550,0,1001," ",null,{"$f":"IF('Utilized-Interacted FAD-beacons'!J560<>\"\",'Utilized-Interacted FAD-beacons'!J560,0)","v":0},550,0,1001," ",null,0,550,0,1001," "]
[null,null,null,null,null,null,null,null,null,null,null,null,{"$f":"IF('Utilized-Interacted FAD-beacons'!C561<>\"\",'Utilized-Interacted FAD-beacons'!C561,0)","v":0},551,0,1001," ",null,{"$f":"IF('Utilized-Interacted FAD-beacons'!J561<>\"\",'Utilized-Interacted FAD-beacons'!J561,0)","v":0},551,0,1001," ",null,0,551,0,1001," "]
[null,null,null,null,null,null,null,null,null,null,null,null,{"$f":"IF('Utilized-Interacted FAD-beacons'!C562<>\"\",'Utilized-Interacted FAD-beacons'!C562,0)","v":0},552,0,1001," ",null,{"$f":"IF('Utilized-Interacted FAD-beacons'!J562<>\"\",'Utilized-Interacted FAD-beacons'!J562,0)","v":0},552,0,1001," ",null,0,552,0,1001," "]
[null,null,null,null,null,null,null,null,null,null,null,null,{"$f":"IF('Utilized-Interacted FAD-beacons'!C563<>\"\",'Utilized-Interacted FAD-beacons'!C563,0)","v":0},553,0,1001," ",null,{"$f":"IF('Utilized-Interacted FAD-beacons'!J563<>\"\",'Utilized-Interacted FAD-beacons'!J563,0)","v":0},553,0,1001," ",null,0,553,0,1001," "]
[null,null,null,null,null,null,null,null,null,null,null,null,{"$f":"IF('Utilized-Interacted FAD-beacons'!C564<>\"\",'Utilized-Interacted FAD-beacons'!C564,0)","v":0},554,0,1001," ",null,{"$f":"IF('Utilized-Interacted FAD-beacons'!J564<>\"\",'Utilized-Interacted FAD-beacons'!J564,0)","v":0},554,0,1001," ",null,0,554,0,1001," "]
[null,null,null,null,null,null,null,null,null,null,null,null,{"$f":"IF('Utilized-Interacted FAD-beacons'!C565<>\"\",'Utilized-Interacted FAD-beacons'!C565,0)","v":0},555,0,1001," ",null,{"$f":"IF('Utilized-Interacted FAD-beacons'!J565<>\"\",'Utilized-Interacted FAD-beacons'!J565,0)","v":0},555,0,1001," ",null,0,555,0,1001," "]
[null,null,null,null,null,null,null,null,null,null,null,null,{"$f":"IF('Utilized-Interacted FAD-beacons'!C566<>\"\",'Utilized-Interacted FAD-beacons'!C566,0)","v":0},556,0,1001," ",null,{"$f":"IF('Utilized-Interacted FAD-beacons'!J566<>\"\",'Utilized-Interacted FAD-beacons'!J566,0)","v":0},556,0,1001," ",null,0,556,0,1001," "]
[null,null,null,null,null,null,null,null,null,null,null,null,{"$f":"IF('Utilized-Interacted FAD-beacons'!C567<>\"\",'Utilized-Interacted FAD-beacons'!C567,0)","v":0},557,0,1001," ",null,{"$f":"IF('Utilized-Interacted FAD-beacons'!J567<>\"\",'Utilized-Interacted FAD-beacons'!J567,0)","v":0},557,0,1001," ",null,0,557,0,1001," "]
[null,null,null,null,null,null,null,null,null,null,null,null,{"$f":"IF('Utilized-Interacted FAD-beacons'!C568<>\"\",'Utilized-Interacted FAD-beacons'!C568,0)","v":0},558,0,1001," ",null,{"$f":"IF('Utilized-Interacted FAD-beacons'!J568<>\"\",'Utilized-Interacted FAD-beacons'!J568,0)","v":0},558,0,1001," ",null,0,558,0,1001," "]
[null,null,null,null,null,null,null,null,null,null,null,null,{"$f":"IF('Utilized-Interacted FAD-beacons'!C569<>\"\",'Utilized-Interacted FAD-beacons'!C569,0)","v":0},559,0,1001," ",null,{"$f":"IF('Utilized-Interacted FAD-beacons'!J569<>\"\",'Utilized-Interacted FAD-beacons'!J569,0)","v":0},559,0,1001," ",null,0,559,0,1001," "]
[null,null,null,null,null,null,null,null,null,null,null,null,{"$f":"IF('Utilized-Interacted FAD-beacons'!C570<>\"\",'Utilized-Interacted FAD-beacons'!C570,0)","v":0},560,0,1001," ",null,{"$f":"IF('Utilized-Interacted FAD-beacons'!J570<>\"\",'Utilized-Interacted FAD-beacons'!J570,0)","v":0},560,0,1001," ",null,0,560,0,1001," "]
[null,null,null,null,null,null,null,null,null,null,null,null,{"$f":"IF('Utilized-Interacted FAD-beacons'!C571<>\"\",'Utilized-Interacted FAD-beacons'!C571,0)","v":0},561,0,1001," ",null,{"$f":"IF('Utilized-Interacted FAD-beacons'!J571<>\"\",'Utilized-Interacted FAD-beacons'!J571,0)","v":0},561,0,1001," ",null,0,561,0,1001," "]
[null,null,null,null,null,null,null,null,null,null,null,null,{"$f":"IF('Utilized-Interacted FAD-beacons'!C572<>\"\",'Utilized-Interacted FAD-beacons'!C572,0)","v":0},562,0,1001," ",null,{"$f":"IF('Utilized-Interacted FAD-beacons'!J572<>\"\",'Utilized-Interacted FAD-beacons'!J572,0)","v":0},562,0,1001," ",null,0,562,0,1001," "]
[null,null,null,null,null,null,null,null,null,null,null,null,{"$f":"IF('Utilized-Interacted FAD-beacons'!C573<>\"\",'Utilized-Interacted FAD-beacons'!C573,0)","v":0},563,0,1001," ",null,{"$f":"IF('Utilized-Interacted FAD-beacons'!J573<>\"\",'Utilized-Interacted FAD-beacons'!J573,0)","v":0},563,0,1001," ",null,0,563,0,1001," "]
[null,null,null,null,null,null,null,null,null,null,null,null,{"$f":"IF('Utilized-Interacted FAD-beacons'!C574<>\"\",'Utilized-Interacted FAD-beacons'!C574,0)","v":0},564,0,1001," ",null,{"$f":"IF('Utilized-Interacted FAD-beacons'!J574<>\"\",'Utilized-Interacted FAD-beacons'!J574,0)","v":0},564,0,1001," ",null,0,564,0,1001," "]
[null,null,null,null,null,null,null,null,null,null,null,null,{"$f":"IF('Utilized-Interacted FAD-beacons'!C575<>\"\",'Utilized-Interacted FAD-beacons'!C575,0)","v":0},565,0,1001," ",null,{"$f":"IF('Utilized-Interacted FAD-beacons'!J575<>\"\",'Utilized-Interacted FAD-beacons'!J575,0)","v":0},565,0,1001," ",null,0,565,0,1001," "]
[null,null,null,null,null,null,null,null,null,null,null,null,{"$f":"IF('Utilized-Interacted FAD-beacons'!C576<>\"\",'Utilized-Interacted FAD-beacons'!C576,0)","v":0},566,0,1001," ",null,{"$f":"IF('Utilized-Interacted FAD-beacons'!J576<>\"\",'Utilized-Interacted FAD-beacons'!J576,0)","v":0},566,0,1001," ",null,0,566,0,1001," "]
[null,null,null,null,null,null,null,null,null,null,null,null,{"$f":"IF('Utilized-Interacted FAD-beacons'!C577<>\"\",'Utilized-Interacted FAD-beacons'!C577,0)","v":0},567,0,1001," ",null,{"$f":"IF('Utilized-Interacted FAD-beacons'!J577<>\"\",'Utilized-Interacted FAD-beacons'!J577,0)","v":0},567,0,1001," ",null,0,567,0,1001," "]
[null,null,null,null,null,null,null,null,null,null,null,null,{"$f":"IF('Utilized-Interacted FAD-beacons'!C578<>\"\",'Utilized-Interacted FAD-beacons'!C578,0)","v":0},568,0,1001," ",null,{"$f":"IF('Utilized-Interacted FAD-beacons'!J578<>\"\",'Utilized-Interacted FAD-beacons'!J578,0)","v":0},568,0,1001," ",null,0,568,0,1001," "]
[null,null,null,null,null,null,null,null,null,null,null,null,{"$f":"IF('Utilized-Interacted FAD-beacons'!C579<>\"\",'Utilized-Interacted FAD-beacons'!C579,0)","v":0},569,0,1001," ",null,{"$f":"IF('Utilized-Interacted FAD-beacons'!J579<>\"\",'Utilized-Interacted FAD-beacons'!J579,0)","v":0},569,0,1001," ",null,0,569,0,1001," "]
[null,null,null,null,null,null,null,null,null,null,null,null,{"$f":"IF('Utilized-Interacted FAD-beacons'!C580<>\"\",'Utilized-Interacted FAD-beacons'!C580,0)","v":0},570,0,1001," ",null,{"$f":"IF('Utilized-Interacted FAD-beacons'!J580<>\"\",'Utilized-Interacted FAD-beacons'!J580,0)","v":0},570,0,1001," ",null,0,570,0,1001," "]
[null,null,null,null,null,null,null,null,null,null,null,null,{"$f":"IF('Utilized-Interacted FAD-beacons'!C581<>\"\",'Utilized-Interacted FAD-beacons'!C581,0)","v":0},571,0,1001," ",null,{"$f":"IF('Utilized-Interacted FAD-beacons'!J581<>\"\",'Utilized-Interacted FAD-beacons'!J581,0)","v":0},571,0,1001," ",null,0,571,0,1001," "]
[null,null,null,null,null,null,null,null,null,null,null,null,{"$f":"IF('Utilized-Interacted FAD-beacons'!C582<>\"\",'Utilized-Interacted FAD-beacons'!C582,0)","v":0},572,0,1001," ",null,{"$f":"IF('Utilized-Interacted FAD-beacons'!J582<>\"\",'Utilized-Interacted FAD-beacons'!J582,0)","v":0},572,0,1001," ",null,0,572,0,1001," "]
[null,null,null,null,null,null,null,null,null,null,null,null,{"$f":"IF('Utilized-Interacted FAD-beacons'!C583<>\"\",'Utilized-Interacted FAD-beacons'!C583,0)","v":0},573,0,1001," ",null,{"$f":"IF('Utilized-Interacted FAD-beacons'!J583<>\"\",'Utilized-Interacted FAD-beacons'!J583,0)","v":0},573,0,1001," ",null,0,573,0,1001," "]
[null,null,null,null,null,null,null,null,null,null,null,null,{"$f":"IF('Utilized-Interacted FAD-beacons'!C584<>\"\",'Utilized-Interacted FAD-beacons'!C584,0)","v":0},574,0,1001," ",null,{"$f":"IF('Utilized-Interacted FAD-beacons'!J584<>\"\",'Utilized-Interacted FAD-beacons'!J584,0)","v":0},574,0,1001," ",null,0,574,0,1001," "]
[null,null,null,null,null,null,null,null,null,null,null,null,{"$f":"IF('Utilized-Interacted FAD-beacons'!C585<>\"\",'Utilized-Interacted FAD-beacons'!C585,0)","v":0},575,0,1001," ",null,{"$f":"IF('Utilized-Interacted FAD-beacons'!J585<>\"\",'Utilized-Interacted FAD-beacons'!J585,0)","v":0},575,0,1001," ",null,0,575,0,1001," "]
[null,null,null,null,null,null,null,null,null,null,null,null,{"$f":"IF('Utilized-Interacted FAD-beacons'!C586<>\"\",'Utilized-Interacted FAD-beacons'!C586,0)","v":0},576,0,1001," ",null,{"$f":"IF('Utilized-Interacted FAD-beacons'!J586<>\"\",'Utilized-Interacted FAD-beacons'!J586,0)","v":0},576,0,1001," ",null,0,576,0,1001," "]
[null,null,null,null,null,null,null,null,null,null,null,null,{"$f":"IF('Utilized-Interacted FAD-beacons'!C587<>\"\",'Utilized-Interacted FAD-beacons'!C587,0)","v":0},577,0,1001,{"$f":"IFERROR(VLOOKUP(SMALL($P$6:$P$1005,N582),$N$6:$O$1005,2,FALSE),\" \")","v":" "},null,{"$f":"IF('Utilized-Interacted FAD-beacons'!J587<>\"\",'Utilized-Interacted FAD-beacons'!J587,0)","v":0},577,0,1001,{"$f":"IFERROR(VLOOKUP(SMALL($V$6:$V$1005,T582),$T$6:$U$1005,2,FALSE),\" \")","v":" "},null,0,577,0,1001,{"$f":"IFERROR(VLOOKUP(SMALL($AB$6:$AB$1005,Z582),$Z$6:$AA$1005,2,FALSE),\" \")","v":" "}]
[null,null,null,null,null,null,null,null,null,null,null,null,{"$f":"IF('Utilized-Interacted FAD-beacons'!C588<>\"\",'Utilized-Interacted FAD-beacons'!C588,0)","v":0},578,{"$f":"M583","v":0},{"$f":"IF(O583=0,MAX($N$6:$N$1005)+1,N583)","v":1001}," ",null,{"$f":"IF('Utilized-Interacted FAD-beacons'!J588<>\"\",'Utilized-Interacted FAD-beacons'!J588,0)","v":0},578,{"$f":"S583","v":0},{"$f":"IF(U583=0,MAX($T$6:$T$1005)+1,T583)","v":1001}," ",null,{"$f":"IF(AND(M583=0,S583=0),0,IF(AND(M583<>0,S583=0),M583,IF(AND(M583=0,S583<>0),S583,IF(AND(M583<>0,S583<>0),(CONCATENATE(M583,S583))))))","v":0},578,{"$f":"Y583","v":0},{"$f":"IF(AA583=0,MAX($Z$6:$Z$1005)+1,Z583)","v":1001}," "]
[null,null,null,null,null,null,null,null,null,null,null,null,{"$f":"IF('Utilized-Interacted FAD-beacons'!C589<>\"\",'Utilized-Interacted FAD-beacons'!C589,0)","v":0},579,0,1001," ",null,{"$f":"IF('Utilized-Interacted FAD-beacons'!J589<>\"\",'Utilized-Interacted FAD-beacons'!J589,0)","v":0},579,0,1001," ",null,0,579,0,1001," "]
[null,null,null,null,null,null,null,null,null,null,null,null,{"$f":"IF('Utilized-Interacted FAD-beacons'!C590<>\"\",'Utilized-Interacted FAD-beacons'!C590,0)","v":0},580,0,1001," ",null,{"$f":"IF('Utilized-Interacted FAD-beacons'!J590<>\"\",'Utilized-Interacted FAD-beacons'!J590,0)","v":0},580,0,1001," ",null,0,580,0,1001," "]
[null,null,null,null,null,null,null,null,null,null,null,null,{"$f":"IF('Utilized-Interacted FAD-beacons'!C591<>\"\",'Utilized-Interacted FAD-beacons'!C591,0)","v":0},581,0,1001," ",null,{"$f":"IF('Utilized-Interacted FAD-beacons'!J591<>\"\",'Utilized-Interacted FAD-beacons'!J591,0)","v":0},581,0,1001," ",null,0,581,0,1001," "]
[null,null,null,null,null,null,null,null,null,null,null,null,{"$f":"IF('Utilized-Interacted FAD-beacons'!C592<>\"\",'Utilized-Interacted FAD-beacons'!C592,0)","v":0},582,0,1001," ",null,{"$f":"IF('Utilized-Interacted FAD-beacons'!J592<>\"\",'Utilized-Interacted FAD-beacons'!J592,0)","v":0},582,0,1001," ",null,0,582,0,1001," "]
[null,null,null,null,null,null,null,null,null,null,null,null,{"$f":"IF('Utilized-Interacted FAD-beacons'!C593<>\"\",'Utilized-Interacted FAD-beacons'!C593,0)","v":0},583,0,1001," ",null,{"$f":"IF('Utilized-Interacted FAD-beacons'!J593<>\"\",'Utilized-Interacted FAD-beacons'!J593,0)","v":0},583,0,1001," ",null,0,583,0,1001," "]
[null,null,null,null,null,null,null,null,null,null,null,null,{"$f":"IF('Utilized-Interacted FAD-beacons'!C594<>\"\",'Utilized-Interacted FAD-beacons'!C594,0)","v":0},584,0,1001," ",null,{"$f":"IF('Utilized-Interacted FAD-beacons'!J594<>\"\",'Utilized-Interacted FAD-beacons'!J594,0)","v":0},584,0,1001," ",null,0,584,0,1001," "]
[null,null,null,null,null,null,null,null,null,null,null,null,{"$f":"IF('Utilized-Interacted FAD-beacons'!C595<>\"\",'Utilized-Interacted FAD-beacons'!C595,0)","v":0},585,0,1001," ",null,{"$f":"IF('Utilized-Interacted FAD-beacons'!J595<>\"\",'Utilized-Interacted FAD-beacons'!J595,0)","v":0},585,0,1001," ",null,0,585,0,1001," "]
[null,null,null,null,null,null,null,null,null,null,null,null,{"$f":"IF('Utilized-Interacted FAD-beacons'!C596<>\"\",'Utilized-Interacted FAD-beacons'!C596,0)","v":0},586,0,1001," ",null,{"$f":"IF('Utilized-Interacted FAD-beacons'!J596<>\"\",'Utilized-Interacted FAD-beacons'!J596,0)","v":0},586,0,1001," ",null,0,586,0,1001," "]
[null,null,null,null,null,null,null,null,null,null,null,null,{"$f":"IF('Utilized-Interacted FAD-beacons'!C597<>\"\",'Utilized-Interacted FAD-beacons'!C597,0)","v":0},587,0,1001," ",null,{"$f":"IF('Utilized-Interacted FAD-beacons'!J597<>\"\",'Utilized-Interacted FAD-beacons'!J597,0)","v":0},587,0,1001," ",null,0,587,0,1001," "]
[null,null,null,null,null,null,null,null,null,null,null,null,{"$f":"IF('Utilized-Interacted FAD-beacons'!C598<>\"\",'Utilized-Interacted FAD-beacons'!C598,0)","v":0},588,0,1001," ",null,{"$f":"IF('Utilized-Interacted FAD-beacons'!J598<>\"\",'Utilized-Interacted FAD-beacons'!J598,0)","v":0},588,0,1001," ",null,0,588,0,1001," "]
[null,null,null,null,null,null,null,null,null,null,null,null,{"$f":"IF('Utilized-Interacted FAD-beacons'!C599<>\"\",'Utilized-Interacted FAD-beacons'!C599,0)","v":0},589,0,1001," ",null,{"$f":"IF('Utilized-Interacted FAD-beacons'!J599<>\"\",'Utilized-Interacted FAD-beacons'!J599,0)","v":0},589,0,1001," ",null,0,589,0,1001," "]
[null,null,null,null,null,null,null,null,null,null,null,null,{"$f":"IF('Utilized-Interacted FAD-beacons'!C600<>\"\",'Utilized-Interacted FAD-beacons'!C600,0)","v":0},590,0,1001," ",null,{"$f":"IF('Utilized-Interacted FAD-beacons'!J600<>\"\",'Utilized-Interacted FAD-beacons'!J600,0)","v":0},590,0,1001," ",null,0,590,0,1001," "]
[null,null,null,null,null,null,null,null,null,null,null,null,{"$f":"IF('Utilized-Interacted FAD-beacons'!C601<>\"\",'Utilized-Interacted FAD-beacons'!C601,0)","v":0},591,0,1001," ",null,{"$f":"IF('Utilized-Interacted FAD-beacons'!J601<>\"\",'Utilized-Interacted FAD-beacons'!J601,0)","v":0},591,0,1001," ",null,0,591,0,1001," "]
[null,null,null,null,null,null,null,null,null,null,null,null,{"$f":"IF('Utilized-Interacted FAD-beacons'!C602<>\"\",'Utilized-Interacted FAD-beacons'!C602,0)","v":0},592,0,1001," ",null,{"$f":"IF('Utilized-Interacted FAD-beacons'!J602<>\"\",'Utilized-Interacted FAD-beacons'!J602,0)","v":0},592,0,1001," ",null,0,592,0,1001," "]
[null,null,null,null,null,null,null,null,null,null,null,null,{"$f":"IF('Utilized-Interacted FAD-beacons'!C603<>\"\",'Utilized-Interacted FAD-beacons'!C603,0)","v":0},593,0,1001," ",null,{"$f":"IF('Utilized-Interacted FAD-beacons'!J603<>\"\",'Utilized-Interacted FAD-beacons'!J603,0)","v":0},593,0,1001," ",null,0,593,0,1001," "]
[null,null,null,null,null,null,null,null,null,null,null,null,{"$f":"IF('Utilized-Interacted FAD-beacons'!C604<>\"\",'Utilized-Interacted FAD-beacons'!C604,0)","v":0},594,0,1001," ",null,{"$f":"IF('Utilized-Interacted FAD-beacons'!J604<>\"\",'Utilized-Interacted FAD-beacons'!J604,0)","v":0},594,0,1001," ",null,0,594,0,1001," "]
[null,null,null,null,null,null,null,null,null,null,null,null,{"$f":"IF('Utilized-Interacted FAD-beacons'!C605<>\"\",'Utilized-Interacted FAD-beacons'!C605,0)","v":0},595,0,1001," ",null,{"$f":"IF('Utilized-Interacted FAD-beacons'!J605<>\"\",'Utilized-Interacted FAD-beacons'!J605,0)","v":0},595,0,1001," ",null,0,595,0,1001," "]
[null,null,null,null,null,null,null,null,null,null,null,null,{"$f":"IF('Utilized-Interacted FAD-beacons'!C606<>\"\",'Utilized-Interacted FAD-beacons'!C606,0)","v":0},596,0,1001," ",null,{"$f":"IF('Utilized-Interacted FAD-beacons'!J606<>\"\",'Utilized-Interacted FAD-beacons'!J606,0)","v":0},596,0,1001," ",null,0,596,0,1001," "]
[null,null,null,null,null,null,null,null,null,null,null,null,{"$f":"IF('Utilized-Interacted FAD-beacons'!C607<>\"\",'Utilized-Interacted FAD-beacons'!C607,0)","v":0},597,0,1001," ",null,{"$f":"IF('Utilized-Interacted FAD-beacons'!J607<>\"\",'Utilized-Interacted FAD-beacons'!J607,0)","v":0},597,0,1001," ",null,0,597,0,1001," "]
[null,null,null,null,null,null,null,null,null,null,null,null,{"$f":"IF('Utilized-Interacted FAD-beacons'!C608<>\"\",'Utilized-Interacted FAD-beacons'!C608,0)","v":0},598,0,1001," ",null,{"$f":"IF('Utilized-Interacted FAD-beacons'!J608<>\"\",'Utilized-Interacted FAD-beacons'!J608,0)","v":0},598,0,1001," ",null,0,598,0,1001," "]
[null,null,null,null,null,null,null,null,null,null,null,null,{"$f":"IF('Utilized-Interacted FAD-beacons'!C609<>\"\",'Utilized-Interacted FAD-beacons'!C609,0)","v":0},599,0,1001," ",null,{"$f":"IF('Utilized-Interacted FAD-beacons'!J609<>\"\",'Utilized-Interacted FAD-beacons'!J609,0)","v":0},599,0,1001," ",null,0,599,0,1001," "]
[null,null,null,null,null,null,null,null,null,null,null,null,{"$f":"IF('Utilized-Interacted FAD-beacons'!C610<>\"\",'Utilized-Interacted FAD-beacons'!C610,0)","v":0},600,0,1001," ",null,{"$f":"IF('Utilized-Interacted FAD-beacons'!J610<>\"\",'Utilized-Interacted FAD-beacons'!J610,0)","v":0},600,0,1001," ",null,0,600,0,1001," "]
[null,null,null,null,null,null,null,null,null,null,null,null,{"$f":"IF('Utilized-Interacted FAD-beacons'!C611<>\"\",'Utilized-Interacted FAD-beacons'!C611,0)","v":0},601,0,1001," ",null,{"$f":"IF('Utilized-Interacted FAD-beacons'!J611<>\"\",'Utilized-Interacted FAD-beacons'!J611,0)","v":0},601,0,1001," ",null,0,601,0,1001," "]
[null,null,null,null,null,null,null,null,null,null,null,null,{"$f":"IF('Utilized-Interacted FAD-beacons'!C612<>\"\",'Utilized-Interacted FAD-beacons'!C612,0)","v":0},602,0,1001," ",null,{"$f":"IF('Utilized-Interacted FAD-beacons'!J612<>\"\",'Utilized-Interacted FAD-beacons'!J612,0)","v":0},602,0,1001," ",null,0,602,0,1001," "]
[null,null,null,null,null,null,null,null,null,null,null,null,{"$f":"IF('Utilized-Interacted FAD-beacons'!C613<>\"\",'Utilized-Interacted FAD-beacons'!C613,0)","v":0},603,0,1001," ",null,{"$f":"IF('Utilized-Interacted FAD-beacons'!J613<>\"\",'Utilized-Interacted FAD-beacons'!J613,0)","v":0},603,0,1001," ",null,0,603,0,1001," "]
[null,null,null,null,null,null,null,null,null,null,null,null,{"$f":"IF('Utilized-Interacted FAD-beacons'!C614<>\"\",'Utilized-Interacted FAD-beacons'!C614,0)","v":0},604,0,1001," ",null,{"$f":"IF('Utilized-Interacted FAD-beacons'!J614<>\"\",'Utilized-Interacted FAD-beacons'!J614,0)","v":0},604,0,1001," ",null,0,604,0,1001," "]
[null,null,null,null,null,null,null,null,null,null,null,null,{"$f":"IF('Utilized-Interacted FAD-beacons'!C615<>\"\",'Utilized-Interacted FAD-beacons'!C615,0)","v":0},605,0,1001," ",null,{"$f":"IF('Utilized-Interacted FAD-beacons'!J615<>\"\",'Utilized-Interacted FAD-beacons'!J615,0)","v":0},605,0,1001," ",null,0,605,0,1001," "]
[null,null,null,null,null,null,null,null,null,null,null,null,{"$f":"IF('Utilized-Interacted FAD-beacons'!C616<>\"\",'Utilized-Interacted FAD-beacons'!C616,0)","v":0},606,0,1001," ",null,{"$f":"IF('Utilized-Interacted FAD-beacons'!J616<>\"\",'Utilized-Interacted FAD-beacons'!J616,0)","v":0},606,0,1001," ",null,0,606,0,1001," "]
[null,null,null,null,null,null,null,null,null,null,null,null,{"$f":"IF('Utilized-Interacted FAD-beacons'!C617<>\"\",'Utilized-Interacted FAD-beacons'!C617,0)","v":0},607,0,1001," ",null,{"$f":"IF('Utilized-Interacted FAD-beacons'!J617<>\"\",'Utilized-Interacted FAD-beacons'!J617,0)","v":0},607,0,1001," ",null,0,607,0,1001," "]
[null,null,null,null,null,null,null,null,null,null,null,null,{"$f":"IF('Utilized-Interacted FAD-beacons'!C618<>\"\",'Utilized-Interacted FAD-beacons'!C618,0)","v":0},608,0,1001," ",null,{"$f":"IF('Utilized-Interacted FAD-beacons'!J618<>\"\",'Utilized-Interacted FAD-beacons'!J618,0)","v":0},608,0,1001," ",null,0,608,0,1001," "]
[null,null,null,null,null,null,null,null,null,null,null,null,{"$f":"IF('Utilized-Interacted FAD-beacons'!C619<>\"\",'Utilized-Interacted FAD-beacons'!C619,0)","v":0},609,0,1001," ",null,{"$f":"IF('Utilized-Interacted FAD-beacons'!J619<>\"\",'Utilized-Interacted FAD-beacons'!J619,0)","v":0},609,0,1001," ",null,0,609,0,1001," "]
[null,null,null,null,null,null,null,null,null,null,null,null,{"$f":"IF('Utilized-Interacted FAD-beacons'!C620<>\"\",'Utilized-Interacted FAD-beacons'!C620,0)","v":0},610,0,1001," ",null,{"$f":"IF('Utilized-Interacted FAD-beacons'!J620<>\"\",'Utilized-Interacted FAD-beacons'!J620,0)","v":0},610,0,1001," ",null,0,610,0,1001," "]
[null,null,null,null,null,null,null,null,null,null,null,null,{"$f":"IF('Utilized-Interacted FAD-beacons'!C621<>\"\",'Utilized-Interacted FAD-beacons'!C621,0)","v":0},611,0,1001," ",null,{"$f":"IF('Utilized-Interacted FAD-beacons'!J621<>\"\",'Utilized-Interacted FAD-beacons'!J621,0)","v":0},611,0,1001," ",null,0,611,0,1001," "]
[null,null,null,null,null,null,null,null,null,null,null,null,{"$f":"IF('Utilized-Interacted FAD-beacons'!C622<>\"\",'Utilized-Interacted FAD-beacons'!C622,0)","v":0},612,0,1001," ",null,{"$f":"IF('Utilized-Interacted FAD-beacons'!J622<>\"\",'Utilized-Interacted FAD-beacons'!J622,0)","v":0},612,0,1001," ",null,0,612,0,1001," "]
[null,null,null,null,null,null,null,null,null,null,null,null,{"$f":"IF('Utilized-Interacted FAD-beacons'!C623<>\"\",'Utilized-Interacted FAD-beacons'!C623,0)","v":0},613,0,1001," ",null,{"$f":"IF('Utilized-Interacted FAD-beacons'!J623<>\"\",'Utilized-Interacted FAD-beacons'!J623,0)","v":0},613,0,1001," ",null,0,613,0,1001," "]
[null,null,null,null,null,null,null,null,null,null,null,null,{"$f":"IF('Utilized-Interacted FAD-beacons'!C624<>\"\",'Utilized-Interacted FAD-beacons'!C624,0)","v":0},614,0,1001," ",null,{"$f":"IF('Utilized-Interacted FAD-beacons'!J624<>\"\",'Utilized-Interacted FAD-beacons'!J624,0)","v":0},614,0,1001," ",null,0,614,0,1001," "]
[null,null,null,null,null,null,null,null,null,null,null,null,{"$f":"IF('Utilized-Interacted FAD-beacons'!C625<>\"\",'Utilized-Interacted FAD-beacons'!C625,0)","v":0},615,0,1001," ",null,{"$f":"IF('Utilized-Interacted FAD-beacons'!J625<>\"\",'Utilized-Interacted FAD-beacons'!J625,0)","v":0},615,0,1001," ",null,0,615,0,1001," "]
[null,null,null,null,null,null,null,null,null,null,null,null,{"$f":"IF('Utilized-Interacted FAD-beacons'!C626<>\"\",'Utilized-Interacted FAD-beacons'!C626,0)","v":0},616,0,1001," ",null,{"$f":"IF('Utilized-Interacted FAD-beacons'!J626<>\"\",'Utilized-Interacted FAD-beacons'!J626,0)","v":0},616,0,1001," ",null,0,616,0,1001," "]
[null,null,null,null,null,null,null,null,null,null,null,null,{"$f":"IF('Utilized-Interacted FAD-beacons'!C627<>\"\",'Utilized-Interacted FAD-beacons'!C627,0)","v":0},617,0,1001," ",null,{"$f":"IF('Utilized-Interacted FAD-beacons'!J627<>\"\",'Utilized-Interacted FAD-beacons'!J627,0)","v":0},617,0,1001," ",null,0,617,0,1001," "]
[null,null,null,null,null,null,null,null,null,null,null,null,{"$f":"IF('Utilized-Interacted FAD-beacons'!C628<>\"\",'Utilized-Interacted FAD-beacons'!C628,0)","v":0},618,0,1001," ",null,{"$f":"IF('Utilized-Interacted FAD-beacons'!J628<>\"\",'Utilized-Interacted FAD-beacons'!J628,0)","v":0},618,0,1001," ",null,0,618,0,1001," "]
[null,null,null,null,null,null,null,null,null,null,null,null,{"$f":"IF('Utilized-Interacted FAD-beacons'!C629<>\"\",'Utilized-Interacted FAD-beacons'!C629,0)","v":0},619,0,1001," ",null,{"$f":"IF('Utilized-Interacted FAD-beacons'!J629<>\"\",'Utilized-Interacted FAD-beacons'!J629,0)","v":0},619,0,1001," ",null,0,619,0,1001," "]
[null,null,null,null,null,null,null,null,null,null,null,null,{"$f":"IF('Utilized-Interacted FAD-beacons'!C630<>\"\",'Utilized-Interacted FAD-beacons'!C630,0)","v":0},620,0,1001," ",null,{"$f":"IF('Utilized-Interacted FAD-beacons'!J630<>\"\",'Utilized-Interacted FAD-beacons'!J630,0)","v":0},620,0,1001," ",null,0,620,0,1001," "]
[null,null,null,null,null,null,null,null,null,null,null,null,{"$f":"IF('Utilized-Interacted FAD-beacons'!C631<>\"\",'Utilized-Interacted FAD-beacons'!C631,0)","v":0},621,0,1001," ",null,{"$f":"IF('Utilized-Interacted FAD-beacons'!J631<>\"\",'Utilized-Interacted FAD-beacons'!J631,0)","v":0},621,0,1001," ",null,0,621,0,1001," "]
[null,null,null,null,null,null,null,null,null,null,null,null,{"$f":"IF('Utilized-Interacted FAD-beacons'!C632<>\"\",'Utilized-Interacted FAD-beacons'!C632,0)","v":0},622,0,1001," ",null,{"$f":"IF('Utilized-Interacted FAD-beacons'!J632<>\"\",'Utilized-Interacted FAD-beacons'!J632,0)","v":0},622,0,1001," ",null,0,622,0,1001," "]
[null,null,null,null,null,null,null,null,null,null,null,null,{"$f":"IF('Utilized-Interacted FAD-beacons'!C633<>\"\",'Utilized-Interacted FAD-beacons'!C633,0)","v":0},623,0,1001," ",null,{"$f":"IF('Utilized-Interacted FAD-beacons'!J633<>\"\",'Utilized-Interacted FAD-beacons'!J633,0)","v":0},623,0,1001," ",null,0,623,0,1001," "]
[null,null,null,null,null,null,null,null,null,null,null,null,{"$f":"IF('Utilized-Interacted FAD-beacons'!C634<>\"\",'Utilized-Interacted FAD-beacons'!C634,0)","v":0},624,0,1001," ",null,{"$f":"IF('Utilized-Interacted FAD-beacons'!J634<>\"\",'Utilized-Interacted FAD-beacons'!J634,0)","v":0},624,0,1001," ",null,0,624,0,1001," "]
[null,null,null,null,null,null,null,null,null,null,null,null,{"$f":"IF('Utilized-Interacted FAD-beacons'!C635<>\"\",'Utilized-Interacted FAD-beacons'!C635,0)","v":0},625,0,1001," ",null,{"$f":"IF('Utilized-Interacted FAD-beacons'!J635<>\"\",'Utilized-Interacted FAD-beacons'!J635,0)","v":0},625,0,1001," ",null,0,625,0,1001," "]
[null,null,null,null,null,null,null,null,null,null,null,null,{"$f":"IF('Utilized-Interacted FAD-beacons'!C636<>\"\",'Utilized-Interacted FAD-beacons'!C636,0)","v":0},626,0,1001," ",null,{"$f":"IF('Utilized-Interacted FAD-beacons'!J636<>\"\",'Utilized-Interacted FAD-beacons'!J636,0)","v":0},626,0,1001," ",null,0,626,0,1001," "]
[null,null,null,null,null,null,null,null,null,null,null,null,{"$f":"IF('Utilized-Interacted FAD-beacons'!C637<>\"\",'Utilized-Interacted FAD-beacons'!C637,0)","v":0},627,0,1001," ",null,{"$f":"IF('Utilized-Interacted FAD-beacons'!J637<>\"\",'Utilized-Interacted FAD-beacons'!J637,0)","v":0},627,0,1001," ",null,0,627,0,1001," "]
[null,null,null,null,null,null,null,null,null,null,null,null,{"$f":"IF('Utilized-Interacted FAD-beacons'!C638<>\"\",'Utilized-Interacted FAD-beacons'!C638,0)","v":0},628,0,1001," ",null,{"$f":"IF('Utilized-Interacted FAD-beacons'!J638<>\"\",'Utilized-Interacted FAD-beacons'!J638,0)","v":0},628,0,1001," ",null,0,628,0,1001," "]
[null,null,null,null,null,null,null,null,null,null,null,null,{"$f":"IF('Utilized-Interacted FAD-beacons'!C639<>\"\",'Utilized-Interacted FAD-beacons'!C639,0)","v":0},629,0,1001," ",null,{"$f":"IF('Utilized-Interacted FAD-beacons'!J639<>\"\",'Utilized-Interacted FAD-beacons'!J639,0)","v":0},629,0,1001," ",null,0,629,0,1001," "]
[null,null,null,null,null,null,null,null,null,null,null,null,{"$f":"IF('Utilized-Interacted FAD-beacons'!C640<>\"\",'Utilized-Interacted FAD-beacons'!C640,0)","v":0},630,0,1001," ",null,{"$f":"IF('Utilized-Interacted FAD-beacons'!J640<>\"\",'Utilized-Interacted FAD-beacons'!J640,0)","v":0},630,0,1001," ",null,0,630,0,1001," "]
[null,null,null,null,null,null,null,null,null,null,null,null,{"$f":"IF('Utilized-Interacted FAD-beacons'!C641<>\"\",'Utilized-Interacted FAD-beacons'!C641,0)","v":0},631,0,1001," ",null,{"$f":"IF('Utilized-Interacted FAD-beacons'!J641<>\"\",'Utilized-Interacted FAD-beacons'!J641,0)","v":0},631,0,1001," ",null,0,631,0,1001," "]
[null,null,null,null,null,null,null,null,null,null,null,null,{"$f":"IF('Utilized-Interacted FAD-beacons'!C642<>\"\",'Utilized-Interacted FAD-beacons'!C642,0)","v":0},632,0,1001," ",null,{"$f":"IF('Utilized-Interacted FAD-beacons'!J642<>\"\",'Utilized-Interacted FAD-beacons'!J642,0)","v":0},632,0,1001," ",null,0,632,0,1001," "]
[null,null,null,null,null,null,null,null,null,null,null,null,{"$f":"IF('Utilized-Interacted FAD-beacons'!C643<>\"\",'Utilized-Interacted FAD-beacons'!C643,0)","v":0},633,0,1001," ",null,{"$f":"IF('Utilized-Interacted FAD-beacons'!J643<>\"\",'Utilized-Interacted FAD-beacons'!J643,0)","v":0},633,0,1001," ",null,0,633,0,1001," "]
[null,null,null,null,null,null,null,null,null,null,null,null,{"$f":"IF('Utilized-Interacted FAD-beacons'!C644<>\"\",'Utilized-Interacted FAD-beacons'!C644,0)","v":0},634,0,1001," ",null,{"$f":"IF('Utilized-Interacted FAD-beacons'!J644<>\"\",'Utilized-Interacted FAD-beacons'!J644,0)","v":0},634,0,1001," ",null,0,634,0,1001," "]
[null,null,null,null,null,null,null,null,null,null,null,null,{"$f":"IF('Utilized-Interacted FAD-beacons'!C645<>\"\",'Utilized-Interacted FAD-beacons'!C645,0)","v":0},635,0,1001," ",null,{"$f":"IF('Utilized-Interacted FAD-beacons'!J645<>\"\",'Utilized-Interacted FAD-beacons'!J645,0)","v":0},635,0,1001," ",null,0,635,0,1001," "]
[null,null,null,null,null,null,null,null,null,null,null,null,{"$f":"IF('Utilized-Interacted FAD-beacons'!C646<>\"\",'Utilized-Interacted FAD-beacons'!C646,0)","v":0},636,0,1001," ",null,{"$f":"IF('Utilized-Interacted FAD-beacons'!J646<>\"\",'Utilized-Interacted FAD-beacons'!J646,0)","v":0},636,0,1001," ",null,0,636,0,1001," "]
[null,null,null,null,null,null,null,null,null,null,null,null,{"$f":"IF('Utilized-Interacted FAD-beacons'!C647<>\"\",'Utilized-Interacted FAD-beacons'!C647,0)","v":0},637,0,1001," ",null,{"$f":"IF('Utilized-Interacted FAD-beacons'!J647<>\"\",'Utilized-Interacted FAD-beacons'!J647,0)","v":0},637,0,1001," ",null,0,637,0,1001," "]
[null,null,null,null,null,null,null,null,null,null,null,null,{"$f":"IF('Utilized-Interacted FAD-beacons'!C648<>\"\",'Utilized-Interacted FAD-beacons'!C648,0)","v":0},638,0,1001," ",null,{"$f":"IF('Utilized-Interacted FAD-beacons'!J648<>\"\",'Utilized-Interacted FAD-beacons'!J648,0)","v":0},638,0,1001," ",null,0,638,0,1001," "]
[null,null,null,null,null,null,null,null,null,null,null,null,{"$f":"IF('Utilized-Interacted FAD-beacons'!C649<>\"\",'Utilized-Interacted FAD-beacons'!C649,0)","v":0},639,0,1001," ",null,{"$f":"IF('Utilized-Interacted FAD-beacons'!J649<>\"\",'Utilized-Interacted FAD-beacons'!J649,0)","v":0},639,0,1001," ",null,0,639,0,1001," "]
[null,null,null,null,null,null,null,null,null,null,null,null,{"$f":"IF('Utilized-Interacted FAD-beacons'!C650<>\"\",'Utilized-Interacted FAD-beacons'!C650,0)","v":0},640,0,1001," ",null,{"$f":"IF('Utilized-Interacted FAD-beacons'!J650<>\"\",'Utilized-Interacted FAD-beacons'!J650,0)","v":0},640,0,1001," ",null,0,640,0,1001," "]
[null,null,null,null,null,null,null,null,null,null,null,null,{"$f":"IF('Utilized-Interacted FAD-beacons'!C651<>\"\",'Utilized-Interacted FAD-beacons'!C651,0)","v":0},641,0,1001,{"$f":"IFERROR(VLOOKUP(SMALL($P$6:$P$1005,N646),$N$6:$O$1005,2,FALSE),\" \")","v":" "},null,{"$f":"IF('Utilized-Interacted FAD-beacons'!J651<>\"\",'Utilized-Interacted FAD-beacons'!J651,0)","v":0},641,0,1001,{"$f":"IFERROR(VLOOKUP(SMALL($V$6:$V$1005,T646),$T$6:$U$1005,2,FALSE),\" \")","v":" "},null,0,641,0,1001,{"$f":"IFERROR(VLOOKUP(SMALL($AB$6:$AB$1005,Z646),$Z$6:$AA$1005,2,FALSE),\" \")","v":" "}]
[null,null,null,null,null,null,null,null,null,null,null,null,{"$f":"IF('Utilized-Interacted FAD-beacons'!C652<>\"\",'Utilized-Interacted FAD-beacons'!C652,0)","v":0},642,{"$f":"M647","v":0},{"$f":"IF(O647=0,MAX($N$6:$N$1005)+1,N647)","v":1001}," ",null,{"$f":"IF('Utilized-Interacted FAD-beacons'!J652<>\"\",'Utilized-Interacted FAD-beacons'!J652,0)","v":0},642,{"$f":"S647","v":0},{"$f":"IF(U647=0,MAX($T$6:$T$1005)+1,T647)","v":1001}," ",null,{"$f":"IF(AND(M647=0,S647=0),0,IF(AND(M647<>0,S647=0),M647,IF(AND(M647=0,S647<>0),S647,IF(AND(M647<>0,S647<>0),(CONCATENATE(M647,S647))))))","v":0},642,{"$f":"Y647","v":0},{"$f":"IF(AA647=0,MAX($Z$6:$Z$1005)+1,Z647)","v":1001}," "]
[null,null,null,null,null,null,null,null,null,null,null,null,{"$f":"IF('Utilized-Interacted FAD-beacons'!C653<>\"\",'Utilized-Interacted FAD-beacons'!C653,0)","v":0},643,0,1001," ",null,{"$f":"IF('Utilized-Interacted FAD-beacons'!J653<>\"\",'Utilized-Interacted FAD-beacons'!J653,0)","v":0},643,0,1001," ",null,0,643,0,1001," "]
[null,null,null,null,null,null,null,null,null,null,null,null,{"$f":"IF('Utilized-Interacted FAD-beacons'!C654<>\"\",'Utilized-Interacted FAD-beacons'!C654,0)","v":0},644,0,1001," ",null,{"$f":"IF('Utilized-Interacted FAD-beacons'!J654<>\"\",'Utilized-Interacted FAD-beacons'!J654,0)","v":0},644,0,1001," ",null,0,644,0,1001," "]
[null,null,null,null,null,null,null,null,null,null,null,null,{"$f":"IF('Utilized-Interacted FAD-beacons'!C655<>\"\",'Utilized-Interacted FAD-beacons'!C655,0)","v":0},645,0,1001," ",null,{"$f":"IF('Utilized-Interacted FAD-beacons'!J655<>\"\",'Utilized-Interacted FAD-beacons'!J655,0)","v":0},645,0,1001," ",null,0,645,0,1001," "]
[null,null,null,null,null,null,null,null,null,null,null,null,{"$f":"IF('Utilized-Interacted FAD-beacons'!C656<>\"\",'Utilized-Interacted FAD-beacons'!C656,0)","v":0},646,0,1001," ",null,{"$f":"IF('Utilized-Interacted FAD-beacons'!J656<>\"\",'Utilized-Interacted FAD-beacons'!J656,0)","v":0},646,0,1001," ",null,0,646,0,1001," "]
[null,null,null,null,null,null,null,null,null,null,null,null,{"$f":"IF('Utilized-Interacted FAD-beacons'!C657<>\"\",'Utilized-Interacted FAD-beacons'!C657,0)","v":0},647,0,1001," ",null,{"$f":"IF('Utilized-Interacted FAD-beacons'!J657<>\"\",'Utilized-Interacted FAD-beacons'!J657,0)","v":0},647,0,1001," ",null,0,647,0,1001," "]
[null,null,null,null,null,null,null,null,null,null,null,null,{"$f":"IF('Utilized-Interacted FAD-beacons'!C658<>\"\",'Utilized-Interacted FAD-beacons'!C658,0)","v":0},648,0,1001," ",null,{"$f":"IF('Utilized-Interacted FAD-beacons'!J658<>\"\",'Utilized-Interacted FAD-beacons'!J658,0)","v":0},648,0,1001," ",null,0,648,0,1001," "]
[null,null,null,null,null,null,null,null,null,null,null,null,{"$f":"IF('Utilized-Interacted FAD-beacons'!C659<>\"\",'Utilized-Interacted FAD-beacons'!C659,0)","v":0},649,0,1001," ",null,{"$f":"IF('Utilized-Interacted FAD-beacons'!J659<>\"\",'Utilized-Interacted FAD-beacons'!J659,0)","v":0},649,0,1001," ",null,0,649,0,1001," "]
[null,null,null,null,null,null,null,null,null,null,null,null,{"$f":"IF('Utilized-Interacted FAD-beacons'!C660<>\"\",'Utilized-Interacted FAD-beacons'!C660,0)","v":0},650,0,1001," ",null,{"$f":"IF('Utilized-Interacted FAD-beacons'!J660<>\"\",'Utilized-Interacted FAD-beacons'!J660,0)","v":0},650,0,1001," ",null,0,650,0,1001," "]
[null,null,null,null,null,null,null,null,null,null,null,null,{"$f":"IF('Utilized-Interacted FAD-beacons'!C661<>\"\",'Utilized-Interacted FAD-beacons'!C661,0)","v":0},651,0,1001," ",null,{"$f":"IF('Utilized-Interacted FAD-beacons'!J661<>\"\",'Utilized-Interacted FAD-beacons'!J661,0)","v":0},651,0,1001," ",null,0,651,0,1001," "]
[null,null,null,null,null,null,null,null,null,null,null,null,{"$f":"IF('Utilized-Interacted FAD-beacons'!C662<>\"\",'Utilized-Interacted FAD-beacons'!C662,0)","v":0},652,0,1001," ",null,{"$f":"IF('Utilized-Interacted FAD-beacons'!J662<>\"\",'Utilized-Interacted FAD-beacons'!J662,0)","v":0},652,0,1001," ",null,0,652,0,1001," "]
[null,null,null,null,null,null,null,null,null,null,null,null,{"$f":"IF('Utilized-Interacted FAD-beacons'!C663<>\"\",'Utilized-Interacted FAD-beacons'!C663,0)","v":0},653,0,1001," ",null,{"$f":"IF('Utilized-Interacted FAD-beacons'!J663<>\"\",'Utilized-Interacted FAD-beacons'!J663,0)","v":0},653,0,1001," ",null,0,653,0,1001," "]
[null,null,null,null,null,null,null,null,null,null,null,null,{"$f":"IF('Utilized-Interacted FAD-beacons'!C664<>\"\",'Utilized-Interacted FAD-beacons'!C664,0)","v":0},654,0,1001," ",null,{"$f":"IF('Utilized-Interacted FAD-beacons'!J664<>\"\",'Utilized-Interacted FAD-beacons'!J664,0)","v":0},654,0,1001," ",null,0,654,0,1001," "]
[null,null,null,null,null,null,null,null,null,null,null,null,{"$f":"IF('Utilized-Interacted FAD-beacons'!C665<>\"\",'Utilized-Interacted FAD-beacons'!C665,0)","v":0},655,0,1001," ",null,{"$f":"IF('Utilized-Interacted FAD-beacons'!J665<>\"\",'Utilized-Interacted FAD-beacons'!J665,0)","v":0},655,0,1001," ",null,0,655,0,1001," "]
[null,null,null,null,null,null,null,null,null,null,null,null,{"$f":"IF('Utilized-Interacted FAD-beacons'!C666<>\"\",'Utilized-Interacted FAD-beacons'!C666,0)","v":0},656,0,1001," ",null,{"$f":"IF('Utilized-Interacted FAD-beacons'!J666<>\"\",'Utilized-Interacted FAD-beacons'!J666,0)","v":0},656,0,1001," ",null,0,656,0,1001," "]
[null,null,null,null,null,null,null,null,null,null,null,null,{"$f":"IF('Utilized-Interacted FAD-beacons'!C667<>\"\",'Utilized-Interacted FAD-beacons'!C667,0)","v":0},657,0,1001," ",null,{"$f":"IF('Utilized-Interacted FAD-beacons'!J667<>\"\",'Utilized-Interacted FAD-beacons'!J667,0)","v":0},657,0,1001," ",null,0,657,0,1001," "]
[null,null,null,null,null,null,null,null,null,null,null,null,{"$f":"IF('Utilized-Interacted FAD-beacons'!C668<>\"\",'Utilized-Interacted FAD-beacons'!C668,0)","v":0},658,0,1001," ",null,{"$f":"IF('Utilized-Interacted FAD-beacons'!J668<>\"\",'Utilized-Interacted FAD-beacons'!J668,0)","v":0},658,0,1001," ",null,0,658,0,1001," "]
[null,null,null,null,null,null,null,null,null,null,null,null,{"$f":"IF('Utilized-Interacted FAD-beacons'!C669<>\"\",'Utilized-Interacted FAD-beacons'!C669,0)","v":0},659,0,1001," ",null,{"$f":"IF('Utilized-Interacted FAD-beacons'!J669<>\"\",'Utilized-Interacted FAD-beacons'!J669,0)","v":0},659,0,1001," ",null,0,659,0,1001," "]
[null,null,null,null,null,null,null,null,null,null,null,null,{"$f":"IF('Utilized-Interacted FAD-beacons'!C670<>\"\",'Utilized-Interacted FAD-beacons'!C670,0)","v":0},660,0,1001," ",null,{"$f":"IF('Utilized-Interacted FAD-beacons'!J670<>\"\",'Utilized-Interacted FAD-beacons'!J670,0)","v":0},660,0,1001," ",null,0,660,0,1001," "]
[null,null,null,null,null,null,null,null,null,null,null,null,{"$f":"IF('Utilized-Interacted FAD-beacons'!C671<>\"\",'Utilized-Interacted FAD-beacons'!C671,0)","v":0},661,0,1001," ",null,{"$f":"IF('Utilized-Interacted FAD-beacons'!J671<>\"\",'Utilized-Interacted FAD-beacons'!J671,0)","v":0},661,0,1001," ",null,0,661,0,1001," "]
[null,null,null,null,null,null,null,null,null,null,null,null,{"$f":"IF('Utilized-Interacted FAD-beacons'!C672<>\"\",'Utilized-Interacted FAD-beacons'!C672,0)","v":0},662,0,1001," ",null,{"$f":"IF('Utilized-Interacted FAD-beacons'!J672<>\"\",'Utilized-Interacted FAD-beacons'!J672,0)","v":0},662,0,1001," ",null,0,662,0,1001," "]
[null,null,null,null,null,null,null,null,null,null,null,null,{"$f":"IF('Utilized-Interacted FAD-beacons'!C673<>\"\",'Utilized-Interacted FAD-beacons'!C673,0)","v":0},663,0,1001," ",null,{"$f":"IF('Utilized-Interacted FAD-beacons'!J673<>\"\",'Utilized-Interacted FAD-beacons'!J673,0)","v":0},663,0,1001," ",null,0,663,0,1001," "]
[null,null,null,null,null,null,null,null,null,null,null,null,{"$f":"IF('Utilized-Interacted FAD-beacons'!C674<>\"\",'Utilized-Interacted FAD-beacons'!C674,0)","v":0},664,0,1001," ",null,{"$f":"IF('Utilized-Interacted FAD-beacons'!J674<>\"\",'Utilized-Interacted FAD-beacons'!J674,0)","v":0},664,0,1001," ",null,0,664,0,1001," "]
[null,null,null,null,null,null,null,null,null,null,null,null,{"$f":"IF('Utilized-Interacted FAD-beacons'!C675<>\"\",'Utilized-Interacted FAD-beacons'!C675,0)","v":0},665,0,1001," ",null,{"$f":"IF('Utilized-Interacted FAD-beacons'!J675<>\"\",'Utilized-Interacted FAD-beacons'!J675,0)","v":0},665,0,1001," ",null,0,665,0,1001," "]
[null,null,null,null,null,null,null,null,null,null,null,null,{"$f":"IF('Utilized-Interacted FAD-beacons'!C676<>\"\",'Utilized-Interacted FAD-beacons'!C676,0)","v":0},666,0,1001," ",null,{"$f":"IF('Utilized-Interacted FAD-beacons'!J676<>\"\",'Utilized-Interacted FAD-beacons'!J676,0)","v":0},666,0,1001," ",null,0,666,0,1001," "]
[null,null,null,null,null,null,null,null,null,null,null,null,{"$f":"IF('Utilized-Interacted FAD-beacons'!C677<>\"\",'Utilized-Interacted FAD-beacons'!C677,0)","v":0},667,0,1001," ",null,{"$f":"IF('Utilized-Interacted FAD-beacons'!J677<>\"\",'Utilized-Interacted FAD-beacons'!J677,0)","v":0},667,0,1001," ",null,0,667,0,1001," "]
[null,null,null,null,null,null,null,null,null,null,null,null,{"$f":"IF('Utilized-Interacted FAD-beacons'!C678<>\"\",'Utilized-Interacted FAD-beacons'!C678,0)","v":0},668,0,1001," ",null,{"$f":"IF('Utilized-Interacted FAD-beacons'!J678<>\"\",'Utilized-Interacted FAD-beacons'!J678,0)","v":0},668,0,1001," ",null,0,668,0,1001," "]
[null,null,null,null,null,null,null,null,null,null,null,null,{"$f":"IF('Utilized-Interacted FAD-beacons'!C679<>\"\",'Utilized-Interacted FAD-beacons'!C679,0)","v":0},669,0,1001," ",null,{"$f":"IF('Utilized-Interacted FAD-beacons'!J679<>\"\",'Utilized-Interacted FAD-beacons'!J679,0)","v":0},669,0,1001," ",null,0,669,0,1001," "]
[null,null,null,null,null,null,null,null,null,null,null,null,{"$f":"IF('Utilized-Interacted FAD-beacons'!C680<>\"\",'Utilized-Interacted FAD-beacons'!C680,0)","v":0},670,0,1001," ",null,{"$f":"IF('Utilized-Interacted FAD-beacons'!J680<>\"\",'Utilized-Interacted FAD-beacons'!J680,0)","v":0},670,0,1001," ",null,0,670,0,1001," "]
[null,null,null,null,null,null,null,null,null,null,null,null,{"$f":"IF('Utilized-Interacted FAD-beacons'!C681<>\"\",'Utilized-Interacted FAD-beacons'!C681,0)","v":0},671,0,1001," ",null,{"$f":"IF('Utilized-Interacted FAD-beacons'!J681<>\"\",'Utilized-Interacted FAD-beacons'!J681,0)","v":0},671,0,1001," ",null,0,671,0,1001," "]
[null,null,null,null,null,null,null,null,null,null,null,null,{"$f":"IF('Utilized-Interacted FAD-beacons'!C682<>\"\",'Utilized-Interacted FAD-beacons'!C682,0)","v":0},672,0,1001," ",null,{"$f":"IF('Utilized-Interacted FAD-beacons'!J682<>\"\",'Utilized-Interacted FAD-beacons'!J682,0)","v":0},672,0,1001," ",null,0,672,0,1001," "]
[null,null,null,null,null,null,null,null,null,null,null,null,{"$f":"IF('Utilized-Interacted FAD-beacons'!C683<>\"\",'Utilized-Interacted FAD-beacons'!C683,0)","v":0},673,0,1001," ",null,{"$f":"IF('Utilized-Interacted FAD-beacons'!J683<>\"\",'Utilized-Interacted FAD-beacons'!J683,0)","v":0},673,0,1001," ",null,0,673,0,1001," "]
[null,null,null,null,null,null,null,null,null,null,null,null,{"$f":"IF('Utilized-Interacted FAD-beacons'!C684<>\"\",'Utilized-Interacted FAD-beacons'!C684,0)","v":0},674,0,1001," ",null,{"$f":"IF('Utilized-Interacted FAD-beacons'!J684<>\"\",'Utilized-Interacted FAD-beacons'!J684,0)","v":0},674,0,1001," ",null,0,674,0,1001," "]
[null,null,null,null,null,null,null,null,null,null,null,null,{"$f":"IF('Utilized-Interacted FAD-beacons'!C685<>\"\",'Utilized-Interacted FAD-beacons'!C685,0)","v":0},675,0,1001," ",null,{"$f":"IF('Utilized-Interacted FAD-beacons'!J685<>\"\",'Utilized-Interacted FAD-beacons'!J685,0)","v":0},675,0,1001," ",null,0,675,0,1001," "]
[null,null,null,null,null,null,null,null,null,null,null,null,{"$f":"IF('Utilized-Interacted FAD-beacons'!C686<>\"\",'Utilized-Interacted FAD-beacons'!C686,0)","v":0},676,0,1001," ",null,{"$f":"IF('Utilized-Interacted FAD-beacons'!J686<>\"\",'Utilized-Interacted FAD-beacons'!J686,0)","v":0},676,0,1001," ",null,0,676,0,1001," "]
[null,null,null,null,null,null,null,null,null,null,null,null,{"$f":"IF('Utilized-Interacted FAD-beacons'!C687<>\"\",'Utilized-Interacted FAD-beacons'!C687,0)","v":0},677,0,1001," ",null,{"$f":"IF('Utilized-Interacted FAD-beacons'!J687<>\"\",'Utilized-Interacted FAD-beacons'!J687,0)","v":0},677,0,1001," ",null,0,677,0,1001," "]
[null,null,null,null,null,null,null,null,null,null,null,null,{"$f":"IF('Utilized-Interacted FAD-beacons'!C688<>\"\",'Utilized-Interacted FAD-beacons'!C688,0)","v":0},678,0,1001," ",null,{"$f":"IF('Utilized-Interacted FAD-beacons'!J688<>\"\",'Utilized-Interacted FAD-beacons'!J688,0)","v":0},678,0,1001," ",null,0,678,0,1001," "]
[null,null,null,null,null,null,null,null,null,null,null,null,{"$f":"IF('Utilized-Interacted FAD-beacons'!C689<>\"\",'Utilized-Interacted FAD-beacons'!C689,0)","v":0},679,0,1001," ",null,{"$f":"IF('Utilized-Interacted FAD-beacons'!J689<>\"\",'Utilized-Interacted FAD-beacons'!J689,0)","v":0},679,0,1001," ",null,0,679,0,1001," "]
[null,null,null,null,null,null,null,null,null,null,null,null,{"$f":"IF('Utilized-Interacted FAD-beacons'!C690<>\"\",'Utilized-Interacted FAD-beacons'!C690,0)","v":0},680,0,1001," ",null,{"$f":"IF('Utilized-Interacted FAD-beacons'!J690<>\"\",'Utilized-Interacted FAD-beacons'!J690,0)","v":0},680,0,1001," ",null,0,680,0,1001," "]
[null,null,null,null,null,null,null,null,null,null,null,null,{"$f":"IF('Utilized-Interacted FAD-beacons'!C691<>\"\",'Utilized-Interacted FAD-beacons'!C691,0)","v":0},681,0,1001," ",null,{"$f":"IF('Utilized-Interacted FAD-beacons'!J691<>\"\",'Utilized-Interacted FAD-beacons'!J691,0)","v":0},681,0,1001," ",null,0,681,0,1001," "]
[null,null,null,null,null,null,null,null,null,null,null,null,{"$f":"IF('Utilized-Interacted FAD-beacons'!C692<>\"\",'Utilized-Interacted FAD-beacons'!C692,0)","v":0},682,0,1001," ",null,{"$f":"IF('Utilized-Interacted FAD-beacons'!J692<>\"\",'Utilized-Interacted FAD-beacons'!J692,0)","v":0},682,0,1001," ",null,0,682,0,1001," "]
[null,null,null,null,null,null,null,null,null,null,null,null,{"$f":"IF('Utilized-Interacted FAD-beacons'!C693<>\"\",'Utilized-Interacted FAD-beacons'!C693,0)","v":0},683,0,1001," ",null,{"$f":"IF('Utilized-Interacted FAD-beacons'!J693<>\"\",'Utilized-Interacted FAD-beacons'!J693,0)","v":0},683,0,1001," ",null,0,683,0,1001," "]
[null,null,null,null,null,null,null,null,null,null,null,null,{"$f":"IF('Utilized-Interacted FAD-beacons'!C694<>\"\",'Utilized-Interacted FAD-beacons'!C694,0)","v":0},684,0,1001," ",null,{"$f":"IF('Utilized-Interacted FAD-beacons'!J694<>\"\",'Utilized-Interacted FAD-beacons'!J694,0)","v":0},684,0,1001," ",null,0,684,0,1001," "]
[null,null,null,null,null,null,null,null,null,null,null,null,{"$f":"IF('Utilized-Interacted FAD-beacons'!C695<>\"\",'Utilized-Interacted FAD-beacons'!C695,0)","v":0},685,0,1001," ",null,{"$f":"IF('Utilized-Interacted FAD-beacons'!J695<>\"\",'Utilized-Interacted FAD-beacons'!J695,0)","v":0},685,0,1001," ",null,0,685,0,1001," "]
[null,null,null,null,null,null,null,null,null,null,null,null,{"$f":"IF('Utilized-Interacted FAD-beacons'!C696<>\"\",'Utilized-Interacted FAD-beacons'!C696,0)","v":0},686,0,1001," ",null,{"$f":"IF('Utilized-Interacted FAD-beacons'!J696<>\"\",'Utilized-Interacted FAD-beacons'!J696,0)","v":0},686,0,1001," ",null,0,686,0,1001," "]
[null,null,null,null,null,null,null,null,null,null,null,null,{"$f":"IF('Utilized-Interacted FAD-beacons'!C697<>\"\",'Utilized-Interacted FAD-beacons'!C697,0)","v":0},687,0,1001," ",null,{"$f":"IF('Utilized-Interacted FAD-beacons'!J697<>\"\",'Utilized-Interacted FAD-beacons'!J697,0)","v":0},687,0,1001," ",null,0,687,0,1001," "]
[null,null,null,null,null,null,null,null,null,null,null,null,{"$f":"IF('Utilized-Interacted FAD-beacons'!C698<>\"\",'Utilized-Interacted FAD-beacons'!C698,0)","v":0},688,0,1001," ",null,{"$f":"IF('Utilized-Interacted FAD-beacons'!J698<>\"\",'Utilized-Interacted FAD-beacons'!J698,0)","v":0},688,0,1001," ",null,0,688,0,1001," "]
[null,null,null,null,null,null,null,null,null,null,null,null,{"$f":"IF('Utilized-Interacted FAD-beacons'!C699<>\"\",'Utilized-Interacted FAD-beacons'!C699,0)","v":0},689,0,1001," ",null,{"$f":"IF('Utilized-Interacted FAD-beacons'!J699<>\"\",'Utilized-Interacted FAD-beacons'!J699,0)","v":0},689,0,1001," ",null,0,689,0,1001," "]
[null,null,null,null,null,null,null,null,null,null,null,null,{"$f":"IF('Utilized-Interacted FAD-beacons'!C700<>\"\",'Utilized-Interacted FAD-beacons'!C700,0)","v":0},690,0,1001," ",null,{"$f":"IF('Utilized-Interacted FAD-beacons'!J700<>\"\",'Utilized-Interacted FAD-beacons'!J700,0)","v":0},690,0,1001," ",null,0,690,0,1001," "]
[null,null,null,null,null,null,null,null,null,null,null,null,{"$f":"IF('Utilized-Interacted FAD-beacons'!C701<>\"\",'Utilized-Interacted FAD-beacons'!C701,0)","v":0},691,0,1001," ",null,{"$f":"IF('Utilized-Interacted FAD-beacons'!J701<>\"\",'Utilized-Interacted FAD-beacons'!J701,0)","v":0},691,0,1001," ",null,0,691,0,1001," "]
[null,null,null,null,null,null,null,null,null,null,null,null,{"$f":"IF('Utilized-Interacted FAD-beacons'!C702<>\"\",'Utilized-Interacted FAD-beacons'!C702,0)","v":0},692,0,1001," ",null,{"$f":"IF('Utilized-Interacted FAD-beacons'!J702<>\"\",'Utilized-Interacted FAD-beacons'!J702,0)","v":0},692,0,1001," ",null,0,692,0,1001," "]
[null,null,null,null,null,null,null,null,null,null,null,null,{"$f":"IF('Utilized-Interacted FAD-beacons'!C703<>\"\",'Utilized-Interacted FAD-beacons'!C703,0)","v":0},693,0,1001," ",null,{"$f":"IF('Utilized-Interacted FAD-beacons'!J703<>\"\",'Utilized-Interacted FAD-beacons'!J703,0)","v":0},693,0,1001," ",null,0,693,0,1001," "]
[null,null,null,null,null,null,null,null,null,null,null,null,{"$f":"IF('Utilized-Interacted FAD-beacons'!C704<>\"\",'Utilized-Interacted FAD-beacons'!C704,0)","v":0},694,0,1001," ",null,{"$f":"IF('Utilized-Interacted FAD-beacons'!J704<>\"\",'Utilized-Interacted FAD-beacons'!J704,0)","v":0},694,0,1001," ",null,0,694,0,1001," "]
[null,null,null,null,null,null,null,null,null,null,null,null,{"$f":"IF('Utilized-Interacted FAD-beacons'!C705<>\"\",'Utilized-Interacted FAD-beacons'!C705,0)","v":0},695,0,1001," ",null,{"$f":"IF('Utilized-Interacted FAD-beacons'!J705<>\"\",'Utilized-Interacted FAD-beacons'!J705,0)","v":0},695,0,1001," ",null,0,695,0,1001," "]
[null,null,null,null,null,null,null,null,null,null,null,null,{"$f":"IF('Utilized-Interacted FAD-beacons'!C706<>\"\",'Utilized-Interacted FAD-beacons'!C706,0)","v":0},696,0,1001," ",null,{"$f":"IF('Utilized-Interacted FAD-beacons'!J706<>\"\",'Utilized-Interacted FAD-beacons'!J706,0)","v":0},696,0,1001," ",null,0,696,0,1001," "]
[null,null,null,null,null,null,null,null,null,null,null,null,{"$f":"IF('Utilized-Interacted FAD-beacons'!C707<>\"\",'Utilized-Interacted FAD-beacons'!C707,0)","v":0},697,0,1001," ",null,{"$f":"IF('Utilized-Interacted FAD-beacons'!J707<>\"\",'Utilized-Interacted FAD-beacons'!J707,0)","v":0},697,0,1001," ",null,0,697,0,1001," "]
[null,null,null,null,null,null,null,null,null,null,null,null,{"$f":"IF('Utilized-Interacted FAD-beacons'!C708<>\"\",'Utilized-Interacted FAD-beacons'!C708,0)","v":0},698,0,1001," ",null,{"$f":"IF('Utilized-Interacted FAD-beacons'!J708<>\"\",'Utilized-Interacted FAD-beacons'!J708,0)","v":0},698,0,1001," ",null,0,698,0,1001," "]
[null,null,null,null,null,null,null,null,null,null,null,null,{"$f":"IF('Utilized-Interacted FAD-beacons'!C709<>\"\",'Utilized-Interacted FAD-beacons'!C709,0)","v":0},699,0,1001," ",null,{"$f":"IF('Utilized-Interacted FAD-beacons'!J709<>\"\",'Utilized-Interacted FAD-beacons'!J709,0)","v":0},699,0,1001," ",null,0,699,0,1001," "]
[null,null,null,null,null,null,null,null,null,null,null,null,{"$f":"IF('Utilized-Interacted FAD-beacons'!C710<>\"\",'Utilized-Interacted FAD-beacons'!C710,0)","v":0},700,0,1001," ",null,{"$f":"IF('Utilized-Interacted FAD-beacons'!J710<>\"\",'Utilized-Interacted FAD-beacons'!J710,0)","v":0},700,0,1001," ",null,0,700,0,1001," "]
[null,null,null,null,null,null,null,null,null,null,null,null,{"$f":"IF('Utilized-Interacted FAD-beacons'!C711<>\"\",'Utilized-Interacted FAD-beacons'!C711,0)","v":0},701,0,1001," ",null,{"$f":"IF('Utilized-Interacted FAD-beacons'!J711<>\"\",'Utilized-Interacted FAD-beacons'!J711,0)","v":0},701,0,1001," ",null,0,701,0,1001," "]
[null,null,null,null,null,null,null,null,null,null,null,null,{"$f":"IF('Utilized-Interacted FAD-beacons'!C712<>\"\",'Utilized-Interacted FAD-beacons'!C712,0)","v":0},702,0,1001," ",null,{"$f":"IF('Utilized-Interacted FAD-beacons'!J712<>\"\",'Utilized-Interacted FAD-beacons'!J712,0)","v":0},702,0,1001," ",null,0,702,0,1001," "]
[null,null,null,null,null,null,null,null,null,null,null,null,{"$f":"IF('Utilized-Interacted FAD-beacons'!C713<>\"\",'Utilized-Interacted FAD-beacons'!C713,0)","v":0},703,0,1001," ",null,{"$f":"IF('Utilized-Interacted FAD-beacons'!J713<>\"\",'Utilized-Interacted FAD-beacons'!J713,0)","v":0},703,0,1001," ",null,0,703,0,1001," "]
[null,null,null,null,null,null,null,null,null,null,null,null,{"$f":"IF('Utilized-Interacted FAD-beacons'!C714<>\"\",'Utilized-Interacted FAD-beacons'!C714,0)","v":0},704,0,1001," ",null,{"$f":"IF('Utilized-Interacted FAD-beacons'!J714<>\"\",'Utilized-Interacted FAD-beacons'!J714,0)","v":0},704,0,1001," ",null,0,704,0,1001," "]
[null,null,null,null,null,null,null,null,null,null,null,null,{"$f":"IF('Utilized-Interacted FAD-beacons'!C715<>\"\",'Utilized-Interacted FAD-beacons'!C715,0)","v":0},705,0,1001,{"$f":"IFERROR(VLOOKUP(SMALL($P$6:$P$1005,N710),$N$6:$O$1005,2,FALSE),\" \")","v":" "},null,{"$f":"IF('Utilized-Interacted FAD-beacons'!J715<>\"\",'Utilized-Interacted FAD-beacons'!J715,0)","v":0},705,0,1001,{"$f":"IFERROR(VLOOKUP(SMALL($V$6:$V$1005,T710),$T$6:$U$1005,2,FALSE),\" \")","v":" "},null,0,705,0,1001,{"$f":"IFERROR(VLOOKUP(SMALL($AB$6:$AB$1005,Z710),$Z$6:$AA$1005,2,FALSE),\" \")","v":" "}]
[null,null,null,null,null,null,null,null,null,null,null,null,{"$f":"IF('Utilized-Interacted FAD-beacons'!C716<>\"\",'Utilized-Interacted FAD-beacons'!C716,0)","v":0},706,{"$f":"M711","v":0},{"$f":"IF(O711=0,MAX($N$6:$N$1005)+1,N711)","v":1001}," ",null,{"$f":"IF('Utilized-Interacted FAD-beacons'!J716<>\"\",'Utilized-Interacted FAD-beacons'!J716,0)","v":0},706,{"$f":"S711","v":0},{"$f":"IF(U711=0,MAX($T$6:$T$1005)+1,T711)","v":1001}," ",null,{"$f":"IF(AND(M711=0,S711=0),0,IF(AND(M711<>0,S711=0),M711,IF(AND(M711=0,S711<>0),S711,IF(AND(M711<>0,S711<>0),(CONCATENATE(M711,S711))))))","v":0},706,{"$f":"Y711","v":0},{"$f":"IF(AA711=0,MAX($Z$6:$Z$1005)+1,Z711)","v":1001}," "]
[null,null,null,null,null,null,null,null,null,null,null,null,{"$f":"IF('Utilized-Interacted FAD-beacons'!C717<>\"\",'Utilized-Interacted FAD-beacons'!C717,0)","v":0},707,0,1001," ",null,{"$f":"IF('Utilized-Interacted FAD-beacons'!J717<>\"\",'Utilized-Interacted FAD-beacons'!J717,0)","v":0},707,0,1001," ",null,0,707,0,1001," "]
[null,null,null,null,null,null,null,null,null,null,null,null,{"$f":"IF('Utilized-Interacted FAD-beacons'!C718<>\"\",'Utilized-Interacted FAD-beacons'!C718,0)","v":0},708,0,1001," ",null,{"$f":"IF('Utilized-Interacted FAD-beacons'!J718<>\"\",'Utilized-Interacted FAD-beacons'!J718,0)","v":0},708,0,1001," ",null,0,708,0,1001," "]
[null,null,null,null,null,null,null,null,null,null,null,null,{"$f":"IF('Utilized-Interacted FAD-beacons'!C719<>\"\",'Utilized-Interacted FAD-beacons'!C719,0)","v":0},709,0,1001," ",null,{"$f":"IF('Utilized-Interacted FAD-beacons'!J719<>\"\",'Utilized-Interacted FAD-beacons'!J719,0)","v":0},709,0,1001," ",null,0,709,0,1001," "]
[null,null,null,null,null,null,null,null,null,null,null,null,{"$f":"IF('Utilized-Interacted FAD-beacons'!C720<>\"\",'Utilized-Interacted FAD-beacons'!C720,0)","v":0},710,0,1001," ",null,{"$f":"IF('Utilized-Interacted FAD-beacons'!J720<>\"\",'Utilized-Interacted FAD-beacons'!J720,0)","v":0},710,0,1001," ",null,0,710,0,1001," "]
[null,null,null,null,null,null,null,null,null,null,null,null,{"$f":"IF('Utilized-Interacted FAD-beacons'!C721<>\"\",'Utilized-Interacted FAD-beacons'!C721,0)","v":0},711,0,1001," ",null,{"$f":"IF('Utilized-Interacted FAD-beacons'!J721<>\"\",'Utilized-Interacted FAD-beacons'!J721,0)","v":0},711,0,1001," ",null,0,711,0,1001," "]
[null,null,null,null,null,null,null,null,null,null,null,null,{"$f":"IF('Utilized-Interacted FAD-beacons'!C722<>\"\",'Utilized-Interacted FAD-beacons'!C722,0)","v":0},712,0,1001," ",null,{"$f":"IF('Utilized-Interacted FAD-beacons'!J722<>\"\",'Utilized-Interacted FAD-beacons'!J722,0)","v":0},712,0,1001," ",null,0,712,0,1001," "]
[null,null,null,null,null,null,null,null,null,null,null,null,{"$f":"IF('Utilized-Interacted FAD-beacons'!C723<>\"\",'Utilized-Interacted FAD-beacons'!C723,0)","v":0},713,0,1001," ",null,{"$f":"IF('Utilized-Interacted FAD-beacons'!J723<>\"\",'Utilized-Interacted FAD-beacons'!J723,0)","v":0},713,0,1001," ",null,0,713,0,1001," "]
[null,null,null,null,null,null,null,null,null,null,null,null,{"$f":"IF('Utilized-Interacted FAD-beacons'!C724<>\"\",'Utilized-Interacted FAD-beacons'!C724,0)","v":0},714,0,1001," ",null,{"$f":"IF('Utilized-Interacted FAD-beacons'!J724<>\"\",'Utilized-Interacted FAD-beacons'!J724,0)","v":0},714,0,1001," ",null,0,714,0,1001," "]
[null,null,null,null,null,null,null,null,null,null,null,null,{"$f":"IF('Utilized-Interacted FAD-beacons'!C725<>\"\",'Utilized-Interacted FAD-beacons'!C725,0)","v":0},715,0,1001," ",null,{"$f":"IF('Utilized-Interacted FAD-beacons'!J725<>\"\",'Utilized-Interacted FAD-beacons'!J725,0)","v":0},715,0,1001," ",null,0,715,0,1001," "]
[null,null,null,null,null,null,null,null,null,null,null,null,{"$f":"IF('Utilized-Interacted FAD-beacons'!C726<>\"\",'Utilized-Interacted FAD-beacons'!C726,0)","v":0},716,0,1001," ",null,{"$f":"IF('Utilized-Interacted FAD-beacons'!J726<>\"\",'Utilized-Interacted FAD-beacons'!J726,0)","v":0},716,0,1001," ",null,0,716,0,1001," "]
[null,null,null,null,null,null,null,null,null,null,null,null,{"$f":"IF('Utilized-Interacted FAD-beacons'!C727<>\"\",'Utilized-Interacted FAD-beacons'!C727,0)","v":0},717,0,1001," ",null,{"$f":"IF('Utilized-Interacted FAD-beacons'!J727<>\"\",'Utilized-Interacted FAD-beacons'!J727,0)","v":0},717,0,1001," ",null,0,717,0,1001," "]
[null,null,null,null,null,null,null,null,null,null,null,null,{"$f":"IF('Utilized-Interacted FAD-beacons'!C728<>\"\",'Utilized-Interacted FAD-beacons'!C728,0)","v":0},718,0,1001," ",null,{"$f":"IF('Utilized-Interacted FAD-beacons'!J728<>\"\",'Utilized-Interacted FAD-beacons'!J728,0)","v":0},718,0,1001," ",null,0,718,0,1001," "]
[null,null,null,null,null,null,null,null,null,null,null,null,{"$f":"IF('Utilized-Interacted FAD-beacons'!C729<>\"\",'Utilized-Interacted FAD-beacons'!C729,0)","v":0},719,0,1001," ",null,{"$f":"IF('Utilized-Interacted FAD-beacons'!J729<>\"\",'Utilized-Interacted FAD-beacons'!J729,0)","v":0},719,0,1001," ",null,0,719,0,1001," "]
[null,null,null,null,null,null,null,null,null,null,null,null,{"$f":"IF('Utilized-Interacted FAD-beacons'!C730<>\"\",'Utilized-Interacted FAD-beacons'!C730,0)","v":0},720,0,1001," ",null,{"$f":"IF('Utilized-Interacted FAD-beacons'!J730<>\"\",'Utilized-Interacted FAD-beacons'!J730,0)","v":0},720,0,1001," ",null,0,720,0,1001," "]
[null,null,null,null,null,null,null,null,null,null,null,null,{"$f":"IF('Utilized-Interacted FAD-beacons'!C731<>\"\",'Utilized-Interacted FAD-beacons'!C731,0)","v":0},721,0,1001," ",null,{"$f":"IF('Utilized-Interacted FAD-beacons'!J731<>\"\",'Utilized-Interacted FAD-beacons'!J731,0)","v":0},721,0,1001," ",null,0,721,0,1001," "]
[null,null,null,null,null,null,null,null,null,null,null,null,{"$f":"IF('Utilized-Interacted FAD-beacons'!C732<>\"\",'Utilized-Interacted FAD-beacons'!C732,0)","v":0},722,0,1001," ",null,{"$f":"IF('Utilized-Interacted FAD-beacons'!J732<>\"\",'Utilized-Interacted FAD-beacons'!J732,0)","v":0},722,0,1001," ",null,0,722,0,1001," "]
[null,null,null,null,null,null,null,null,null,null,null,null,{"$f":"IF('Utilized-Interacted FAD-beacons'!C733<>\"\",'Utilized-Interacted FAD-beacons'!C733,0)","v":0},723,0,1001," ",null,{"$f":"IF('Utilized-Interacted FAD-beacons'!J733<>\"\",'Utilized-Interacted FAD-beacons'!J733,0)","v":0},723,0,1001," ",null,0,723,0,1001," "]
[null,null,null,null,null,null,null,null,null,null,null,null,{"$f":"IF('Utilized-Interacted FAD-beacons'!C734<>\"\",'Utilized-Interacted FAD-beacons'!C734,0)","v":0},724,0,1001," ",null,{"$f":"IF('Utilized-Interacted FAD-beacons'!J734<>\"\",'Utilized-Interacted FAD-beacons'!J734,0)","v":0},724,0,1001," ",null,0,724,0,1001," "]
[null,null,null,null,null,null,null,null,null,null,null,null,{"$f":"IF('Utilized-Interacted FAD-beacons'!C735<>\"\",'Utilized-Interacted FAD-beacons'!C735,0)","v":0},725,0,1001," ",null,{"$f":"IF('Utilized-Interacted FAD-beacons'!J735<>\"\",'Utilized-Interacted FAD-beacons'!J735,0)","v":0},725,0,1001," ",null,0,725,0,1001," "]
[null,null,null,null,null,null,null,null,null,null,null,null,{"$f":"IF('Utilized-Interacted FAD-beacons'!C736<>\"\",'Utilized-Interacted FAD-beacons'!C736,0)","v":0},726,0,1001," ",null,{"$f":"IF('Utilized-Interacted FAD-beacons'!J736<>\"\",'Utilized-Interacted FAD-beacons'!J736,0)","v":0},726,0,1001," ",null,0,726,0,1001," "]
[null,null,null,null,null,null,null,null,null,null,null,null,{"$f":"IF('Utilized-Interacted FAD-beacons'!C737<>\"\",'Utilized-Interacted FAD-beacons'!C737,0)","v":0},727,0,1001," ",null,{"$f":"IF('Utilized-Interacted FAD-beacons'!J737<>\"\",'Utilized-Interacted FAD-beacons'!J737,0)","v":0},727,0,1001," ",null,0,727,0,1001," "]
[null,null,null,null,null,null,null,null,null,null,null,null,{"$f":"IF('Utilized-Interacted FAD-beacons'!C738<>\"\",'Utilized-Interacted FAD-beacons'!C738,0)","v":0},728,0,1001," ",null,{"$f":"IF('Utilized-Interacted FAD-beacons'!J738<>\"\",'Utilized-Interacted FAD-beacons'!J738,0)","v":0},728,0,1001," ",null,0,728,0,1001," "]
[null,null,null,null,null,null,null,null,null,null,null,null,{"$f":"IF('Utilized-Interacted FAD-beacons'!C739<>\"\",'Utilized-Interacted FAD-beacons'!C739,0)","v":0},729,0,1001," ",null,{"$f":"IF('Utilized-Interacted FAD-beacons'!J739<>\"\",'Utilized-Interacted FAD-beacons'!J739,0)","v":0},729,0,1001," ",null,0,729,0,1001," "]
[null,null,null,null,null,null,null,null,null,null,null,null,{"$f":"IF('Utilized-Interacted FAD-beacons'!C740<>\"\",'Utilized-Interacted FAD-beacons'!C740,0)","v":0},730,0,1001," ",null,{"$f":"IF('Utilized-Interacted FAD-beacons'!J740<>\"\",'Utilized-Interacted FAD-beacons'!J740,0)","v":0},730,0,1001," ",null,0,730,0,1001," "]
[null,null,null,null,null,null,null,null,null,null,null,null,{"$f":"IF('Utilized-Interacted FAD-beacons'!C741<>\"\",'Utilized-Interacted FAD-beacons'!C741,0)","v":0},731,0,1001," ",null,{"$f":"IF('Utilized-Interacted FAD-beacons'!J741<>\"\",'Utilized-Interacted FAD-beacons'!J741,0)","v":0},731,0,1001," ",null,0,731,0,1001," "]
[null,null,null,null,null,null,null,null,null,null,null,null,{"$f":"IF('Utilized-Interacted FAD-beacons'!C742<>\"\",'Utilized-Interacted FAD-beacons'!C742,0)","v":0},732,0,1001," ",null,{"$f":"IF('Utilized-Interacted FAD-beacons'!J742<>\"\",'Utilized-Interacted FAD-beacons'!J742,0)","v":0},732,0,1001," ",null,0,732,0,1001," "]
[null,null,null,null,null,null,null,null,null,null,null,null,{"$f":"IF('Utilized-Interacted FAD-beacons'!C743<>\"\",'Utilized-Interacted FAD-beacons'!C743,0)","v":0},733,0,1001," ",null,{"$f":"IF('Utilized-Interacted FAD-beacons'!J743<>\"\",'Utilized-Interacted FAD-beacons'!J743,0)","v":0},733,0,1001," ",null,0,733,0,1001," "]
[null,null,null,null,null,null,null,null,null,null,null,null,{"$f":"IF('Utilized-Interacted FAD-beacons'!C744<>\"\",'Utilized-Interacted FAD-beacons'!C744,0)","v":0},734,0,1001," ",null,{"$f":"IF('Utilized-Interacted FAD-beacons'!J744<>\"\",'Utilized-Interacted FAD-beacons'!J744,0)","v":0},734,0,1001," ",null,0,734,0,1001," "]
[null,null,null,null,null,null,null,null,null,null,null,null,{"$f":"IF('Utilized-Interacted FAD-beacons'!C745<>\"\",'Utilized-Interacted FAD-beacons'!C745,0)","v":0},735,0,1001," ",null,{"$f":"IF('Utilized-Interacted FAD-beacons'!J745<>\"\",'Utilized-Interacted FAD-beacons'!J745,0)","v":0},735,0,1001," ",null,0,735,0,1001," "]
[null,null,null,null,null,null,null,null,null,null,null,null,{"$f":"IF('Utilized-Interacted FAD-beacons'!C746<>\"\",'Utilized-Interacted FAD-beacons'!C746,0)","v":0},736,0,1001," ",null,{"$f":"IF('Utilized-Interacted FAD-beacons'!J746<>\"\",'Utilized-Interacted FAD-beacons'!J746,0)","v":0},736,0,1001," ",null,0,736,0,1001," "]
[null,null,null,null,null,null,null,null,null,null,null,null,{"$f":"IF('Utilized-Interacted FAD-beacons'!C747<>\"\",'Utilized-Interacted FAD-beacons'!C747,0)","v":0},737,0,1001," ",null,{"$f":"IF('Utilized-Interacted FAD-beacons'!J747<>\"\",'Utilized-Interacted FAD-beacons'!J747,0)","v":0},737,0,1001," ",null,0,737,0,1001," "]
[null,null,null,null,null,null,null,null,null,null,null,null,{"$f":"IF('Utilized-Interacted FAD-beacons'!C748<>\"\",'Utilized-Interacted FAD-beacons'!C748,0)","v":0},738,0,1001," ",null,{"$f":"IF('Utilized-Interacted FAD-beacons'!J748<>\"\",'Utilized-Interacted FAD-beacons'!J748,0)","v":0},738,0,1001," ",null,0,738,0,1001," "]
[null,null,null,null,null,null,null,null,null,null,null,null,{"$f":"IF('Utilized-Interacted FAD-beacons'!C749<>\"\",'Utilized-Interacted FAD-beacons'!C749,0)","v":0},739,0,1001," ",null,{"$f":"IF('Utilized-Interacted FAD-beacons'!J749<>\"\",'Utilized-Interacted FAD-beacons'!J749,0)","v":0},739,0,1001," ",null,0,739,0,1001," "]
[null,null,null,null,null,null,null,null,null,null,null,null,{"$f":"IF('Utilized-Interacted FAD-beacons'!C750<>\"\",'Utilized-Interacted FAD-beacons'!C750,0)","v":0},740,0,1001," ",null,{"$f":"IF('Utilized-Interacted FAD-beacons'!J750<>\"\",'Utilized-Interacted FAD-beacons'!J750,0)","v":0},740,0,1001," ",null,0,740,0,1001," "]
[null,null,null,null,null,null,null,null,null,null,null,null,{"$f":"IF('Utilized-Interacted FAD-beacons'!C751<>\"\",'Utilized-Interacted FAD-beacons'!C751,0)","v":0},741,0,1001," ",null,{"$f":"IF('Utilized-Interacted FAD-beacons'!J751<>\"\",'Utilized-Interacted FAD-beacons'!J751,0)","v":0},741,0,1001," ",null,0,741,0,1001," "]
[null,null,null,null,null,null,null,null,null,null,null,null,{"$f":"IF('Utilized-Interacted FAD-beacons'!C752<>\"\",'Utilized-Interacted FAD-beacons'!C752,0)","v":0},742,0,1001," ",null,{"$f":"IF('Utilized-Interacted FAD-beacons'!J752<>\"\",'Utilized-Interacted FAD-beacons'!J752,0)","v":0},742,0,1001," ",null,0,742,0,1001," "]
[null,null,null,null,null,null,null,null,null,null,null,null,{"$f":"IF('Utilized-Interacted FAD-beacons'!C753<>\"\",'Utilized-Interacted FAD-beacons'!C753,0)","v":0},743,0,1001," ",null,{"$f":"IF('Utilized-Interacted FAD-beacons'!J753<>\"\",'Utilized-Interacted FAD-beacons'!J753,0)","v":0},743,0,1001," ",null,0,743,0,1001," "]
[null,null,null,null,null,null,null,null,null,null,null,null,{"$f":"IF('Utilized-Interacted FAD-beacons'!C754<>\"\",'Utilized-Interacted FAD-beacons'!C754,0)","v":0},744,0,1001," ",null,{"$f":"IF('Utilized-Interacted FAD-beacons'!J754<>\"\",'Utilized-Interacted FAD-beacons'!J754,0)","v":0},744,0,1001," ",null,0,744,0,1001," "]
[null,null,null,null,null,null,null,null,null,null,null,null,{"$f":"IF('Utilized-Interacted FAD-beacons'!C755<>\"\",'Utilized-Interacted FAD-beacons'!C755,0)","v":0},745,0,1001," ",null,{"$f":"IF('Utilized-Interacted FAD-beacons'!J755<>\"\",'Utilized-Interacted FAD-beacons'!J755,0)","v":0},745,0,1001," ",null,0,745,0,1001," "]
[null,null,null,null,null,null,null,null,null,null,null,null,{"$f":"IF('Utilized-Interacted FAD-beacons'!C756<>\"\",'Utilized-Interacted FAD-beacons'!C756,0)","v":0},746,0,1001," ",null,{"$f":"IF('Utilized-Interacted FAD-beacons'!J756<>\"\",'Utilized-Interacted FAD-beacons'!J756,0)","v":0},746,0,1001," ",null,0,746,0,1001," "]
[null,null,null,null,null,null,null,null,null,null,null,null,{"$f":"IF('Utilized-Interacted FAD-beacons'!C757<>\"\",'Utilized-Interacted FAD-beacons'!C757,0)","v":0},747,0,1001," ",null,{"$f":"IF('Utilized-Interacted FAD-beacons'!J757<>\"\",'Utilized-Interacted FAD-beacons'!J757,0)","v":0},747,0,1001," ",null,0,747,0,1001," "]
[null,null,null,null,null,null,null,null,null,null,null,null,{"$f":"IF('Utilized-Interacted FAD-beacons'!C758<>\"\",'Utilized-Interacted FAD-beacons'!C758,0)","v":0},748,0,1001," ",null,{"$f":"IF('Utilized-Interacted FAD-beacons'!J758<>\"\",'Utilized-Interacted FAD-beacons'!J758,0)","v":0},748,0,1001," ",null,0,748,0,1001," "]
[null,null,null,null,null,null,null,null,null,null,null,null,{"$f":"IF('Utilized-Interacted FAD-beacons'!C759<>\"\",'Utilized-Interacted FAD-beacons'!C759,0)","v":0},749,0,1001," ",null,{"$f":"IF('Utilized-Interacted FAD-beacons'!J759<>\"\",'Utilized-Interacted FAD-beacons'!J759,0)","v":0},749,0,1001," ",null,0,749,0,1001," "]
[null,null,null,null,null,null,null,null,null,null,null,null,{"$f":"IF('Utilized-Interacted FAD-beacons'!C760<>\"\",'Utilized-Interacted FAD-beacons'!C760,0)","v":0},750,0,1001," ",null,{"$f":"IF('Utilized-Interacted FAD-beacons'!J760<>\"\",'Utilized-Interacted FAD-beacons'!J760,0)","v":0},750,0,1001," ",null,0,750,0,1001," "]
[null,null,null,null,null,null,null,null,null,null,null,null,{"$f":"IF('Utilized-Interacted FAD-beacons'!C761<>\"\",'Utilized-Interacted FAD-beacons'!C761,0)","v":0},751,0,1001," ",null,{"$f":"IF('Utilized-Interacted FAD-beacons'!J761<>\"\",'Utilized-Interacted FAD-beacons'!J761,0)","v":0},751,0,1001," ",null,0,751,0,1001," "]
[null,null,null,null,null,null,null,null,null,null,null,null,{"$f":"IF('Utilized-Interacted FAD-beacons'!C762<>\"\",'Utilized-Interacted FAD-beacons'!C762,0)","v":0},752,0,1001," ",null,{"$f":"IF('Utilized-Interacted FAD-beacons'!J762<>\"\",'Utilized-Interacted FAD-beacons'!J762,0)","v":0},752,0,1001," ",null,0,752,0,1001," "]
[null,null,null,null,null,null,null,null,null,null,null,null,{"$f":"IF('Utilized-Interacted FAD-beacons'!C763<>\"\",'Utilized-Interacted FAD-beacons'!C763,0)","v":0},753,0,1001," ",null,{"$f":"IF('Utilized-Interacted FAD-beacons'!J763<>\"\",'Utilized-Interacted FAD-beacons'!J763,0)","v":0},753,0,1001," ",null,0,753,0,1001," "]
[null,null,null,null,null,null,null,null,null,null,null,null,{"$f":"IF('Utilized-Interacted FAD-beacons'!C764<>\"\",'Utilized-Interacted FAD-beacons'!C764,0)","v":0},754,0,1001," ",null,{"$f":"IF('Utilized-Interacted FAD-beacons'!J764<>\"\",'Utilized-Interacted FAD-beacons'!J764,0)","v":0},754,0,1001," ",null,0,754,0,1001," "]
[null,null,null,null,null,null,null,null,null,null,null,null,{"$f":"IF('Utilized-Interacted FAD-beacons'!C765<>\"\",'Utilized-Interacted FAD-beacons'!C765,0)","v":0},755,0,1001," ",null,{"$f":"IF('Utilized-Interacted FAD-beacons'!J765<>\"\",'Utilized-Interacted FAD-beacons'!J765,0)","v":0},755,0,1001," ",null,0,755,0,1001," "]
[null,null,null,null,null,null,null,null,null,null,null,null,{"$f":"IF('Utilized-Interacted FAD-beacons'!C766<>\"\",'Utilized-Interacted FAD-beacons'!C766,0)","v":0},756,0,1001," ",null,{"$f":"IF('Utilized-Interacted FAD-beacons'!J766<>\"\",'Utilized-Interacted FAD-beacons'!J766,0)","v":0},756,0,1001," ",null,0,756,0,1001," "]
[null,null,null,null,null,null,null,null,null,null,null,null,{"$f":"IF('Utilized-Interacted FAD-beacons'!C767<>\"\",'Utilized-Interacted FAD-beacons'!C767,0)","v":0},757,0,1001," ",null,{"$f":"IF('Utilized-Interacted FAD-beacons'!J767<>\"\",'Utilized-Interacted FAD-beacons'!J767,0)","v":0},757,0,1001," ",null,0,757,0,1001," "]
[null,null,null,null,null,null,null,null,null,null,null,null,{"$f":"IF('Utilized-Interacted FAD-beacons'!C768<>\"\",'Utilized-Interacted FAD-beacons'!C768,0)","v":0},758,0,1001," ",null,{"$f":"IF('Utilized-Interacted FAD-beacons'!J768<>\"\",'Utilized-Interacted FAD-beacons'!J768,0)","v":0},758,0,1001," ",null,0,758,0,1001," "]
[null,null,null,null,null,null,null,null,null,null,null,null,{"$f":"IF('Utilized-Interacted FAD-beacons'!C769<>\"\",'Utilized-Interacted FAD-beacons'!C769,0)","v":0},759,0,1001," ",null,{"$f":"IF('Utilized-Interacted FAD-beacons'!J769<>\"\",'Utilized-Interacted FAD-beacons'!J769,0)","v":0},759,0,1001," ",null,0,759,0,1001," "]
[null,null,null,null,null,null,null,null,null,null,null,null,{"$f":"IF('Utilized-Interacted FAD-beacons'!C770<>\"\",'Utilized-Interacted FAD-beacons'!C770,0)","v":0},760,0,1001," ",null,{"$f":"IF('Utilized-Interacted FAD-beacons'!J770<>\"\",'Utilized-Interacted FAD-beacons'!J770,0)","v":0},760,0,1001," ",null,0,760,0,1001," "]
[null,null,null,null,null,null,null,null,null,null,null,null,{"$f":"IF('Utilized-Interacted FAD-beacons'!C771<>\"\",'Utilized-Interacted FAD-beacons'!C771,0)","v":0},761,0,1001," ",null,{"$f":"IF('Utilized-Interacted FAD-beacons'!J771<>\"\",'Utilized-Interacted FAD-beacons'!J771,0)","v":0},761,0,1001," ",null,0,761,0,1001," "]
[null,null,null,null,null,null,null,null,null,null,null,null,{"$f":"IF('Utilized-Interacted FAD-beacons'!C772<>\"\",'Utilized-Interacted FAD-beacons'!C772,0)","v":0},762,0,1001," ",null,{"$f":"IF('Utilized-Interacted FAD-beacons'!J772<>\"\",'Utilized-Interacted FAD-beacons'!J772,0)","v":0},762,0,1001," ",null,0,762,0,1001," "]
[null,null,null,null,null,null,null,null,null,null,null,null,{"$f":"IF('Utilized-Interacted FAD-beacons'!C773<>\"\",'Utilized-Interacted FAD-beacons'!C773,0)","v":0},763,0,1001," ",null,{"$f":"IF('Utilized-Interacted FAD-beacons'!J773<>\"\",'Utilized-Interacted FAD-beacons'!J773,0)","v":0},763,0,1001," ",null,0,763,0,1001," "]
[null,null,null,null,null,null,null,null,null,null,null,null,{"$f":"IF('Utilized-Interacted FAD-beacons'!C774<>\"\",'Utilized-Interacted FAD-beacons'!C774,0)","v":0},764,0,1001," ",null,{"$f":"IF('Utilized-Interacted FAD-beacons'!J774<>\"\",'Utilized-Interacted FAD-beacons'!J774,0)","v":0},764,0,1001," ",null,0,764,0,1001," "]
[null,null,null,null,null,null,null,null,null,null,null,null,{"$f":"IF('Utilized-Interacted FAD-beacons'!C775<>\"\",'Utilized-Interacted FAD-beacons'!C775,0)","v":0},765,0,1001," ",null,{"$f":"IF('Utilized-Interacted FAD-beacons'!J775<>\"\",'Utilized-Interacted FAD-beacons'!J775,0)","v":0},765,0,1001," ",null,0,765,0,1001," "]
[null,null,null,null,null,null,null,null,null,null,null,null,{"$f":"IF('Utilized-Interacted FAD-beacons'!C776<>\"\",'Utilized-Interacted FAD-beacons'!C776,0)","v":0},766,0,1001," ",null,{"$f":"IF('Utilized-Interacted FAD-beacons'!J776<>\"\",'Utilized-Interacted FAD-beacons'!J776,0)","v":0},766,0,1001," ",null,0,766,0,1001," "]
[null,null,null,null,null,null,null,null,null,null,null,null,{"$f":"IF('Utilized-Interacted FAD-beacons'!C777<>\"\",'Utilized-Interacted FAD-beacons'!C777,0)","v":0},767,0,1001," ",null,{"$f":"IF('Utilized-Interacted FAD-beacons'!J777<>\"\",'Utilized-Interacted FAD-beacons'!J777,0)","v":0},767,0,1001," ",null,0,767,0,1001," "]
[null,null,null,null,null,null,null,null,null,null,null,null,{"$f":"IF('Utilized-Interacted FAD-beacons'!C778<>\"\",'Utilized-Interacted FAD-beacons'!C778,0)","v":0},768,0,1001," ",null,{"$f":"IF('Utilized-Interacted FAD-beacons'!J778<>\"\",'Utilized-Interacted FAD-beacons'!J778,0)","v":0},768,0,1001," ",null,0,768,0,1001," "]
[null,null,null,null,null,null,null,null,null,null,null,null,{"$f":"IF('Utilized-Interacted FAD-beacons'!C779<>\"\",'Utilized-Interacted FAD-beacons'!C779,0)","v":0},769,0,1001,{"$f":"IFERROR(VLOOKUP(SMALL($P$6:$P$1005,N774),$N$6:$O$1005,2,FALSE),\" \")","v":" "},null,{"$f":"IF('Utilized-Interacted FAD-beacons'!J779<>\"\",'Utilized-Interacted FAD-beacons'!J779,0)","v":0},769,0,1001,{"$f":"IFERROR(VLOOKUP(SMALL($V$6:$V$1005,T774),$T$6:$U$1005,2,FALSE),\" \")","v":" "},null,0,769,0,1001,{"$f":"IFERROR(VLOOKUP(SMALL($AB$6:$AB$1005,Z774),$Z$6:$AA$1005,2,FALSE),\" \")","v":" "}]
[null,null,null,null,null,null,null,null,null,null,null,null,{"$f":"IF('Utilized-Interacted FAD-beacons'!C780<>\"\",'Utilized-Interacted FAD-beacons'!C780,0)","v":0},770,{"$f":"M775","v":0},{"$f":"IF(O775=0,MAX($N$6:$N$1005)+1,N775)","v":1001}," ",null,{"$f":"IF('Utilized-Interacted FAD-beacons'!J780<>\"\",'Utilized-Interacted FAD-beacons'!J780,0)","v":0},770,{"$f":"S775","v":0},{"$f":"IF(U775=0,MAX($T$6:$T$1005)+1,T775)","v":1001}," ",null,{"$f":"IF(AND(M775=0,S775=0),0,IF(AND(M775<>0,S775=0),M775,IF(AND(M775=0,S775<>0),S775,IF(AND(M775<>0,S775<>0),(CONCATENATE(M775,S775))))))","v":0},770,{"$f":"Y775","v":0},{"$f":"IF(AA775=0,MAX($Z$6:$Z$1005)+1,Z775)","v":1001}," "]
[null,null,null,null,null,null,null,null,null,null,null,null,{"$f":"IF('Utilized-Interacted FAD-beacons'!C781<>\"\",'Utilized-Interacted FAD-beacons'!C781,0)","v":0},771,0,1001," ",null,{"$f":"IF('Utilized-Interacted FAD-beacons'!J781<>\"\",'Utilized-Interacted FAD-beacons'!J781,0)","v":0},771,0,1001," ",null,0,771,0,1001," "]
[null,null,null,null,null,null,null,null,null,null,null,null,{"$f":"IF('Utilized-Interacted FAD-beacons'!C782<>\"\",'Utilized-Interacted FAD-beacons'!C782,0)","v":0},772,0,1001," ",null,{"$f":"IF('Utilized-Interacted FAD-beacons'!J782<>\"\",'Utilized-Interacted FAD-beacons'!J782,0)","v":0},772,0,1001," ",null,0,772,0,1001," "]
[null,null,null,null,null,null,null,null,null,null,null,null,{"$f":"IF('Utilized-Interacted FAD-beacons'!C783<>\"\",'Utilized-Interacted FAD-beacons'!C783,0)","v":0},773,0,1001," ",null,{"$f":"IF('Utilized-Interacted FAD-beacons'!J783<>\"\",'Utilized-Interacted FAD-beacons'!J783,0)","v":0},773,0,1001," ",null,0,773,0,1001," "]
[null,null,null,null,null,null,null,null,null,null,null,null,{"$f":"IF('Utilized-Interacted FAD-beacons'!C784<>\"\",'Utilized-Interacted FAD-beacons'!C784,0)","v":0},774,0,1001," ",null,{"$f":"IF('Utilized-Interacted FAD-beacons'!J784<>\"\",'Utilized-Interacted FAD-beacons'!J784,0)","v":0},774,0,1001," ",null,0,774,0,1001," "]
[null,null,null,null,null,null,null,null,null,null,null,null,{"$f":"IF('Utilized-Interacted FAD-beacons'!C785<>\"\",'Utilized-Interacted FAD-beacons'!C785,0)","v":0},775,0,1001," ",null,{"$f":"IF('Utilized-Interacted FAD-beacons'!J785<>\"\",'Utilized-Interacted FAD-beacons'!J785,0)","v":0},775,0,1001," ",null,0,775,0,1001," "]
[null,null,null,null,null,null,null,null,null,null,null,null,{"$f":"IF('Utilized-Interacted FAD-beacons'!C786<>\"\",'Utilized-Interacted FAD-beacons'!C786,0)","v":0},776,0,1001," ",null,{"$f":"IF('Utilized-Interacted FAD-beacons'!J786<>\"\",'Utilized-Interacted FAD-beacons'!J786,0)","v":0},776,0,1001," ",null,0,776,0,1001," "]
[null,null,null,null,null,null,null,null,null,null,null,null,{"$f":"IF('Utilized-Interacted FAD-beacons'!C787<>\"\",'Utilized-Interacted FAD-beacons'!C787,0)","v":0},777,0,1001," ",null,{"$f":"IF('Utilized-Interacted FAD-beacons'!J787<>\"\",'Utilized-Interacted FAD-beacons'!J787,0)","v":0},777,0,1001," ",null,0,777,0,1001," "]
[null,null,null,null,null,null,null,null,null,null,null,null,{"$f":"IF('Utilized-Interacted FAD-beacons'!C788<>\"\",'Utilized-Interacted FAD-beacons'!C788,0)","v":0},778,0,1001," ",null,{"$f":"IF('Utilized-Interacted FAD-beacons'!J788<>\"\",'Utilized-Interacted FAD-beacons'!J788,0)","v":0},778,0,1001," ",null,0,778,0,1001," "]
[null,null,null,null,null,null,null,null,null,null,null,null,{"$f":"IF('Utilized-Interacted FAD-beacons'!C789<>\"\",'Utilized-Interacted FAD-beacons'!C789,0)","v":0},779,0,1001," ",null,{"$f":"IF('Utilized-Interacted FAD-beacons'!J789<>\"\",'Utilized-Interacted FAD-beacons'!J789,0)","v":0},779,0,1001," ",null,0,779,0,1001," "]
[null,null,null,null,null,null,null,null,null,null,null,null,{"$f":"IF('Utilized-Interacted FAD-beacons'!C790<>\"\",'Utilized-Interacted FAD-beacons'!C790,0)","v":0},780,0,1001," ",null,{"$f":"IF('Utilized-Interacted FAD-beacons'!J790<>\"\",'Utilized-Interacted FAD-beacons'!J790,0)","v":0},780,0,1001," ",null,0,780,0,1001," "]
[null,null,null,null,null,null,null,null,null,null,null,null,{"$f":"IF('Utilized-Interacted FAD-beacons'!C791<>\"\",'Utilized-Interacted FAD-beacons'!C791,0)","v":0},781,0,1001," ",null,{"$f":"IF('Utilized-Interacted FAD-beacons'!J791<>\"\",'Utilized-Interacted FAD-beacons'!J791,0)","v":0},781,0,1001," ",null,0,781,0,1001," "]
[null,null,null,null,null,null,null,null,null,null,null,null,{"$f":"IF('Utilized-Interacted FAD-beacons'!C792<>\"\",'Utilized-Interacted FAD-beacons'!C792,0)","v":0},782,0,1001," ",null,{"$f":"IF('Utilized-Interacted FAD-beacons'!J792<>\"\",'Utilized-Interacted FAD-beacons'!J792,0)","v":0},782,0,1001," ",null,0,782,0,1001," "]
[null,null,null,null,null,null,null,null,null,null,null,null,{"$f":"IF('Utilized-Interacted FAD-beacons'!C793<>\"\",'Utilized-Interacted FAD-beacons'!C793,0)","v":0},783,0,1001," ",null,{"$f":"IF('Utilized-Interacted FAD-beacons'!J793<>\"\",'Utilized-Interacted FAD-beacons'!J793,0)","v":0},783,0,1001," ",null,0,783,0,1001," "]
[null,null,null,null,null,null,null,null,null,null,null,null,{"$f":"IF('Utilized-Interacted FAD-beacons'!C794<>\"\",'Utilized-Interacted FAD-beacons'!C794,0)","v":0},784,0,1001," ",null,{"$f":"IF('Utilized-Interacted FAD-beacons'!J794<>\"\",'Utilized-Interacted FAD-beacons'!J794,0)","v":0},784,0,1001," ",null,0,784,0,1001," "]
[null,null,null,null,null,null,null,null,null,null,null,null,{"$f":"IF('Utilized-Interacted FAD-beacons'!C795<>\"\",'Utilized-Interacted FAD-beacons'!C795,0)","v":0},785,0,1001," ",null,{"$f":"IF('Utilized-Interacted FAD-beacons'!J795<>\"\",'Utilized-Interacted FAD-beacons'!J795,0)","v":0},785,0,1001," ",null,0,785,0,1001," "]
[null,null,null,null,null,null,null,null,null,null,null,null,{"$f":"IF('Utilized-Interacted FAD-beacons'!C796<>\"\",'Utilized-Interacted FAD-beacons'!C796,0)","v":0},786,0,1001," ",null,{"$f":"IF('Utilized-Interacted FAD-beacons'!J796<>\"\",'Utilized-Interacted FAD-beacons'!J796,0)","v":0},786,0,1001," ",null,0,786,0,1001," "]
[null,null,null,null,null,null,null,null,null,null,null,null,{"$f":"IF('Utilized-Interacted FAD-beacons'!C797<>\"\",'Utilized-Interacted FAD-beacons'!C797,0)","v":0},787,0,1001," ",null,{"$f":"IF('Utilized-Interacted FAD-beacons'!J797<>\"\",'Utilized-Interacted FAD-beacons'!J797,0)","v":0},787,0,1001," ",null,0,787,0,1001," "]
[null,null,null,null,null,null,null,null,null,null,null,null,{"$f":"IF('Utilized-Interacted FAD-beacons'!C798<>\"\",'Utilized-Interacted FAD-beacons'!C798,0)","v":0},788,0,1001," ",null,{"$f":"IF('Utilized-Interacted FAD-beacons'!J798<>\"\",'Utilized-Interacted FAD-beacons'!J798,0)","v":0},788,0,1001," ",null,0,788,0,1001," "]
[null,null,null,null,null,null,null,null,null,null,null,null,{"$f":"IF('Utilized-Interacted FAD-beacons'!C799<>\"\",'Utilized-Interacted FAD-beacons'!C799,0)","v":0},789,0,1001," ",null,{"$f":"IF('Utilized-Interacted FAD-beacons'!J799<>\"\",'Utilized-Interacted FAD-beacons'!J799,0)","v":0},789,0,1001," ",null,0,789,0,1001," "]
[null,null,null,null,null,null,null,null,null,null,null,null,{"$f":"IF('Utilized-Interacted FAD-beacons'!C800<>\"\",'Utilized-Interacted FAD-beacons'!C800,0)","v":0},790,0,1001," ",null,{"$f":"IF('Utilized-Interacted FAD-beacons'!J800<>\"\",'Utilized-Interacted FAD-beacons'!J800,0)","v":0},790,0,1001," ",null,0,790,0,1001," "]
[null,null,null,null,null,null,null,null,null,null,null,null,{"$f":"IF('Utilized-Interacted FAD-beacons'!C801<>\"\",'Utilized-Interacted FAD-beacons'!C801,0)","v":0},791,0,1001," ",null,{"$f":"IF('Utilized-Interacted FAD-beacons'!J801<>\"\",'Utilized-Interacted FAD-beacons'!J801,0)","v":0},791,0,1001," ",null,0,791,0,1001," "]
[null,null,null,null,null,null,null,null,null,null,null,null,{"$f":"IF('Utilized-Interacted FAD-beacons'!C802<>\"\",'Utilized-Interacted FAD-beacons'!C802,0)","v":0},792,0,1001," ",null,{"$f":"IF('Utilized-Interacted FAD-beacons'!J802<>\"\",'Utilized-Interacted FAD-beacons'!J802,0)","v":0},792,0,1001," ",null,0,792,0,1001," "]
[null,null,null,null,null,null,null,null,null,null,null,null,{"$f":"IF('Utilized-Interacted FAD-beacons'!C803<>\"\",'Utilized-Interacted FAD-beacons'!C803,0)","v":0},793,0,1001," ",null,{"$f":"IF('Utilized-Interacted FAD-beacons'!J803<>\"\",'Utilized-Interacted FAD-beacons'!J803,0)","v":0},793,0,1001," ",null,0,793,0,1001," "]
[null,null,null,null,null,null,null,null,null,null,null,null,{"$f":"IF('Utilized-Interacted FAD-beacons'!C804<>\"\",'Utilized-Interacted FAD-beacons'!C804,0)","v":0},794,0,1001," ",null,{"$f":"IF('Utilized-Interacted FAD-beacons'!J804<>\"\",'Utilized-Interacted FAD-beacons'!J804,0)","v":0},794,0,1001," ",null,0,794,0,1001," "]
[null,null,null,null,null,null,null,null,null,null,null,null,{"$f":"IF('Utilized-Interacted FAD-beacons'!C805<>\"\",'Utilized-Interacted FAD-beacons'!C805,0)","v":0},795,0,1001," ",null,{"$f":"IF('Utilized-Interacted FAD-beacons'!J805<>\"\",'Utilized-Interacted FAD-beacons'!J805,0)","v":0},795,0,1001," ",null,0,795,0,1001," "]
[null,null,null,null,null,null,null,null,null,null,null,null,{"$f":"IF('Utilized-Interacted FAD-beacons'!C806<>\"\",'Utilized-Interacted FAD-beacons'!C806,0)","v":0},796,0,1001," ",null,{"$f":"IF('Utilized-Interacted FAD-beacons'!J806<>\"\",'Utilized-Interacted FAD-beacons'!J806,0)","v":0},796,0,1001," ",null,0,796,0,1001," "]
[null,null,null,null,null,null,null,null,null,null,null,null,{"$f":"IF('Utilized-Interacted FAD-beacons'!C807<>\"\",'Utilized-Interacted FAD-beacons'!C807,0)","v":0},797,0,1001," ",null,{"$f":"IF('Utilized-Interacted FAD-beacons'!J807<>\"\",'Utilized-Interacted FAD-beacons'!J807,0)","v":0},797,0,1001," ",null,0,797,0,1001," "]
[null,null,null,null,null,null,null,null,null,null,null,null,{"$f":"IF('Utilized-Interacted FAD-beacons'!C808<>\"\",'Utilized-Interacted FAD-beacons'!C808,0)","v":0},798,0,1001," ",null,{"$f":"IF('Utilized-Interacted FAD-beacons'!J808<>\"\",'Utilized-Interacted FAD-beacons'!J808,0)","v":0},798,0,1001," ",null,0,798,0,1001," "]
[null,null,null,null,null,null,null,null,null,null,null,null,{"$f":"IF('Utilized-Interacted FAD-beacons'!C809<>\"\",'Utilized-Interacted FAD-beacons'!C809,0)","v":0},799,0,1001," ",null,{"$f":"IF('Utilized-Interacted FAD-beacons'!J809<>\"\",'Utilized-Interacted FAD-beacons'!J809,0)","v":0},799,0,1001," ",null,0,799,0,1001," "]
[null,null,null,null,null,null,null,null,null,null,null,null,{"$f":"IF('Utilized-Interacted FAD-beacons'!C810<>\"\",'Utilized-Interacted FAD-beacons'!C810,0)","v":0},800,0,1001," ",null,{"$f":"IF('Utilized-Interacted FAD-beacons'!J810<>\"\",'Utilized-Interacted FAD-beacons'!J810,0)","v":0},800,0,1001," ",null,0,800,0,1001," "]
[null,null,null,null,null,null,null,null,null,null,null,null,{"$f":"IF('Utilized-Interacted FAD-beacons'!C811<>\"\",'Utilized-Interacted FAD-beacons'!C811,0)","v":0},801,0,1001," ",null,{"$f":"IF('Utilized-Interacted FAD-beacons'!J811<>\"\",'Utilized-Interacted FAD-beacons'!J811,0)","v":0},801,0,1001," ",null,0,801,0,1001," "]
[null,null,null,null,null,null,null,null,null,null,null,null,{"$f":"IF('Utilized-Interacted FAD-beacons'!C812<>\"\",'Utilized-Interacted FAD-beacons'!C812,0)","v":0},802,0,1001," ",null,{"$f":"IF('Utilized-Interacted FAD-beacons'!J812<>\"\",'Utilized-Interacted FAD-beacons'!J812,0)","v":0},802,0,1001," ",null,0,802,0,1001," "]
[null,null,null,null,null,null,null,null,null,null,null,null,{"$f":"IF('Utilized-Interacted FAD-beacons'!C813<>\"\",'Utilized-Interacted FAD-beacons'!C813,0)","v":0},803,0,1001," ",null,{"$f":"IF('Utilized-Interacted FAD-beacons'!J813<>\"\",'Utilized-Interacted FAD-beacons'!J813,0)","v":0},803,0,1001," ",null,0,803,0,1001," "]
[null,null,null,null,null,null,null,null,null,null,null,null,{"$f":"IF('Utilized-Interacted FAD-beacons'!C814<>\"\",'Utilized-Interacted FAD-beacons'!C814,0)","v":0},804,0,1001," ",null,{"$f":"IF('Utilized-Interacted FAD-beacons'!J814<>\"\",'Utilized-Interacted FAD-beacons'!J814,0)","v":0},804,0,1001," ",null,0,804,0,1001," "]
[null,null,null,null,null,null,null,null,null,null,null,null,{"$f":"IF('Utilized-Interacted FAD-beacons'!C815<>\"\",'Utilized-Interacted FAD-beacons'!C815,0)","v":0},805,0,1001," ",null,{"$f":"IF('Utilized-Interacted FAD-beacons'!J815<>\"\",'Utilized-Interacted FAD-beacons'!J815,0)","v":0},805,0,1001," ",null,0,805,0,1001," "]
[null,null,null,null,null,null,null,null,null,null,null,null,{"$f":"IF('Utilized-Interacted FAD-beacons'!C816<>\"\",'Utilized-Interacted FAD-beacons'!C816,0)","v":0},806,0,1001," ",null,{"$f":"IF('Utilized-Interacted FAD-beacons'!J816<>\"\",'Utilized-Interacted FAD-beacons'!J816,0)","v":0},806,0,1001," ",null,0,806,0,1001," "]
[null,null,null,null,null,null,null,null,null,null,null,null,{"$f":"IF('Utilized-Interacted FAD-beacons'!C817<>\"\",'Utilized-Interacted FAD-beacons'!C817,0)","v":0},807,0,1001," ",null,{"$f":"IF('Utilized-Interacted FAD-beacons'!J817<>\"\",'Utilized-Interacted FAD-beacons'!J817,0)","v":0},807,0,1001," ",null,0,807,0,1001," "]
[null,null,null,null,null,null,null,null,null,null,null,null,{"$f":"IF('Utilized-Interacted FAD-beacons'!C818<>\"\",'Utilized-Interacted FAD-beacons'!C818,0)","v":0},808,0,1001," ",null,{"$f":"IF('Utilized-Interacted FAD-beacons'!J818<>\"\",'Utilized-Interacted FAD-beacons'!J818,0)","v":0},808,0,1001," ",null,0,808,0,1001," "]
[null,null,null,null,null,null,null,null,null,null,null,null,{"$f":"IF('Utilized-Interacted FAD-beacons'!C819<>\"\",'Utilized-Interacted FAD-beacons'!C819,0)","v":0},809,0,1001," ",null,{"$f":"IF('Utilized-Interacted FAD-beacons'!J819<>\"\",'Utilized-Interacted FAD-beacons'!J819,0)","v":0},809,0,1001," ",null,0,809,0,1001," "]
[null,null,null,null,null,null,null,null,null,null,null,null,{"$f":"IF('Utilized-Interacted FAD-beacons'!C820<>\"\",'Utilized-Interacted FAD-beacons'!C820,0)","v":0},810,0,1001," ",null,{"$f":"IF('Utilized-Interacted FAD-beacons'!J820<>\"\",'Utilized-Interacted FAD-beacons'!J820,0)","v":0},810,0,1001," ",null,0,810,0,1001," "]
[null,null,null,null,null,null,null,null,null,null,null,null,{"$f":"IF('Utilized-Interacted FAD-beacons'!C821<>\"\",'Utilized-Interacted FAD-beacons'!C821,0)","v":0},811,0,1001," ",null,{"$f":"IF('Utilized-Interacted FAD-beacons'!J821<>\"\",'Utilized-Interacted FAD-beacons'!J821,0)","v":0},811,0,1001," ",null,0,811,0,1001," "]
[null,null,null,null,null,null,null,null,null,null,null,null,{"$f":"IF('Utilized-Interacted FAD-beacons'!C822<>\"\",'Utilized-Interacted FAD-beacons'!C822,0)","v":0},812,0,1001," ",null,{"$f":"IF('Utilized-Interacted FAD-beacons'!J822<>\"\",'Utilized-Interacted FAD-beacons'!J822,0)","v":0},812,0,1001," ",null,0,812,0,1001," "]
[null,null,null,null,null,null,null,null,null,null,null,null,{"$f":"IF('Utilized-Interacted FAD-beacons'!C823<>\"\",'Utilized-Interacted FAD-beacons'!C823,0)","v":0},813,0,1001," ",null,{"$f":"IF('Utilized-Interacted FAD-beacons'!J823<>\"\",'Utilized-Interacted FAD-beacons'!J823,0)","v":0},813,0,1001," ",null,0,813,0,1001," "]
[null,null,null,null,null,null,null,null,null,null,null,null,{"$f":"IF('Utilized-Interacted FAD-beacons'!C824<>\"\",'Utilized-Interacted FAD-beacons'!C824,0)","v":0},814,0,1001," ",null,{"$f":"IF('Utilized-Interacted FAD-beacons'!J824<>\"\",'Utilized-Interacted FAD-beacons'!J824,0)","v":0},814,0,1001," ",null,0,814,0,1001," "]
[null,null,null,null,null,null,null,null,null,null,null,null,{"$f":"IF('Utilized-Interacted FAD-beacons'!C825<>\"\",'Utilized-Interacted FAD-beacons'!C825,0)","v":0},815,0,1001," ",null,{"$f":"IF('Utilized-Interacted FAD-beacons'!J825<>\"\",'Utilized-Interacted FAD-beacons'!J825,0)","v":0},815,0,1001," ",null,0,815,0,1001," "]
[null,null,null,null,null,null,null,null,null,null,null,null,{"$f":"IF('Utilized-Interacted FAD-beacons'!C826<>\"\",'Utilized-Interacted FAD-beacons'!C826,0)","v":0},816,0,1001," ",null,{"$f":"IF('Utilized-Interacted FAD-beacons'!J826<>\"\",'Utilized-Interacted FAD-beacons'!J826,0)","v":0},816,0,1001," ",null,0,816,0,1001," "]
[null,null,null,null,null,null,null,null,null,null,null,null,{"$f":"IF('Utilized-Interacted FAD-beacons'!C827<>\"\",'Utilized-Interacted FAD-beacons'!C827,0)","v":0},817,0,1001," ",null,{"$f":"IF('Utilized-Interacted FAD-beacons'!J827<>\"\",'Utilized-Interacted FAD-beacons'!J827,0)","v":0},817,0,1001," ",null,0,817,0,1001," "]
[null,null,null,null,null,null,null,null,null,null,null,null,{"$f":"IF('Utilized-Interacted FAD-beacons'!C828<>\"\",'Utilized-Interacted FAD-beacons'!C828,0)","v":0},818,0,1001," ",null,{"$f":"IF('Utilized-Interacted FAD-beacons'!J828<>\"\",'Utilized-Interacted FAD-beacons'!J828,0)","v":0},818,0,1001," ",null,0,818,0,1001," "]
[null,null,null,null,null,null,null,null,null,null,null,null,{"$f":"IF('Utilized-Interacted FAD-beacons'!C829<>\"\",'Utilized-Interacted FAD-beacons'!C829,0)","v":0},819,0,1001," ",null,{"$f":"IF('Utilized-Interacted FAD-beacons'!J829<>\"\",'Utilized-Interacted FAD-beacons'!J829,0)","v":0},819,0,1001," ",null,0,819,0,1001," "]
[null,null,null,null,null,null,null,null,null,null,null,null,{"$f":"IF('Utilized-Interacted FAD-beacons'!C830<>\"\",'Utilized-Interacted FAD-beacons'!C830,0)","v":0},820,0,1001," ",null,{"$f":"IF('Utilized-Interacted FAD-beacons'!J830<>\"\",'Utilized-Interacted FAD-beacons'!J830,0)","v":0},820,0,1001," ",null,0,820,0,1001," "]
[null,null,null,null,null,null,null,null,null,null,null,null,{"$f":"IF('Utilized-Interacted FAD-beacons'!C831<>\"\",'Utilized-Interacted FAD-beacons'!C831,0)","v":0},821,0,1001," ",null,{"$f":"IF('Utilized-Interacted FAD-beacons'!J831<>\"\",'Utilized-Interacted FAD-beacons'!J831,0)","v":0},821,0,1001," ",null,0,821,0,1001," "]
[null,null,null,null,null,null,null,null,null,null,null,null,{"$f":"IF('Utilized-Interacted FAD-beacons'!C832<>\"\",'Utilized-Interacted FAD-beacons'!C832,0)","v":0},822,0,1001," ",null,{"$f":"IF('Utilized-Interacted FAD-beacons'!J832<>\"\",'Utilized-Interacted FAD-beacons'!J832,0)","v":0},822,0,1001," ",null,0,822,0,1001," "]
[null,null,null,null,null,null,null,null,null,null,null,null,{"$f":"IF('Utilized-Interacted FAD-beacons'!C833<>\"\",'Utilized-Interacted FAD-beacons'!C833,0)","v":0},823,0,1001," ",null,{"$f":"IF('Utilized-Interacted FAD-beacons'!J833<>\"\",'Utilized-Interacted FAD-beacons'!J833,0)","v":0},823,0,1001," ",null,0,823,0,1001," "]
[null,null,null,null,null,null,null,null,null,null,null,null,{"$f":"IF('Utilized-Interacted FAD-beacons'!C834<>\"\",'Utilized-Interacted FAD-beacons'!C834,0)","v":0},824,0,1001," ",null,{"$f":"IF('Utilized-Interacted FAD-beacons'!J834<>\"\",'Utilized-Interacted FAD-beacons'!J834,0)","v":0},824,0,1001," ",null,0,824,0,1001," "]
[null,null,null,null,null,null,null,null,null,null,null,null,{"$f":"IF('Utilized-Interacted FAD-beacons'!C835<>\"\",'Utilized-Interacted FAD-beacons'!C835,0)","v":0},825,0,1001," ",null,{"$f":"IF('Utilized-Interacted FAD-beacons'!J835<>\"\",'Utilized-Interacted FAD-beacons'!J835,0)","v":0},825,0,1001," ",null,0,825,0,1001," "]
[null,null,null,null,null,null,null,null,null,null,null,null,{"$f":"IF('Utilized-Interacted FAD-beacons'!C836<>\"\",'Utilized-Interacted FAD-beacons'!C836,0)","v":0},826,0,1001," ",null,{"$f":"IF('Utilized-Interacted FAD-beacons'!J836<>\"\",'Utilized-Interacted FAD-beacons'!J836,0)","v":0},826,0,1001," ",null,0,826,0,1001," "]
[null,null,null,null,null,null,null,null,null,null,null,null,{"$f":"IF('Utilized-Interacted FAD-beacons'!C837<>\"\",'Utilized-Interacted FAD-beacons'!C837,0)","v":0},827,0,1001," ",null,{"$f":"IF('Utilized-Interacted FAD-beacons'!J837<>\"\",'Utilized-Interacted FAD-beacons'!J837,0)","v":0},827,0,1001," ",null,0,827,0,1001," "]
[null,null,null,null,null,null,null,null,null,null,null,null,{"$f":"IF('Utilized-Interacted FAD-beacons'!C838<>\"\",'Utilized-Interacted FAD-beacons'!C838,0)","v":0},828,0,1001," ",null,{"$f":"IF('Utilized-Interacted FAD-beacons'!J838<>\"\",'Utilized-Interacted FAD-beacons'!J838,0)","v":0},828,0,1001," ",null,0,828,0,1001," "]
[null,null,null,null,null,null,null,null,null,null,null,null,{"$f":"IF('Utilized-Interacted FAD-beacons'!C839<>\"\",'Utilized-Interacted FAD-beacons'!C839,0)","v":0},829,0,1001," ",null,{"$f":"IF('Utilized-Interacted FAD-beacons'!J839<>\"\",'Utilized-Interacted FAD-beacons'!J839,0)","v":0},829,0,1001," ",null,0,829,0,1001," "]
[null,null,null,null,null,null,null,null,null,null,null,null,{"$f":"IF('Utilized-Interacted FAD-beacons'!C840<>\"\",'Utilized-Interacted FAD-beacons'!C840,0)","v":0},830,0,1001," ",null,{"$f":"IF('Utilized-Interacted FAD-beacons'!J840<>\"\",'Utilized-Interacted FAD-beacons'!J840,0)","v":0},830,0,1001," ",null,0,830,0,1001," "]
[null,null,null,null,null,null,null,null,null,null,null,null,{"$f":"IF('Utilized-Interacted FAD-beacons'!C841<>\"\",'Utilized-Interacted FAD-beacons'!C841,0)","v":0},831,0,1001," ",null,{"$f":"IF('Utilized-Interacted FAD-beacons'!J841<>\"\",'Utilized-Interacted FAD-beacons'!J841,0)","v":0},831,0,1001," ",null,0,831,0,1001," "]
[null,null,null,null,null,null,null,null,null,null,null,null,{"$f":"IF('Utilized-Interacted FAD-beacons'!C842<>\"\",'Utilized-Interacted FAD-beacons'!C842,0)","v":0},832,0,1001," ",null,{"$f":"IF('Utilized-Interacted FAD-beacons'!J842<>\"\",'Utilized-Interacted FAD-beacons'!J842,0)","v":0},832,0,1001," ",null,0,832,0,1001," "]
[null,null,null,null,null,null,null,null,null,null,null,null,{"$f":"IF('Utilized-Interacted FAD-beacons'!C843<>\"\",'Utilized-Interacted FAD-beacons'!C843,0)","v":0},833,0,1001,{"$f":"IFERROR(VLOOKUP(SMALL($P$6:$P$1005,N838),$N$6:$O$1005,2,FALSE),\" \")","v":" "},null,{"$f":"IF('Utilized-Interacted FAD-beacons'!J843<>\"\",'Utilized-Interacted FAD-beacons'!J843,0)","v":0},833,0,1001,{"$f":"IFERROR(VLOOKUP(SMALL($V$6:$V$1005,T838),$T$6:$U$1005,2,FALSE),\" \")","v":" "},null,0,833,0,1001,{"$f":"IFERROR(VLOOKUP(SMALL($AB$6:$AB$1005,Z838),$Z$6:$AA$1005,2,FALSE),\" \")","v":" "}]
[null,null,null,null,null,null,null,null,null,null,null,null,{"$f":"IF('Utilized-Interacted FAD-beacons'!C844<>\"\",'Utilized-Interacted FAD-beacons'!C844,0)","v":0},834,{"$f":"M839","v":0},{"$f":"IF(O839=0,MAX($N$6:$N$1005)+1,N839)","v":1001}," ",null,{"$f":"IF('Utilized-Interacted FAD-beacons'!J844<>\"\",'Utilized-Interacted FAD-beacons'!J844,0)","v":0},834,{"$f":"S839","v":0},{"$f":"IF(U839=0,MAX($T$6:$T$1005)+1,T839)","v":1001}," ",null,{"$f":"IF(AND(M839=0,S839=0),0,IF(AND(M839<>0,S839=0),M839,IF(AND(M839=0,S839<>0),S839,IF(AND(M839<>0,S839<>0),(CONCATENATE(M839,S839))))))","v":0},834,{"$f":"Y839","v":0},{"$f":"IF(AA839=0,MAX($Z$6:$Z$1005)+1,Z839)","v":1001}," "]
[null,null,null,null,null,null,null,null,null,null,null,null,{"$f":"IF('Utilized-Interacted FAD-beacons'!C845<>\"\",'Utilized-Interacted FAD-beacons'!C845,0)","v":0},835,0,1001," ",null,{"$f":"IF('Utilized-Interacted FAD-beacons'!J845<>\"\",'Utilized-Interacted FAD-beacons'!J845,0)","v":0},835,0,1001," ",null,0,835,0,1001," "]
[null,null,null,null,null,null,null,null,null,null,null,null,{"$f":"IF('Utilized-Interacted FAD-beacons'!C846<>\"\",'Utilized-Interacted FAD-beacons'!C846,0)","v":0},836,0,1001," ",null,{"$f":"IF('Utilized-Interacted FAD-beacons'!J846<>\"\",'Utilized-Interacted FAD-beacons'!J846,0)","v":0},836,0,1001," ",null,0,836,0,1001," "]
[null,null,null,null,null,null,null,null,null,null,null,null,{"$f":"IF('Utilized-Interacted FAD-beacons'!C847<>\"\",'Utilized-Interacted FAD-beacons'!C847,0)","v":0},837,0,1001," ",null,{"$f":"IF('Utilized-Interacted FAD-beacons'!J847<>\"\",'Utilized-Interacted FAD-beacons'!J847,0)","v":0},837,0,1001," ",null,0,837,0,1001," "]
[null,null,null,null,null,null,null,null,null,null,null,null,{"$f":"IF('Utilized-Interacted FAD-beacons'!C848<>\"\",'Utilized-Interacted FAD-beacons'!C848,0)","v":0},838,0,1001," ",null,{"$f":"IF('Utilized-Interacted FAD-beacons'!J848<>\"\",'Utilized-Interacted FAD-beacons'!J848,0)","v":0},838,0,1001," ",null,0,838,0,1001," "]
[null,null,null,null,null,null,null,null,null,null,null,null,{"$f":"IF('Utilized-Interacted FAD-beacons'!C849<>\"\",'Utilized-Interacted FAD-beacons'!C849,0)","v":0},839,0,1001," ",null,{"$f":"IF('Utilized-Interacted FAD-beacons'!J849<>\"\",'Utilized-Interacted FAD-beacons'!J849,0)","v":0},839,0,1001," ",null,0,839,0,1001," "]
[null,null,null,null,null,null,null,null,null,null,null,null,{"$f":"IF('Utilized-Interacted FAD-beacons'!C850<>\"\",'Utilized-Interacted FAD-beacons'!C850,0)","v":0},840,0,1001," ",null,{"$f":"IF('Utilized-Interacted FAD-beacons'!J850<>\"\",'Utilized-Interacted FAD-beacons'!J850,0)","v":0},840,0,1001," ",null,0,840,0,1001," "]
[null,null,null,null,null,null,null,null,null,null,null,null,{"$f":"IF('Utilized-Interacted FAD-beacons'!C851<>\"\",'Utilized-Interacted FAD-beacons'!C851,0)","v":0},841,0,1001," ",null,{"$f":"IF('Utilized-Interacted FAD-beacons'!J851<>\"\",'Utilized-Interacted FAD-beacons'!J851,0)","v":0},841,0,1001," ",null,0,841,0,1001," "]
[null,null,null,null,null,null,null,null,null,null,null,null,{"$f":"IF('Utilized-Interacted FAD-beacons'!C852<>\"\",'Utilized-Interacted FAD-beacons'!C852,0)","v":0},842,0,1001," ",null,{"$f":"IF('Utilized-Interacted FAD-beacons'!J852<>\"\",'Utilized-Interacted FAD-beacons'!J852,0)","v":0},842,0,1001," ",null,0,842,0,1001," "]
[null,null,null,null,null,null,null,null,null,null,null,null,{"$f":"IF('Utilized-Interacted FAD-beacons'!C853<>\"\",'Utilized-Interacted FAD-beacons'!C853,0)","v":0},843,0,1001," ",null,{"$f":"IF('Utilized-Interacted FAD-beacons'!J853<>\"\",'Utilized-Interacted FAD-beacons'!J853,0)","v":0},843,0,1001," ",null,0,843,0,1001," "]
[null,null,null,null,null,null,null,null,null,null,null,null,{"$f":"IF('Utilized-Interacted FAD-beacons'!C854<>\"\",'Utilized-Interacted FAD-beacons'!C854,0)","v":0},844,0,1001," ",null,{"$f":"IF('Utilized-Interacted FAD-beacons'!J854<>\"\",'Utilized-Interacted FAD-beacons'!J854,0)","v":0},844,0,1001," ",null,0,844,0,1001," "]
[null,null,null,null,null,null,null,null,null,null,null,null,{"$f":"IF('Utilized-Interacted FAD-beacons'!C855<>\"\",'Utilized-Interacted FAD-beacons'!C855,0)","v":0},845,0,1001," ",null,{"$f":"IF('Utilized-Interacted FAD-beacons'!J855<>\"\",'Utilized-Interacted FAD-beacons'!J855,0)","v":0},845,0,1001," ",null,0,845,0,1001," "]
[null,null,null,null,null,null,null,null,null,null,null,null,{"$f":"IF('Utilized-Interacted FAD-beacons'!C856<>\"\",'Utilized-Interacted FAD-beacons'!C856,0)","v":0},846,0,1001," ",null,{"$f":"IF('Utilized-Interacted FAD-beacons'!J856<>\"\",'Utilized-Interacted FAD-beacons'!J856,0)","v":0},846,0,1001," ",null,0,846,0,1001," "]
[null,null,null,null,null,null,null,null,null,null,null,null,{"$f":"IF('Utilized-Interacted FAD-beacons'!C857<>\"\",'Utilized-Interacted FAD-beacons'!C857,0)","v":0},847,0,1001," ",null,{"$f":"IF('Utilized-Interacted FAD-beacons'!J857<>\"\",'Utilized-Interacted FAD-beacons'!J857,0)","v":0},847,0,1001," ",null,0,847,0,1001," "]
[null,null,null,null,null,null,null,null,null,null,null,null,{"$f":"IF('Utilized-Interacted FAD-beacons'!C858<>\"\",'Utilized-Interacted FAD-beacons'!C858,0)","v":0},848,0,1001," ",null,{"$f":"IF('Utilized-Interacted FAD-beacons'!J858<>\"\",'Utilized-Interacted FAD-beacons'!J858,0)","v":0},848,0,1001," ",null,0,848,0,1001," "]
[null,null,null,null,null,null,null,null,null,null,null,null,{"$f":"IF('Utilized-Interacted FAD-beacons'!C859<>\"\",'Utilized-Interacted FAD-beacons'!C859,0)","v":0},849,0,1001," ",null,{"$f":"IF('Utilized-Interacted FAD-beacons'!J859<>\"\",'Utilized-Interacted FAD-beacons'!J859,0)","v":0},849,0,1001," ",null,0,849,0,1001," "]
[null,null,null,null,null,null,null,null,null,null,null,null,{"$f":"IF('Utilized-Interacted FAD-beacons'!C860<>\"\",'Utilized-Interacted FAD-beacons'!C860,0)","v":0},850,0,1001," ",null,{"$f":"IF('Utilized-Interacted FAD-beacons'!J860<>\"\",'Utilized-Interacted FAD-beacons'!J860,0)","v":0},850,0,1001," ",null,0,850,0,1001," "]
[null,null,null,null,null,null,null,null,null,null,null,null,{"$f":"IF('Utilized-Interacted FAD-beacons'!C861<>\"\",'Utilized-Interacted FAD-beacons'!C861,0)","v":0},851,0,1001," ",null,{"$f":"IF('Utilized-Interacted FAD-beacons'!J861<>\"\",'Utilized-Interacted FAD-beacons'!J861,0)","v":0},851,0,1001," ",null,0,851,0,1001," "]
[null,null,null,null,null,null,null,null,null,null,null,null,{"$f":"IF('Utilized-Interacted FAD-beacons'!C862<>\"\",'Utilized-Interacted FAD-beacons'!C862,0)","v":0},852,0,1001," ",null,{"$f":"IF('Utilized-Interacted FAD-beacons'!J862<>\"\",'Utilized-Interacted FAD-beacons'!J862,0)","v":0},852,0,1001," ",null,0,852,0,1001," "]
[null,null,null,null,null,null,null,null,null,null,null,null,{"$f":"IF('Utilized-Interacted FAD-beacons'!C863<>\"\",'Utilized-Interacted FAD-beacons'!C863,0)","v":0},853,0,1001," ",null,{"$f":"IF('Utilized-Interacted FAD-beacons'!J863<>\"\",'Utilized-Interacted FAD-beacons'!J863,0)","v":0},853,0,1001," ",null,0,853,0,1001," "]
[null,null,null,null,null,null,null,null,null,null,null,null,{"$f":"IF('Utilized-Interacted FAD-beacons'!C864<>\"\",'Utilized-Interacted FAD-beacons'!C864,0)","v":0},854,0,1001," ",null,{"$f":"IF('Utilized-Interacted FAD-beacons'!J864<>\"\",'Utilized-Interacted FAD-beacons'!J864,0)","v":0},854,0,1001," ",null,0,854,0,1001," "]
[null,null,null,null,null,null,null,null,null,null,null,null,{"$f":"IF('Utilized-Interacted FAD-beacons'!C865<>\"\",'Utilized-Interacted FAD-beacons'!C865,0)","v":0},855,0,1001," ",null,{"$f":"IF('Utilized-Interacted FAD-beacons'!J865<>\"\",'Utilized-Interacted FAD-beacons'!J865,0)","v":0},855,0,1001," ",null,0,855,0,1001," "]
[null,null,null,null,null,null,null,null,null,null,null,null,{"$f":"IF('Utilized-Interacted FAD-beacons'!C866<>\"\",'Utilized-Interacted FAD-beacons'!C866,0)","v":0},856,0,1001," ",null,{"$f":"IF('Utilized-Interacted FAD-beacons'!J866<>\"\",'Utilized-Interacted FAD-beacons'!J866,0)","v":0},856,0,1001," ",null,0,856,0,1001," "]
[null,null,null,null,null,null,null,null,null,null,null,null,{"$f":"IF('Utilized-Interacted FAD-beacons'!C867<>\"\",'Utilized-Interacted FAD-beacons'!C867,0)","v":0},857,0,1001," ",null,{"$f":"IF('Utilized-Interacted FAD-beacons'!J867<>\"\",'Utilized-Interacted FAD-beacons'!J867,0)","v":0},857,0,1001," ",null,0,857,0,1001," "]
[null,null,null,null,null,null,null,null,null,null,null,null,{"$f":"IF('Utilized-Interacted FAD-beacons'!C868<>\"\",'Utilized-Interacted FAD-beacons'!C868,0)","v":0},858,0,1001," ",null,{"$f":"IF('Utilized-Interacted FAD-beacons'!J868<>\"\",'Utilized-Interacted FAD-beacons'!J868,0)","v":0},858,0,1001," ",null,0,858,0,1001," "]
[null,null,null,null,null,null,null,null,null,null,null,null,{"$f":"IF('Utilized-Interacted FAD-beacons'!C869<>\"\",'Utilized-Interacted FAD-beacons'!C869,0)","v":0},859,0,1001," ",null,{"$f":"IF('Utilized-Interacted FAD-beacons'!J869<>\"\",'Utilized-Interacted FAD-beacons'!J869,0)","v":0},859,0,1001," ",null,0,859,0,1001," "]
[null,null,null,null,null,null,null,null,null,null,null,null,{"$f":"IF('Utilized-Interacted FAD-beacons'!C870<>\"\",'Utilized-Interacted FAD-beacons'!C870,0)","v":0},860,0,1001," ",null,{"$f":"IF('Utilized-Interacted FAD-beacons'!J870<>\"\",'Utilized-Interacted FAD-beacons'!J870,0)","v":0},860,0,1001," ",null,0,860,0,1001," "]
[null,null,null,null,null,null,null,null,null,null,null,null,{"$f":"IF('Utilized-Interacted FAD-beacons'!C871<>\"\",'Utilized-Interacted FAD-beacons'!C871,0)","v":0},861,0,1001," ",null,{"$f":"IF('Utilized-Interacted FAD-beacons'!J871<>\"\",'Utilized-Interacted FAD-beacons'!J871,0)","v":0},861,0,1001," ",null,0,861,0,1001," "]
[null,null,null,null,null,null,null,null,null,null,null,null,{"$f":"IF('Utilized-Interacted FAD-beacons'!C872<>\"\",'Utilized-Interacted FAD-beacons'!C872,0)","v":0},862,0,1001," ",null,{"$f":"IF('Utilized-Interacted FAD-beacons'!J872<>\"\",'Utilized-Interacted FAD-beacons'!J872,0)","v":0},862,0,1001," ",null,0,862,0,1001," "]
[null,null,null,null,null,null,null,null,null,null,null,null,{"$f":"IF('Utilized-Interacted FAD-beacons'!C873<>\"\",'Utilized-Interacted FAD-beacons'!C873,0)","v":0},863,0,1001," ",null,{"$f":"IF('Utilized-Interacted FAD-beacons'!J873<>\"\",'Utilized-Interacted FAD-beacons'!J873,0)","v":0},863,0,1001," ",null,0,863,0,1001," "]
[null,null,null,null,null,null,null,null,null,null,null,null,{"$f":"IF('Utilized-Interacted FAD-beacons'!C874<>\"\",'Utilized-Interacted FAD-beacons'!C874,0)","v":0},864,0,1001," ",null,{"$f":"IF('Utilized-Interacted FAD-beacons'!J874<>\"\",'Utilized-Interacted FAD-beacons'!J874,0)","v":0},864,0,1001," ",null,0,864,0,1001," "]
[null,null,null,null,null,null,null,null,null,null,null,null,{"$f":"IF('Utilized-Interacted FAD-beacons'!C875<>\"\",'Utilized-Interacted FAD-beacons'!C875,0)","v":0},865,0,1001," ",null,{"$f":"IF('Utilized-Interacted FAD-beacons'!J875<>\"\",'Utilized-Interacted FAD-beacons'!J875,0)","v":0},865,0,1001," ",null,0,865,0,1001," "]
[null,null,null,null,null,null,null,null,null,null,null,null,{"$f":"IF('Utilized-Interacted FAD-beacons'!C876<>\"\",'Utilized-Interacted FAD-beacons'!C876,0)","v":0},866,0,1001," ",null,{"$f":"IF('Utilized-Interacted FAD-beacons'!J876<>\"\",'Utilized-Interacted FAD-beacons'!J876,0)","v":0},866,0,1001," ",null,0,866,0,1001," "]
[null,null,null,null,null,null,null,null,null,null,null,null,{"$f":"IF('Utilized-Interacted FAD-beacons'!C877<>\"\",'Utilized-Interacted FAD-beacons'!C877,0)","v":0},867,0,1001," ",null,{"$f":"IF('Utilized-Interacted FAD-beacons'!J877<>\"\",'Utilized-Interacted FAD-beacons'!J877,0)","v":0},867,0,1001," ",null,0,867,0,1001," "]
[null,null,null,null,null,null,null,null,null,null,null,null,{"$f":"IF('Utilized-Interacted FAD-beacons'!C878<>\"\",'Utilized-Interacted FAD-beacons'!C878,0)","v":0},868,0,1001," ",null,{"$f":"IF('Utilized-Interacted FAD-beacons'!J878<>\"\",'Utilized-Interacted FAD-beacons'!J878,0)","v":0},868,0,1001," ",null,0,868,0,1001," "]
[null,null,null,null,null,null,null,null,null,null,null,null,{"$f":"IF('Utilized-Interacted FAD-beacons'!C879<>\"\",'Utilized-Interacted FAD-beacons'!C879,0)","v":0},869,0,1001," ",null,{"$f":"IF('Utilized-Interacted FAD-beacons'!J879<>\"\",'Utilized-Interacted FAD-beacons'!J879,0)","v":0},869,0,1001," ",null,0,869,0,1001," "]
[null,null,null,null,null,null,null,null,null,null,null,null,{"$f":"IF('Utilized-Interacted FAD-beacons'!C880<>\"\",'Utilized-Interacted FAD-beacons'!C880,0)","v":0},870,0,1001," ",null,{"$f":"IF('Utilized-Interacted FAD-beacons'!J880<>\"\",'Utilized-Interacted FAD-beacons'!J880,0)","v":0},870,0,1001," ",null,0,870,0,1001," "]
[null,null,null,null,null,null,null,null,null,null,null,null,{"$f":"IF('Utilized-Interacted FAD-beacons'!C881<>\"\",'Utilized-Interacted FAD-beacons'!C881,0)","v":0},871,0,1001," ",null,{"$f":"IF('Utilized-Interacted FAD-beacons'!J881<>\"\",'Utilized-Interacted FAD-beacons'!J881,0)","v":0},871,0,1001," ",null,0,871,0,1001," "]
[null,null,null,null,null,null,null,null,null,null,null,null,{"$f":"IF('Utilized-Interacted FAD-beacons'!C882<>\"\",'Utilized-Interacted FAD-beacons'!C882,0)","v":0},872,0,1001," ",null,{"$f":"IF('Utilized-Interacted FAD-beacons'!J882<>\"\",'Utilized-Interacted FAD-beacons'!J882,0)","v":0},872,0,1001," ",null,0,872,0,1001," "]
[null,null,null,null,null,null,null,null,null,null,null,null,{"$f":"IF('Utilized-Interacted FAD-beacons'!C883<>\"\",'Utilized-Interacted FAD-beacons'!C883,0)","v":0},873,0,1001," ",null,{"$f":"IF('Utilized-Interacted FAD-beacons'!J883<>\"\",'Utilized-Interacted FAD-beacons'!J883,0)","v":0},873,0,1001," ",null,0,873,0,1001," "]
[null,null,null,null,null,null,null,null,null,null,null,null,{"$f":"IF('Utilized-Interacted FAD-beacons'!C884<>\"\",'Utilized-Interacted FAD-beacons'!C884,0)","v":0},874,0,1001," ",null,{"$f":"IF('Utilized-Interacted FAD-beacons'!J884<>\"\",'Utilized-Interacted FAD-beacons'!J884,0)","v":0},874,0,1001," ",null,0,874,0,1001," "]
[null,null,null,null,null,null,null,null,null,null,null,null,{"$f":"IF('Utilized-Interacted FAD-beacons'!C885<>\"\",'Utilized-Interacted FAD-beacons'!C885,0)","v":0},875,0,1001," ",null,{"$f":"IF('Utilized-Interacted FAD-beacons'!J885<>\"\",'Utilized-Interacted FAD-beacons'!J885,0)","v":0},875,0,1001," ",null,0,875,0,1001," "]
[null,null,null,null,null,null,null,null,null,null,null,null,{"$f":"IF('Utilized-Interacted FAD-beacons'!C886<>\"\",'Utilized-Interacted FAD-beacons'!C886,0)","v":0},876,0,1001," ",null,{"$f":"IF('Utilized-Interacted FAD-beacons'!J886<>\"\",'Utilized-Interacted FAD-beacons'!J886,0)","v":0},876,0,1001," ",null,0,876,0,1001," "]
[null,null,null,null,null,null,null,null,null,null,null,null,{"$f":"IF('Utilized-Interacted FAD-beacons'!C887<>\"\",'Utilized-Interacted FAD-beacons'!C887,0)","v":0},877,0,1001," ",null,{"$f":"IF('Utilized-Interacted FAD-beacons'!J887<>\"\",'Utilized-Interacted FAD-beacons'!J887,0)","v":0},877,0,1001," ",null,0,877,0,1001," "]
[null,null,null,null,null,null,null,null,null,null,null,null,{"$f":"IF('Utilized-Interacted FAD-beacons'!C888<>\"\",'Utilized-Interacted FAD-beacons'!C888,0)","v":0},878,0,1001," ",null,{"$f":"IF('Utilized-Interacted FAD-beacons'!J888<>\"\",'Utilized-Interacted FAD-beacons'!J888,0)","v":0},878,0,1001," ",null,0,878,0,1001," "]
[null,null,null,null,null,null,null,null,null,null,null,null,{"$f":"IF('Utilized-Interacted FAD-beacons'!C889<>\"\",'Utilized-Interacted FAD-beacons'!C889,0)","v":0},879,0,1001," ",null,{"$f":"IF('Utilized-Interacted FAD-beacons'!J889<>\"\",'Utilized-Interacted FAD-beacons'!J889,0)","v":0},879,0,1001," ",null,0,879,0,1001," "]
[null,null,null,null,null,null,null,null,null,null,null,null,{"$f":"IF('Utilized-Interacted FAD-beacons'!C890<>\"\",'Utilized-Interacted FAD-beacons'!C890,0)","v":0},880,0,1001," ",null,{"$f":"IF('Utilized-Interacted FAD-beacons'!J890<>\"\",'Utilized-Interacted FAD-beacons'!J890,0)","v":0},880,0,1001," ",null,0,880,0,1001," "]
[null,null,null,null,null,null,null,null,null,null,null,null,{"$f":"IF('Utilized-Interacted FAD-beacons'!C891<>\"\",'Utilized-Interacted FAD-beacons'!C891,0)","v":0},881,0,1001," ",null,{"$f":"IF('Utilized-Interacted FAD-beacons'!J891<>\"\",'Utilized-Interacted FAD-beacons'!J891,0)","v":0},881,0,1001," ",null,0,881,0,1001," "]
[null,null,null,null,null,null,null,null,null,null,null,null,{"$f":"IF('Utilized-Interacted FAD-beacons'!C892<>\"\",'Utilized-Interacted FAD-beacons'!C892,0)","v":0},882,0,1001," ",null,{"$f":"IF('Utilized-Interacted FAD-beacons'!J892<>\"\",'Utilized-Interacted FAD-beacons'!J892,0)","v":0},882,0,1001," ",null,0,882,0,1001," "]
[null,null,null,null,null,null,null,null,null,null,null,null,{"$f":"IF('Utilized-Interacted FAD-beacons'!C893<>\"\",'Utilized-Interacted FAD-beacons'!C893,0)","v":0},883,0,1001," ",null,{"$f":"IF('Utilized-Interacted FAD-beacons'!J893<>\"\",'Utilized-Interacted FAD-beacons'!J893,0)","v":0},883,0,1001," ",null,0,883,0,1001," "]
[null,null,null,null,null,null,null,null,null,null,null,null,{"$f":"IF('Utilized-Interacted FAD-beacons'!C894<>\"\",'Utilized-Interacted FAD-beacons'!C894,0)","v":0},884,0,1001," ",null,{"$f":"IF('Utilized-Interacted FAD-beacons'!J894<>\"\",'Utilized-Interacted FAD-beacons'!J894,0)","v":0},884,0,1001," ",null,0,884,0,1001," "]
[null,null,null,null,null,null,null,null,null,null,null,null,{"$f":"IF('Utilized-Interacted FAD-beacons'!C895<>\"\",'Utilized-Interacted FAD-beacons'!C895,0)","v":0},885,0,1001," ",null,{"$f":"IF('Utilized-Interacted FAD-beacons'!J895<>\"\",'Utilized-Interacted FAD-beacons'!J895,0)","v":0},885,0,1001," ",null,0,885,0,1001," "]
[null,null,null,null,null,null,null,null,null,null,null,null,{"$f":"IF('Utilized-Interacted FAD-beacons'!C896<>\"\",'Utilized-Interacted FAD-beacons'!C896,0)","v":0},886,0,1001," ",null,{"$f":"IF('Utilized-Interacted FAD-beacons'!J896<>\"\",'Utilized-Interacted FAD-beacons'!J896,0)","v":0},886,0,1001," ",null,0,886,0,1001," "]
[null,null,null,null,null,null,null,null,null,null,null,null,{"$f":"IF('Utilized-Interacted FAD-beacons'!C897<>\"\",'Utilized-Interacted FAD-beacons'!C897,0)","v":0},887,0,1001," ",null,{"$f":"IF('Utilized-Interacted FAD-beacons'!J897<>\"\",'Utilized-Interacted FAD-beacons'!J897,0)","v":0},887,0,1001," ",null,0,887,0,1001," "]
[null,null,null,null,null,null,null,null,null,null,null,null,{"$f":"IF('Utilized-Interacted FAD-beacons'!C898<>\"\",'Utilized-Interacted FAD-beacons'!C898,0)","v":0},888,0,1001," ",null,{"$f":"IF('Utilized-Interacted FAD-beacons'!J898<>\"\",'Utilized-Interacted FAD-beacons'!J898,0)","v":0},888,0,1001," ",null,0,888,0,1001," "]
[null,null,null,null,null,null,null,null,null,null,null,null,{"$f":"IF('Utilized-Interacted FAD-beacons'!C899<>\"\",'Utilized-Interacted FAD-beacons'!C899,0)","v":0},889,0,1001," ",null,{"$f":"IF('Utilized-Interacted FAD-beacons'!J899<>\"\",'Utilized-Interacted FAD-beacons'!J899,0)","v":0},889,0,1001," ",null,0,889,0,1001," "]
[null,null,null,null,null,null,null,null,null,null,null,null,{"$f":"IF('Utilized-Interacted FAD-beacons'!C900<>\"\",'Utilized-Interacted FAD-beacons'!C900,0)","v":0},890,0,1001," ",null,{"$f":"IF('Utilized-Interacted FAD-beacons'!J900<>\"\",'Utilized-Interacted FAD-beacons'!J900,0)","v":0},890,0,1001," ",null,0,890,0,1001," "]
[null,null,null,null,null,null,null,null,null,null,null,null,{"$f":"IF('Utilized-Interacted FAD-beacons'!C901<>\"\",'Utilized-Interacted FAD-beacons'!C901,0)","v":0},891,0,1001," ",null,{"$f":"IF('Utilized-Interacted FAD-beacons'!J901<>\"\",'Utilized-Interacted FAD-beacons'!J901,0)","v":0},891,0,1001," ",null,0,891,0,1001," "]
[null,null,null,null,null,null,null,null,null,null,null,null,{"$f":"IF('Utilized-Interacted FAD-beacons'!C902<>\"\",'Utilized-Interacted FAD-beacons'!C902,0)","v":0},892,0,1001," ",null,{"$f":"IF('Utilized-Interacted FAD-beacons'!J902<>\"\",'Utilized-Interacted FAD-beacons'!J902,0)","v":0},892,0,1001," ",null,0,892,0,1001," "]
[null,null,null,null,null,null,null,null,null,null,null,null,{"$f":"IF('Utilized-Interacted FAD-beacons'!C903<>\"\",'Utilized-Interacted FAD-beacons'!C903,0)","v":0},893,0,1001," ",null,{"$f":"IF('Utilized-Interacted FAD-beacons'!J903<>\"\",'Utilized-Interacted FAD-beacons'!J903,0)","v":0},893,0,1001," ",null,0,893,0,1001," "]
[null,null,null,null,null,null,null,null,null,null,null,null,{"$f":"IF('Utilized-Interacted FAD-beacons'!C904<>\"\",'Utilized-Interacted FAD-beacons'!C904,0)","v":0},894,0,1001," ",null,{"$f":"IF('Utilized-Interacted FAD-beacons'!J904<>\"\",'Utilized-Interacted FAD-beacons'!J904,0)","v":0},894,0,1001," ",null,0,894,0,1001," "]
[null,null,null,null,null,null,null,null,null,null,null,null,{"$f":"IF('Utilized-Interacted FAD-beacons'!C905<>\"\",'Utilized-Interacted FAD-beacons'!C905,0)","v":0},895,0,1001," ",null,{"$f":"IF('Utilized-Interacted FAD-beacons'!J905<>\"\",'Utilized-Interacted FAD-beacons'!J905,0)","v":0},895,0,1001," ",null,0,895,0,1001," "]
[null,null,null,null,null,null,null,null,null,null,null,null,{"$f":"IF('Utilized-Interacted FAD-beacons'!C906<>\"\",'Utilized-Interacted FAD-beacons'!C906,0)","v":0},896,0,1001," ",null,{"$f":"IF('Utilized-Interacted FAD-beacons'!J906<>\"\",'Utilized-Interacted FAD-beacons'!J906,0)","v":0},896,0,1001," ",null,0,896,0,1001," "]
[null,null,null,null,null,null,null,null,null,null,null,null,{"$f":"IF('Utilized-Interacted FAD-beacons'!C907<>\"\",'Utilized-Interacted FAD-beacons'!C907,0)","v":0},897,0,1001,{"$f":"IFERROR(VLOOKUP(SMALL($P$6:$P$1005,N902),$N$6:$O$1005,2,FALSE),\" \")","v":" "},null,{"$f":"IF('Utilized-Interacted FAD-beacons'!J907<>\"\",'Utilized-Interacted FAD-beacons'!J907,0)","v":0},897,0,1001,{"$f":"IFERROR(VLOOKUP(SMALL($V$6:$V$1005,T902),$T$6:$U$1005,2,FALSE),\" \")","v":" "},null,0,897,0,1001,{"$f":"IFERROR(VLOOKUP(SMALL($AB$6:$AB$1005,Z902),$Z$6:$AA$1005,2,FALSE),\" \")","v":" "}]
[null,null,null,null,null,null,null,null,null,null,null,null,{"$f":"IF('Utilized-Interacted FAD-beacons'!C908<>\"\",'Utilized-Interacted FAD-beacons'!C908,0)","v":0},898,{"$f":"M903","v":0},{"$f":"IF(O903=0,MAX($N$6:$N$1005)+1,N903)","v":1001}," ",null,{"$f":"IF('Utilized-Interacted FAD-beacons'!J908<>\"\",'Utilized-Interacted FAD-beacons'!J908,0)","v":0},898,{"$f":"S903","v":0},{"$f":"IF(U903=0,MAX($T$6:$T$1005)+1,T903)","v":1001}," ",null,{"$f":"IF(AND(M903=0,S903=0),0,IF(AND(M903<>0,S903=0),M903,IF(AND(M903=0,S903<>0),S903,IF(AND(M903<>0,S903<>0),(CONCATENATE(M903,S903))))))","v":0},898,{"$f":"Y903","v":0},{"$f":"IF(AA903=0,MAX($Z$6:$Z$1005)+1,Z903)","v":1001}," "]
[null,null,null,null,null,null,null,null,null,null,null,null,{"$f":"IF('Utilized-Interacted FAD-beacons'!C909<>\"\",'Utilized-Interacted FAD-beacons'!C909,0)","v":0},899,0,1001," ",null,{"$f":"IF('Utilized-Interacted FAD-beacons'!J909<>\"\",'Utilized-Interacted FAD-beacons'!J909,0)","v":0},899,0,1001," ",null,0,899,0,1001," "]
[null,null,null,null,null,null,null,null,null,null,null,null,{"$f":"IF('Utilized-Interacted FAD-beacons'!C910<>\"\",'Utilized-Interacted FAD-beacons'!C910,0)","v":0},900,0,1001," ",null,{"$f":"IF('Utilized-Interacted FAD-beacons'!J910<>\"\",'Utilized-Interacted FAD-beacons'!J910,0)","v":0},900,0,1001," ",null,0,900,0,1001," "]
[null,null,null,null,null,null,null,null,null,null,null,null,{"$f":"IF('Utilized-Interacted FAD-beacons'!C911<>\"\",'Utilized-Interacted FAD-beacons'!C911,0)","v":0},901,0,1001," ",null,{"$f":"IF('Utilized-Interacted FAD-beacons'!J911<>\"\",'Utilized-Interacted FAD-beacons'!J911,0)","v":0},901,0,1001," ",null,0,901,0,1001," "]
[null,null,null,null,null,null,null,null,null,null,null,null,{"$f":"IF('Utilized-Interacted FAD-beacons'!C912<>\"\",'Utilized-Interacted FAD-beacons'!C912,0)","v":0},902,0,1001," ",null,{"$f":"IF('Utilized-Interacted FAD-beacons'!J912<>\"\",'Utilized-Interacted FAD-beacons'!J912,0)","v":0},902,0,1001," ",null,0,902,0,1001," "]
[null,null,null,null,null,null,null,null,null,null,null,null,{"$f":"IF('Utilized-Interacted FAD-beacons'!C913<>\"\",'Utilized-Interacted FAD-beacons'!C913,0)","v":0},903,0,1001," ",null,{"$f":"IF('Utilized-Interacted FAD-beacons'!J913<>\"\",'Utilized-Interacted FAD-beacons'!J913,0)","v":0},903,0,1001," ",null,0,903,0,1001," "]
[null,null,null,null,null,null,null,null,null,null,null,null,{"$f":"IF('Utilized-Interacted FAD-beacons'!C914<>\"\",'Utilized-Interacted FAD-beacons'!C914,0)","v":0},904,0,1001," ",null,{"$f":"IF('Utilized-Interacted FAD-beacons'!J914<>\"\",'Utilized-Interacted FAD-beacons'!J914,0)","v":0},904,0,1001," ",null,0,904,0,1001," "]
[null,null,null,null,null,null,null,null,null,null,null,null,{"$f":"IF('Utilized-Interacted FAD-beacons'!C915<>\"\",'Utilized-Interacted FAD-beacons'!C915,0)","v":0},905,0,1001," ",null,{"$f":"IF('Utilized-Interacted FAD-beacons'!J915<>\"\",'Utilized-Interacted FAD-beacons'!J915,0)","v":0},905,0,1001," ",null,0,905,0,1001," "]
[null,null,null,null,null,null,null,null,null,null,null,null,{"$f":"IF('Utilized-Interacted FAD-beacons'!C916<>\"\",'Utilized-Interacted FAD-beacons'!C916,0)","v":0},906,0,1001," ",null,{"$f":"IF('Utilized-Interacted FAD-beacons'!J916<>\"\",'Utilized-Interacted FAD-beacons'!J916,0)","v":0},906,0,1001," ",null,0,906,0,1001," "]
[null,null,null,null,null,null,null,null,null,null,null,null,{"$f":"IF('Utilized-Interacted FAD-beacons'!C917<>\"\",'Utilized-Interacted FAD-beacons'!C917,0)","v":0},907,0,1001," ",null,{"$f":"IF('Utilized-Interacted FAD-beacons'!J917<>\"\",'Utilized-Interacted FAD-beacons'!J917,0)","v":0},907,0,1001," ",null,0,907,0,1001," "]
[null,null,null,null,null,null,null,null,null,null,null,null,{"$f":"IF('Utilized-Interacted FAD-beacons'!C918<>\"\",'Utilized-Interacted FAD-beacons'!C918,0)","v":0},908,0,1001," ",null,{"$f":"IF('Utilized-Interacted FAD-beacons'!J918<>\"\",'Utilized-Interacted FAD-beacons'!J918,0)","v":0},908,0,1001," ",null,0,908,0,1001," "]
[null,null,null,null,null,null,null,null,null,null,null,null,{"$f":"IF('Utilized-Interacted FAD-beacons'!C919<>\"\",'Utilized-Interacted FAD-beacons'!C919,0)","v":0},909,0,1001," ",null,{"$f":"IF('Utilized-Interacted FAD-beacons'!J919<>\"\",'Utilized-Interacted FAD-beacons'!J919,0)","v":0},909,0,1001," ",null,0,909,0,1001," "]
[null,null,null,null,null,null,null,null,null,null,null,null,{"$f":"IF('Utilized-Interacted FAD-beacons'!C920<>\"\",'Utilized-Interacted FAD-beacons'!C920,0)","v":0},910,0,1001," ",null,{"$f":"IF('Utilized-Interacted FAD-beacons'!J920<>\"\",'Utilized-Interacted FAD-beacons'!J920,0)","v":0},910,0,1001," ",null,0,910,0,1001," "]
[null,null,null,null,null,null,null,null,null,null,null,null,{"$f":"IF('Utilized-Interacted FAD-beacons'!C921<>\"\",'Utilized-Interacted FAD-beacons'!C921,0)","v":0},911,0,1001," ",null,{"$f":"IF('Utilized-Interacted FAD-beacons'!J921<>\"\",'Utilized-Interacted FAD-beacons'!J921,0)","v":0},911,0,1001," ",null,0,911,0,1001," "]
[null,null,null,null,null,null,null,null,null,null,null,null,{"$f":"IF('Utilized-Interacted FAD-beacons'!C922<>\"\",'Utilized-Interacted FAD-beacons'!C922,0)","v":0},912,0,1001," ",null,{"$f":"IF('Utilized-Interacted FAD-beacons'!J922<>\"\",'Utilized-Interacted FAD-beacons'!J922,0)","v":0},912,0,1001," ",null,0,912,0,1001," "]
[null,null,null,null,null,null,null,null,null,null,null,null,{"$f":"IF('Utilized-Interacted FAD-beacons'!C923<>\"\",'Utilized-Interacted FAD-beacons'!C923,0)","v":0},913,0,1001," ",null,{"$f":"IF('Utilized-Interacted FAD-beacons'!J923<>\"\",'Utilized-Interacted FAD-beacons'!J923,0)","v":0},913,0,1001," ",null,0,913,0,1001," "]
[null,null,null,null,null,null,null,null,null,null,null,null,{"$f":"IF('Utilized-Interacted FAD-beacons'!C924<>\"\",'Utilized-Interacted FAD-beacons'!C924,0)","v":0},914,0,1001," ",null,{"$f":"IF('Utilized-Interacted FAD-beacons'!J924<>\"\",'Utilized-Interacted FAD-beacons'!J924,0)","v":0},914,0,1001," ",null,0,914,0,1001," "]
[null,null,null,null,null,null,null,null,null,null,null,null,{"$f":"IF('Utilized-Interacted FAD-beacons'!C925<>\"\",'Utilized-Interacted FAD-beacons'!C925,0)","v":0},915,0,1001," ",null,{"$f":"IF('Utilized-Interacted FAD-beacons'!J925<>\"\",'Utilized-Interacted FAD-beacons'!J925,0)","v":0},915,0,1001," ",null,0,915,0,1001," "]
[null,null,null,null,null,null,null,null,null,null,null,null,{"$f":"IF('Utilized-Interacted FAD-beacons'!C926<>\"\",'Utilized-Interacted FAD-beacons'!C926,0)","v":0},916,0,1001," ",null,{"$f":"IF('Utilized-Interacted FAD-beacons'!J926<>\"\",'Utilized-Interacted FAD-beacons'!J926,0)","v":0},916,0,1001," ",null,0,916,0,1001," "]
[null,null,null,null,null,null,null,null,null,null,null,null,{"$f":"IF('Utilized-Interacted FAD-beacons'!C927<>\"\",'Utilized-Interacted FAD-beacons'!C927,0)","v":0},917,0,1001," ",null,{"$f":"IF('Utilized-Interacted FAD-beacons'!J927<>\"\",'Utilized-Interacted FAD-beacons'!J927,0)","v":0},917,0,1001," ",null,0,917,0,1001," "]
[null,null,null,null,null,null,null,null,null,null,null,null,{"$f":"IF('Utilized-Interacted FAD-beacons'!C928<>\"\",'Utilized-Interacted FAD-beacons'!C928,0)","v":0},918,0,1001," ",null,{"$f":"IF('Utilized-Interacted FAD-beacons'!J928<>\"\",'Utilized-Interacted FAD-beacons'!J928,0)","v":0},918,0,1001," ",null,0,918,0,1001," "]
[null,null,null,null,null,null,null,null,null,null,null,null,{"$f":"IF('Utilized-Interacted FAD-beacons'!C929<>\"\",'Utilized-Interacted FAD-beacons'!C929,0)","v":0},919,0,1001," ",null,{"$f":"IF('Utilized-Interacted FAD-beacons'!J929<>\"\",'Utilized-Interacted FAD-beacons'!J929,0)","v":0},919,0,1001," ",null,0,919,0,1001," "]
[null,null,null,null,null,null,null,null,null,null,null,null,{"$f":"IF('Utilized-Interacted FAD-beacons'!C930<>\"\",'Utilized-Interacted FAD-beacons'!C930,0)","v":0},920,0,1001," ",null,{"$f":"IF('Utilized-Interacted FAD-beacons'!J930<>\"\",'Utilized-Interacted FAD-beacons'!J930,0)","v":0},920,0,1001," ",null,0,920,0,1001," "]
[null,null,null,null,null,null,null,null,null,null,null,null,{"$f":"IF('Utilized-Interacted FAD-beacons'!C931<>\"\",'Utilized-Interacted FAD-beacons'!C931,0)","v":0},921,0,1001," ",null,{"$f":"IF('Utilized-Interacted FAD-beacons'!J931<>\"\",'Utilized-Interacted FAD-beacons'!J931,0)","v":0},921,0,1001," ",null,0,921,0,1001," "]
[null,null,null,null,null,null,null,null,null,null,null,null,{"$f":"IF('Utilized-Interacted FAD-beacons'!C932<>\"\",'Utilized-Interacted FAD-beacons'!C932,0)","v":0},922,0,1001," ",null,{"$f":"IF('Utilized-Interacted FAD-beacons'!J932<>\"\",'Utilized-Interacted FAD-beacons'!J932,0)","v":0},922,0,1001," ",null,0,922,0,1001," "]
[null,null,null,null,null,null,null,null,null,null,null,null,{"$f":"IF('Utilized-Interacted FAD-beacons'!C933<>\"\",'Utilized-Interacted FAD-beacons'!C933,0)","v":0},923,0,1001," ",null,{"$f":"IF('Utilized-Interacted FAD-beacons'!J933<>\"\",'Utilized-Interacted FAD-beacons'!J933,0)","v":0},923,0,1001," ",null,0,923,0,1001," "]
[null,null,null,null,null,null,null,null,null,null,null,null,{"$f":"IF('Utilized-Interacted FAD-beacons'!C934<>\"\",'Utilized-Interacted FAD-beacons'!C934,0)","v":0},924,0,1001," ",null,{"$f":"IF('Utilized-Interacted FAD-beacons'!J934<>\"\",'Utilized-Interacted FAD-beacons'!J934,0)","v":0},924,0,1001," ",null,0,924,0,1001," "]
[null,null,null,null,null,null,null,null,null,null,null,null,{"$f":"IF('Utilized-Interacted FAD-beacons'!C935<>\"\",'Utilized-Interacted FAD-beacons'!C935,0)","v":0},925,0,1001," ",null,{"$f":"IF('Utilized-Interacted FAD-beacons'!J935<>\"\",'Utilized-Interacted FAD-beacons'!J935,0)","v":0},925,0,1001," ",null,0,925,0,1001," "]
[null,null,null,null,null,null,null,null,null,null,null,null,{"$f":"IF('Utilized-Interacted FAD-beacons'!C936<>\"\",'Utilized-Interacted FAD-beacons'!C936,0)","v":0},926,0,1001," ",null,{"$f":"IF('Utilized-Interacted FAD-beacons'!J936<>\"\",'Utilized-Interacted FAD-beacons'!J936,0)","v":0},926,0,1001," ",null,0,926,0,1001," "]
[null,null,null,null,null,null,null,null,null,null,null,null,{"$f":"IF('Utilized-Interacted FAD-beacons'!C937<>\"\",'Utilized-Interacted FAD-beacons'!C937,0)","v":0},927,0,1001," ",null,{"$f":"IF('Utilized-Interacted FAD-beacons'!J937<>\"\",'Utilized-Interacted FAD-beacons'!J937,0)","v":0},927,0,1001," ",null,0,927,0,1001," "]
[null,null,null,null,null,null,null,null,null,null,null,null,{"$f":"IF('Utilized-Interacted FAD-beacons'!C938<>\"\",'Utilized-Interacted FAD-beacons'!C938,0)","v":0},928,0,1001," ",null,{"$f":"IF('Utilized-Interacted FAD-beacons'!J938<>\"\",'Utilized-Interacted FAD-beacons'!J938,0)","v":0},928,0,1001," ",null,0,928,0,1001," "]
[null,null,null,null,null,null,null,null,null,null,null,null,{"$f":"IF('Utilized-Interacted FAD-beacons'!C939<>\"\",'Utilized-Interacted FAD-beacons'!C939,0)","v":0},929,0,1001," ",null,{"$f":"IF('Utilized-Interacted FAD-beacons'!J939<>\"\",'Utilized-Interacted FAD-beacons'!J939,0)","v":0},929,0,1001," ",null,0,929,0,1001," "]
[null,null,null,null,null,null,null,null,null,null,null,null,{"$f":"IF('Utilized-Interacted FAD-beacons'!C940<>\"\",'Utilized-Interacted FAD-beacons'!C940,0)","v":0},930,0,1001," ",null,{"$f":"IF('Utilized-Interacted FAD-beacons'!J940<>\"\",'Utilized-Interacted FAD-beacons'!J940,0)","v":0},930,0,1001," ",null,0,930,0,1001," "]
[null,null,null,null,null,null,null,null,null,null,null,null,{"$f":"IF('Utilized-Interacted FAD-beacons'!C941<>\"\",'Utilized-Interacted FAD-beacons'!C941,0)","v":0},931,0,1001," ",null,{"$f":"IF('Utilized-Interacted FAD-beacons'!J941<>\"\",'Utilized-Interacted FAD-beacons'!J941,0)","v":0},931,0,1001," ",null,0,931,0,1001," "]
[null,null,null,null,null,null,null,null,null,null,null,null,{"$f":"IF('Utilized-Interacted FAD-beacons'!C942<>\"\",'Utilized-Interacted FAD-beacons'!C942,0)","v":0},932,0,1001," ",null,{"$f":"IF('Utilized-Interacted FAD-beacons'!J942<>\"\",'Utilized-Interacted FAD-beacons'!J942,0)","v":0},932,0,1001," ",null,0,932,0,1001," "]
[null,null,null,null,null,null,null,null,null,null,null,null,{"$f":"IF('Utilized-Interacted FAD-beacons'!C943<>\"\",'Utilized-Interacted FAD-beacons'!C943,0)","v":0},933,0,1001," ",null,{"$f":"IF('Utilized-Interacted FAD-beacons'!J943<>\"\",'Utilized-Interacted FAD-beacons'!J943,0)","v":0},933,0,1001," ",null,0,933,0,1001," "]
[null,null,null,null,null,null,null,null,null,null,null,null,{"$f":"IF('Utilized-Interacted FAD-beacons'!C944<>\"\",'Utilized-Interacted FAD-beacons'!C944,0)","v":0},934,0,1001," ",null,{"$f":"IF('Utilized-Interacted FAD-beacons'!J944<>\"\",'Utilized-Interacted FAD-beacons'!J944,0)","v":0},934,0,1001," ",null,0,934,0,1001," "]
[null,null,null,null,null,null,null,null,null,null,null,null,{"$f":"IF('Utilized-Interacted FAD-beacons'!C945<>\"\",'Utilized-Interacted FAD-beacons'!C945,0)","v":0},935,0,1001," ",null,{"$f":"IF('Utilized-Interacted FAD-beacons'!J945<>\"\",'Utilized-Interacted FAD-beacons'!J945,0)","v":0},935,0,1001," ",null,0,935,0,1001," "]
[null,null,null,null,null,null,null,null,null,null,null,null,{"$f":"IF('Utilized-Interacted FAD-beacons'!C946<>\"\",'Utilized-Interacted FAD-beacons'!C946,0)","v":0},936,0,1001," ",null,{"$f":"IF('Utilized-Interacted FAD-beacons'!J946<>\"\",'Utilized-Interacted FAD-beacons'!J946,0)","v":0},936,0,1001," ",null,0,936,0,1001," "]
[null,null,null,null,null,null,null,null,null,null,null,null,{"$f":"IF('Utilized-Interacted FAD-beacons'!C947<>\"\",'Utilized-Interacted FAD-beacons'!C947,0)","v":0},937,0,1001," ",null,{"$f":"IF('Utilized-Interacted FAD-beacons'!J947<>\"\",'Utilized-Interacted FAD-beacons'!J947,0)","v":0},937,0,1001," ",null,0,937,0,1001," "]
[null,null,null,null,null,null,null,null,null,null,null,null,{"$f":"IF('Utilized-Interacted FAD-beacons'!C948<>\"\",'Utilized-Interacted FAD-beacons'!C948,0)","v":0},938,0,1001," ",null,{"$f":"IF('Utilized-Interacted FAD-beacons'!J948<>\"\",'Utilized-Interacted FAD-beacons'!J948,0)","v":0},938,0,1001," ",null,0,938,0,1001," "]
[null,null,null,null,null,null,null,null,null,null,null,null,{"$f":"IF('Utilized-Interacted FAD-beacons'!C949<>\"\",'Utilized-Interacted FAD-beacons'!C949,0)","v":0},939,0,1001," ",null,{"$f":"IF('Utilized-Interacted FAD-beacons'!J949<>\"\",'Utilized-Interacted FAD-beacons'!J949,0)","v":0},939,0,1001," ",null,0,939,0,1001," "]
[null,null,null,null,null,null,null,null,null,null,null,null,{"$f":"IF('Utilized-Interacted FAD-beacons'!C950<>\"\",'Utilized-Interacted FAD-beacons'!C950,0)","v":0},940,0,1001," ",null,{"$f":"IF('Utilized-Interacted FAD-beacons'!J950<>\"\",'Utilized-Interacted FAD-beacons'!J950,0)","v":0},940,0,1001," ",null,0,940,0,1001," "]
[null,null,null,null,null,null,null,null,null,null,null,null,{"$f":"IF('Utilized-Interacted FAD-beacons'!C951<>\"\",'Utilized-Interacted FAD-beacons'!C951,0)","v":0},941,0,1001," ",null,{"$f":"IF('Utilized-Interacted FAD-beacons'!J951<>\"\",'Utilized-Interacted FAD-beacons'!J951,0)","v":0},941,0,1001," ",null,0,941,0,1001," "]
[null,null,null,null,null,null,null,null,null,null,null,null,{"$f":"IF('Utilized-Interacted FAD-beacons'!C952<>\"\",'Utilized-Interacted FAD-beacons'!C952,0)","v":0},942,0,1001," ",null,{"$f":"IF('Utilized-Interacted FAD-beacons'!J952<>\"\",'Utilized-Interacted FAD-beacons'!J952,0)","v":0},942,0,1001," ",null,0,942,0,1001," "]
[null,null,null,null,null,null,null,null,null,null,null,null,{"$f":"IF('Utilized-Interacted FAD-beacons'!C953<>\"\",'Utilized-Interacted FAD-beacons'!C953,0)","v":0},943,0,1001," ",null,{"$f":"IF('Utilized-Interacted FAD-beacons'!J953<>\"\",'Utilized-Interacted FAD-beacons'!J953,0)","v":0},943,0,1001," ",null,0,943,0,1001," "]
[null,null,null,null,null,null,null,null,null,null,null,null,{"$f":"IF('Utilized-Interacted FAD-beacons'!C954<>\"\",'Utilized-Interacted FAD-beacons'!C954,0)","v":0},944,0,1001," ",null,{"$f":"IF('Utilized-Interacted FAD-beacons'!J954<>\"\",'Utilized-Interacted FAD-beacons'!J954,0)","v":0},944,0,1001," ",null,0,944,0,1001," "]
[null,null,null,null,null,null,null,null,null,null,null,null,{"$f":"IF('Utilized-Interacted FAD-beacons'!C955<>\"\",'Utilized-Interacted FAD-beacons'!C955,0)","v":0},945,0,1001," ",null,{"$f":"IF('Utilized-Interacted FAD-beacons'!J955<>\"\",'Utilized-Interacted FAD-beacons'!J955,0)","v":0},945,0,1001," ",null,0,945,0,1001," "]
[null,null,null,null,null,null,null,null,null,null,null,null,{"$f":"IF('Utilized-Interacted FAD-beacons'!C956<>\"\",'Utilized-Interacted FAD-beacons'!C956,0)","v":0},946,0,1001," ",null,{"$f":"IF('Utilized-Interacted FAD-beacons'!J956<>\"\",'Utilized-Interacted FAD-beacons'!J956,0)","v":0},946,0,1001," ",null,0,946,0,1001," "]
[null,null,null,null,null,null,null,null,null,null,null,null,{"$f":"IF('Utilized-Interacted FAD-beacons'!C957<>\"\",'Utilized-Interacted FAD-beacons'!C957,0)","v":0},947,0,1001," ",null,{"$f":"IF('Utilized-Interacted FAD-beacons'!J957<>\"\",'Utilized-Interacted FAD-beacons'!J957,0)","v":0},947,0,1001," ",null,0,947,0,1001," "]
[null,null,null,null,null,null,null,null,null,null,null,null,{"$f":"IF('Utilized-Interacted FAD-beacons'!C958<>\"\",'Utilized-Interacted FAD-beacons'!C958,0)","v":0},948,0,1001," ",null,{"$f":"IF('Utilized-Interacted FAD-beacons'!J958<>\"\",'Utilized-Interacted FAD-beacons'!J958,0)","v":0},948,0,1001," ",null,0,948,0,1001," "]
[null,null,null,null,null,null,null,null,null,null,null,null,{"$f":"IF('Utilized-Interacted FAD-beacons'!C959<>\"\",'Utilized-Interacted FAD-beacons'!C959,0)","v":0},949,0,1001," ",null,{"$f":"IF('Utilized-Interacted FAD-beacons'!J959<>\"\",'Utilized-Interacted FAD-beacons'!J959,0)","v":0},949,0,1001," ",null,0,949,0,1001," "]
[null,null,null,null,null,null,null,null,null,null,null,null,{"$f":"IF('Utilized-Interacted FAD-beacons'!C960<>\"\",'Utilized-Interacted FAD-beacons'!C960,0)","v":0},950,0,1001," ",null,{"$f":"IF('Utilized-Interacted FAD-beacons'!J960<>\"\",'Utilized-Interacted FAD-beacons'!J960,0)","v":0},950,0,1001," ",null,0,950,0,1001," "]
[null,null,null,null,null,null,null,null,null,null,null,null,{"$f":"IF('Utilized-Interacted FAD-beacons'!C961<>\"\",'Utilized-Interacted FAD-beacons'!C961,0)","v":0},951,0,1001," ",null,{"$f":"IF('Utilized-Interacted FAD-beacons'!J961<>\"\",'Utilized-Interacted FAD-beacons'!J961,0)","v":0},951,0,1001," ",null,0,951,0,1001," "]
[null,null,null,null,null,null,null,null,null,null,null,null,{"$f":"IF('Utilized-Interacted FAD-beacons'!C962<>\"\",'Utilized-Interacted FAD-beacons'!C962,0)","v":0},952,0,1001," ",null,{"$f":"IF('Utilized-Interacted FAD-beacons'!J962<>\"\",'Utilized-Interacted FAD-beacons'!J962,0)","v":0},952,0,1001," ",null,0,952,0,1001," "]
[null,null,null,null,null,null,null,null,null,null,null,null,{"$f":"IF('Utilized-Interacted FAD-beacons'!C963<>\"\",'Utilized-Interacted FAD-beacons'!C963,0)","v":0},953,0,1001," ",null,{"$f":"IF('Utilized-Interacted FAD-beacons'!J963<>\"\",'Utilized-Interacted FAD-beacons'!J963,0)","v":0},953,0,1001," ",null,0,953,0,1001," "]
[null,null,null,null,null,null,null,null,null,null,null,null,{"$f":"IF('Utilized-Interacted FAD-beacons'!C964<>\"\",'Utilized-Interacted FAD-beacons'!C964,0)","v":0},954,0,1001," ",null,{"$f":"IF('Utilized-Interacted FAD-beacons'!J964<>\"\",'Utilized-Interacted FAD-beacons'!J964,0)","v":0},954,0,1001," ",null,0,954,0,1001," "]
[null,null,null,null,null,null,null,null,null,null,null,null,{"$f":"IF('Utilized-Interacted FAD-beacons'!C965<>\"\",'Utilized-Interacted FAD-beacons'!C965,0)","v":0},955,0,1001," ",null,{"$f":"IF('Utilized-Interacted FAD-beacons'!J965<>\"\",'Utilized-Interacted FAD-beacons'!J965,0)","v":0},955,0,1001," ",null,0,955,0,1001," "]
[null,null,null,null,null,null,null,null,null,null,null,null,{"$f":"IF('Utilized-Interacted FAD-beacons'!C966<>\"\",'Utilized-Interacted FAD-beacons'!C966,0)","v":0},956,0,1001," ",null,{"$f":"IF('Utilized-Interacted FAD-beacons'!J966<>\"\",'Utilized-Interacted FAD-beacons'!J966,0)","v":0},956,0,1001," ",null,0,956,0,1001," "]
[null,null,null,null,null,null,null,null,null,null,null,null,{"$f":"IF('Utilized-Interacted FAD-beacons'!C967<>\"\",'Utilized-Interacted FAD-beacons'!C967,0)","v":0},957,0,1001," ",null,{"$f":"IF('Utilized-Interacted FAD-beacons'!J967<>\"\",'Utilized-Interacted FAD-beacons'!J967,0)","v":0},957,0,1001," ",null,0,957,0,1001," "]
[null,null,null,null,null,null,null,null,null,null,null,null,{"$f":"IF('Utilized-Interacted FAD-beacons'!C968<>\"\",'Utilized-Interacted FAD-beacons'!C968,0)","v":0},958,0,1001," ",null,{"$f":"IF('Utilized-Interacted FAD-beacons'!J968<>\"\",'Utilized-Interacted FAD-beacons'!J968,0)","v":0},958,0,1001," ",null,0,958,0,1001," "]
[null,null,null,null,null,null,null,null,null,null,null,null,{"$f":"IF('Utilized-Interacted FAD-beacons'!C969<>\"\",'Utilized-Interacted FAD-beacons'!C969,0)","v":0},959,0,1001," ",null,{"$f":"IF('Utilized-Interacted FAD-beacons'!J969<>\"\",'Utilized-Interacted FAD-beacons'!J969,0)","v":0},959,0,1001," ",null,0,959,0,1001," "]
[null,null,null,null,null,null,null,null,null,null,null,null,{"$f":"IF('Utilized-Interacted FAD-beacons'!C970<>\"\",'Utilized-Interacted FAD-beacons'!C970,0)","v":0},960,0,1001," ",null,{"$f":"IF('Utilized-Interacted FAD-beacons'!J970<>\"\",'Utilized-Interacted FAD-beacons'!J970,0)","v":0},960,0,1001," ",null,0,960,0,1001," "]
[null,null,null,null,null,null,null,null,null,null,null,null,{"$f":"IF('Utilized-Interacted FAD-beacons'!C971<>\"\",'Utilized-Interacted FAD-beacons'!C971,0)","v":0},961,0,1001,{"$f":"IFERROR(VLOOKUP(SMALL($P$6:$P$1005,N966),$N$6:$O$1005,2,FALSE),\" \")","v":" "},null,{"$f":"IF('Utilized-Interacted FAD-beacons'!J971<>\"\",'Utilized-Interacted FAD-beacons'!J971,0)","v":0},961,0,1001,{"$f":"IFERROR(VLOOKUP(SMALL($V$6:$V$1005,T966),$T$6:$U$1005,2,FALSE),\" \")","v":" "},null,0,961,0,1001,{"$f":"IFERROR(VLOOKUP(SMALL($AB$6:$AB$1005,Z966),$Z$6:$AA$1005,2,FALSE),\" \")","v":" "}]
[null,null,null,null,null,null,null,null,null,null,null,null,{"$f":"IF('Utilized-Interacted FAD-beacons'!C972<>\"\",'Utilized-Interacted FAD-beacons'!C972,0)","v":0},962,{"$f":"M967","v":0},{"$f":"IF(O967=0,MAX($N$6:$N$1005)+1,N967)","v":1001}," ",null,{"$f":"IF('Utilized-Interacted FAD-beacons'!J972<>\"\",'Utilized-Interacted FAD-beacons'!J972,0)","v":0},962,{"$f":"S967","v":0},{"$f":"IF(U967=0,MAX($T$6:$T$1005)+1,T967)","v":1001}," ",null,{"$f":"IF(AND(M967=0,S967=0),0,IF(AND(M967<>0,S967=0),M967,IF(AND(M967=0,S967<>0),S967,IF(AND(M967<>0,S967<>0),(CONCATENATE(M967,S967))))))","v":0},962,{"$f":"Y967","v":0},{"$f":"IF(AA967=0,MAX($Z$6:$Z$1005)+1,Z967)","v":1001}," "]
[null,null,null,null,null,null,null,null,null,null,null,null,{"$f":"IF('Utilized-Interacted FAD-beacons'!C973<>\"\",'Utilized-Interacted FAD-beacons'!C973,0)","v":0},963,0,1001," ",null,{"$f":"IF('Utilized-Interacted FAD-beacons'!J973<>\"\",'Utilized-Interacted FAD-beacons'!J973,0)","v":0},963,0,1001," ",null,0,963,0,1001," "]
[null,null,null,null,null,null,null,null,null,null,null,null,{"$f":"IF('Utilized-Interacted FAD-beacons'!C974<>\"\",'Utilized-Interacted FAD-beacons'!C974,0)","v":0},964,0,1001," ",null,{"$f":"IF('Utilized-Interacted FAD-beacons'!J974<>\"\",'Utilized-Interacted FAD-beacons'!J974,0)","v":0},964,0,1001," ",null,0,964,0,1001," "]
[null,null,null,null,null,null,null,null,null,null,null,null,{"$f":"IF('Utilized-Interacted FAD-beacons'!C975<>\"\",'Utilized-Interacted FAD-beacons'!C975,0)","v":0},965,0,1001," ",null,{"$f":"IF('Utilized-Interacted FAD-beacons'!J975<>\"\",'Utilized-Interacted FAD-beacons'!J975,0)","v":0},965,0,1001," ",null,0,965,0,1001," "]
[null,null,null,null,null,null,null,null,null,null,null,null,{"$f":"IF('Utilized-Interacted FAD-beacons'!C976<>\"\",'Utilized-Interacted FAD-beacons'!C976,0)","v":0},966,0,1001," ",null,{"$f":"IF('Utilized-Interacted FAD-beacons'!J976<>\"\",'Utilized-Interacted FAD-beacons'!J976,0)","v":0},966,0,1001," ",null,0,966,0,1001," "]
[null,null,null,null,null,null,null,null,null,null,null,null,{"$f":"IF('Utilized-Interacted FAD-beacons'!C977<>\"\",'Utilized-Interacted FAD-beacons'!C977,0)","v":0},967,0,1001," ",null,{"$f":"IF('Utilized-Interacted FAD-beacons'!J977<>\"\",'Utilized-Interacted FAD-beacons'!J977,0)","v":0},967,0,1001," ",null,0,967,0,1001," "]
[null,null,null,null,null,null,null,null,null,null,null,null,{"$f":"IF('Utilized-Interacted FAD-beacons'!C978<>\"\",'Utilized-Interacted FAD-beacons'!C978,0)","v":0},968,0,1001," ",null,{"$f":"IF('Utilized-Interacted FAD-beacons'!J978<>\"\",'Utilized-Interacted FAD-beacons'!J978,0)","v":0},968,0,1001," ",null,0,968,0,1001," "]
[null,null,null,null,null,null,null,null,null,null,null,null,{"$f":"IF('Utilized-Interacted FAD-beacons'!C979<>\"\",'Utilized-Interacted FAD-beacons'!C979,0)","v":0},969,0,1001," ",null,{"$f":"IF('Utilized-Interacted FAD-beacons'!J979<>\"\",'Utilized-Interacted FAD-beacons'!J979,0)","v":0},969,0,1001," ",null,0,969,0,1001," "]
[null,null,null,null,null,null,null,null,null,null,null,null,{"$f":"IF('Utilized-Interacted FAD-beacons'!C980<>\"\",'Utilized-Interacted FAD-beacons'!C980,0)","v":0},970,0,1001," ",null,{"$f":"IF('Utilized-Interacted FAD-beacons'!J980<>\"\",'Utilized-Interacted FAD-beacons'!J980,0)","v":0},970,0,1001," ",null,0,970,0,1001," "]
[null,null,null,null,null,null,null,null,null,null,null,null,{"$f":"IF('Utilized-Interacted FAD-beacons'!C981<>\"\",'Utilized-Interacted FAD-beacons'!C981,0)","v":0},971,0,1001," ",null,{"$f":"IF('Utilized-Interacted FAD-beacons'!J981<>\"\",'Utilized-Interacted FAD-beacons'!J981,0)","v":0},971,0,1001," ",null,0,971,0,1001," "]
[null,null,null,null,null,null,null,null,null,null,null,null,{"$f":"IF('Utilized-Interacted FAD-beacons'!C982<>\"\",'Utilized-Interacted FAD-beacons'!C982,0)","v":0},972,0,1001," ",null,{"$f":"IF('Utilized-Interacted FAD-beacons'!J982<>\"\",'Utilized-Interacted FAD-beacons'!J982,0)","v":0},972,0,1001," ",null,0,972,0,1001," "]
[null,null,null,null,null,null,null,null,null,null,null,null,{"$f":"IF('Utilized-Interacted FAD-beacons'!C983<>\"\",'Utilized-Interacted FAD-beacons'!C983,0)","v":0},973,0,1001," ",null,{"$f":"IF('Utilized-Interacted FAD-beacons'!J983<>\"\",'Utilized-Interacted FAD-beacons'!J983,0)","v":0},973,0,1001," ",null,0,973,0,1001," "]
[null,null,null,null,null,null,null,null,null,null,null,null,{"$f":"IF('Utilized-Interacted FAD-beacons'!C984<>\"\",'Utilized-Interacted FAD-beacons'!C984,0)","v":0},974,0,1001," ",null,{"$f":"IF('Utilized-Interacted FAD-beacons'!J984<>\"\",'Utilized-Interacted FAD-beacons'!J984,0)","v":0},974,0,1001," ",null,0,974,0,1001," "]
[null,null,null,null,null,null,null,null,null,null,null,null,{"$f":"IF('Utilized-Interacted FAD-beacons'!C985<>\"\",'Utilized-Interacted FAD-beacons'!C985,0)","v":0},975,0,1001," ",null,{"$f":"IF('Utilized-Interacted FAD-beacons'!J985<>\"\",'Utilized-Interacted FAD-beacons'!J985,0)","v":0},975,0,1001," ",null,0,975,0,1001," "]
[null,null,null,null,null,null,null,null,null,null,null,null,{"$f":"IF('Utilized-Interacted FAD-beacons'!C986<>\"\",'Utilized-Interacted FAD-beacons'!C986,0)","v":0},976,0,1001," ",null,{"$f":"IF('Utilized-Interacted FAD-beacons'!J986<>\"\",'Utilized-Interacted FAD-beacons'!J986,0)","v":0},976,0,1001," ",null,0,976,0,1001," "]
[null,null,null,null,null,null,null,null,null,null,null,null,{"$f":"IF('Utilized-Interacted FAD-beacons'!C987<>\"\",'Utilized-Interacted FAD-beacons'!C987,0)","v":0},977,0,1001," ",null,{"$f":"IF('Utilized-Interacted FAD-beacons'!J987<>\"\",'Utilized-Interacted FAD-beacons'!J987,0)","v":0},977,0,1001," ",null,0,977,0,1001," "]
[null,null,null,null,null,null,null,null,null,null,null,null,{"$f":"IF('Utilized-Interacted FAD-beacons'!C988<>\"\",'Utilized-Interacted FAD-beacons'!C988,0)","v":0},978,0,1001," ",null,{"$f":"IF('Utilized-Interacted FAD-beacons'!J988<>\"\",'Utilized-Interacted FAD-beacons'!J988,0)","v":0},978,0,1001," ",null,0,978,0,1001," "]
[null,null,null,null,null,null,null,null,null,null,null,null,{"$f":"IF('Utilized-Interacted FAD-beacons'!C989<>\"\",'Utilized-Interacted FAD-beacons'!C989,0)","v":0},979,0,1001," ",null,{"$f":"IF('Utilized-Interacted FAD-beacons'!J989<>\"\",'Utilized-Interacted FAD-beacons'!J989,0)","v":0},979,0,1001," ",null,0,979,0,1001," "]
[null,null,null,null,null,null,null,null,null,null,null,null,{"$f":"IF('Utilized-Interacted FAD-beacons'!C990<>\"\",'Utilized-Interacted FAD-beacons'!C990,0)","v":0},980,0,1001," ",null,{"$f":"IF('Utilized-Interacted FAD-beacons'!J990<>\"\",'Utilized-Interacted FAD-beacons'!J990,0)","v":0},980,0,1001," ",null,0,980,0,1001," "]
[null,null,null,null,null,null,null,null,null,null,null,null,{"$f":"IF('Utilized-Interacted FAD-beacons'!C991<>\"\",'Utilized-Interacted FAD-beacons'!C991,0)","v":0},981,0,1001," ",null,{"$f":"IF('Utilized-Interacted FAD-beacons'!J991<>\"\",'Utilized-Interacted FAD-beacons'!J991,0)","v":0},981,0,1001," ",null,0,981,0,1001," "]
[null,null,null,null,null,null,null,null,null,null,null,null,{"$f":"IF('Utilized-Interacted FAD-beacons'!C992<>\"\",'Utilized-Interacted FAD-beacons'!C992,0)","v":0},982,0,1001," ",null,{"$f":"IF('Utilized-Interacted FAD-beacons'!J992<>\"\",'Utilized-Interacted FAD-beacons'!J992,0)","v":0},982,0,1001," ",null,0,982,0,1001," "]
[null,null,null,null,null,null,null,null,null,null,null,null,{"$f":"IF('Utilized-Interacted FAD-beacons'!C993<>\"\",'Utilized-Interacted FAD-beacons'!C993,0)","v":0},983,0,1001," ",null,{"$f":"IF('Utilized-Interacted FAD-beacons'!J993<>\"\",'Utilized-Interacted FAD-beacons'!J993,0)","v":0},983,0,1001," ",null,0,983,0,1001," "]
[null,null,null,null,null,null,null,null,null,null,null,null,{"$f":"IF('Utilized-Interacted FAD-beacons'!C994<>\"\",'Utilized-Interacted FAD-beacons'!C994,0)","v":0},984,0,1001," ",null,{"$f":"IF('Utilized-Interacted FAD-beacons'!J994<>\"\",'Utilized-Interacted FAD-beacons'!J994,0)","v":0},984,0,1001," ",null,0,984,0,1001," "]
[null,null,null,null,null,null,null,null,null,null,null,null,{"$f":"IF('Utilized-Interacted FAD-beacons'!C995<>\"\",'Utilized-Interacted FAD-beacons'!C995,0)","v":0},985,0,1001," ",null,{"$f":"IF('Utilized-Interacted FAD-beacons'!J995<>\"\",'Utilized-Interacted FAD-beacons'!J995,0)","v":0},985,0,1001," ",null,0,985,0,1001," "]
[null,null,null,null,null,null,null,null,null,null,null,null,{"$f":"IF('Utilized-Interacted FAD-beacons'!C996<>\"\",'Utilized-Interacted FAD-beacons'!C996,0)","v":0},986,0,1001," ",null,{"$f":"IF('Utilized-Interacted FAD-beacons'!J996<>\"\",'Utilized-Interacted FAD-beacons'!J996,0)","v":0},986,0,1001," ",null,0,986,0,1001," "]
[null,null,null,null,null,null,null,null,null,null,null,null,{"$f":"IF('Utilized-Interacted FAD-beacons'!C997<>\"\",'Utilized-Interacted FAD-beacons'!C997,0)","v":0},987,0,1001," ",null,{"$f":"IF('Utilized-Interacted FAD-beacons'!J997<>\"\",'Utilized-Interacted FAD-beacons'!J997,0)","v":0},987,0,1001," ",null,0,987,0,1001," "]
[null,null,null,null,null,null,null,null,null,null,null,null,{"$f":"IF('Utilized-Interacted FAD-beacons'!C998<>\"\",'Utilized-Interacted FAD-beacons'!C998,0)","v":0},988,0,1001," ",null,{"$f":"IF('Utilized-Interacted FAD-beacons'!J998<>\"\",'Utilized-Interacted FAD-beacons'!J998,0)","v":0},988,0,1001," ",null,0,988,0,1001," "]
[null,null,null,null,null,null,null,null,null,null,null,null,{"$f":"IF('Utilized-Interacted FAD-beacons'!C999<>\"\",'Utilized-Interacted FAD-beacons'!C999,0)","v":0},989,0,1001," ",null,{"$f":"IF('Utilized-Interacted FAD-beacons'!J999<>\"\",'Utilized-Interacted FAD-beacons'!J999,0)","v":0},989,0,1001," ",null,0,989,0,1001," "]
[null,null,null,null,null,null,null,null,null,null,null,null,{"$f":"IF('Utilized-Interacted FAD-beacons'!C1000<>\"\",'Utilized-Interacted FAD-beacons'!C1000,0)","v":0},990,0,1001," ",null,{"$f":"IF('Utilized-Interacted FAD-beacons'!J1000<>\"\",'Utilized-Interacted FAD-beacons'!J1000,0)","v":0},990,0,1001," ",null,0,990,0,1001," "]
[null,null,null,null,null,null,null,null,null,null,null,null,{"$f":"IF('Utilized-Interacted FAD-beacons'!C1001<>\"\",'Utilized-Interacted FAD-beacons'!C1001,0)","v":0},991,0,1001," ",null,{"$f":"IF('Utilized-Interacted FAD-beacons'!J1001<>\"\",'Utilized-Interacted FAD-beacons'!J1001,0)","v":0},991,0,1001," ",null,0,991,0,1001," "]
[null,null,null,null,null,null,null,null,null,null,null,null,{"$f":"IF('Utilized-Interacted FAD-beacons'!C1002<>\"\",'Utilized-Interacted FAD-beacons'!C1002,0)","v":0},992,0,1001," ",null,{"$f":"IF('Utilized-Interacted FAD-beacons'!J1002<>\"\",'Utilized-Interacted FAD-beacons'!J1002,0)","v":0},992,0,1001," ",null,0,992,0,1001," "]
[null,null,null,null,null,null,null,null,null,null,null,null,{"$f":"IF('Utilized-Interacted FAD-beacons'!C1003<>\"\",'Utilized-Interacted FAD-beacons'!C1003,0)","v":0},993,0,1001," ",null,{"$f":"IF('Utilized-Interacted FAD-beacons'!J1003<>\"\",'Utilized-Interacted FAD-beacons'!J1003,0)","v":0},993,0,1001," ",null,0,993,0,1001," "]
[null,null,null,null,null,null,null,null,null,null,null,null,{"$f":"IF('Utilized-Interacted FAD-beacons'!C1004<>\"\",'Utilized-Interacted FAD-beacons'!C1004,0)","v":0},994,0,1001," ",null,{"$f":"IF('Utilized-Interacted FAD-beacons'!J1004<>\"\",'Utilized-Interacted FAD-beacons'!J1004,0)","v":0},994,0,1001," ",null,0,994,0,1001," "]
[null,null,null,null,null,null,null,null,null,null,null,null,{"$f":"IF('Utilized-Interacted FAD-beacons'!C1005<>\"\",'Utilized-Interacted FAD-beacons'!C1005,0)","v":0},995,0,1001," ",null,{"$f":"IF('Utilized-Interacted FAD-beacons'!J1005<>\"\",'Utilized-Interacted FAD-beacons'!J1005,0)","v":0},995,0,1001," ",null,0,995,0,1001," "]
[null,null,null,null,null,null,null,null,null,null,null,null,{"$f":"IF('Utilized-Interacted FAD-beacons'!C1006<>\"\",'Utilized-Interacted FAD-beacons'!C1006,0)","v":0},996,0,1001," ",null,{"$f":"IF('Utilized-Interacted FAD-beacons'!J1006<>\"\",'Utilized-Interacted FAD-beacons'!J1006,0)","v":0},996,0,1001," ",null,0,996,0,1001," "]
[null,null,null,null,null,null,null,null,null,null,null,null,{"$f":"IF('Utilized-Interacted FAD-beacons'!C1007<>\"\",'Utilized-Interacted FAD-beacons'!C1007,0)","v":0},997,0,1001," ",null,{"$f":"IF('Utilized-Interacted FAD-beacons'!J1007<>\"\",'Utilized-Interacted FAD-beacons'!J1007,0)","v":0},997,0,1001," ",null,0,997,0,1001," "]
[null,null,null,null,null,null,null,null,null,null,null,null,{"$f":"IF('Utilized-Interacted FAD-beacons'!C1008<>\"\",'Utilized-Interacted FAD-beacons'!C1008,0)","v":0},998,0,1001," ",null,{"$f":"IF('Utilized-Interacted FAD-beacons'!J1008<>\"\",'Utilized-Interacted FAD-beacons'!J1008,0)","v":0},998,0,1001," ",null,0,998,0,1001," "]
[null,null,null,null,null,null,null,null,null,null,null,null,{"$f":"IF('Utilized-Interacted FAD-beacons'!C1009<>\"\",'Utilized-Interacted FAD-beacons'!C1009,0)","v":0},999,0,1001," ",null,{"$f":"IF('Utilized-Interacted FAD-beacons'!J1009<>\"\",'Utilized-Interacted FAD-beacons'!J1009,0)","v":0},999,0,1001," ",null,0,999,0,1001," "]
[null,null,null,null,null,null,null,null,null,null,null,null,{"$f":"IF('Utilized-Interacted FAD-beacons'!C1010<>\"\",'Utilized-Interacted FAD-beacons'!C1010,0)","v":0},1000,0,1001," ",null,{"$f":"IF('Utilized-Interacted FAD-beacons'!J1010<>\"\",'Utilized-Interacted FAD-beacons'!J1010,0)","v":0},1000,0,1001," ",null,0,1000,0,1001," "]